{"text_format":"1","workbook":"xlsx","n_sheets":11,"sheets":["バッチシート","旅費振替依頼書","バッチ反映用（非表示）","当月仕訳（非表示）","次月仕訳（非表示）","次月以降仕訳（非表示）","修正ログ（非表示）","旅費精算について","勘定科目対応表","Module1","部課コード表"],"not_rendered":{"charts":0,"images":0,"macros":1,"external_links":0,"defined_names":5,"comments":1,"pivot_tables":0},"unopened":[],"bounds":{"document_bytes":16777216,"sheet_cells":100000,"rows_first":2000,"rows_last":500,"rows_between":2000,"halvings":0,"cell_chars":16384,"cell_head_chars":4096},"cells_cut":0,"cells_raw":0,"read":"whole","date_system":"1900"}

{"sheet":"バッチシート","index":0,"n_rows":27,"n_cols":10,"rows_kept":27,"cut":false,"hidden":false,"merged":[]}
[]
["会社コード","転記日付","勘定コード","利益センタ","明細額","テキスト"]
[]
[]
[]
[]
[]
[]
[]
[]
[]
[]
[]
[]
[]
[]
[]
[]
[]
[]
[]
[]
[]
[null,null,null,null,null,null,null,null,"内容：　国一プラント旅費　経費(7700403)→作業費(7700200)"]
[]
[null,null,null,null,null,null,null,null,7700200,"作業費"]
[null,null,null,null,null,null,null,null,7700403,"旅費"]

{"sheet":"旅費振替依頼書","index":1,"n_rows":100,"n_cols":27,"rows_kept":100,"cut":false,"hidden":false,"merged":[[2,16,2,26],[2,4,2,5],[4,13,4,14],[2,9,2,10]]}
[]
[null,null,null,null,null,null,"↓手入力（xxxx年）","↓手入力（x月）"]
[null,null,null,null,"旅費振替依頼書",null,null,null,{"$f":"RIGHT(C7,3)","v":""},{"$f":"J7","v":0},null,{"$f":"SUM(L7:L100)","v":0},"←合計が合っているか確認",null,null,null,"非表示"]
[null,"↓値のみ貼り付け＆帰着日で昇順ソート"]
[null,"部店入力欄",null,null,null,null,null,null,null,null,null,null,null,"経理部使用欄",null,null,null,null,null,null,null,"ﾊﾞｯﾁ用"]
[null,"No.","帰属部課","旅費基準","出張者\n苗字","行先","出発日","帰着日","プロジェクト番号","出張区分","作業形態","金額",null,"転記日","転記日判定",null,null,null,null,null,null,"旅費基準番号","事業領域","出発日","帰着日","作業費勘定科目","経費勘定科目"]
[null,null,null,null,null,null,null,null,null,null,null,null,null,{"$f":"IF(H7=\"\",\"\",TEXT(H7,\"yyyy.mm.dd\"))","v":""},{"$f":"IF(I7=\"\",\"\",IF(LEFT(Y7,2)=MID(I7,7,2),\"OK\",IF(MID(I7,7,2)=MID(N7,6,2),\"OK\",\"転記日訂正\n\"&\"(\"&MID(I7,7,2)&\"月1日)\")))","v":""},null,"基準番号リスト",null,null,null,null,{"$f":"IF($D7=\"\",\"\",\"(\"&VLOOKUP($D7,$Q$8:$R$33,2,FALSE)&\")\")","v":""},{"$f":"IF($C7=\"\",\"\",VLOOKUP($C7,部課コード表!B$1:F$65536,5,FALSE))","v":""},{"$f":"IF($G7=\"\",\"\",TEXT($G7,\"yyyy/mm/dd\"))","v":""},{"$f":"IF($H7=\"\",\"\",TEXT($H7,\"yyyy/mm/dd\"))","v":""},{"$f":"IF($K7=\"\",\"\",VLOOKUP($K7,$R$37:$S$39,2,FALSE))","v":""},{"$f":"IF($J7=\"\",\"\",VLOOKUP($J7,$Q$37:$T$39,4,FALSE))","v":""}]
[null,null,null,null,null,null,null,null,null,null,null,null,null,"","",null,"表敬訪問",1,null,null,null,{"$f":"IF($D8=\"\",\"\",\"(\"&VLOOKUP($D8,$Q$8:$R$33,2,FALSE)&\")\")","v":""},{"$f":"IF($C8=\"\",\"\",VLOOKUP($C8,部課コード表!B$1:F$65536,5,FALSE))","v":""},"","","",""]
[null,null,null,null,null,null,null,null,null,null,null,null,null,"","",null,"業務打合せ",2,null,null,null,"",{"$f":"IF($C9=\"\",\"\",VLOOKUP($C9,部課コード表!B$1:F$65536,5,FALSE))","v":""},"","","",""]
[null,null,null,null,null,null,null,null,null,null,null,null,null,"","",null,"アテンド・案内",3,null,null,null,"",{"$f":"IF($C10=\"\",\"\",VLOOKUP($C10,部課コード表!B$1:F$65536,5,FALSE))","v":""},"","","",""]
[null,null,null,null,null,null,null,null,null,null,null,null,null,"","",null,"見積作成・現場下見・現地調査・視察（含む採寸・検品）",4,null,null,null,"",{"$f":"IF($C11=\"\",\"\",VLOOKUP($C11,部課コード表!B$1:F$65536,5,FALSE))","v":""},"","","",""]
[null,null,null,null,null,null,null,null,null,null,null,null,null,"","",null,"展示会出展社説明会",5,null,null,null,"",{"$f":"IF($C12=\"\",\"\",VLOOKUP($C12,部課コード表!B$1:F$65536,5,FALSE))","v":""},"","","",""]
[null,null,null,null,null,null,null,null,null,null,null,null,null,"","",null,"入札・開札会",6,null,null,null,"",{"$f":"IF($C13=\"\",\"\",VLOOKUP($C13,部課コード表!B$1:F$65536,5,FALSE))","v":""},"","","",""]
[null,null,null,null,null,null,null,null,null,null,null,null,null,"","",null,"セミナー・イベント参加",7,null,null,null,"",{"$f":"IF($C14=\"\",\"\",VLOOKUP($C14,部課コード表!B$1:F$65536,5,FALSE))","v":""},"","","",""]
[null,null,null,null,null,null,null,null,null,null,null,null,null,"","",null,"事故・クレーム処理",8,null,null,null,"",{"$f":"IF($C15=\"\",\"\",VLOOKUP($C15,部課コード表!B$1:F$65536,5,FALSE))","v":""},"","","",""]
[null,null,null,null,null,null,null,null,null,null,null,null,null,"","",null,"その他、営業を目的とした出張",9,null,null,null,"",{"$f":"IF($C16=\"\",\"\",VLOOKUP($C16,部課コード表!B$1:F$65536,5,FALSE))","v":""},"","","",""]
[null,null,null,null,null,null,null,null,null,null,null,null,null,"","",null,"受注済み案件の業務打合せ",10,null,null,null,"",{"$f":"IF($C17=\"\",\"\",VLOOKUP($C17,部課コード表!B$1:F$65536,5,FALSE))","v":""},"","","",""]
[null,null,null,null,null,null,null,null,null,null,null,null,null,"","",null,"有償の現地下見・現地調査（含む採寸・検品）",11,null,null,null,"",{"$f":"IF($C18=\"\",\"\",VLOOKUP($C18,部課コード表!B$1:F$65536,5,FALSE))","v":""},"","","",""]
[null,null,null,null,null,null,null,null,null,null,null,null,null,"","",null,"搬入・搬出立会い",12,null,null,null,"",{"$f":"IF($C19=\"\",\"\",VLOOKUP($C19,部課コード表!B$1:F$65536,5,FALSE))","v":""},"","","",""]
[null,null,null,null,null,null,null,null,null,null,null,null,null,"","",null,"作業監督",13,null,null,null,"",{"$f":"IF($C20=\"\",\"\",VLOOKUP($C20,部課コード表!B$1:F$65536,5,FALSE))","v":""},"","","",""]
[null,null,null,null,null,null,null,null,null,null,null,null,null,"","",null,"現地許認可等コーディネート",14,null,null,null,"",{"$f":"IF($C21=\"\",\"\",VLOOKUP($C21,部課コード表!B$1:F$65536,5,FALSE))","v":""},"","","",""]
[null,null,null,null,null,null,null,null,null,null,null,null,null,"","",null,"ハンドキャリー",15,null,null,null,"",{"$f":"IF($C22=\"\",\"\",VLOOKUP($C22,部課コード表!B$1:F$65536,5,FALSE))","v":""},"","","",""]
[null,null,null,null,null,null,null,null,null,null,null,null,null,"","",null,null,null,null,null,null,"",{"$f":"IF($C23=\"\",\"\",VLOOKUP($C23,部課コード表!B$1:F$65536,5,FALSE))","v":""},"","","",""]
[null,null,null,null,null,null,null,null,null,null,null,null,null,"","",null,null,null,null,null,null,"",{"$f":"IF($C24=\"\",\"\",VLOOKUP($C24,部課コード表!B$1:F$65536,5,FALSE))","v":""},"","","",""]
[null,null,null,null,null,null,null,null,null,null,null,null,null,"","",null,null,null,null,null,null,"",{"$f":"IF($C25=\"\",\"\",VLOOKUP($C25,部課コード表!B$1:F$65536,5,FALSE))","v":""},"","","",""]
[null,null,null,null,null,null,null,null,null,null,null,null,null,"","",null,null,null,null,null,null,"",{"$f":"IF($C26=\"\",\"\",VLOOKUP($C26,部課コード表!B$1:F$65536,5,FALSE))","v":""},"","","",""]
[null,null,null,null,null,null,null,null,null,null,null,null,null,"","",null,null,null,null,null,null,"",{"$f":"IF($C27=\"\",\"\",VLOOKUP($C27,部課コード表!B$1:F$65536,5,FALSE))","v":""},"","","",""]
[null,null,null,null,null,null,null,null,null,null,null,null,null,"","",null,null,null,null,null,null,"",{"$f":"IF($C28=\"\",\"\",VLOOKUP($C28,部課コード表!B$1:F$65536,5,FALSE))","v":""},"","","",""]
[null,null,null,null,null,null,null,null,null,null,null,null,null,"","",null,null,null,null,null,null,"",{"$f":"IF($C29=\"\",\"\",VLOOKUP($C29,部課コード表!B$1:F$65536,5,FALSE))","v":""},"","","",""]
[null,null,null,null,null,null,null,null,null,null,null,null,null,"","",null,null,null,null,null,null,"",{"$f":"IF($C30=\"\",\"\",VLOOKUP($C30,部課コード表!B$1:F$65536,5,FALSE))","v":""},"","","",""]
[null,null,null,null,null,null,null,null,null,null,null,null,null,"","",null,null,null,null,null,null,"",{"$f":"IF($C31=\"\",\"\",VLOOKUP($C31,部課コード表!B$1:F$65536,5,FALSE))","v":""},"","","",""]
[null,null,null,null,null,null,null,null,null,null,null,null,null,"","",null,null,null,null,null,null,"",{"$f":"IF($C32=\"\",\"\",VLOOKUP($C32,部課コード表!B$1:F$65536,5,FALSE))","v":""},"","","",""]
[null,null,null,null,null,null,null,null,null,null,null,null,null,"","",null,null,null,null,null,null,"",{"$f":"IF($C33=\"\",\"\",VLOOKUP($C33,部課コード表!B$1:F$65536,5,FALSE))","v":""},"","","",""]
[null,null,null,null,null,null,null,null,null,null,null,null,null,"","",null,null,null,null,null,null,"",{"$f":"IF($C34=\"\",\"\",VLOOKUP($C34,部課コード表!B$1:F$65536,5,FALSE))","v":""},"","","",""]
[null,null,null,null,null,null,null,null,null,null,null,null,null,"","",null,null,null,null,null,null,"",{"$f":"IF($C35=\"\",\"\",VLOOKUP($C35,部課コード表!B$1:F$65536,5,FALSE))","v":""},"","","",""]
[null,null,null,null,null,null,null,null,null,null,null,null,null,"","",null,"勘定科目リスト",null,null,null,null,"",{"$f":"IF($C36=\"\",\"\",VLOOKUP($C36,部課コード表!B$1:F$65536,5,FALSE))","v":""},"","","",""]
[null,null,null,null,null,null,null,null,null,null,null,null,null,"","",null,"国内出張","A",351011,826210,null,"",{"$f":"IF($C37=\"\",\"\",VLOOKUP($C37,部課コード表!B$1:F$65536,5,FALSE))","v":""},"","","",""]
[null,null,null,null,null,null,null,null,null,null,null,null,null,"","",null,"海外出張","B",351012,826220,null,"",{"$f":"IF($C38=\"\",\"\",VLOOKUP($C38,部課コード表!B$1:F$65536,5,FALSE))","v":""},"","","",""]
[null,null,null,null,null,null,null,null,null,null,null,null,null,"","",null,"旅費交通費","R",351080,826200,null,"",{"$f":"IF($C39=\"\",\"\",VLOOKUP($C39,部課コード表!B$1:F$65536,5,FALSE))","v":""},"","","",""]
[null,null,null,null,null,null,null,null,null,null,null,null,null,"","",null,null,null,null,null,null,"",{"$f":"IF($C40=\"\",\"\",VLOOKUP($C40,部課コード表!B$1:F$65536,5,FALSE))","v":""},"","","",""]
[null,null,null,null,null,null,null,null,null,null,null,null,null,"","",null,null,null,null,null,null,"",{"$f":"IF($C41=\"\",\"\",VLOOKUP($C41,部課コード表!B$1:F$65536,5,FALSE))","v":""},"","","",""]
[null,null,null,null,null,null,null,null,null,null,null,null,null,"","",null,null,null,null,null,null,"",{"$f":"IF($C42=\"\",\"\",VLOOKUP($C42,部課コード表!B$1:F$65536,5,FALSE))","v":""},"","","",""]
[null,null,null,null,null,null,null,null,null,null,null,null,null,null,null,null,null,null,null,null,null,""]
[null,null,null,null,null,null,null,null,null,null,null,null,null,null,null,null,null,null,null,null,null,""]
[null,null,null,null,null,null,null,null,null,null,null,null,null,null,null,null,null,null,null,null,null,""]
[null,null,null,null,null,null,null,null,null,null,null,null,null,null,null,null,null,null,null,null,null,""]
[null,null,null,null,null,null,null,null,null,null,null,null,null,null,null,null,null,null,null,null,null,""]
[null,null,null,null,null,null,null,null,null,null,null,null,null,null,null,null,null,null,null,null,null,""]
[null,null,null,null,null,null,null,null,null,null,null,null,null,null,null,null,null,null,null,null,null,""]
[null,null,null,null,null,null,null,null,null,null,null,null,null,null,null,null,null,null,null,null,null,""]
[null,null,null,null,null,null,null,null,null,null,null,null,null,null,null,null,null,null,null,null,null,""]
[null,null,null,null,null,null,null,null,null,null,null,null,null,null,null,null,null,null,null,null,null,""]
[null,null,null,null,null,null,null,null,null,null,null,null,null,null,null,null,null,null,null,null,null,""]
[null,null,null,null,null,null,null,null,null,null,null,null,null,null,null,null,null,null,null,null,null,""]
[null,null,null,null,null,null,null,null,null,null,null,null,null,null,null,null,null,null,null,null,null,""]
[null,null,null,null,null,null,null,null,null,null,null,null,null,null,null,null,null,null,null,null,null,""]
[null,null,null,null,null,null,null,null,null,null,null,null,null,null,null,null,null,null,null,null,null,""]
[null,null,null,null,null,null,null,null,null,null,null,null,null,null,null,null,null,null,null,null,null,""]
[null,null,null,null,null,null,null,null,null,null,null,null,null,null,null,null,null,null,null,null,null,""]
[null,null,null,null,null,null,null,null,null,null,null,null,null,null,null,null,null,null,null,null,null,""]
[null,null,null,null,null,null,null,null,null,null,null,null,null,null,null,null,null,null,null,null,null,""]
[null,null,null,null,null,null,null,null,null,null,null,null,null,null,null,null,null,null,null,null,null,""]
[null,null,null,null,null,null,null,null,null,null,null,null,null,null,null,null,null,null,null,null,null,""]
[null,null,null,null,null,null,null,null,null,null,null,null,null,null,null,null,null,null,null,null,null,""]
[null,null,null,null,null,null,null,null,null,null,null,null,null,null,null,null,null,null,null,null,null,""]
[null,null,null,null,null,null,null,null,null,null,null,null,null,null,null,null,null,null,null,null,null,""]
[null,null,null,null,null,null,null,null,null,null,null,null,null,null,null,null,null,null,null,null,null,""]
[null,null,null,null,null,null,null,null,null,null,null,null,null,null,null,null,null,null,null,null,null,""]
[null,null,null,null,null,null,null,null,null,null,null,null,null,null,null,null,null,null,null,null,null,""]
[null,null,null,null,null,null,null,null,null,null,null,null,null,null,null,null,null,null,null,null,null,""]
[null,null,null,null,null,null,null,null,null,null,null,null,null,null,null,null,null,null,null,null,null,""]
[null,null,null,null,null,null,null,null,null,null,null,null,null,null,null,null,null,null,null,null,null,{"$f":"IF($D72=\"\",\"\",\"(\"&VLOOKUP($D72,$Q$8:$R$33,2,FALSE)&\")\")","v":""}]
[null,null,null,null,null,null,null,null,null,null,null,null,null,null,null,null,null,null,null,null,null,""]
[null,null,null,null,null,null,null,null,null,null,null,null,null,null,null,null,null,null,null,null,null,""]
[null,null,null,null,null,null,null,null,null,null,null,null,null,null,null,null,null,null,null,null,null,""]
[null,null,null,null,null,null,null,null,null,null,null,null,null,null,null,null,null,null,null,null,null,""]
[null,null,null,null,null,null,null,null,null,null,null,null,null,null,null,null,null,null,null,null,null,""]
[null,null,null,null,null,null,null,null,null,null,null,null,null,null,null,null,null,null,null,null,null,""]
[null,null,null,null,null,null,null,null,null,null,null,null,null,null,null,null,null,null,null,null,null,""]
[null,null,null,null,null,null,null,null,null,null,null,null,null,null,null,null,null,null,null,null,null,""]
[null,null,null,null,null,null,null,null,null,null,null,null,null,null,null,null,null,null,null,null,null,""]
[null,null,null,null,null,null,null,null,null,null,null,null,null,null,null,null,null,null,null,null,null,""]
[null,null,null,null,null,null,null,null,null,null,null,null,null,null,null,null,null,null,null,null,null,""]
[null,null,null,null,null,null,null,null,null,null,null,null,null,null,null,null,null,null,null,null,null,""]
[null,null,null,null,null,null,null,null,null,null,null,null,null,null,null,null,null,null,null,null,null,""]
[null,null,null,null,null,null,null,null,null,null,null,null,null,null,null,null,null,null,null,null,null,""]
[null,null,null,null,null,null,null,null,null,null,null,null,null,{"$f":"IF(H87=\"\",\"\",TEXT(H87,\"yyyy.mm.dd\"))","v":""},{"$f":"IF(I87=\"\",\"\",IF(LEFT(Y87,2)=MID(I87,7,2),\"OK\",IF(MID(I87,7,2)=MID(N87,6,2),\"OK\",\"転記日訂正\n\"&\"(\"&MID(I87,7,2)&\"月1日)\")))","v":""},null,null,null,null,null,null,"",{"$f":"IF($C87=\"\",\"\",VLOOKUP($C87,部課コード表!B$1:F$65536,5,FALSE))","v":""},{"$f":"IF($G87=\"\",\"\",TEXT($G87,\"yyyy/mm/dd\"))","v":""},{"$f":"IF($H87=\"\",\"\",TEXT($H87,\"yyyy/mm/dd\"))","v":""},{"$f":"IF($K87=\"\",\"\",VLOOKUP($K87,$R$37:$S$39,2,FALSE))","v":""},{"$f":"IF($J87=\"\",\"\",VLOOKUP($J87,$Q$37:$T$39,4,FALSE))","v":""}]
[null,null,null,null,null,null,null,null,null,null,null,null,null,{"$f":"IF(H88=\"\",\"\",TEXT(H88,\"yyyy.mm.dd\"))","v":""},"",null,null,null,null,null,null,"",{"$f":"IF($C88=\"\",\"\",VLOOKUP($C88,部課コード表!B$1:F$65536,5,FALSE))","v":""},"","","",""]
[null,null,null,null,null,null,null,null,null,null,null,null,null,{"$f":"IF(H89=\"\",\"\",TEXT(H89,\"yyyy.mm.dd\"))","v":""},"",null,null,null,null,null,null,"",{"$f":"IF($C89=\"\",\"\",VLOOKUP($C89,部課コード表!B$1:F$65536,5,FALSE))","v":""},"","","",""]
[null,null,null,null,null,null,null,null,null,null,null,null,null,"","",null,null,null,null,null,null,"",{"$f":"IF($C90=\"\",\"\",VLOOKUP($C90,部課コード表!B$1:F$65536,5,FALSE))","v":""},"","","",""]
[null,null,null,null,null,null,null,null,null,null,null,null,null,"","",null,null,null,null,null,null,"",{"$f":"IF($C91=\"\",\"\",VLOOKUP($C91,部課コード表!B$1:F$65536,5,FALSE))","v":""},"","","",""]
[null,null,null,null,null,null,null,null,null,null,null,null,null,"","",null,null,null,null,null,null,"",{"$f":"IF($C92=\"\",\"\",VLOOKUP($C92,部課コード表!B$1:F$65536,5,FALSE))","v":""},"","","",""]
[null,null,null,null,null,null,null,null,null,null,null,null,null,"","",null,null,null,null,null,null,"",{"$f":"IF($C93=\"\",\"\",VLOOKUP($C93,部課コード表!B$1:F$65536,5,FALSE))","v":""},"","","",""]
[null,null,null,null,null,null,null,null,null,null,null,null,null,"","",null,null,null,null,null,null,"",{"$f":"IF($C94=\"\",\"\",VLOOKUP($C94,部課コード表!B$1:F$65536,5,FALSE))","v":""},"","","",""]
[null,null,null,null,null,null,null,null,null,null,null,null,null,"","",null,null,null,null,null,null,"",{"$f":"IF($C95=\"\",\"\",VLOOKUP($C95,部課コード表!B$1:F$65536,5,FALSE))","v":""},"","","",""]
[null,null,null,null,null,null,null,null,null,null,null,null,null,"","",null,null,null,null,null,null,"",{"$f":"IF($C96=\"\",\"\",VLOOKUP($C96,部課コード表!B$1:F$65536,5,FALSE))","v":""},"","","",""]
[null,null,null,null,null,null,null,null,null,null,null,null,null,"","",null,null,null,null,null,null,"",{"$f":"IF($C97=\"\",\"\",VLOOKUP($C97,部課コード表!B$1:F$65536,5,FALSE))","v":""},"","","",""]
[null,null,null,null,null,null,null,null,null,null,null,null,null,"","",null,null,null,null,null,null,"",{"$f":"IF($C98=\"\",\"\",VLOOKUP($C98,部課コード表!B$1:F$65536,5,FALSE))","v":""},"","","",""]
[null,null,null,null,null,null,null,null,null,null,null,null,null,"","",null,null,null,null,null,null,"",{"$f":"IF($C99=\"\",\"\",VLOOKUP($C99,部課コード表!B$1:F$65536,5,FALSE))","v":""},"","","",""]
[null,null,null,null,null,null,null,null,null,null,null,null,null,"","",null,null,null,null,null,null,"",{"$f":"IF($C100=\"\",\"\",VLOOKUP($C100,部課コード表!B$1:F$65536,5,FALSE))","v":""},"","","",""]

{"sheet":"バッチ反映用（非表示）","index":2,"n_rows":100,"n_cols":19,"rows_kept":100,"cut":false,"hidden":true,"merged":[[1,7,1,8]]}
["CO伝票反映用シート"]
["※シート保護（パス無）訂正後、要保護",null,null,null,null,null,null,"当月",null,{"$f":"VALUE(SUBSTITUTE(旅費振替依頼書!G3,\"年\",\"\")&TEXT(SUBSTITUTE(旅費振替依頼書!H3,\"月\",\"\"),\"00\"))","v":{"$error":"#VALUE!"}},"※振替依頼シートより"]
[]
["NO","転記日付","転記日付\n（次月以降）","利益センタ","明細額","テキスト","出発月","年","月","出発","帰着月","年","月","帰着\n（計算用）","当月(J2)-帰(N列)\n差","繰越","連番\n（当月）","連番\n（次月）","連番\n（次月以降）"]
[1,{"$f":"IF(D5<>\"\",TEXT(EOMONTH(LEFT($J$2,4)&\"/\"&RIGHT($J$2,2)&\"/01\",0),\"YYYY.MM.DD\"),\"\")","v":""},{"$f":"IF($P5<>\"\",IF($P5=\"当月\",\"\",IF($P5=\"来月\",TEXT(EOMONTH($G5,1),\"yyyy.mm.dd\"),TEXT(EOMONTH($K5,0),\"yyyy.mm.dd\"))),\"\")","v":""},{"$f":"IF(旅費振替依頼書!C7<>\"\",\"NS-\"&旅費振替依頼書!C7,\"\")","v":""},{"$f":"IF(旅費振替依頼書!L7<>\"\",旅費振替依頼書!L7,\"\")","v":""},{"$f":"IF(旅費振替依頼書!E7<>\"\",旅費振替依頼書!E7&\" \"&旅費振替依頼書!X7&\"-\"&旅費振替依頼書!Y7&\" \"&旅費振替依頼書!V7&\" \"&旅費振替依頼書!I7,\"\")","v":""},{"$f":"IF(旅費振替依頼書!X7<>\"\",旅費振替依頼書!X7,\"\")","v":""},{"$f":"IF(G5<>\"\",YEAR(G5),\"\")","v":""},{"$f":"IF(G5<>\"\",MONTH(G5),\"\")","v":""},{"$f":"IF(H5<>\"\",VALUE(H5&TEXT(I5,\"00\")),\"\")","v":""},{"$f":"IF(旅費振替依頼書!Y7<>\"\",旅費振替依頼書!Y7,\"\")","v":""},{"$f":"IF(K5<>\"\",YEAR(K5),\"\")","v":""},{"$f":"IF(K5<>\"\",MONTH(K5),\"\")","v":""},{"$f":"IF(L5<>\"\",VALUE(L5&TEXT(M5,\"00\")),\"\")","v":""},{"$f":"IF(AND(J5<>\"\",N5<>\"\"),N5-$J$2,\"\")","v":""},{"$f":"IF(O5<>\"\",IF(AND(O5=0,旅費振替依頼書!$H$3=M5&\"月\"),\"当月\",IF(OR(O5=1,O5=89),\"次月\",\"次月以降\")),\"\")","v":""},{"$f":"IF($P5=\"当月\",COUNTIF($P$5:$P5,\"当月\"),\"\")","v":""},{"$f":"IF($P5=\"次月\",COUNTIF($P$5:$P5,\"次月\"),\"\")","v":""},{"$f":"IF($P5=\"次月以降\",COUNTIF($P$5:$P5,\"次月以降\"),\"\")","v":""}]
[2,{"$f":"IF(D6<>\"\",TEXT(EOMONTH(LEFT($J$2,4)&\"/\"&RIGHT($J$2,2)&\"/01\",0),\"YYYY.MM.DD\"),\"\")","v":""},{"$f":"IF($P6<>\"\",IF($P6=\"当月\",\"\",IF($P6=\"来月\",TEXT(EOMONTH($G6,1),\"yyyy.mm.dd\"),TEXT(EOMONTH($K6,0),\"yyyy.mm.dd\"))),\"\")","v":""},{"$f":"IF(旅費振替依頼書!C8<>\"\",\"NS-\"&旅費振替依頼書!C8,\"\")","v":""},{"$f":"IF(旅費振替依頼書!L8<>\"\",旅費振替依頼書!L8,\"\")","v":""},{"$f":"IF(旅費振替依頼書!E8<>\"\",旅費振替依頼書!E8&\" \"&旅費振替依頼書!X8&\"-\"&旅費振替依頼書!Y8&\" \"&旅費振替依頼書!V8&\" \"&旅費振替依頼書!I8,\"\")","v":""},{"$f":"IF(旅費振替依頼書!X8<>\"\",旅費振替依頼書!X8,\"\")","v":""},{"$f":"IF(G6<>\"\",YEAR(G6),\"\")","v":""},{"$f":"IF(G6<>\"\",MONTH(G6),\"\")","v":""},{"$f":"IF(H6<>\"\",VALUE(H6&TEXT(I6,\"00\")),\"\")","v":""},{"$f":"IF(旅費振替依頼書!Y8<>\"\",旅費振替依頼書!Y8,\"\")","v":""},{"$f":"IF(K6<>\"\",YEAR(K6),\"\")","v":""},{"$f":"IF(K6<>\"\",MONTH(K6),\"\")","v":""},{"$f":"IF(L6<>\"\",VALUE(L6&TEXT(M6,\"00\")),\"\")","v":""},{"$f":"IF(AND(J6<>\"\",N6<>\"\"),N6-$J$2,\"\")","v":""},{"$f":"IF(O6<>\"\",IF(AND(O6=0,旅費振替依頼書!$H$3=M6&\"月\"),\"当月\",IF(OR(O6=1,O6=89),\"次月\",\"次月以降\")),\"\")","v":""},{"$f":"IF($P6=\"当月\",COUNTIF($P$5:$P6,\"当月\"),\"\")","v":""},{"$f":"IF($P6=\"次月\",COUNTIF($P$5:$P6,\"次月\"),\"\")","v":""},{"$f":"IF($P6=\"次月以降\",COUNTIF($P$5:$P6,\"次月以降\"),\"\")","v":""}]
[3,"","",{"$f":"IF(旅費振替依頼書!C9<>\"\",\"NS-\"&旅費振替依頼書!C9,\"\")","v":""},{"$f":"IF(旅費振替依頼書!L9<>\"\",旅費振替依頼書!L9,\"\")","v":""},{"$f":"IF(旅費振替依頼書!E9<>\"\",旅費振替依頼書!E9&\" \"&旅費振替依頼書!X9&\"-\"&旅費振替依頼書!Y9&\" \"&旅費振替依頼書!V9&\" \"&旅費振替依頼書!I9,\"\")","v":""},{"$f":"IF(旅費振替依頼書!X9<>\"\",旅費振替依頼書!X9,\"\")","v":""},"","","",{"$f":"IF(旅費振替依頼書!Y9<>\"\",旅費振替依頼書!Y9,\"\")","v":""},"","","","",{"$f":"IF(O7<>\"\",IF(AND(O7=0,旅費振替依頼書!$H$3=M7&\"月\"),\"当月\",IF(OR(O7=1,O7=89),\"次月\",\"次月以降\")),\"\")","v":""},{"$f":"IF($P7=\"当月\",COUNTIF($P$5:$P7,\"当月\"),\"\")","v":""},{"$f":"IF($P7=\"次月\",COUNTIF($P$5:$P7,\"次月\"),\"\")","v":""},{"$f":"IF($P7=\"次月以降\",COUNTIF($P$5:$P7,\"次月以降\"),\"\")","v":""}]
[4,"","",{"$f":"IF(旅費振替依頼書!C10<>\"\",\"NS-\"&旅費振替依頼書!C10,\"\")","v":""},{"$f":"IF(旅費振替依頼書!L10<>\"\",旅費振替依頼書!L10,\"\")","v":""},{"$f":"IF(旅費振替依頼書!E10<>\"\",旅費振替依頼書!E10&\" \"&旅費振替依頼書!X10&\"-\"&旅費振替依頼書!Y10&\" \"&旅費振替依頼書!V10&\" \"&旅費振替依頼書!I10,\"\")","v":""},{"$f":"IF(旅費振替依頼書!X10<>\"\",旅費振替依頼書!X10,\"\")","v":""},"","","",{"$f":"IF(旅費振替依頼書!Y10<>\"\",旅費振替依頼書!Y10,\"\")","v":""},"","","","",{"$f":"IF(O8<>\"\",IF(AND(O8=0,旅費振替依頼書!$H$3=M8&\"月\"),\"当月\",IF(OR(O8=1,O8=89),\"次月\",\"次月以降\")),\"\")","v":""},{"$f":"IF($P8=\"当月\",COUNTIF($P$5:$P8,\"当月\"),\"\")","v":""},{"$f":"IF($P8=\"次月\",COUNTIF($P$5:$P8,\"次月\"),\"\")","v":""},{"$f":"IF($P8=\"次月以降\",COUNTIF($P$5:$P8,\"次月以降\"),\"\")","v":""}]
[5,"","",{"$f":"IF(旅費振替依頼書!C11<>\"\",\"NS-\"&旅費振替依頼書!C11,\"\")","v":""},{"$f":"IF(旅費振替依頼書!L11<>\"\",旅費振替依頼書!L11,\"\")","v":""},{"$f":"IF(旅費振替依頼書!E11<>\"\",旅費振替依頼書!E11&\" \"&旅費振替依頼書!X11&\"-\"&旅費振替依頼書!Y11&\" \"&旅費振替依頼書!V11&\" \"&旅費振替依頼書!I11,\"\")","v":""},{"$f":"IF(旅費振替依頼書!X11<>\"\",旅費振替依頼書!X11,\"\")","v":""},"","","",{"$f":"IF(旅費振替依頼書!Y11<>\"\",旅費振替依頼書!Y11,\"\")","v":""},"","","","",{"$f":"IF(O9<>\"\",IF(AND(O9=0,旅費振替依頼書!$H$3=M9&\"月\"),\"当月\",IF(OR(O9=1,O9=89),\"次月\",\"次月以降\")),\"\")","v":""},{"$f":"IF($P9=\"当月\",COUNTIF($P$5:$P9,\"当月\"),\"\")","v":""},{"$f":"IF($P9=\"次月\",COUNTIF($P$5:$P9,\"次月\"),\"\")","v":""},{"$f":"IF($P9=\"次月以降\",COUNTIF($P$5:$P9,\"次月以降\"),\"\")","v":""}]
[6,"","",{"$f":"IF(旅費振替依頼書!C12<>\"\",\"NS-\"&旅費振替依頼書!C12,\"\")","v":""},{"$f":"IF(旅費振替依頼書!L12<>\"\",旅費振替依頼書!L12,\"\")","v":""},{"$f":"IF(旅費振替依頼書!E12<>\"\",旅費振替依頼書!E12&\" \"&旅費振替依頼書!X12&\"-\"&旅費振替依頼書!Y12&\" \"&旅費振替依頼書!V12&\" \"&旅費振替依頼書!I12,\"\")","v":""},{"$f":"IF(旅費振替依頼書!X12<>\"\",旅費振替依頼書!X12,\"\")","v":""},"","","",{"$f":"IF(旅費振替依頼書!Y12<>\"\",旅費振替依頼書!Y12,\"\")","v":""},"","","","",{"$f":"IF(O10<>\"\",IF(AND(O10=0,旅費振替依頼書!$H$3=M10&\"月\"),\"当月\",IF(OR(O10=1,O10=89),\"次月\",\"次月以降\")),\"\")","v":""},{"$f":"IF($P10=\"当月\",COUNTIF($P$5:$P10,\"当月\"),\"\")","v":""},{"$f":"IF($P10=\"次月\",COUNTIF($P$5:$P10,\"次月\"),\"\")","v":""},{"$f":"IF($P10=\"次月以降\",COUNTIF($P$5:$P10,\"次月以降\"),\"\")","v":""}]
[7,"","",{"$f":"IF(旅費振替依頼書!C13<>\"\",\"NS-\"&旅費振替依頼書!C13,\"\")","v":""},{"$f":"IF(旅費振替依頼書!L13<>\"\",旅費振替依頼書!L13,\"\")","v":""},{"$f":"IF(旅費振替依頼書!E13<>\"\",旅費振替依頼書!E13&\" \"&旅費振替依頼書!X13&\"-\"&旅費振替依頼書!Y13&\" \"&旅費振替依頼書!V13&\" \"&旅費振替依頼書!I13,\"\")","v":""},{"$f":"IF(旅費振替依頼書!X13<>\"\",旅費振替依頼書!X13,\"\")","v":""},"","","",{"$f":"IF(旅費振替依頼書!Y13<>\"\",旅費振替依頼書!Y13,\"\")","v":""},"","","","",{"$f":"IF(O11<>\"\",IF(AND(O11=0,旅費振替依頼書!$H$3=M11&\"月\"),\"当月\",IF(OR(O11=1,O11=89),\"次月\",\"次月以降\")),\"\")","v":""},{"$f":"IF($P11=\"当月\",COUNTIF($P$5:$P11,\"当月\"),\"\")","v":""},{"$f":"IF($P11=\"次月\",COUNTIF($P$5:$P11,\"次月\"),\"\")","v":""},{"$f":"IF($P11=\"次月以降\",COUNTIF($P$5:$P11,\"次月以降\"),\"\")","v":""}]
[8,"","",{"$f":"IF(旅費振替依頼書!C14<>\"\",\"NS-\"&旅費振替依頼書!C14,\"\")","v":""},{"$f":"IF(旅費振替依頼書!L14<>\"\",旅費振替依頼書!L14,\"\")","v":""},{"$f":"IF(旅費振替依頼書!E14<>\"\",旅費振替依頼書!E14&\" \"&旅費振替依頼書!X14&\"-\"&旅費振替依頼書!Y14&\" \"&旅費振替依頼書!V14&\" \"&旅費振替依頼書!I14,\"\")","v":""},{"$f":"IF(旅費振替依頼書!X14<>\"\",旅費振替依頼書!X14,\"\")","v":""},"","","",{"$f":"IF(旅費振替依頼書!Y14<>\"\",旅費振替依頼書!Y14,\"\")","v":""},"","","","",{"$f":"IF(O12<>\"\",IF(AND(O12=0,旅費振替依頼書!$H$3=M12&\"月\"),\"当月\",IF(OR(O12=1,O12=89),\"次月\",\"次月以降\")),\"\")","v":""},{"$f":"IF($P12=\"当月\",COUNTIF($P$5:$P12,\"当月\"),\"\")","v":""},{"$f":"IF($P12=\"次月\",COUNTIF($P$5:$P12,\"次月\"),\"\")","v":""},{"$f":"IF($P12=\"次月以降\",COUNTIF($P$5:$P12,\"次月以降\"),\"\")","v":""}]
[9,"","",{"$f":"IF(旅費振替依頼書!C15<>\"\",\"NS-\"&旅費振替依頼書!C15,\"\")","v":""},{"$f":"IF(旅費振替依頼書!L15<>\"\",旅費振替依頼書!L15,\"\")","v":""},{"$f":"IF(旅費振替依頼書!E15<>\"\",旅費振替依頼書!E15&\" \"&旅費振替依頼書!X15&\"-\"&旅費振替依頼書!Y15&\" \"&旅費振替依頼書!V15&\" \"&旅費振替依頼書!I15,\"\")","v":""},{"$f":"IF(旅費振替依頼書!X15<>\"\",旅費振替依頼書!X15,\"\")","v":""},"","","",{"$f":"IF(旅費振替依頼書!Y15<>\"\",旅費振替依頼書!Y15,\"\")","v":""},"","","","",{"$f":"IF(O13<>\"\",IF(AND(O13=0,旅費振替依頼書!$H$3=M13&\"月\"),\"当月\",IF(OR(O13=1,O13=89),\"次月\",\"次月以降\")),\"\")","v":""},{"$f":"IF($P13=\"当月\",COUNTIF($P$5:$P13,\"当月\"),\"\")","v":""},{"$f":"IF($P13=\"次月\",COUNTIF($P$5:$P13,\"次月\"),\"\")","v":""},{"$f":"IF($P13=\"次月以降\",COUNTIF($P$5:$P13,\"次月以降\"),\"\")","v":""}]
[10,"","",{"$f":"IF(旅費振替依頼書!C16<>\"\",\"NS-\"&旅費振替依頼書!C16,\"\")","v":""},{"$f":"IF(旅費振替依頼書!L16<>\"\",旅費振替依頼書!L16,\"\")","v":""},{"$f":"IF(旅費振替依頼書!E16<>\"\",旅費振替依頼書!E16&\" \"&旅費振替依頼書!X16&\"-\"&旅費振替依頼書!Y16&\" \"&旅費振替依頼書!V16&\" \"&旅費振替依頼書!I16,\"\")","v":""},{"$f":"IF(旅費振替依頼書!X16<>\"\",旅費振替依頼書!X16,\"\")","v":""},"","","",{"$f":"IF(旅費振替依頼書!Y16<>\"\",旅費振替依頼書!Y16,\"\")","v":""},"","","","",{"$f":"IF(O14<>\"\",IF(AND(O14=0,旅費振替依頼書!$H$3=M14&\"月\"),\"当月\",IF(OR(O14=1,O14=89),\"次月\",\"次月以降\")),\"\")","v":""},{"$f":"IF($P14=\"当月\",COUNTIF($P$5:$P14,\"当月\"),\"\")","v":""},{"$f":"IF($P14=\"次月\",COUNTIF($P$5:$P14,\"次月\"),\"\")","v":""},{"$f":"IF($P14=\"次月以降\",COUNTIF($P$5:$P14,\"次月以降\"),\"\")","v":""}]
[11,"","",{"$f":"IF(旅費振替依頼書!C17<>\"\",\"NS-\"&旅費振替依頼書!C17,\"\")","v":""},{"$f":"IF(旅費振替依頼書!L17<>\"\",旅費振替依頼書!L17,\"\")","v":""},{"$f":"IF(旅費振替依頼書!E17<>\"\",旅費振替依頼書!E17&\" \"&旅費振替依頼書!X17&\"-\"&旅費振替依頼書!Y17&\" \"&旅費振替依頼書!V17&\" \"&旅費振替依頼書!I17,\"\")","v":""},{"$f":"IF(旅費振替依頼書!X17<>\"\",旅費振替依頼書!X17,\"\")","v":""},"","","",{"$f":"IF(旅費振替依頼書!Y17<>\"\",旅費振替依頼書!Y17,\"\")","v":""},"","","","",{"$f":"IF(O15<>\"\",IF(AND(O15=0,旅費振替依頼書!$H$3=M15&\"月\"),\"当月\",IF(OR(O15=1,O15=89),\"次月\",\"次月以降\")),\"\")","v":""},{"$f":"IF($P15=\"当月\",COUNTIF($P$5:$P15,\"当月\"),\"\")","v":""},{"$f":"IF($P15=\"次月\",COUNTIF($P$5:$P15,\"次月\"),\"\")","v":""},{"$f":"IF($P15=\"次月以降\",COUNTIF($P$5:$P15,\"次月以降\"),\"\")","v":""}]
[12,"","",{"$f":"IF(旅費振替依頼書!C18<>\"\",\"NS-\"&旅費振替依頼書!C18,\"\")","v":""},{"$f":"IF(旅費振替依頼書!L18<>\"\",旅費振替依頼書!L18,\"\")","v":""},{"$f":"IF(旅費振替依頼書!E18<>\"\",旅費振替依頼書!E18&\" \"&旅費振替依頼書!X18&\"-\"&旅費振替依頼書!Y18&\" \"&旅費振替依頼書!V18&\" \"&旅費振替依頼書!I18,\"\")","v":""},{"$f":"IF(旅費振替依頼書!X18<>\"\",旅費振替依頼書!X18,\"\")","v":""},"","","",{"$f":"IF(旅費振替依頼書!Y18<>\"\",旅費振替依頼書!Y18,\"\")","v":""},"","","","",{"$f":"IF(O16<>\"\",IF(AND(O16=0,旅費振替依頼書!$H$3=M16&\"月\"),\"当月\",IF(OR(O16=1,O16=89),\"次月\",\"次月以降\")),\"\")","v":""},{"$f":"IF($P16=\"当月\",COUNTIF($P$5:$P16,\"当月\"),\"\")","v":""},{"$f":"IF($P16=\"次月\",COUNTIF($P$5:$P16,\"次月\"),\"\")","v":""},{"$f":"IF($P16=\"次月以降\",COUNTIF($P$5:$P16,\"次月以降\"),\"\")","v":""}]
[13,"","",{"$f":"IF(旅費振替依頼書!C19<>\"\",\"NS-\"&旅費振替依頼書!C19,\"\")","v":""},{"$f":"IF(旅費振替依頼書!L19<>\"\",旅費振替依頼書!L19,\"\")","v":""},{"$f":"IF(旅費振替依頼書!E19<>\"\",旅費振替依頼書!E19&\" \"&旅費振替依頼書!X19&\"-\"&旅費振替依頼書!Y19&\" \"&旅費振替依頼書!V19&\" \"&旅費振替依頼書!I19,\"\")","v":""},{"$f":"IF(旅費振替依頼書!X19<>\"\",旅費振替依頼書!X19,\"\")","v":""},"","","",{"$f":"IF(旅費振替依頼書!Y19<>\"\",旅費振替依頼書!Y19,\"\")","v":""},"","","","",{"$f":"IF(O17<>\"\",IF(AND(O17=0,旅費振替依頼書!$H$3=M17&\"月\"),\"当月\",IF(OR(O17=1,O17=89),\"次月\",\"次月以降\")),\"\")","v":""},{"$f":"IF($P17=\"当月\",COUNTIF($P$5:$P17,\"当月\"),\"\")","v":""},{"$f":"IF($P17=\"次月\",COUNTIF($P$5:$P17,\"次月\"),\"\")","v":""},{"$f":"IF($P17=\"次月以降\",COUNTIF($P$5:$P17,\"次月以降\"),\"\")","v":""}]
[14,"","",{"$f":"IF(旅費振替依頼書!C20<>\"\",\"NS-\"&旅費振替依頼書!C20,\"\")","v":""},{"$f":"IF(旅費振替依頼書!L20<>\"\",旅費振替依頼書!L20,\"\")","v":""},{"$f":"IF(旅費振替依頼書!E20<>\"\",旅費振替依頼書!E20&\" \"&旅費振替依頼書!X20&\"-\"&旅費振替依頼書!Y20&\" \"&旅費振替依頼書!V20&\" \"&旅費振替依頼書!I20,\"\")","v":""},{"$f":"IF(旅費振替依頼書!X20<>\"\",旅費振替依頼書!X20,\"\")","v":""},"","","",{"$f":"IF(旅費振替依頼書!Y20<>\"\",旅費振替依頼書!Y20,\"\")","v":""},"","","","",{"$f":"IF(O18<>\"\",IF(AND(O18=0,旅費振替依頼書!$H$3=M18&\"月\"),\"当月\",IF(OR(O18=1,O18=89),\"次月\",\"次月以降\")),\"\")","v":""},{"$f":"IF($P18=\"当月\",COUNTIF($P$5:$P18,\"当月\"),\"\")","v":""},{"$f":"IF($P18=\"次月\",COUNTIF($P$5:$P18,\"次月\"),\"\")","v":""},{"$f":"IF($P18=\"次月以降\",COUNTIF($P$5:$P18,\"次月以降\"),\"\")","v":""}]
[15,{"$f":"IF(D19<>\"\",TEXT(EOMONTH(LEFT($J$2,4)&\"/\"&RIGHT($J$2,2)&\"/01\",0),\"YYYY.MM.DD\"),\"\")","v":""},"",{"$f":"IF(旅費振替依頼書!C21<>\"\",\"NS-\"&旅費振替依頼書!C21,\"\")","v":""},{"$f":"IF(旅費振替依頼書!L21<>\"\",旅費振替依頼書!L21,\"\")","v":""},{"$f":"IF(旅費振替依頼書!E21<>\"\",旅費振替依頼書!E21&\" \"&旅費振替依頼書!X21&\"-\"&旅費振替依頼書!Y21&\" \"&旅費振替依頼書!V21&\" \"&旅費振替依頼書!I21,\"\")","v":""},{"$f":"IF(旅費振替依頼書!X21<>\"\",旅費振替依頼書!X21,\"\")","v":""},{"$f":"IF(G19<>\"\",YEAR(G19),\"\")","v":""},{"$f":"IF(G19<>\"\",MONTH(G19),\"\")","v":""},{"$f":"IF(H19<>\"\",VALUE(H19&TEXT(I19,\"00\")),\"\")","v":""},{"$f":"IF(旅費振替依頼書!Y21<>\"\",旅費振替依頼書!Y21,\"\")","v":""},{"$f":"IF(K19<>\"\",YEAR(K19),\"\")","v":""},{"$f":"IF(K19<>\"\",MONTH(K19),\"\")","v":""},{"$f":"IF(L19<>\"\",VALUE(L19&TEXT(M19,\"00\")),\"\")","v":""},{"$f":"IF(AND(J19<>\"\",N19<>\"\"),N19-$J$2,\"\")","v":""},{"$f":"IF(O19<>\"\",IF(AND(O19=0,旅費振替依頼書!$H$3=M19&\"月\"),\"当月\",IF(OR(O19=1,O19=89),\"次月\",\"次月以降\")),\"\")","v":""},{"$f":"IF($P19=\"当月\",COUNTIF($P$5:$P19,\"当月\"),\"\")","v":""},{"$f":"IF($P19=\"次月\",COUNTIF($P$5:$P19,\"次月\"),\"\")","v":""},{"$f":"IF($P19=\"次月以降\",COUNTIF($P$5:$P19,\"次月以降\"),\"\")","v":""}]
[16,"","",{"$f":"IF(旅費振替依頼書!C22<>\"\",\"NS-\"&旅費振替依頼書!C22,\"\")","v":""},{"$f":"IF(旅費振替依頼書!L22<>\"\",旅費振替依頼書!L22,\"\")","v":""},{"$f":"IF(旅費振替依頼書!E22<>\"\",旅費振替依頼書!E22&\" \"&旅費振替依頼書!X22&\"-\"&旅費振替依頼書!Y22&\" \"&旅費振替依頼書!V22&\" \"&旅費振替依頼書!I22,\"\")","v":""},{"$f":"IF(旅費振替依頼書!X22<>\"\",旅費振替依頼書!X22,\"\")","v":""},"","","",{"$f":"IF(旅費振替依頼書!Y22<>\"\",旅費振替依頼書!Y22,\"\")","v":""},"","","","",{"$f":"IF(O20<>\"\",IF(AND(O20=0,旅費振替依頼書!$H$3=M20&\"月\"),\"当月\",IF(OR(O20=1,O20=89),\"次月\",\"次月以降\")),\"\")","v":""},{"$f":"IF($P20=\"当月\",COUNTIF($P$5:$P20,\"当月\"),\"\")","v":""},{"$f":"IF($P20=\"次月\",COUNTIF($P$5:$P20,\"次月\"),\"\")","v":""},{"$f":"IF($P20=\"次月以降\",COUNTIF($P$5:$P20,\"次月以降\"),\"\")","v":""}]
[17,"","",{"$f":"IF(旅費振替依頼書!C23<>\"\",\"NS-\"&旅費振替依頼書!C23,\"\")","v":""},{"$f":"IF(旅費振替依頼書!L23<>\"\",旅費振替依頼書!L23,\"\")","v":""},{"$f":"IF(旅費振替依頼書!E23<>\"\",旅費振替依頼書!E23&\" \"&旅費振替依頼書!X23&\"-\"&旅費振替依頼書!Y23&\" \"&旅費振替依頼書!V23&\" \"&旅費振替依頼書!I23,\"\")","v":""},{"$f":"IF(旅費振替依頼書!X23<>\"\",旅費振替依頼書!X23,\"\")","v":""},"","","",{"$f":"IF(旅費振替依頼書!Y23<>\"\",旅費振替依頼書!Y23,\"\")","v":""},"","","","",{"$f":"IF(O21<>\"\",IF(AND(O21=0,旅費振替依頼書!$H$3=M21&\"月\"),\"当月\",IF(OR(O21=1,O21=89),\"次月\",\"次月以降\")),\"\")","v":""},{"$f":"IF($P21=\"当月\",COUNTIF($P$5:$P21,\"当月\"),\"\")","v":""},{"$f":"IF($P21=\"次月\",COUNTIF($P$5:$P21,\"次月\"),\"\")","v":""},{"$f":"IF($P21=\"次月以降\",COUNTIF($P$5:$P21,\"次月以降\"),\"\")","v":""}]
[18,"","",{"$f":"IF(旅費振替依頼書!C24<>\"\",\"NS-\"&旅費振替依頼書!C24,\"\")","v":""},{"$f":"IF(旅費振替依頼書!L24<>\"\",旅費振替依頼書!L24,\"\")","v":""},{"$f":"IF(旅費振替依頼書!E24<>\"\",旅費振替依頼書!E24&\" \"&旅費振替依頼書!X24&\"-\"&旅費振替依頼書!Y24&\" \"&旅費振替依頼書!V24&\" \"&旅費振替依頼書!I24,\"\")","v":""},{"$f":"IF(旅費振替依頼書!X24<>\"\",旅費振替依頼書!X24,\"\")","v":""},"","","",{"$f":"IF(旅費振替依頼書!Y24<>\"\",旅費振替依頼書!Y24,\"\")","v":""},"","","","",{"$f":"IF(O22<>\"\",IF(AND(O22=0,旅費振替依頼書!$H$3=M22&\"月\"),\"当月\",IF(OR(O22=1,O22=89),\"次月\",\"次月以降\")),\"\")","v":""},{"$f":"IF($P22=\"当月\",COUNTIF($P$5:$P22,\"当月\"),\"\")","v":""},{"$f":"IF($P22=\"次月\",COUNTIF($P$5:$P22,\"次月\"),\"\")","v":""},{"$f":"IF($P22=\"次月以降\",COUNTIF($P$5:$P22,\"次月以降\"),\"\")","v":""}]
[19,"","",{"$f":"IF(旅費振替依頼書!C25<>\"\",\"NS-\"&旅費振替依頼書!C25,\"\")","v":""},{"$f":"IF(旅費振替依頼書!L25<>\"\",旅費振替依頼書!L25,\"\")","v":""},{"$f":"IF(旅費振替依頼書!E25<>\"\",旅費振替依頼書!E25&\" \"&旅費振替依頼書!X25&\"-\"&旅費振替依頼書!Y25&\" \"&旅費振替依頼書!V25&\" \"&旅費振替依頼書!I25,\"\")","v":""},{"$f":"IF(旅費振替依頼書!X25<>\"\",旅費振替依頼書!X25,\"\")","v":""},"","","",{"$f":"IF(旅費振替依頼書!Y25<>\"\",旅費振替依頼書!Y25,\"\")","v":""},"","","","",{"$f":"IF(O23<>\"\",IF(AND(O23=0,旅費振替依頼書!$H$3=M23&\"月\"),\"当月\",IF(OR(O23=1,O23=89),\"次月\",\"次月以降\")),\"\")","v":""},{"$f":"IF($P23=\"当月\",COUNTIF($P$5:$P23,\"当月\"),\"\")","v":""},{"$f":"IF($P23=\"次月\",COUNTIF($P$5:$P23,\"次月\"),\"\")","v":""},{"$f":"IF($P23=\"次月以降\",COUNTIF($P$5:$P23,\"次月以降\"),\"\")","v":""}]
[20,"","",{"$f":"IF(旅費振替依頼書!C26<>\"\",\"NS-\"&旅費振替依頼書!C26,\"\")","v":""},{"$f":"IF(旅費振替依頼書!L26<>\"\",旅費振替依頼書!L26,\"\")","v":""},{"$f":"IF(旅費振替依頼書!E26<>\"\",旅費振替依頼書!E26&\" \"&旅費振替依頼書!X26&\"-\"&旅費振替依頼書!Y26&\" \"&旅費振替依頼書!V26&\" \"&旅費振替依頼書!I26,\"\")","v":""},{"$f":"IF(旅費振替依頼書!X26<>\"\",旅費振替依頼書!X26,\"\")","v":""},"","","",{"$f":"IF(旅費振替依頼書!Y26<>\"\",旅費振替依頼書!Y26,\"\")","v":""},"","","","",{"$f":"IF(O24<>\"\",IF(AND(O24=0,旅費振替依頼書!$H$3=M24&\"月\"),\"当月\",IF(OR(O24=1,O24=89),\"次月\",\"次月以降\")),\"\")","v":""},{"$f":"IF($P24=\"当月\",COUNTIF($P$5:$P24,\"当月\"),\"\")","v":""},{"$f":"IF($P24=\"次月\",COUNTIF($P$5:$P24,\"次月\"),\"\")","v":""},{"$f":"IF($P24=\"次月以降\",COUNTIF($P$5:$P24,\"次月以降\"),\"\")","v":""}]
[21,"","",{"$f":"IF(旅費振替依頼書!C27<>\"\",\"NS-\"&旅費振替依頼書!C27,\"\")","v":""},{"$f":"IF(旅費振替依頼書!L27<>\"\",旅費振替依頼書!L27,\"\")","v":""},{"$f":"IF(旅費振替依頼書!E27<>\"\",旅費振替依頼書!E27&\" \"&旅費振替依頼書!X27&\"-\"&旅費振替依頼書!Y27&\" \"&旅費振替依頼書!V27&\" \"&旅費振替依頼書!I27,\"\")","v":""},{"$f":"IF(旅費振替依頼書!X27<>\"\",旅費振替依頼書!X27,\"\")","v":""},"","","",{"$f":"IF(旅費振替依頼書!Y27<>\"\",旅費振替依頼書!Y27,\"\")","v":""},"","","","",{"$f":"IF(O25<>\"\",IF(AND(O25=0,旅費振替依頼書!$H$3=M25&\"月\"),\"当月\",IF(OR(O25=1,O25=89),\"次月\",\"次月以降\")),\"\")","v":""},{"$f":"IF($P25=\"当月\",COUNTIF($P$5:$P25,\"当月\"),\"\")","v":""},{"$f":"IF($P25=\"次月\",COUNTIF($P$5:$P25,\"次月\"),\"\")","v":""},{"$f":"IF($P25=\"次月以降\",COUNTIF($P$5:$P25,\"次月以降\"),\"\")","v":""}]
[22,"","",{"$f":"IF(旅費振替依頼書!C28<>\"\",\"NS-\"&旅費振替依頼書!C28,\"\")","v":""},{"$f":"IF(旅費振替依頼書!L28<>\"\",旅費振替依頼書!L28,\"\")","v":""},{"$f":"IF(旅費振替依頼書!E28<>\"\",旅費振替依頼書!E28&\" \"&旅費振替依頼書!X28&\"-\"&旅費振替依頼書!Y28&\" \"&旅費振替依頼書!V28&\" \"&旅費振替依頼書!I28,\"\")","v":""},{"$f":"IF(旅費振替依頼書!X28<>\"\",旅費振替依頼書!X28,\"\")","v":""},"","","",{"$f":"IF(旅費振替依頼書!Y28<>\"\",旅費振替依頼書!Y28,\"\")","v":""},"","","","",{"$f":"IF(O26<>\"\",IF(AND(O26=0,旅費振替依頼書!$H$3=M26&\"月\"),\"当月\",IF(OR(O26=1,O26=89),\"次月\",\"次月以降\")),\"\")","v":""},{"$f":"IF($P26=\"当月\",COUNTIF($P$5:$P26,\"当月\"),\"\")","v":""},{"$f":"IF($P26=\"次月\",COUNTIF($P$5:$P26,\"次月\"),\"\")","v":""},{"$f":"IF($P26=\"次月以降\",COUNTIF($P$5:$P26,\"次月以降\"),\"\")","v":""}]
[23,"","",{"$f":"IF(旅費振替依頼書!C29<>\"\",\"NS-\"&旅費振替依頼書!C29,\"\")","v":""},{"$f":"IF(旅費振替依頼書!L29<>\"\",旅費振替依頼書!L29,\"\")","v":""},{"$f":"IF(旅費振替依頼書!E29<>\"\",旅費振替依頼書!E29&\" \"&旅費振替依頼書!X29&\"-\"&旅費振替依頼書!Y29&\" \"&旅費振替依頼書!V29&\" \"&旅費振替依頼書!I29,\"\")","v":""},{"$f":"IF(旅費振替依頼書!X29<>\"\",旅費振替依頼書!X29,\"\")","v":""},"","","",{"$f":"IF(旅費振替依頼書!Y29<>\"\",旅費振替依頼書!Y29,\"\")","v":""},"","","","",{"$f":"IF(O27<>\"\",IF(AND(O27=0,旅費振替依頼書!$H$3=M27&\"月\"),\"当月\",IF(OR(O27=1,O27=89),\"次月\",\"次月以降\")),\"\")","v":""},{"$f":"IF($P27=\"当月\",COUNTIF($P$5:$P27,\"当月\"),\"\")","v":""},{"$f":"IF($P27=\"次月\",COUNTIF($P$5:$P27,\"次月\"),\"\")","v":""},{"$f":"IF($P27=\"次月以降\",COUNTIF($P$5:$P27,\"次月以降\"),\"\")","v":""}]
[24,"","",{"$f":"IF(旅費振替依頼書!C30<>\"\",\"NS-\"&旅費振替依頼書!C30,\"\")","v":""},{"$f":"IF(旅費振替依頼書!L30<>\"\",旅費振替依頼書!L30,\"\")","v":""},{"$f":"IF(旅費振替依頼書!E30<>\"\",旅費振替依頼書!E30&\" \"&旅費振替依頼書!X30&\"-\"&旅費振替依頼書!Y30&\" \"&旅費振替依頼書!V30&\" \"&旅費振替依頼書!I30,\"\")","v":""},{"$f":"IF(旅費振替依頼書!X30<>\"\",旅費振替依頼書!X30,\"\")","v":""},"","","",{"$f":"IF(旅費振替依頼書!Y30<>\"\",旅費振替依頼書!Y30,\"\")","v":""},"","","","",{"$f":"IF(O28<>\"\",IF(AND(O28=0,旅費振替依頼書!$H$3=M28&\"月\"),\"当月\",IF(OR(O28=1,O28=89),\"次月\",\"次月以降\")),\"\")","v":""},{"$f":"IF($P28=\"当月\",COUNTIF($P$5:$P28,\"当月\"),\"\")","v":""},{"$f":"IF($P28=\"次月\",COUNTIF($P$5:$P28,\"次月\"),\"\")","v":""},{"$f":"IF($P28=\"次月以降\",COUNTIF($P$5:$P28,\"次月以降\"),\"\")","v":""}]
[25,"","",{"$f":"IF(旅費振替依頼書!C31<>\"\",\"NS-\"&旅費振替依頼書!C31,\"\")","v":""},{"$f":"IF(旅費振替依頼書!L31<>\"\",旅費振替依頼書!L31,\"\")","v":""},{"$f":"IF(旅費振替依頼書!E31<>\"\",旅費振替依頼書!E31&\" \"&旅費振替依頼書!X31&\"-\"&旅費振替依頼書!Y31&\" \"&旅費振替依頼書!V31&\" \"&旅費振替依頼書!I31,\"\")","v":""},{"$f":"IF(旅費振替依頼書!X31<>\"\",旅費振替依頼書!X31,\"\")","v":""},"","","",{"$f":"IF(旅費振替依頼書!Y31<>\"\",旅費振替依頼書!Y31,\"\")","v":""},"","","","",{"$f":"IF(O29<>\"\",IF(AND(O29=0,旅費振替依頼書!$H$3=M29&\"月\"),\"当月\",IF(OR(O29=1,O29=89),\"次月\",\"次月以降\")),\"\")","v":""},{"$f":"IF($P29=\"当月\",COUNTIF($P$5:$P29,\"当月\"),\"\")","v":""},{"$f":"IF($P29=\"次月\",COUNTIF($P$5:$P29,\"次月\"),\"\")","v":""},{"$f":"IF($P29=\"次月以降\",COUNTIF($P$5:$P29,\"次月以降\"),\"\")","v":""}]
[26,"","",{"$f":"IF(旅費振替依頼書!C32<>\"\",\"NS-\"&旅費振替依頼書!C32,\"\")","v":""},{"$f":"IF(旅費振替依頼書!L32<>\"\",旅費振替依頼書!L32,\"\")","v":""},{"$f":"IF(旅費振替依頼書!E32<>\"\",旅費振替依頼書!E32&\" \"&旅費振替依頼書!X32&\"-\"&旅費振替依頼書!Y32&\" \"&旅費振替依頼書!V32&\" \"&旅費振替依頼書!I32,\"\")","v":""},{"$f":"IF(旅費振替依頼書!X32<>\"\",旅費振替依頼書!X32,\"\")","v":""},"","","",{"$f":"IF(旅費振替依頼書!Y32<>\"\",旅費振替依頼書!Y32,\"\")","v":""},"","","","",{"$f":"IF(O30<>\"\",IF(AND(O30=0,旅費振替依頼書!$H$3=M30&\"月\"),\"当月\",IF(OR(O30=1,O30=89),\"次月\",\"次月以降\")),\"\")","v":""},{"$f":"IF($P30=\"当月\",COUNTIF($P$5:$P30,\"当月\"),\"\")","v":""},{"$f":"IF($P30=\"次月\",COUNTIF($P$5:$P30,\"次月\"),\"\")","v":""},{"$f":"IF($P30=\"次月以降\",COUNTIF($P$5:$P30,\"次月以降\"),\"\")","v":""}]
[27,"","",{"$f":"IF(旅費振替依頼書!C33<>\"\",\"NS-\"&旅費振替依頼書!C33,\"\")","v":""},{"$f":"IF(旅費振替依頼書!L33<>\"\",旅費振替依頼書!L33,\"\")","v":""},{"$f":"IF(旅費振替依頼書!E33<>\"\",旅費振替依頼書!E33&\" \"&旅費振替依頼書!X33&\"-\"&旅費振替依頼書!Y33&\" \"&旅費振替依頼書!V33&\" \"&旅費振替依頼書!I33,\"\")","v":""},{"$f":"IF(旅費振替依頼書!X33<>\"\",旅費振替依頼書!X33,\"\")","v":""},"","","",{"$f":"IF(旅費振替依頼書!Y33<>\"\",旅費振替依頼書!Y33,\"\")","v":""},"","","","",{"$f":"IF(O31<>\"\",IF(AND(O31=0,旅費振替依頼書!$H$3=M31&\"月\"),\"当月\",IF(OR(O31=1,O31=89),\"次月\",\"次月以降\")),\"\")","v":""},{"$f":"IF($P31=\"当月\",COUNTIF($P$5:$P31,\"当月\"),\"\")","v":""},{"$f":"IF($P31=\"次月\",COUNTIF($P$5:$P31,\"次月\"),\"\")","v":""},{"$f":"IF($P31=\"次月以降\",COUNTIF($P$5:$P31,\"次月以降\"),\"\")","v":""}]
[28,"","",{"$f":"IF(旅費振替依頼書!C34<>\"\",\"NS-\"&旅費振替依頼書!C34,\"\")","v":""},{"$f":"IF(旅費振替依頼書!L34<>\"\",旅費振替依頼書!L34,\"\")","v":""},{"$f":"IF(旅費振替依頼書!E34<>\"\",旅費振替依頼書!E34&\" \"&旅費振替依頼書!X34&\"-\"&旅費振替依頼書!Y34&\" \"&旅費振替依頼書!V34&\" \"&旅費振替依頼書!I34,\"\")","v":""},{"$f":"IF(旅費振替依頼書!X34<>\"\",旅費振替依頼書!X34,\"\")","v":""},"","","",{"$f":"IF(旅費振替依頼書!Y34<>\"\",旅費振替依頼書!Y34,\"\")","v":""},"","","","",{"$f":"IF(O32<>\"\",IF(AND(O32=0,旅費振替依頼書!$H$3=M32&\"月\"),\"当月\",IF(OR(O32=1,O32=89),\"次月\",\"次月以降\")),\"\")","v":""},{"$f":"IF($P32=\"当月\",COUNTIF($P$5:$P32,\"当月\"),\"\")","v":""},{"$f":"IF($P32=\"次月\",COUNTIF($P$5:$P32,\"次月\"),\"\")","v":""},{"$f":"IF($P32=\"次月以降\",COUNTIF($P$5:$P32,\"次月以降\"),\"\")","v":""}]
[29,"","",{"$f":"IF(旅費振替依頼書!C35<>\"\",\"NS-\"&旅費振替依頼書!C35,\"\")","v":""},{"$f":"IF(旅費振替依頼書!L35<>\"\",旅費振替依頼書!L35,\"\")","v":""},{"$f":"IF(旅費振替依頼書!E35<>\"\",旅費振替依頼書!E35&\" \"&旅費振替依頼書!X35&\"-\"&旅費振替依頼書!Y35&\" \"&旅費振替依頼書!V35&\" \"&旅費振替依頼書!I35,\"\")","v":""},{"$f":"IF(旅費振替依頼書!X35<>\"\",旅費振替依頼書!X35,\"\")","v":""},"","","",{"$f":"IF(旅費振替依頼書!Y35<>\"\",旅費振替依頼書!Y35,\"\")","v":""},"","","","",{"$f":"IF(O33<>\"\",IF(AND(O33=0,旅費振替依頼書!$H$3=M33&\"月\"),\"当月\",IF(OR(O33=1,O33=89),\"次月\",\"次月以降\")),\"\")","v":""},{"$f":"IF($P33=\"当月\",COUNTIF($P$5:$P33,\"当月\"),\"\")","v":""},{"$f":"IF($P33=\"次月\",COUNTIF($P$5:$P33,\"次月\"),\"\")","v":""},{"$f":"IF($P33=\"次月以降\",COUNTIF($P$5:$P33,\"次月以降\"),\"\")","v":""}]
[30,"","",{"$f":"IF(旅費振替依頼書!C36<>\"\",\"NS-\"&旅費振替依頼書!C36,\"\")","v":""},{"$f":"IF(旅費振替依頼書!L36<>\"\",旅費振替依頼書!L36,\"\")","v":""},{"$f":"IF(旅費振替依頼書!E36<>\"\",旅費振替依頼書!E36&\" \"&旅費振替依頼書!X36&\"-\"&旅費振替依頼書!Y36&\" \"&旅費振替依頼書!V36&\" \"&旅費振替依頼書!I36,\"\")","v":""},{"$f":"IF(旅費振替依頼書!X36<>\"\",旅費振替依頼書!X36,\"\")","v":""},"","","",{"$f":"IF(旅費振替依頼書!Y36<>\"\",旅費振替依頼書!Y36,\"\")","v":""},"","","","",{"$f":"IF(O34<>\"\",IF(AND(O34=0,旅費振替依頼書!$H$3=M34&\"月\"),\"当月\",IF(OR(O34=1,O34=89),\"次月\",\"次月以降\")),\"\")","v":""},{"$f":"IF($P34=\"当月\",COUNTIF($P$5:$P34,\"当月\"),\"\")","v":""},{"$f":"IF($P34=\"次月\",COUNTIF($P$5:$P34,\"次月\"),\"\")","v":""},{"$f":"IF($P34=\"次月以降\",COUNTIF($P$5:$P34,\"次月以降\"),\"\")","v":""}]
[31,"","",{"$f":"IF(旅費振替依頼書!C37<>\"\",\"NS-\"&旅費振替依頼書!C37,\"\")","v":""},{"$f":"IF(旅費振替依頼書!L37<>\"\",旅費振替依頼書!L37,\"\")","v":""},{"$f":"IF(旅費振替依頼書!E37<>\"\",旅費振替依頼書!E37&\" \"&旅費振替依頼書!X37&\"-\"&旅費振替依頼書!Y37&\" \"&旅費振替依頼書!V37&\" \"&旅費振替依頼書!I37,\"\")","v":""},{"$f":"IF(旅費振替依頼書!X37<>\"\",旅費振替依頼書!X37,\"\")","v":""},"","","",{"$f":"IF(旅費振替依頼書!Y37<>\"\",旅費振替依頼書!Y37,\"\")","v":""},"","","","",{"$f":"IF(O35<>\"\",IF(AND(O35=0,旅費振替依頼書!$H$3=M35&\"月\"),\"当月\",IF(OR(O35=1,O35=89),\"次月\",\"次月以降\")),\"\")","v":""},{"$f":"IF($P35=\"当月\",COUNTIF($P$5:$P35,\"当月\"),\"\")","v":""},{"$f":"IF($P35=\"次月\",COUNTIF($P$5:$P35,\"次月\"),\"\")","v":""},{"$f":"IF($P35=\"次月以降\",COUNTIF($P$5:$P35,\"次月以降\"),\"\")","v":""}]
[32,"","",{"$f":"IF(旅費振替依頼書!C38<>\"\",\"NS-\"&旅費振替依頼書!C38,\"\")","v":""},{"$f":"IF(旅費振替依頼書!L38<>\"\",旅費振替依頼書!L38,\"\")","v":""},{"$f":"IF(旅費振替依頼書!E38<>\"\",旅費振替依頼書!E38&\" \"&旅費振替依頼書!X38&\"-\"&旅費振替依頼書!Y38&\" \"&旅費振替依頼書!V38&\" \"&旅費振替依頼書!I38,\"\")","v":""},{"$f":"IF(旅費振替依頼書!X38<>\"\",旅費振替依頼書!X38,\"\")","v":""},"","","",{"$f":"IF(旅費振替依頼書!Y38<>\"\",旅費振替依頼書!Y38,\"\")","v":""},"","","","",{"$f":"IF(O36<>\"\",IF(AND(O36=0,旅費振替依頼書!$H$3=M36&\"月\"),\"当月\",IF(OR(O36=1,O36=89),\"次月\",\"次月以降\")),\"\")","v":""},{"$f":"IF($P36=\"当月\",COUNTIF($P$5:$P36,\"当月\"),\"\")","v":""},{"$f":"IF($P36=\"次月\",COUNTIF($P$5:$P36,\"次月\"),\"\")","v":""},{"$f":"IF($P36=\"次月以降\",COUNTIF($P$5:$P36,\"次月以降\"),\"\")","v":""}]
[33,"","",{"$f":"IF(旅費振替依頼書!C39<>\"\",\"NS-\"&旅費振替依頼書!C39,\"\")","v":""},{"$f":"IF(旅費振替依頼書!L39<>\"\",旅費振替依頼書!L39,\"\")","v":""},{"$f":"IF(旅費振替依頼書!E39<>\"\",旅費振替依頼書!E39&\" \"&旅費振替依頼書!X39&\"-\"&旅費振替依頼書!Y39&\" \"&旅費振替依頼書!V39&\" \"&旅費振替依頼書!I39,\"\")","v":""},{"$f":"IF(旅費振替依頼書!X39<>\"\",旅費振替依頼書!X39,\"\")","v":""},"","","",{"$f":"IF(旅費振替依頼書!Y39<>\"\",旅費振替依頼書!Y39,\"\")","v":""},"","","","",{"$f":"IF(O37<>\"\",IF(AND(O37=0,旅費振替依頼書!$H$3=M37&\"月\"),\"当月\",IF(OR(O37=1,O37=89),\"次月\",\"次月以降\")),\"\")","v":""},{"$f":"IF($P37=\"当月\",COUNTIF($P$5:$P37,\"当月\"),\"\")","v":""},{"$f":"IF($P37=\"次月\",COUNTIF($P$5:$P37,\"次月\"),\"\")","v":""},{"$f":"IF($P37=\"次月以降\",COUNTIF($P$5:$P37,\"次月以降\"),\"\")","v":""}]
[34,"","",{"$f":"IF(旅費振替依頼書!C40<>\"\",\"NS-\"&旅費振替依頼書!C40,\"\")","v":""},{"$f":"IF(旅費振替依頼書!L40<>\"\",旅費振替依頼書!L40,\"\")","v":""},{"$f":"IF(旅費振替依頼書!E40<>\"\",旅費振替依頼書!E40&\" \"&旅費振替依頼書!X40&\"-\"&旅費振替依頼書!Y40&\" \"&旅費振替依頼書!V40&\" \"&旅費振替依頼書!I40,\"\")","v":""},{"$f":"IF(旅費振替依頼書!X40<>\"\",旅費振替依頼書!X40,\"\")","v":""},"","","",{"$f":"IF(旅費振替依頼書!Y40<>\"\",旅費振替依頼書!Y40,\"\")","v":""},"","","","",{"$f":"IF(O38<>\"\",IF(AND(O38=0,旅費振替依頼書!$H$3=M38&\"月\"),\"当月\",IF(OR(O38=1,O38=89),\"次月\",\"次月以降\")),\"\")","v":""},{"$f":"IF($P38=\"当月\",COUNTIF($P$5:$P38,\"当月\"),\"\")","v":""},{"$f":"IF($P38=\"次月\",COUNTIF($P$5:$P38,\"次月\"),\"\")","v":""},{"$f":"IF($P38=\"次月以降\",COUNTIF($P$5:$P38,\"次月以降\"),\"\")","v":""}]
[35,"","",{"$f":"IF(旅費振替依頼書!C41<>\"\",\"NS-\"&旅費振替依頼書!C41,\"\")","v":""},{"$f":"IF(旅費振替依頼書!L41<>\"\",旅費振替依頼書!L41,\"\")","v":""},{"$f":"IF(旅費振替依頼書!E41<>\"\",旅費振替依頼書!E41&\" \"&旅費振替依頼書!X41&\"-\"&旅費振替依頼書!Y41&\" \"&旅費振替依頼書!V41&\" \"&旅費振替依頼書!I41,\"\")","v":""},{"$f":"IF(旅費振替依頼書!X41<>\"\",旅費振替依頼書!X41,\"\")","v":""},"","","",{"$f":"IF(旅費振替依頼書!Y41<>\"\",旅費振替依頼書!Y41,\"\")","v":""},"","","","",{"$f":"IF(O39<>\"\",IF(AND(O39=0,旅費振替依頼書!$H$3=M39&\"月\"),\"当月\",IF(OR(O39=1,O39=89),\"次月\",\"次月以降\")),\"\")","v":""},{"$f":"IF($P39=\"当月\",COUNTIF($P$5:$P39,\"当月\"),\"\")","v":""},{"$f":"IF($P39=\"次月\",COUNTIF($P$5:$P39,\"次月\"),\"\")","v":""},{"$f":"IF($P39=\"次月以降\",COUNTIF($P$5:$P39,\"次月以降\"),\"\")","v":""}]
[36,"","",{"$f":"IF(旅費振替依頼書!C42<>\"\",\"NS-\"&旅費振替依頼書!C42,\"\")","v":""},{"$f":"IF(旅費振替依頼書!L42<>\"\",旅費振替依頼書!L42,\"\")","v":""},{"$f":"IF(旅費振替依頼書!E42<>\"\",旅費振替依頼書!E42&\" \"&旅費振替依頼書!X42&\"-\"&旅費振替依頼書!Y42&\" \"&旅費振替依頼書!V42&\" \"&旅費振替依頼書!I42,\"\")","v":""},{"$f":"IF(旅費振替依頼書!X42<>\"\",旅費振替依頼書!X42,\"\")","v":""},"","","",{"$f":"IF(旅費振替依頼書!Y42<>\"\",旅費振替依頼書!Y42,\"\")","v":""},"","","","",{"$f":"IF(O40<>\"\",IF(AND(O40=0,旅費振替依頼書!$H$3=M40&\"月\"),\"当月\",IF(OR(O40=1,O40=89),\"次月\",\"次月以降\")),\"\")","v":""},{"$f":"IF($P40=\"当月\",COUNTIF($P$5:$P40,\"当月\"),\"\")","v":""},{"$f":"IF($P40=\"次月\",COUNTIF($P$5:$P40,\"次月\"),\"\")","v":""},{"$f":"IF($P40=\"次月以降\",COUNTIF($P$5:$P40,\"次月以降\"),\"\")","v":""}]
[37,"","",{"$f":"IF(旅費振替依頼書!C43<>\"\",\"NS-\"&旅費振替依頼書!C43,\"\")","v":""},{"$f":"IF(旅費振替依頼書!L43<>\"\",旅費振替依頼書!L43,\"\")","v":""},{"$f":"IF(旅費振替依頼書!E43<>\"\",旅費振替依頼書!E43&\" \"&旅費振替依頼書!X43&\"-\"&旅費振替依頼書!Y43&\" \"&旅費振替依頼書!V43&\" \"&旅費振替依頼書!I43,\"\")","v":""},{"$f":"IF(旅費振替依頼書!X43<>\"\",旅費振替依頼書!X43,\"\")","v":""},"","","",{"$f":"IF(旅費振替依頼書!Y43<>\"\",旅費振替依頼書!Y43,\"\")","v":""},"","","","",{"$f":"IF(O41<>\"\",IF(AND(O41=0,旅費振替依頼書!$H$3=M41&\"月\"),\"当月\",IF(OR(O41=1,O41=89),\"次月\",\"次月以降\")),\"\")","v":""},{"$f":"IF($P41=\"当月\",COUNTIF($P$5:$P41,\"当月\"),\"\")","v":""},{"$f":"IF($P41=\"次月\",COUNTIF($P$5:$P41,\"次月\"),\"\")","v":""},{"$f":"IF($P41=\"次月以降\",COUNTIF($P$5:$P41,\"次月以降\"),\"\")","v":""}]
[38,"","",{"$f":"IF(旅費振替依頼書!C44<>\"\",\"NS-\"&旅費振替依頼書!C44,\"\")","v":""},{"$f":"IF(旅費振替依頼書!L44<>\"\",旅費振替依頼書!L44,\"\")","v":""},{"$f":"IF(旅費振替依頼書!E44<>\"\",旅費振替依頼書!E44&\" \"&旅費振替依頼書!X44&\"-\"&旅費振替依頼書!Y44&\" \"&旅費振替依頼書!V44&\" \"&旅費振替依頼書!I44,\"\")","v":""},{"$f":"IF(旅費振替依頼書!X44<>\"\",旅費振替依頼書!X44,\"\")","v":""},"","","",{"$f":"IF(旅費振替依頼書!Y44<>\"\",旅費振替依頼書!Y44,\"\")","v":""},"","","","",{"$f":"IF(O42<>\"\",IF(AND(O42=0,旅費振替依頼書!$H$3=M42&\"月\"),\"当月\",IF(OR(O42=1,O42=89),\"次月\",\"次月以降\")),\"\")","v":""},{"$f":"IF($P42=\"当月\",COUNTIF($P$5:$P42,\"当月\"),\"\")","v":""},{"$f":"IF($P42=\"次月\",COUNTIF($P$5:$P42,\"次月\"),\"\")","v":""},{"$f":"IF($P42=\"次月以降\",COUNTIF($P$5:$P42,\"次月以降\"),\"\")","v":""}]
[39,"","",{"$f":"IF(旅費振替依頼書!C45<>\"\",\"NS-\"&旅費振替依頼書!C45,\"\")","v":""},{"$f":"IF(旅費振替依頼書!L45<>\"\",旅費振替依頼書!L45,\"\")","v":""},{"$f":"IF(旅費振替依頼書!E45<>\"\",旅費振替依頼書!E45&\" \"&旅費振替依頼書!X45&\"-\"&旅費振替依頼書!Y45&\" \"&旅費振替依頼書!V45&\" \"&旅費振替依頼書!I45,\"\")","v":""},{"$f":"IF(旅費振替依頼書!X45<>\"\",旅費振替依頼書!X45,\"\")","v":""},"","","",{"$f":"IF(旅費振替依頼書!Y45<>\"\",旅費振替依頼書!Y45,\"\")","v":""},"","","","",{"$f":"IF(O43<>\"\",IF(AND(O43=0,旅費振替依頼書!$H$3=M43&\"月\"),\"当月\",IF(OR(O43=1,O43=89),\"次月\",\"次月以降\")),\"\")","v":""},{"$f":"IF($P43=\"当月\",COUNTIF($P$5:$P43,\"当月\"),\"\")","v":""},{"$f":"IF($P43=\"次月\",COUNTIF($P$5:$P43,\"次月\"),\"\")","v":""},{"$f":"IF($P43=\"次月以降\",COUNTIF($P$5:$P43,\"次月以降\"),\"\")","v":""}]
[40,"","",{"$f":"IF(旅費振替依頼書!C46<>\"\",\"NS-\"&旅費振替依頼書!C46,\"\")","v":""},{"$f":"IF(旅費振替依頼書!L46<>\"\",旅費振替依頼書!L46,\"\")","v":""},{"$f":"IF(旅費振替依頼書!E46<>\"\",旅費振替依頼書!E46&\" \"&旅費振替依頼書!X46&\"-\"&旅費振替依頼書!Y46&\" \"&旅費振替依頼書!V46&\" \"&旅費振替依頼書!I46,\"\")","v":""},{"$f":"IF(旅費振替依頼書!X46<>\"\",旅費振替依頼書!X46,\"\")","v":""},"","","",{"$f":"IF(旅費振替依頼書!Y46<>\"\",旅費振替依頼書!Y46,\"\")","v":""},"","","","",{"$f":"IF(O44<>\"\",IF(AND(O44=0,旅費振替依頼書!$H$3=M44&\"月\"),\"当月\",IF(OR(O44=1,O44=89),\"次月\",\"次月以降\")),\"\")","v":""},{"$f":"IF($P44=\"当月\",COUNTIF($P$5:$P44,\"当月\"),\"\")","v":""},{"$f":"IF($P44=\"次月\",COUNTIF($P$5:$P44,\"次月\"),\"\")","v":""},{"$f":"IF($P44=\"次月以降\",COUNTIF($P$5:$P44,\"次月以降\"),\"\")","v":""}]
[41,"","",{"$f":"IF(旅費振替依頼書!C47<>\"\",\"NS-\"&旅費振替依頼書!C47,\"\")","v":""},{"$f":"IF(旅費振替依頼書!L47<>\"\",旅費振替依頼書!L47,\"\")","v":""},{"$f":"IF(旅費振替依頼書!E47<>\"\",旅費振替依頼書!E47&\" \"&旅費振替依頼書!X47&\"-\"&旅費振替依頼書!Y47&\" \"&旅費振替依頼書!V47&\" \"&旅費振替依頼書!I47,\"\")","v":""},{"$f":"IF(旅費振替依頼書!X47<>\"\",旅費振替依頼書!X47,\"\")","v":""},"","","",{"$f":"IF(旅費振替依頼書!Y47<>\"\",旅費振替依頼書!Y47,\"\")","v":""},"","","","",{"$f":"IF(O45<>\"\",IF(AND(O45=0,旅費振替依頼書!$H$3=M45&\"月\"),\"当月\",IF(OR(O45=1,O45=89),\"次月\",\"次月以降\")),\"\")","v":""},{"$f":"IF($P45=\"当月\",COUNTIF($P$5:$P45,\"当月\"),\"\")","v":""},{"$f":"IF($P45=\"次月\",COUNTIF($P$5:$P45,\"次月\"),\"\")","v":""},{"$f":"IF($P45=\"次月以降\",COUNTIF($P$5:$P45,\"次月以降\"),\"\")","v":""}]
[42,"","",{"$f":"IF(旅費振替依頼書!C48<>\"\",\"NS-\"&旅費振替依頼書!C48,\"\")","v":""},{"$f":"IF(旅費振替依頼書!L48<>\"\",旅費振替依頼書!L48,\"\")","v":""},{"$f":"IF(旅費振替依頼書!E48<>\"\",旅費振替依頼書!E48&\" \"&旅費振替依頼書!X48&\"-\"&旅費振替依頼書!Y48&\" \"&旅費振替依頼書!V48&\" \"&旅費振替依頼書!I48,\"\")","v":""},{"$f":"IF(旅費振替依頼書!X48<>\"\",旅費振替依頼書!X48,\"\")","v":""},"","","",{"$f":"IF(旅費振替依頼書!Y48<>\"\",旅費振替依頼書!Y48,\"\")","v":""},"","","","",{"$f":"IF(O46<>\"\",IF(AND(O46=0,旅費振替依頼書!$H$3=M46&\"月\"),\"当月\",IF(OR(O46=1,O46=89),\"次月\",\"次月以降\")),\"\")","v":""},{"$f":"IF($P46=\"当月\",COUNTIF($P$5:$P46,\"当月\"),\"\")","v":""},{"$f":"IF($P46=\"次月\",COUNTIF($P$5:$P46,\"次月\"),\"\")","v":""},{"$f":"IF($P46=\"次月以降\",COUNTIF($P$5:$P46,\"次月以降\"),\"\")","v":""}]
[43,"","",{"$f":"IF(旅費振替依頼書!C49<>\"\",\"NS-\"&旅費振替依頼書!C49,\"\")","v":""},{"$f":"IF(旅費振替依頼書!L49<>\"\",旅費振替依頼書!L49,\"\")","v":""},{"$f":"IF(旅費振替依頼書!E49<>\"\",旅費振替依頼書!E49&\" \"&旅費振替依頼書!X49&\"-\"&旅費振替依頼書!Y49&\" \"&旅費振替依頼書!V49&\" \"&旅費振替依頼書!I49,\"\")","v":""},{"$f":"IF(旅費振替依頼書!X49<>\"\",旅費振替依頼書!X49,\"\")","v":""},"","","",{"$f":"IF(旅費振替依頼書!Y49<>\"\",旅費振替依頼書!Y49,\"\")","v":""},"","","","",{"$f":"IF(O47<>\"\",IF(AND(O47=0,旅費振替依頼書!$H$3=M47&\"月\"),\"当月\",IF(OR(O47=1,O47=89),\"次月\",\"次月以降\")),\"\")","v":""},{"$f":"IF($P47=\"当月\",COUNTIF($P$5:$P47,\"当月\"),\"\")","v":""},{"$f":"IF($P47=\"次月\",COUNTIF($P$5:$P47,\"次月\"),\"\")","v":""},{"$f":"IF($P47=\"次月以降\",COUNTIF($P$5:$P47,\"次月以降\"),\"\")","v":""}]
[44,"","",{"$f":"IF(旅費振替依頼書!C50<>\"\",\"NS-\"&旅費振替依頼書!C50,\"\")","v":""},{"$f":"IF(旅費振替依頼書!L50<>\"\",旅費振替依頼書!L50,\"\")","v":""},{"$f":"IF(旅費振替依頼書!E50<>\"\",旅費振替依頼書!E50&\" \"&旅費振替依頼書!X50&\"-\"&旅費振替依頼書!Y50&\" \"&旅費振替依頼書!V50&\" \"&旅費振替依頼書!I50,\"\")","v":""},{"$f":"IF(旅費振替依頼書!X50<>\"\",旅費振替依頼書!X50,\"\")","v":""},"","","",{"$f":"IF(旅費振替依頼書!Y50<>\"\",旅費振替依頼書!Y50,\"\")","v":""},"","","","",{"$f":"IF(O48<>\"\",IF(AND(O48=0,旅費振替依頼書!$H$3=M48&\"月\"),\"当月\",IF(OR(O48=1,O48=89),\"次月\",\"次月以降\")),\"\")","v":""},{"$f":"IF($P48=\"当月\",COUNTIF($P$5:$P48,\"当月\"),\"\")","v":""},{"$f":"IF($P48=\"次月\",COUNTIF($P$5:$P48,\"次月\"),\"\")","v":""},{"$f":"IF($P48=\"次月以降\",COUNTIF($P$5:$P48,\"次月以降\"),\"\")","v":""}]
[45,"","",{"$f":"IF(旅費振替依頼書!C51<>\"\",\"NS-\"&旅費振替依頼書!C51,\"\")","v":""},{"$f":"IF(旅費振替依頼書!L51<>\"\",旅費振替依頼書!L51,\"\")","v":""},{"$f":"IF(旅費振替依頼書!E51<>\"\",旅費振替依頼書!E51&\" \"&旅費振替依頼書!X51&\"-\"&旅費振替依頼書!Y51&\" \"&旅費振替依頼書!V51&\" \"&旅費振替依頼書!I51,\"\")","v":""},{"$f":"IF(旅費振替依頼書!X51<>\"\",旅費振替依頼書!X51,\"\")","v":""},"","","",{"$f":"IF(旅費振替依頼書!Y51<>\"\",旅費振替依頼書!Y51,\"\")","v":""},"","","","",{"$f":"IF(O49<>\"\",IF(AND(O49=0,旅費振替依頼書!$H$3=M49&\"月\"),\"当月\",IF(OR(O49=1,O49=89),\"次月\",\"次月以降\")),\"\")","v":""},{"$f":"IF($P49=\"当月\",COUNTIF($P$5:$P49,\"当月\"),\"\")","v":""},{"$f":"IF($P49=\"次月\",COUNTIF($P$5:$P49,\"次月\"),\"\")","v":""},{"$f":"IF($P49=\"次月以降\",COUNTIF($P$5:$P49,\"次月以降\"),\"\")","v":""}]
[46,"","",{"$f":"IF(旅費振替依頼書!C52<>\"\",\"NS-\"&旅費振替依頼書!C52,\"\")","v":""},{"$f":"IF(旅費振替依頼書!L52<>\"\",旅費振替依頼書!L52,\"\")","v":""},{"$f":"IF(旅費振替依頼書!E52<>\"\",旅費振替依頼書!E52&\" \"&旅費振替依頼書!X52&\"-\"&旅費振替依頼書!Y52&\" \"&旅費振替依頼書!V52&\" \"&旅費振替依頼書!I52,\"\")","v":""},{"$f":"IF(旅費振替依頼書!X52<>\"\",旅費振替依頼書!X52,\"\")","v":""},"","","",{"$f":"IF(旅費振替依頼書!Y52<>\"\",旅費振替依頼書!Y52,\"\")","v":""},"","","","",{"$f":"IF(O50<>\"\",IF(AND(O50=0,旅費振替依頼書!$H$3=M50&\"月\"),\"当月\",IF(OR(O50=1,O50=89),\"次月\",\"次月以降\")),\"\")","v":""},{"$f":"IF($P50=\"当月\",COUNTIF($P$5:$P50,\"当月\"),\"\")","v":""},{"$f":"IF($P50=\"次月\",COUNTIF($P$5:$P50,\"次月\"),\"\")","v":""},{"$f":"IF($P50=\"次月以降\",COUNTIF($P$5:$P50,\"次月以降\"),\"\")","v":""}]
[47,"","",{"$f":"IF(旅費振替依頼書!C53<>\"\",\"NS-\"&旅費振替依頼書!C53,\"\")","v":""},{"$f":"IF(旅費振替依頼書!L53<>\"\",旅費振替依頼書!L53,\"\")","v":""},{"$f":"IF(旅費振替依頼書!E53<>\"\",旅費振替依頼書!E53&\" \"&旅費振替依頼書!X53&\"-\"&旅費振替依頼書!Y53&\" \"&旅費振替依頼書!V53&\" \"&旅費振替依頼書!I53,\"\")","v":""},{"$f":"IF(旅費振替依頼書!X53<>\"\",旅費振替依頼書!X53,\"\")","v":""},"","","",{"$f":"IF(旅費振替依頼書!Y53<>\"\",旅費振替依頼書!Y53,\"\")","v":""},"","","","",{"$f":"IF(O51<>\"\",IF(AND(O51=0,旅費振替依頼書!$H$3=M51&\"月\"),\"当月\",IF(OR(O51=1,O51=89),\"次月\",\"次月以降\")),\"\")","v":""},{"$f":"IF($P51=\"当月\",COUNTIF($P$5:$P51,\"当月\"),\"\")","v":""},{"$f":"IF($P51=\"次月\",COUNTIF($P$5:$P51,\"次月\"),\"\")","v":""},{"$f":"IF($P51=\"次月以降\",COUNTIF($P$5:$P51,\"次月以降\"),\"\")","v":""}]
[48,"","",{"$f":"IF(旅費振替依頼書!C54<>\"\",\"NS-\"&旅費振替依頼書!C54,\"\")","v":""},{"$f":"IF(旅費振替依頼書!L54<>\"\",旅費振替依頼書!L54,\"\")","v":""},{"$f":"IF(旅費振替依頼書!E54<>\"\",旅費振替依頼書!E54&\" \"&旅費振替依頼書!X54&\"-\"&旅費振替依頼書!Y54&\" \"&旅費振替依頼書!V54&\" \"&旅費振替依頼書!I54,\"\")","v":""},{"$f":"IF(旅費振替依頼書!X54<>\"\",旅費振替依頼書!X54,\"\")","v":""},"","","",{"$f":"IF(旅費振替依頼書!Y54<>\"\",旅費振替依頼書!Y54,\"\")","v":""},"","","","",{"$f":"IF(O52<>\"\",IF(AND(O52=0,旅費振替依頼書!$H$3=M52&\"月\"),\"当月\",IF(OR(O52=1,O52=89),\"次月\",\"次月以降\")),\"\")","v":""},{"$f":"IF($P52=\"当月\",COUNTIF($P$5:$P52,\"当月\"),\"\")","v":""},{"$f":"IF($P52=\"次月\",COUNTIF($P$5:$P52,\"次月\"),\"\")","v":""},{"$f":"IF($P52=\"次月以降\",COUNTIF($P$5:$P52,\"次月以降\"),\"\")","v":""}]
[49,"","",{"$f":"IF(旅費振替依頼書!C55<>\"\",\"NS-\"&旅費振替依頼書!C55,\"\")","v":""},{"$f":"IF(旅費振替依頼書!L55<>\"\",旅費振替依頼書!L55,\"\")","v":""},{"$f":"IF(旅費振替依頼書!E55<>\"\",旅費振替依頼書!E55&\" \"&旅費振替依頼書!X55&\"-\"&旅費振替依頼書!Y55&\" \"&旅費振替依頼書!V55&\" \"&旅費振替依頼書!I55,\"\")","v":""},{"$f":"IF(旅費振替依頼書!X55<>\"\",旅費振替依頼書!X55,\"\")","v":""},"","","",{"$f":"IF(旅費振替依頼書!Y55<>\"\",旅費振替依頼書!Y55,\"\")","v":""},"","","","",{"$f":"IF(O53<>\"\",IF(AND(O53=0,旅費振替依頼書!$H$3=M53&\"月\"),\"当月\",IF(OR(O53=1,O53=89),\"次月\",\"次月以降\")),\"\")","v":""},{"$f":"IF($P53=\"当月\",COUNTIF($P$5:$P53,\"当月\"),\"\")","v":""},{"$f":"IF($P53=\"次月\",COUNTIF($P$5:$P53,\"次月\"),\"\")","v":""},{"$f":"IF($P53=\"次月以降\",COUNTIF($P$5:$P53,\"次月以降\"),\"\")","v":""}]
[50,"","",{"$f":"IF(旅費振替依頼書!C56<>\"\",\"NS-\"&旅費振替依頼書!C56,\"\")","v":""},{"$f":"IF(旅費振替依頼書!L56<>\"\",旅費振替依頼書!L56,\"\")","v":""},{"$f":"IF(旅費振替依頼書!E56<>\"\",旅費振替依頼書!E56&\" \"&旅費振替依頼書!X56&\"-\"&旅費振替依頼書!Y56&\" \"&旅費振替依頼書!V56&\" \"&旅費振替依頼書!I56,\"\")","v":""},{"$f":"IF(旅費振替依頼書!X56<>\"\",旅費振替依頼書!X56,\"\")","v":""},"","","",{"$f":"IF(旅費振替依頼書!Y56<>\"\",旅費振替依頼書!Y56,\"\")","v":""},"","","","",{"$f":"IF(O54<>\"\",IF(AND(O54=0,旅費振替依頼書!$H$3=M54&\"月\"),\"当月\",IF(OR(O54=1,O54=89),\"次月\",\"次月以降\")),\"\")","v":""},{"$f":"IF($P54=\"当月\",COUNTIF($P$5:$P54,\"当月\"),\"\")","v":""},{"$f":"IF($P54=\"次月\",COUNTIF($P$5:$P54,\"次月\"),\"\")","v":""},{"$f":"IF($P54=\"次月以降\",COUNTIF($P$5:$P54,\"次月以降\"),\"\")","v":""}]
[51,"","",{"$f":"IF(旅費振替依頼書!C57<>\"\",\"NS-\"&旅費振替依頼書!C57,\"\")","v":""},{"$f":"IF(旅費振替依頼書!L57<>\"\",旅費振替依頼書!L57,\"\")","v":""},{"$f":"IF(旅費振替依頼書!E57<>\"\",旅費振替依頼書!E57&\" \"&旅費振替依頼書!X57&\"-\"&旅費振替依頼書!Y57&\" \"&旅費振替依頼書!V57&\" \"&旅費振替依頼書!I57,\"\")","v":""},{"$f":"IF(旅費振替依頼書!X57<>\"\",旅費振替依頼書!X57,\"\")","v":""},"","","",{"$f":"IF(旅費振替依頼書!Y57<>\"\",旅費振替依頼書!Y57,\"\")","v":""},"","","","",{"$f":"IF(O55<>\"\",IF(AND(O55=0,旅費振替依頼書!$H$3=M55&\"月\"),\"当月\",IF(OR(O55=1,O55=89),\"次月\",\"次月以降\")),\"\")","v":""},{"$f":"IF($P55=\"当月\",COUNTIF($P$5:$P55,\"当月\"),\"\")","v":""},{"$f":"IF($P55=\"次月\",COUNTIF($P$5:$P55,\"次月\"),\"\")","v":""},{"$f":"IF($P55=\"次月以降\",COUNTIF($P$5:$P55,\"次月以降\"),\"\")","v":""}]
[52,"","",{"$f":"IF(旅費振替依頼書!C58<>\"\",\"NS-\"&旅費振替依頼書!C58,\"\")","v":""},{"$f":"IF(旅費振替依頼書!L58<>\"\",旅費振替依頼書!L58,\"\")","v":""},{"$f":"IF(旅費振替依頼書!E58<>\"\",旅費振替依頼書!E58&\" \"&旅費振替依頼書!X58&\"-\"&旅費振替依頼書!Y58&\" \"&旅費振替依頼書!V58&\" \"&旅費振替依頼書!I58,\"\")","v":""},{"$f":"IF(旅費振替依頼書!X58<>\"\",旅費振替依頼書!X58,\"\")","v":""},"","","",{"$f":"IF(旅費振替依頼書!Y58<>\"\",旅費振替依頼書!Y58,\"\")","v":""},"","","","",{"$f":"IF(O56<>\"\",IF(AND(O56=0,旅費振替依頼書!$H$3=M56&\"月\"),\"当月\",IF(OR(O56=1,O56=89),\"次月\",\"次月以降\")),\"\")","v":""},{"$f":"IF($P56=\"当月\",COUNTIF($P$5:$P56,\"当月\"),\"\")","v":""},{"$f":"IF($P56=\"次月\",COUNTIF($P$5:$P56,\"次月\"),\"\")","v":""},{"$f":"IF($P56=\"次月以降\",COUNTIF($P$5:$P56,\"次月以降\"),\"\")","v":""}]
[53,"","",{"$f":"IF(旅費振替依頼書!C59<>\"\",\"NS-\"&旅費振替依頼書!C59,\"\")","v":""},{"$f":"IF(旅費振替依頼書!L59<>\"\",旅費振替依頼書!L59,\"\")","v":""},{"$f":"IF(旅費振替依頼書!E59<>\"\",旅費振替依頼書!E59&\" \"&旅費振替依頼書!X59&\"-\"&旅費振替依頼書!Y59&\" \"&旅費振替依頼書!V59&\" \"&旅費振替依頼書!I59,\"\")","v":""},{"$f":"IF(旅費振替依頼書!X59<>\"\",旅費振替依頼書!X59,\"\")","v":""},"","","",{"$f":"IF(旅費振替依頼書!Y59<>\"\",旅費振替依頼書!Y59,\"\")","v":""},"","","","",{"$f":"IF(O57<>\"\",IF(AND(O57=0,旅費振替依頼書!$H$3=M57&\"月\"),\"当月\",IF(OR(O57=1,O57=89),\"次月\",\"次月以降\")),\"\")","v":""},{"$f":"IF($P57=\"当月\",COUNTIF($P$5:$P57,\"当月\"),\"\")","v":""},{"$f":"IF($P57=\"次月\",COUNTIF($P$5:$P57,\"次月\"),\"\")","v":""},{"$f":"IF($P57=\"次月以降\",COUNTIF($P$5:$P57,\"次月以降\"),\"\")","v":""}]
[54,"","",{"$f":"IF(旅費振替依頼書!C60<>\"\",\"NS-\"&旅費振替依頼書!C60,\"\")","v":""},{"$f":"IF(旅費振替依頼書!L60<>\"\",旅費振替依頼書!L60,\"\")","v":""},{"$f":"IF(旅費振替依頼書!E60<>\"\",旅費振替依頼書!E60&\" \"&旅費振替依頼書!X60&\"-\"&旅費振替依頼書!Y60&\" \"&旅費振替依頼書!V60&\" \"&旅費振替依頼書!I60,\"\")","v":""},{"$f":"IF(旅費振替依頼書!X60<>\"\",旅費振替依頼書!X60,\"\")","v":""},"","","",{"$f":"IF(旅費振替依頼書!Y60<>\"\",旅費振替依頼書!Y60,\"\")","v":""},"","","","",{"$f":"IF(O58<>\"\",IF(AND(O58=0,旅費振替依頼書!$H$3=M58&\"月\"),\"当月\",IF(OR(O58=1,O58=89),\"次月\",\"次月以降\")),\"\")","v":""},{"$f":"IF($P58=\"当月\",COUNTIF($P$5:$P58,\"当月\"),\"\")","v":""},{"$f":"IF($P58=\"次月\",COUNTIF($P$5:$P58,\"次月\"),\"\")","v":""},{"$f":"IF($P58=\"次月以降\",COUNTIF($P$5:$P58,\"次月以降\"),\"\")","v":""}]
[55,"","",{"$f":"IF(旅費振替依頼書!C61<>\"\",\"NS-\"&旅費振替依頼書!C61,\"\")","v":""},{"$f":"IF(旅費振替依頼書!L61<>\"\",旅費振替依頼書!L61,\"\")","v":""},{"$f":"IF(旅費振替依頼書!E61<>\"\",旅費振替依頼書!E61&\" \"&旅費振替依頼書!X61&\"-\"&旅費振替依頼書!Y61&\" \"&旅費振替依頼書!V61&\" \"&旅費振替依頼書!I61,\"\")","v":""},{"$f":"IF(旅費振替依頼書!X61<>\"\",旅費振替依頼書!X61,\"\")","v":""},"","","",{"$f":"IF(旅費振替依頼書!Y61<>\"\",旅費振替依頼書!Y61,\"\")","v":""},"","","","",{"$f":"IF(O59<>\"\",IF(AND(O59=0,旅費振替依頼書!$H$3=M59&\"月\"),\"当月\",IF(OR(O59=1,O59=89),\"次月\",\"次月以降\")),\"\")","v":""},{"$f":"IF($P59=\"当月\",COUNTIF($P$5:$P59,\"当月\"),\"\")","v":""},{"$f":"IF($P59=\"次月\",COUNTIF($P$5:$P59,\"次月\"),\"\")","v":""},{"$f":"IF($P59=\"次月以降\",COUNTIF($P$5:$P59,\"次月以降\"),\"\")","v":""}]
[56,"","",{"$f":"IF(旅費振替依頼書!C62<>\"\",\"NS-\"&旅費振替依頼書!C62,\"\")","v":""},{"$f":"IF(旅費振替依頼書!L62<>\"\",旅費振替依頼書!L62,\"\")","v":""},{"$f":"IF(旅費振替依頼書!E62<>\"\",旅費振替依頼書!E62&\" \"&旅費振替依頼書!X62&\"-\"&旅費振替依頼書!Y62&\" \"&旅費振替依頼書!V62&\" \"&旅費振替依頼書!I62,\"\")","v":""},{"$f":"IF(旅費振替依頼書!X62<>\"\",旅費振替依頼書!X62,\"\")","v":""},"","","",{"$f":"IF(旅費振替依頼書!Y62<>\"\",旅費振替依頼書!Y62,\"\")","v":""},"","","","",{"$f":"IF(O60<>\"\",IF(AND(O60=0,旅費振替依頼書!$H$3=M60&\"月\"),\"当月\",IF(OR(O60=1,O60=89),\"次月\",\"次月以降\")),\"\")","v":""},{"$f":"IF($P60=\"当月\",COUNTIF($P$5:$P60,\"当月\"),\"\")","v":""},{"$f":"IF($P60=\"次月\",COUNTIF($P$5:$P60,\"次月\"),\"\")","v":""},{"$f":"IF($P60=\"次月以降\",COUNTIF($P$5:$P60,\"次月以降\"),\"\")","v":""}]
[57,"","",{"$f":"IF(旅費振替依頼書!C63<>\"\",\"NS-\"&旅費振替依頼書!C63,\"\")","v":""},{"$f":"IF(旅費振替依頼書!L63<>\"\",旅費振替依頼書!L63,\"\")","v":""},{"$f":"IF(旅費振替依頼書!E63<>\"\",旅費振替依頼書!E63&\" \"&旅費振替依頼書!X63&\"-\"&旅費振替依頼書!Y63&\" \"&旅費振替依頼書!V63&\" \"&旅費振替依頼書!I63,\"\")","v":""},{"$f":"IF(旅費振替依頼書!X63<>\"\",旅費振替依頼書!X63,\"\")","v":""},"","","",{"$f":"IF(旅費振替依頼書!Y63<>\"\",旅費振替依頼書!Y63,\"\")","v":""},"","","","",{"$f":"IF(O61<>\"\",IF(AND(O61=0,旅費振替依頼書!$H$3=M61&\"月\"),\"当月\",IF(OR(O61=1,O61=89),\"次月\",\"次月以降\")),\"\")","v":""},{"$f":"IF($P61=\"当月\",COUNTIF($P$5:$P61,\"当月\"),\"\")","v":""},{"$f":"IF($P61=\"次月\",COUNTIF($P$5:$P61,\"次月\"),\"\")","v":""},{"$f":"IF($P61=\"次月以降\",COUNTIF($P$5:$P61,\"次月以降\"),\"\")","v":""}]
[58,"","",{"$f":"IF(旅費振替依頼書!C64<>\"\",\"NS-\"&旅費振替依頼書!C64,\"\")","v":""},{"$f":"IF(旅費振替依頼書!L64<>\"\",旅費振替依頼書!L64,\"\")","v":""},{"$f":"IF(旅費振替依頼書!E64<>\"\",旅費振替依頼書!E64&\" \"&旅費振替依頼書!X64&\"-\"&旅費振替依頼書!Y64&\" \"&旅費振替依頼書!V64&\" \"&旅費振替依頼書!I64,\"\")","v":""},{"$f":"IF(旅費振替依頼書!X64<>\"\",旅費振替依頼書!X64,\"\")","v":""},"","","",{"$f":"IF(旅費振替依頼書!Y64<>\"\",旅費振替依頼書!Y64,\"\")","v":""},"","","","",{"$f":"IF(O62<>\"\",IF(AND(O62=0,旅費振替依頼書!$H$3=M62&\"月\"),\"当月\",IF(OR(O62=1,O62=89),\"次月\",\"次月以降\")),\"\")","v":""},{"$f":"IF($P62=\"当月\",COUNTIF($P$5:$P62,\"当月\"),\"\")","v":""},{"$f":"IF($P62=\"次月\",COUNTIF($P$5:$P62,\"次月\"),\"\")","v":""},{"$f":"IF($P62=\"次月以降\",COUNTIF($P$5:$P62,\"次月以降\"),\"\")","v":""}]
[59,"","",{"$f":"IF(旅費振替依頼書!C65<>\"\",\"NS-\"&旅費振替依頼書!C65,\"\")","v":""},{"$f":"IF(旅費振替依頼書!L65<>\"\",旅費振替依頼書!L65,\"\")","v":""},{"$f":"IF(旅費振替依頼書!E65<>\"\",旅費振替依頼書!E65&\" \"&旅費振替依頼書!X65&\"-\"&旅費振替依頼書!Y65&\" \"&旅費振替依頼書!V65&\" \"&旅費振替依頼書!I65,\"\")","v":""},{"$f":"IF(旅費振替依頼書!X65<>\"\",旅費振替依頼書!X65,\"\")","v":""},"","","",{"$f":"IF(旅費振替依頼書!Y65<>\"\",旅費振替依頼書!Y65,\"\")","v":""},"","","","",{"$f":"IF(O63<>\"\",IF(AND(O63=0,旅費振替依頼書!$H$3=M63&\"月\"),\"当月\",IF(OR(O63=1,O63=89),\"次月\",\"次月以降\")),\"\")","v":""},{"$f":"IF($P63=\"当月\",COUNTIF($P$5:$P63,\"当月\"),\"\")","v":""},{"$f":"IF($P63=\"次月\",COUNTIF($P$5:$P63,\"次月\"),\"\")","v":""},{"$f":"IF($P63=\"次月以降\",COUNTIF($P$5:$P63,\"次月以降\"),\"\")","v":""}]
[60,"","",{"$f":"IF(旅費振替依頼書!C66<>\"\",\"NS-\"&旅費振替依頼書!C66,\"\")","v":""},{"$f":"IF(旅費振替依頼書!L66<>\"\",旅費振替依頼書!L66,\"\")","v":""},{"$f":"IF(旅費振替依頼書!E66<>\"\",旅費振替依頼書!E66&\" \"&旅費振替依頼書!X66&\"-\"&旅費振替依頼書!Y66&\" \"&旅費振替依頼書!V66&\" \"&旅費振替依頼書!I66,\"\")","v":""},{"$f":"IF(旅費振替依頼書!X66<>\"\",旅費振替依頼書!X66,\"\")","v":""},"","","",{"$f":"IF(旅費振替依頼書!Y66<>\"\",旅費振替依頼書!Y66,\"\")","v":""},"","","","",{"$f":"IF(O64<>\"\",IF(AND(O64=0,旅費振替依頼書!$H$3=M64&\"月\"),\"当月\",IF(OR(O64=1,O64=89),\"次月\",\"次月以降\")),\"\")","v":""},{"$f":"IF($P64=\"当月\",COUNTIF($P$5:$P64,\"当月\"),\"\")","v":""},{"$f":"IF($P64=\"次月\",COUNTIF($P$5:$P64,\"次月\"),\"\")","v":""},{"$f":"IF($P64=\"次月以降\",COUNTIF($P$5:$P64,\"次月以降\"),\"\")","v":""}]
[61,"","",{"$f":"IF(旅費振替依頼書!C67<>\"\",\"NS-\"&旅費振替依頼書!C67,\"\")","v":""},{"$f":"IF(旅費振替依頼書!L67<>\"\",旅費振替依頼書!L67,\"\")","v":""},{"$f":"IF(旅費振替依頼書!E67<>\"\",旅費振替依頼書!E67&\" \"&旅費振替依頼書!X67&\"-\"&旅費振替依頼書!Y67&\" \"&旅費振替依頼書!V67&\" \"&旅費振替依頼書!I67,\"\")","v":""},{"$f":"IF(旅費振替依頼書!X67<>\"\",旅費振替依頼書!X67,\"\")","v":""},"","","",{"$f":"IF(旅費振替依頼書!Y67<>\"\",旅費振替依頼書!Y67,\"\")","v":""},"","","","",{"$f":"IF(O65<>\"\",IF(AND(O65=0,旅費振替依頼書!$H$3=M65&\"月\"),\"当月\",IF(OR(O65=1,O65=89),\"次月\",\"次月以降\")),\"\")","v":""},{"$f":"IF($P65=\"当月\",COUNTIF($P$5:$P65,\"当月\"),\"\")","v":""},{"$f":"IF($P65=\"次月\",COUNTIF($P$5:$P65,\"次月\"),\"\")","v":""},{"$f":"IF($P65=\"次月以降\",COUNTIF($P$5:$P65,\"次月以降\"),\"\")","v":""}]
[62,"","",{"$f":"IF(旅費振替依頼書!C68<>\"\",\"NS-\"&旅費振替依頼書!C68,\"\")","v":""},{"$f":"IF(旅費振替依頼書!L68<>\"\",旅費振替依頼書!L68,\"\")","v":""},{"$f":"IF(旅費振替依頼書!E68<>\"\",旅費振替依頼書!E68&\" \"&旅費振替依頼書!X68&\"-\"&旅費振替依頼書!Y68&\" \"&旅費振替依頼書!V68&\" \"&旅費振替依頼書!I68,\"\")","v":""},{"$f":"IF(旅費振替依頼書!X68<>\"\",旅費振替依頼書!X68,\"\")","v":""},"","","",{"$f":"IF(旅費振替依頼書!Y68<>\"\",旅費振替依頼書!Y68,\"\")","v":""},"","","","",{"$f":"IF(O66<>\"\",IF(AND(O66=0,旅費振替依頼書!$H$3=M66&\"月\"),\"当月\",IF(OR(O66=1,O66=89),\"次月\",\"次月以降\")),\"\")","v":""},{"$f":"IF($P66=\"当月\",COUNTIF($P$5:$P66,\"当月\"),\"\")","v":""},{"$f":"IF($P66=\"次月\",COUNTIF($P$5:$P66,\"次月\"),\"\")","v":""},{"$f":"IF($P66=\"次月以降\",COUNTIF($P$5:$P66,\"次月以降\"),\"\")","v":""}]
[63,"","",{"$f":"IF(旅費振替依頼書!C69<>\"\",\"NS-\"&旅費振替依頼書!C69,\"\")","v":""},{"$f":"IF(旅費振替依頼書!L69<>\"\",旅費振替依頼書!L69,\"\")","v":""},{"$f":"IF(旅費振替依頼書!E69<>\"\",旅費振替依頼書!E69&\" \"&旅費振替依頼書!X69&\"-\"&旅費振替依頼書!Y69&\" \"&旅費振替依頼書!V69&\" \"&旅費振替依頼書!I69,\"\")","v":""},{"$f":"IF(旅費振替依頼書!X69<>\"\",旅費振替依頼書!X69,\"\")","v":""},"","","",{"$f":"IF(旅費振替依頼書!Y69<>\"\",旅費振替依頼書!Y69,\"\")","v":""},"","","","",{"$f":"IF(O67<>\"\",IF(AND(O67=0,旅費振替依頼書!$H$3=M67&\"月\"),\"当月\",IF(OR(O67=1,O67=89),\"次月\",\"次月以降\")),\"\")","v":""},{"$f":"IF($P67=\"当月\",COUNTIF($P$5:$P67,\"当月\"),\"\")","v":""},{"$f":"IF($P67=\"次月\",COUNTIF($P$5:$P67,\"次月\"),\"\")","v":""},{"$f":"IF($P67=\"次月以降\",COUNTIF($P$5:$P67,\"次月以降\"),\"\")","v":""}]
[64,"","",{"$f":"IF(旅費振替依頼書!C70<>\"\",\"NS-\"&旅費振替依頼書!C70,\"\")","v":""},{"$f":"IF(旅費振替依頼書!L70<>\"\",旅費振替依頼書!L70,\"\")","v":""},{"$f":"IF(旅費振替依頼書!E70<>\"\",旅費振替依頼書!E70&\" \"&旅費振替依頼書!X70&\"-\"&旅費振替依頼書!Y70&\" \"&旅費振替依頼書!V70&\" \"&旅費振替依頼書!I70,\"\")","v":""},{"$f":"IF(旅費振替依頼書!X70<>\"\",旅費振替依頼書!X70,\"\")","v":""},"","","",{"$f":"IF(旅費振替依頼書!Y70<>\"\",旅費振替依頼書!Y70,\"\")","v":""},"","","","",{"$f":"IF(O68<>\"\",IF(AND(O68=0,旅費振替依頼書!$H$3=M68&\"月\"),\"当月\",IF(OR(O68=1,O68=89),\"次月\",\"次月以降\")),\"\")","v":""},{"$f":"IF($P68=\"当月\",COUNTIF($P$5:$P68,\"当月\"),\"\")","v":""},{"$f":"IF($P68=\"次月\",COUNTIF($P$5:$P68,\"次月\"),\"\")","v":""},{"$f":"IF($P68=\"次月以降\",COUNTIF($P$5:$P68,\"次月以降\"),\"\")","v":""}]
[65,"","",{"$f":"IF(旅費振替依頼書!C71<>\"\",\"NS-\"&旅費振替依頼書!C71,\"\")","v":""},{"$f":"IF(旅費振替依頼書!L71<>\"\",旅費振替依頼書!L71,\"\")","v":""},{"$f":"IF(旅費振替依頼書!E71<>\"\",旅費振替依頼書!E71&\" \"&旅費振替依頼書!X71&\"-\"&旅費振替依頼書!Y71&\" \"&旅費振替依頼書!V71&\" \"&旅費振替依頼書!I71,\"\")","v":""},{"$f":"IF(旅費振替依頼書!X71<>\"\",旅費振替依頼書!X71,\"\")","v":""},"","","",{"$f":"IF(旅費振替依頼書!Y71<>\"\",旅費振替依頼書!Y71,\"\")","v":""},"","","","",{"$f":"IF(O69<>\"\",IF(AND(O69=0,旅費振替依頼書!$H$3=M69&\"月\"),\"当月\",IF(OR(O69=1,O69=89),\"次月\",\"次月以降\")),\"\")","v":""},{"$f":"IF($P69=\"当月\",COUNTIF($P$5:$P69,\"当月\"),\"\")","v":""},{"$f":"IF($P69=\"次月\",COUNTIF($P$5:$P69,\"次月\"),\"\")","v":""},{"$f":"IF($P69=\"次月以降\",COUNTIF($P$5:$P69,\"次月以降\"),\"\")","v":""}]
[66,"",{"$f":"IF($P70<>\"\",IF($P70=\"当月\",\"\",IF($P70=\"来月\",TEXT(EOMONTH($G70,1),\"yyyy.mm.dd\"),TEXT(EOMONTH($K70,0),\"yyyy.mm.dd\"))),\"\")","v":""},{"$f":"IF(旅費振替依頼書!C72<>\"\",\"NS-\"&旅費振替依頼書!C72,\"\")","v":""},{"$f":"IF(旅費振替依頼書!L72<>\"\",旅費振替依頼書!L72,\"\")","v":""},{"$f":"IF(旅費振替依頼書!E72<>\"\",旅費振替依頼書!E72&\" \"&旅費振替依頼書!X72&\"-\"&旅費振替依頼書!Y72&\" \"&旅費振替依頼書!V72&\" \"&旅費振替依頼書!I72,\"\")","v":""},{"$f":"IF(旅費振替依頼書!X72<>\"\",旅費振替依頼書!X72,\"\")","v":""},"","","",{"$f":"IF(旅費振替依頼書!Y72<>\"\",旅費振替依頼書!Y72,\"\")","v":""},"","","","",{"$f":"IF(O70<>\"\",IF(AND(O70=0,旅費振替依頼書!$H$3=M70&\"月\"),\"当月\",IF(OR(O70=1,O70=89),\"次月\",\"次月以降\")),\"\")","v":""},{"$f":"IF($P70=\"当月\",COUNTIF($P$5:$P70,\"当月\"),\"\")","v":""},{"$f":"IF($P70=\"次月\",COUNTIF($P$5:$P70,\"次月\"),\"\")","v":""},{"$f":"IF($P70=\"次月以降\",COUNTIF($P$5:$P70,\"次月以降\"),\"\")","v":""}]
[67,"","",{"$f":"IF(旅費振替依頼書!C73<>\"\",\"NS-\"&旅費振替依頼書!C73,\"\")","v":""},{"$f":"IF(旅費振替依頼書!L73<>\"\",旅費振替依頼書!L73,\"\")","v":""},{"$f":"IF(旅費振替依頼書!E73<>\"\",旅費振替依頼書!E73&\" \"&旅費振替依頼書!X73&\"-\"&旅費振替依頼書!Y73&\" \"&旅費振替依頼書!V73&\" \"&旅費振替依頼書!I73,\"\")","v":""},{"$f":"IF(旅費振替依頼書!X73<>\"\",旅費振替依頼書!X73,\"\")","v":""},"","","",{"$f":"IF(旅費振替依頼書!Y73<>\"\",旅費振替依頼書!Y73,\"\")","v":""},"","","","",{"$f":"IF(O71<>\"\",IF(AND(O71=0,旅費振替依頼書!$H$3=M71&\"月\"),\"当月\",IF(OR(O71=1,O71=89),\"次月\",\"次月以降\")),\"\")","v":""},{"$f":"IF($P71=\"当月\",COUNTIF($P$5:$P71,\"当月\"),\"\")","v":""},{"$f":"IF($P71=\"次月\",COUNTIF($P$5:$P71,\"次月\"),\"\")","v":""},{"$f":"IF($P71=\"次月以降\",COUNTIF($P$5:$P71,\"次月以降\"),\"\")","v":""}]
[68,"","",{"$f":"IF(旅費振替依頼書!C74<>\"\",\"NS-\"&旅費振替依頼書!C74,\"\")","v":""},{"$f":"IF(旅費振替依頼書!L74<>\"\",旅費振替依頼書!L74,\"\")","v":""},{"$f":"IF(旅費振替依頼書!E74<>\"\",旅費振替依頼書!E74&\" \"&旅費振替依頼書!X74&\"-\"&旅費振替依頼書!Y74&\" \"&旅費振替依頼書!V74&\" \"&旅費振替依頼書!I74,\"\")","v":""},{"$f":"IF(旅費振替依頼書!X74<>\"\",旅費振替依頼書!X74,\"\")","v":""},"","","",{"$f":"IF(旅費振替依頼書!Y74<>\"\",旅費振替依頼書!Y74,\"\")","v":""},"","","","",{"$f":"IF(O72<>\"\",IF(AND(O72=0,旅費振替依頼書!$H$3=M72&\"月\"),\"当月\",IF(OR(O72=1,O72=89),\"次月\",\"次月以降\")),\"\")","v":""},{"$f":"IF($P72=\"当月\",COUNTIF($P$5:$P72,\"当月\"),\"\")","v":""},{"$f":"IF($P72=\"次月\",COUNTIF($P$5:$P72,\"次月\"),\"\")","v":""},{"$f":"IF($P72=\"次月以降\",COUNTIF($P$5:$P72,\"次月以降\"),\"\")","v":""}]
[69,"","",{"$f":"IF(旅費振替依頼書!C75<>\"\",\"NS-\"&旅費振替依頼書!C75,\"\")","v":""},{"$f":"IF(旅費振替依頼書!L75<>\"\",旅費振替依頼書!L75,\"\")","v":""},{"$f":"IF(旅費振替依頼書!E75<>\"\",旅費振替依頼書!E75&\" \"&旅費振替依頼書!X75&\"-\"&旅費振替依頼書!Y75&\" \"&旅費振替依頼書!V75&\" \"&旅費振替依頼書!I75,\"\")","v":""},{"$f":"IF(旅費振替依頼書!X75<>\"\",旅費振替依頼書!X75,\"\")","v":""},"","","",{"$f":"IF(旅費振替依頼書!Y75<>\"\",旅費振替依頼書!Y75,\"\")","v":""},"","","","",{"$f":"IF(O73<>\"\",IF(AND(O73=0,旅費振替依頼書!$H$3=M73&\"月\"),\"当月\",IF(OR(O73=1,O73=89),\"次月\",\"次月以降\")),\"\")","v":""},{"$f":"IF($P73=\"当月\",COUNTIF($P$5:$P73,\"当月\"),\"\")","v":""},{"$f":"IF($P73=\"次月\",COUNTIF($P$5:$P73,\"次月\"),\"\")","v":""},{"$f":"IF($P73=\"次月以降\",COUNTIF($P$5:$P73,\"次月以降\"),\"\")","v":""}]
[70,"","",{"$f":"IF(旅費振替依頼書!C76<>\"\",\"NS-\"&旅費振替依頼書!C76,\"\")","v":""},{"$f":"IF(旅費振替依頼書!L76<>\"\",旅費振替依頼書!L76,\"\")","v":""},{"$f":"IF(旅費振替依頼書!E76<>\"\",旅費振替依頼書!E76&\" \"&旅費振替依頼書!X76&\"-\"&旅費振替依頼書!Y76&\" \"&旅費振替依頼書!V76&\" \"&旅費振替依頼書!I76,\"\")","v":""},{"$f":"IF(旅費振替依頼書!X76<>\"\",旅費振替依頼書!X76,\"\")","v":""},"","","",{"$f":"IF(旅費振替依頼書!Y76<>\"\",旅費振替依頼書!Y76,\"\")","v":""},"","","","",{"$f":"IF(O74<>\"\",IF(AND(O74=0,旅費振替依頼書!$H$3=M74&\"月\"),\"当月\",IF(OR(O74=1,O74=89),\"次月\",\"次月以降\")),\"\")","v":""},{"$f":"IF($P74=\"当月\",COUNTIF($P$5:$P74,\"当月\"),\"\")","v":""},{"$f":"IF($P74=\"次月\",COUNTIF($P$5:$P74,\"次月\"),\"\")","v":""},{"$f":"IF($P74=\"次月以降\",COUNTIF($P$5:$P74,\"次月以降\"),\"\")","v":""}]
[71,"","",{"$f":"IF(旅費振替依頼書!C77<>\"\",\"NS-\"&旅費振替依頼書!C77,\"\")","v":""},{"$f":"IF(旅費振替依頼書!L77<>\"\",旅費振替依頼書!L77,\"\")","v":""},{"$f":"IF(旅費振替依頼書!E77<>\"\",旅費振替依頼書!E77&\" \"&旅費振替依頼書!X77&\"-\"&旅費振替依頼書!Y77&\" \"&旅費振替依頼書!V77&\" \"&旅費振替依頼書!I77,\"\")","v":""},{"$f":"IF(旅費振替依頼書!X77<>\"\",旅費振替依頼書!X77,\"\")","v":""},"","","",{"$f":"IF(旅費振替依頼書!Y77<>\"\",旅費振替依頼書!Y77,\"\")","v":""},"","","","",{"$f":"IF(O75<>\"\",IF(AND(O75=0,旅費振替依頼書!$H$3=M75&\"月\"),\"当月\",IF(OR(O75=1,O75=89),\"次月\",\"次月以降\")),\"\")","v":""},{"$f":"IF($P75=\"当月\",COUNTIF($P$5:$P75,\"当月\"),\"\")","v":""},{"$f":"IF($P75=\"次月\",COUNTIF($P$5:$P75,\"次月\"),\"\")","v":""},{"$f":"IF($P75=\"次月以降\",COUNTIF($P$5:$P75,\"次月以降\"),\"\")","v":""}]
[72,"","",{"$f":"IF(旅費振替依頼書!C78<>\"\",\"NS-\"&旅費振替依頼書!C78,\"\")","v":""},{"$f":"IF(旅費振替依頼書!L78<>\"\",旅費振替依頼書!L78,\"\")","v":""},{"$f":"IF(旅費振替依頼書!E78<>\"\",旅費振替依頼書!E78&\" \"&旅費振替依頼書!X78&\"-\"&旅費振替依頼書!Y78&\" \"&旅費振替依頼書!V78&\" \"&旅費振替依頼書!I78,\"\")","v":""},{"$f":"IF(旅費振替依頼書!X78<>\"\",旅費振替依頼書!X78,\"\")","v":""},"","","",{"$f":"IF(旅費振替依頼書!Y78<>\"\",旅費振替依頼書!Y78,\"\")","v":""},"","","","",{"$f":"IF(O76<>\"\",IF(AND(O76=0,旅費振替依頼書!$H$3=M76&\"月\"),\"当月\",IF(OR(O76=1,O76=89),\"次月\",\"次月以降\")),\"\")","v":""},{"$f":"IF($P76=\"当月\",COUNTIF($P$5:$P76,\"当月\"),\"\")","v":""},{"$f":"IF($P76=\"次月\",COUNTIF($P$5:$P76,\"次月\"),\"\")","v":""},{"$f":"IF($P76=\"次月以降\",COUNTIF($P$5:$P76,\"次月以降\"),\"\")","v":""}]
[73,"","",{"$f":"IF(旅費振替依頼書!C79<>\"\",\"NS-\"&旅費振替依頼書!C79,\"\")","v":""},{"$f":"IF(旅費振替依頼書!L79<>\"\",旅費振替依頼書!L79,\"\")","v":""},{"$f":"IF(旅費振替依頼書!E79<>\"\",旅費振替依頼書!E79&\" \"&旅費振替依頼書!X79&\"-\"&旅費振替依頼書!Y79&\" \"&旅費振替依頼書!V79&\" \"&旅費振替依頼書!I79,\"\")","v":""},{"$f":"IF(旅費振替依頼書!X79<>\"\",旅費振替依頼書!X79,\"\")","v":""},"","","",{"$f":"IF(旅費振替依頼書!Y79<>\"\",旅費振替依頼書!Y79,\"\")","v":""},"","","","",{"$f":"IF(O77<>\"\",IF(AND(O77=0,旅費振替依頼書!$H$3=M77&\"月\"),\"当月\",IF(OR(O77=1,O77=89),\"次月\",\"次月以降\")),\"\")","v":""},{"$f":"IF($P77=\"当月\",COUNTIF($P$5:$P77,\"当月\"),\"\")","v":""},{"$f":"IF($P77=\"次月\",COUNTIF($P$5:$P77,\"次月\"),\"\")","v":""},{"$f":"IF($P77=\"次月以降\",COUNTIF($P$5:$P77,\"次月以降\"),\"\")","v":""}]
[74,"","",{"$f":"IF(旅費振替依頼書!C80<>\"\",\"NS-\"&旅費振替依頼書!C80,\"\")","v":""},{"$f":"IF(旅費振替依頼書!L80<>\"\",旅費振替依頼書!L80,\"\")","v":""},{"$f":"IF(旅費振替依頼書!E80<>\"\",旅費振替依頼書!E80&\" \"&旅費振替依頼書!X80&\"-\"&旅費振替依頼書!Y80&\" \"&旅費振替依頼書!V80&\" \"&旅費振替依頼書!I80,\"\")","v":""},{"$f":"IF(旅費振替依頼書!X80<>\"\",旅費振替依頼書!X80,\"\")","v":""},"","","",{"$f":"IF(旅費振替依頼書!Y80<>\"\",旅費振替依頼書!Y80,\"\")","v":""},"","","","",{"$f":"IF(O78<>\"\",IF(AND(O78=0,旅費振替依頼書!$H$3=M78&\"月\"),\"当月\",IF(OR(O78=1,O78=89),\"次月\",\"次月以降\")),\"\")","v":""},{"$f":"IF($P78=\"当月\",COUNTIF($P$5:$P78,\"当月\"),\"\")","v":""},{"$f":"IF($P78=\"次月\",COUNTIF($P$5:$P78,\"次月\"),\"\")","v":""},{"$f":"IF($P78=\"次月以降\",COUNTIF($P$5:$P78,\"次月以降\"),\"\")","v":""}]
[75,"","",{"$f":"IF(旅費振替依頼書!C81<>\"\",\"NS-\"&旅費振替依頼書!C81,\"\")","v":""},{"$f":"IF(旅費振替依頼書!L81<>\"\",旅費振替依頼書!L81,\"\")","v":""},{"$f":"IF(旅費振替依頼書!E81<>\"\",旅費振替依頼書!E81&\" \"&旅費振替依頼書!X81&\"-\"&旅費振替依頼書!Y81&\" \"&旅費振替依頼書!V81&\" \"&旅費振替依頼書!I81,\"\")","v":""},{"$f":"IF(旅費振替依頼書!X81<>\"\",旅費振替依頼書!X81,\"\")","v":""},"","","",{"$f":"IF(旅費振替依頼書!Y81<>\"\",旅費振替依頼書!Y81,\"\")","v":""},"","","","",{"$f":"IF(O79<>\"\",IF(AND(O79=0,旅費振替依頼書!$H$3=M79&\"月\"),\"当月\",IF(OR(O79=1,O79=89),\"次月\",\"次月以降\")),\"\")","v":""},{"$f":"IF($P79=\"当月\",COUNTIF($P$5:$P79,\"当月\"),\"\")","v":""},{"$f":"IF($P79=\"次月\",COUNTIF($P$5:$P79,\"次月\"),\"\")","v":""},{"$f":"IF($P79=\"次月以降\",COUNTIF($P$5:$P79,\"次月以降\"),\"\")","v":""}]
[76,"","",{"$f":"IF(旅費振替依頼書!C82<>\"\",\"NS-\"&旅費振替依頼書!C82,\"\")","v":""},{"$f":"IF(旅費振替依頼書!L82<>\"\",旅費振替依頼書!L82,\"\")","v":""},{"$f":"IF(旅費振替依頼書!E82<>\"\",旅費振替依頼書!E82&\" \"&旅費振替依頼書!X82&\"-\"&旅費振替依頼書!Y82&\" \"&旅費振替依頼書!V82&\" \"&旅費振替依頼書!I82,\"\")","v":""},{"$f":"IF(旅費振替依頼書!X82<>\"\",旅費振替依頼書!X82,\"\")","v":""},"","","",{"$f":"IF(旅費振替依頼書!Y82<>\"\",旅費振替依頼書!Y82,\"\")","v":""},"","","","",{"$f":"IF(O80<>\"\",IF(AND(O80=0,旅費振替依頼書!$H$3=M80&\"月\"),\"当月\",IF(OR(O80=1,O80=89),\"次月\",\"次月以降\")),\"\")","v":""},{"$f":"IF($P80=\"当月\",COUNTIF($P$5:$P80,\"当月\"),\"\")","v":""},{"$f":"IF($P80=\"次月\",COUNTIF($P$5:$P80,\"次月\"),\"\")","v":""},{"$f":"IF($P80=\"次月以降\",COUNTIF($P$5:$P80,\"次月以降\"),\"\")","v":""}]
[77,"","",{"$f":"IF(旅費振替依頼書!C83<>\"\",\"NS-\"&旅費振替依頼書!C83,\"\")","v":""},{"$f":"IF(旅費振替依頼書!L83<>\"\",旅費振替依頼書!L83,\"\")","v":""},{"$f":"IF(旅費振替依頼書!E83<>\"\",旅費振替依頼書!E83&\" \"&旅費振替依頼書!X83&\"-\"&旅費振替依頼書!Y83&\" \"&旅費振替依頼書!V83&\" \"&旅費振替依頼書!I83,\"\")","v":""},{"$f":"IF(旅費振替依頼書!X83<>\"\",旅費振替依頼書!X83,\"\")","v":""},"","","",{"$f":"IF(旅費振替依頼書!Y83<>\"\",旅費振替依頼書!Y83,\"\")","v":""},"","","","",{"$f":"IF(O81<>\"\",IF(AND(O81=0,旅費振替依頼書!$H$3=M81&\"月\"),\"当月\",IF(OR(O81=1,O81=89),\"次月\",\"次月以降\")),\"\")","v":""},{"$f":"IF($P81=\"当月\",COUNTIF($P$5:$P81,\"当月\"),\"\")","v":""},{"$f":"IF($P81=\"次月\",COUNTIF($P$5:$P81,\"次月\"),\"\")","v":""},{"$f":"IF($P81=\"次月以降\",COUNTIF($P$5:$P81,\"次月以降\"),\"\")","v":""}]
[78,"","",{"$f":"IF(旅費振替依頼書!C84<>\"\",\"NS-\"&旅費振替依頼書!C84,\"\")","v":""},{"$f":"IF(旅費振替依頼書!L84<>\"\",旅費振替依頼書!L84,\"\")","v":""},{"$f":"IF(旅費振替依頼書!E84<>\"\",旅費振替依頼書!E84&\" \"&旅費振替依頼書!X84&\"-\"&旅費振替依頼書!Y84&\" \"&旅費振替依頼書!V84&\" \"&旅費振替依頼書!I84,\"\")","v":""},{"$f":"IF(旅費振替依頼書!X84<>\"\",旅費振替依頼書!X84,\"\")","v":""},"","","",{"$f":"IF(旅費振替依頼書!Y84<>\"\",旅費振替依頼書!Y84,\"\")","v":""},"","","","",{"$f":"IF(O82<>\"\",IF(AND(O82=0,旅費振替依頼書!$H$3=M82&\"月\"),\"当月\",IF(OR(O82=1,O82=89),\"次月\",\"次月以降\")),\"\")","v":""},{"$f":"IF($P82=\"当月\",COUNTIF($P$5:$P82,\"当月\"),\"\")","v":""},{"$f":"IF($P82=\"次月\",COUNTIF($P$5:$P82,\"次月\"),\"\")","v":""},{"$f":"IF($P82=\"次月以降\",COUNTIF($P$5:$P82,\"次月以降\"),\"\")","v":""}]
[79,{"$f":"IF(D83<>\"\",TEXT(EOMONTH(LEFT($J$2,4)&\"/\"&RIGHT($J$2,2)&\"/01\",0),\"YYYY.MM.DD\"),\"\")","v":""},"",{"$f":"IF(旅費振替依頼書!C85<>\"\",\"NS-\"&旅費振替依頼書!C85,\"\")","v":""},{"$f":"IF(旅費振替依頼書!L85<>\"\",旅費振替依頼書!L85,\"\")","v":""},{"$f":"IF(旅費振替依頼書!E85<>\"\",旅費振替依頼書!E85&\" \"&旅費振替依頼書!X85&\"-\"&旅費振替依頼書!Y85&\" \"&旅費振替依頼書!V85&\" \"&旅費振替依頼書!I85,\"\")","v":""},{"$f":"IF(旅費振替依頼書!X85<>\"\",旅費振替依頼書!X85,\"\")","v":""},{"$f":"IF(G83<>\"\",YEAR(G83),\"\")","v":""},{"$f":"IF(G83<>\"\",MONTH(G83),\"\")","v":""},{"$f":"IF(H83<>\"\",VALUE(H83&TEXT(I83,\"00\")),\"\")","v":""},{"$f":"IF(旅費振替依頼書!Y85<>\"\",旅費振替依頼書!Y85,\"\")","v":""},{"$f":"IF(K83<>\"\",YEAR(K83),\"\")","v":""},{"$f":"IF(K83<>\"\",MONTH(K83),\"\")","v":""},{"$f":"IF(L83<>\"\",VALUE(L83&TEXT(M83,\"00\")),\"\")","v":""},{"$f":"IF(AND(J83<>\"\",N83<>\"\"),N83-$J$2,\"\")","v":""},{"$f":"IF(O83<>\"\",IF(AND(O83=0,旅費振替依頼書!$H$3=M83&\"月\"),\"当月\",IF(OR(O83=1,O83=89),\"次月\",\"次月以降\")),\"\")","v":""},{"$f":"IF($P83=\"当月\",COUNTIF($P$5:$P83,\"当月\"),\"\")","v":""},{"$f":"IF($P83=\"次月\",COUNTIF($P$5:$P83,\"次月\"),\"\")","v":""},{"$f":"IF($P83=\"次月以降\",COUNTIF($P$5:$P83,\"次月以降\"),\"\")","v":""}]
[80,"","",{"$f":"IF(旅費振替依頼書!C86<>\"\",\"NS-\"&旅費振替依頼書!C86,\"\")","v":""},{"$f":"IF(旅費振替依頼書!L86<>\"\",旅費振替依頼書!L86,\"\")","v":""},{"$f":"IF(旅費振替依頼書!E86<>\"\",旅費振替依頼書!E86&\" \"&旅費振替依頼書!X86&\"-\"&旅費振替依頼書!Y86&\" \"&旅費振替依頼書!V86&\" \"&旅費振替依頼書!I86,\"\")","v":""},{"$f":"IF(旅費振替依頼書!X86<>\"\",旅費振替依頼書!X86,\"\")","v":""},"","","",{"$f":"IF(旅費振替依頼書!Y86<>\"\",旅費振替依頼書!Y86,\"\")","v":""},"","","","",{"$f":"IF(O84<>\"\",IF(AND(O84=0,旅費振替依頼書!$H$3=M84&\"月\"),\"当月\",IF(OR(O84=1,O84=89),\"次月\",\"次月以降\")),\"\")","v":""},{"$f":"IF($P84=\"当月\",COUNTIF($P$5:$P84,\"当月\"),\"\")","v":""},{"$f":"IF($P84=\"次月\",COUNTIF($P$5:$P84,\"次月\"),\"\")","v":""},{"$f":"IF($P84=\"次月以降\",COUNTIF($P$5:$P84,\"次月以降\"),\"\")","v":""}]
[81,"","",{"$f":"IF(旅費振替依頼書!C87<>\"\",\"NS-\"&旅費振替依頼書!C87,\"\")","v":""},{"$f":"IF(旅費振替依頼書!L87<>\"\",旅費振替依頼書!L87,\"\")","v":""},{"$f":"IF(旅費振替依頼書!E87<>\"\",旅費振替依頼書!E87&\" \"&旅費振替依頼書!X87&\"-\"&旅費振替依頼書!Y87&\" \"&旅費振替依頼書!V87&\" \"&旅費振替依頼書!I87,\"\")","v":""},{"$f":"IF(旅費振替依頼書!X87<>\"\",旅費振替依頼書!X87,\"\")","v":""},"","","",{"$f":"IF(旅費振替依頼書!Y87<>\"\",旅費振替依頼書!Y87,\"\")","v":""},"","","","",{"$f":"IF(O85<>\"\",IF(AND(O85=0,旅費振替依頼書!$H$3=M85&\"月\"),\"当月\",IF(OR(O85=1,O85=89),\"次月\",\"次月以降\")),\"\")","v":""},{"$f":"IF($P85=\"当月\",COUNTIF($P$5:$P85,\"当月\"),\"\")","v":""},{"$f":"IF($P85=\"次月\",COUNTIF($P$5:$P85,\"次月\"),\"\")","v":""},{"$f":"IF($P85=\"次月以降\",COUNTIF($P$5:$P85,\"次月以降\"),\"\")","v":""}]
[82,"","",{"$f":"IF(旅費振替依頼書!C88<>\"\",\"NS-\"&旅費振替依頼書!C88,\"\")","v":""},{"$f":"IF(旅費振替依頼書!L88<>\"\",旅費振替依頼書!L88,\"\")","v":""},{"$f":"IF(旅費振替依頼書!E88<>\"\",旅費振替依頼書!E88&\" \"&旅費振替依頼書!X88&\"-\"&旅費振替依頼書!Y88&\" \"&旅費振替依頼書!V88&\" \"&旅費振替依頼書!I88,\"\")","v":""},{"$f":"IF(旅費振替依頼書!X88<>\"\",旅費振替依頼書!X88,\"\")","v":""},"","","",{"$f":"IF(旅費振替依頼書!Y88<>\"\",旅費振替依頼書!Y88,\"\")","v":""},"","","","",{"$f":"IF(O86<>\"\",IF(AND(O86=0,旅費振替依頼書!$H$3=M86&\"月\"),\"当月\",IF(OR(O86=1,O86=89),\"次月\",\"次月以降\")),\"\")","v":""},{"$f":"IF($P86=\"当月\",COUNTIF($P$5:$P86,\"当月\"),\"\")","v":""},{"$f":"IF($P86=\"次月\",COUNTIF($P$5:$P86,\"次月\"),\"\")","v":""},{"$f":"IF($P86=\"次月以降\",COUNTIF($P$5:$P86,\"次月以降\"),\"\")","v":""}]
[83,"","",{"$f":"IF(旅費振替依頼書!C89<>\"\",\"NS-\"&旅費振替依頼書!C89,\"\")","v":""},{"$f":"IF(旅費振替依頼書!L89<>\"\",旅費振替依頼書!L89,\"\")","v":""},{"$f":"IF(旅費振替依頼書!E89<>\"\",旅費振替依頼書!E89&\" \"&旅費振替依頼書!X89&\"-\"&旅費振替依頼書!Y89&\" \"&旅費振替依頼書!V89&\" \"&旅費振替依頼書!I89,\"\")","v":""},{"$f":"IF(旅費振替依頼書!X89<>\"\",旅費振替依頼書!X89,\"\")","v":""},"","","",{"$f":"IF(旅費振替依頼書!Y89<>\"\",旅費振替依頼書!Y89,\"\")","v":""},"","","","",{"$f":"IF(O87<>\"\",IF(AND(O87=0,旅費振替依頼書!$H$3=M87&\"月\"),\"当月\",IF(OR(O87=1,O87=89),\"次月\",\"次月以降\")),\"\")","v":""},{"$f":"IF($P87=\"当月\",COUNTIF($P$5:$P87,\"当月\"),\"\")","v":""},{"$f":"IF($P87=\"次月\",COUNTIF($P$5:$P87,\"次月\"),\"\")","v":""},{"$f":"IF($P87=\"次月以降\",COUNTIF($P$5:$P87,\"次月以降\"),\"\")","v":""}]
[84,"","",{"$f":"IF(旅費振替依頼書!C90<>\"\",\"NS-\"&旅費振替依頼書!C90,\"\")","v":""},{"$f":"IF(旅費振替依頼書!L90<>\"\",旅費振替依頼書!L90,\"\")","v":""},{"$f":"IF(旅費振替依頼書!E90<>\"\",旅費振替依頼書!E90&\" \"&旅費振替依頼書!X90&\"-\"&旅費振替依頼書!Y90&\" \"&旅費振替依頼書!V90&\" \"&旅費振替依頼書!I90,\"\")","v":""},{"$f":"IF(旅費振替依頼書!X90<>\"\",旅費振替依頼書!X90,\"\")","v":""},"","","",{"$f":"IF(旅費振替依頼書!Y90<>\"\",旅費振替依頼書!Y90,\"\")","v":""},"","","","",{"$f":"IF(O88<>\"\",IF(AND(O88=0,旅費振替依頼書!$H$3=M88&\"月\"),\"当月\",IF(OR(O88=1,O88=89),\"次月\",\"次月以降\")),\"\")","v":""},{"$f":"IF($P88=\"当月\",COUNTIF($P$5:$P88,\"当月\"),\"\")","v":""},{"$f":"IF($P88=\"次月\",COUNTIF($P$5:$P88,\"次月\"),\"\")","v":""},{"$f":"IF($P88=\"次月以降\",COUNTIF($P$5:$P88,\"次月以降\"),\"\")","v":""}]
[85,"","",{"$f":"IF(旅費振替依頼書!C91<>\"\",\"NS-\"&旅費振替依頼書!C91,\"\")","v":""},{"$f":"IF(旅費振替依頼書!L91<>\"\",旅費振替依頼書!L91,\"\")","v":""},{"$f":"IF(旅費振替依頼書!E91<>\"\",旅費振替依頼書!E91&\" \"&旅費振替依頼書!X91&\"-\"&旅費振替依頼書!Y91&\" \"&旅費振替依頼書!V91&\" \"&旅費振替依頼書!I91,\"\")","v":""},{"$f":"IF(旅費振替依頼書!X91<>\"\",旅費振替依頼書!X91,\"\")","v":""},"","","",{"$f":"IF(旅費振替依頼書!Y91<>\"\",旅費振替依頼書!Y91,\"\")","v":""},"","","","",{"$f":"IF(O89<>\"\",IF(AND(O89=0,旅費振替依頼書!$H$3=M89&\"月\"),\"当月\",IF(OR(O89=1,O89=89),\"次月\",\"次月以降\")),\"\")","v":""},{"$f":"IF($P89=\"当月\",COUNTIF($P$5:$P89,\"当月\"),\"\")","v":""},{"$f":"IF($P89=\"次月\",COUNTIF($P$5:$P89,\"次月\"),\"\")","v":""},{"$f":"IF($P89=\"次月以降\",COUNTIF($P$5:$P89,\"次月以降\"),\"\")","v":""}]
[86,"","",{"$f":"IF(旅費振替依頼書!C92<>\"\",\"NS-\"&旅費振替依頼書!C92,\"\")","v":""},{"$f":"IF(旅費振替依頼書!L92<>\"\",旅費振替依頼書!L92,\"\")","v":""},{"$f":"IF(旅費振替依頼書!E92<>\"\",旅費振替依頼書!E92&\" \"&旅費振替依頼書!X92&\"-\"&旅費振替依頼書!Y92&\" \"&旅費振替依頼書!V92&\" \"&旅費振替依頼書!I92,\"\")","v":""},{"$f":"IF(旅費振替依頼書!X92<>\"\",旅費振替依頼書!X92,\"\")","v":""},"","","",{"$f":"IF(旅費振替依頼書!Y92<>\"\",旅費振替依頼書!Y92,\"\")","v":""},"","","","",{"$f":"IF(O90<>\"\",IF(AND(O90=0,旅費振替依頼書!$H$3=M90&\"月\"),\"当月\",IF(OR(O90=1,O90=89),\"次月\",\"次月以降\")),\"\")","v":""},{"$f":"IF($P90=\"当月\",COUNTIF($P$5:$P90,\"当月\"),\"\")","v":""},{"$f":"IF($P90=\"次月\",COUNTIF($P$5:$P90,\"次月\"),\"\")","v":""},{"$f":"IF($P90=\"次月以降\",COUNTIF($P$5:$P90,\"次月以降\"),\"\")","v":""}]
[87,"","",{"$f":"IF(旅費振替依頼書!C93<>\"\",\"NS-\"&旅費振替依頼書!C93,\"\")","v":""},{"$f":"IF(旅費振替依頼書!L93<>\"\",旅費振替依頼書!L93,\"\")","v":""},{"$f":"IF(旅費振替依頼書!E93<>\"\",旅費振替依頼書!E93&\" \"&旅費振替依頼書!X93&\"-\"&旅費振替依頼書!Y93&\" \"&旅費振替依頼書!V93&\" \"&旅費振替依頼書!I93,\"\")","v":""},{"$f":"IF(旅費振替依頼書!X93<>\"\",旅費振替依頼書!X93,\"\")","v":""},"","","",{"$f":"IF(旅費振替依頼書!Y93<>\"\",旅費振替依頼書!Y93,\"\")","v":""},"","","","",{"$f":"IF(O91<>\"\",IF(AND(O91=0,旅費振替依頼書!$H$3=M91&\"月\"),\"当月\",IF(OR(O91=1,O91=89),\"次月\",\"次月以降\")),\"\")","v":""},{"$f":"IF($P91=\"当月\",COUNTIF($P$5:$P91,\"当月\"),\"\")","v":""},{"$f":"IF($P91=\"次月\",COUNTIF($P$5:$P91,\"次月\"),\"\")","v":""},{"$f":"IF($P91=\"次月以降\",COUNTIF($P$5:$P91,\"次月以降\"),\"\")","v":""}]
[88,"","",{"$f":"IF(旅費振替依頼書!C94<>\"\",\"NS-\"&旅費振替依頼書!C94,\"\")","v":""},{"$f":"IF(旅費振替依頼書!L94<>\"\",旅費振替依頼書!L94,\"\")","v":""},{"$f":"IF(旅費振替依頼書!E94<>\"\",旅費振替依頼書!E94&\" \"&旅費振替依頼書!X94&\"-\"&旅費振替依頼書!Y94&\" \"&旅費振替依頼書!V94&\" \"&旅費振替依頼書!I94,\"\")","v":""},{"$f":"IF(旅費振替依頼書!X94<>\"\",旅費振替依頼書!X94,\"\")","v":""},"","","",{"$f":"IF(旅費振替依頼書!Y94<>\"\",旅費振替依頼書!Y94,\"\")","v":""},"","","","",{"$f":"IF(O92<>\"\",IF(AND(O92=0,旅費振替依頼書!$H$3=M92&\"月\"),\"当月\",IF(OR(O92=1,O92=89),\"次月\",\"次月以降\")),\"\")","v":""},{"$f":"IF($P92=\"当月\",COUNTIF($P$5:$P92,\"当月\"),\"\")","v":""},{"$f":"IF($P92=\"次月\",COUNTIF($P$5:$P92,\"次月\"),\"\")","v":""},{"$f":"IF($P92=\"次月以降\",COUNTIF($P$5:$P92,\"次月以降\"),\"\")","v":""}]
[89,"","",{"$f":"IF(旅費振替依頼書!C95<>\"\",\"NS-\"&旅費振替依頼書!C95,\"\")","v":""},{"$f":"IF(旅費振替依頼書!L95<>\"\",旅費振替依頼書!L95,\"\")","v":""},{"$f":"IF(旅費振替依頼書!E95<>\"\",旅費振替依頼書!E95&\" \"&旅費振替依頼書!X95&\"-\"&旅費振替依頼書!Y95&\" \"&旅費振替依頼書!V95&\" \"&旅費振替依頼書!I95,\"\")","v":""},{"$f":"IF(旅費振替依頼書!X95<>\"\",旅費振替依頼書!X95,\"\")","v":""},"","","",{"$f":"IF(旅費振替依頼書!Y95<>\"\",旅費振替依頼書!Y95,\"\")","v":""},"","","","",{"$f":"IF(O93<>\"\",IF(AND(O93=0,旅費振替依頼書!$H$3=M93&\"月\"),\"当月\",IF(OR(O93=1,O93=89),\"次月\",\"次月以降\")),\"\")","v":""},{"$f":"IF($P93=\"当月\",COUNTIF($P$5:$P93,\"当月\"),\"\")","v":""},{"$f":"IF($P93=\"次月\",COUNTIF($P$5:$P93,\"次月\"),\"\")","v":""},{"$f":"IF($P93=\"次月以降\",COUNTIF($P$5:$P93,\"次月以降\"),\"\")","v":""}]
[90,"","",{"$f":"IF(旅費振替依頼書!C96<>\"\",\"NS-\"&旅費振替依頼書!C96,\"\")","v":""},{"$f":"IF(旅費振替依頼書!L96<>\"\",旅費振替依頼書!L96,\"\")","v":""},{"$f":"IF(旅費振替依頼書!E96<>\"\",旅費振替依頼書!E96&\" \"&旅費振替依頼書!X96&\"-\"&旅費振替依頼書!Y96&\" \"&旅費振替依頼書!V96&\" \"&旅費振替依頼書!I96,\"\")","v":""},{"$f":"IF(旅費振替依頼書!X96<>\"\",旅費振替依頼書!X96,\"\")","v":""},"","","",{"$f":"IF(旅費振替依頼書!Y96<>\"\",旅費振替依頼書!Y96,\"\")","v":""},"","","","",{"$f":"IF(O94<>\"\",IF(AND(O94=0,旅費振替依頼書!$H$3=M94&\"月\"),\"当月\",IF(OR(O94=1,O94=89),\"次月\",\"次月以降\")),\"\")","v":""},{"$f":"IF($P94=\"当月\",COUNTIF($P$5:$P94,\"当月\"),\"\")","v":""},{"$f":"IF($P94=\"次月\",COUNTIF($P$5:$P94,\"次月\"),\"\")","v":""},{"$f":"IF($P94=\"次月以降\",COUNTIF($P$5:$P94,\"次月以降\"),\"\")","v":""}]
[91,"","",{"$f":"IF(旅費振替依頼書!C97<>\"\",\"NS-\"&旅費振替依頼書!C97,\"\")","v":""},{"$f":"IF(旅費振替依頼書!L97<>\"\",旅費振替依頼書!L97,\"\")","v":""},{"$f":"IF(旅費振替依頼書!E97<>\"\",旅費振替依頼書!E97&\" \"&旅費振替依頼書!X97&\"-\"&旅費振替依頼書!Y97&\" \"&旅費振替依頼書!V97&\" \"&旅費振替依頼書!I97,\"\")","v":""},{"$f":"IF(旅費振替依頼書!X97<>\"\",旅費振替依頼書!X97,\"\")","v":""},"","","",{"$f":"IF(旅費振替依頼書!Y97<>\"\",旅費振替依頼書!Y97,\"\")","v":""},"","","","",{"$f":"IF(O95<>\"\",IF(AND(O95=0,旅費振替依頼書!$H$3=M95&\"月\"),\"当月\",IF(OR(O95=1,O95=89),\"次月\",\"次月以降\")),\"\")","v":""},{"$f":"IF($P95=\"当月\",COUNTIF($P$5:$P95,\"当月\"),\"\")","v":""},{"$f":"IF($P95=\"次月\",COUNTIF($P$5:$P95,\"次月\"),\"\")","v":""},{"$f":"IF($P95=\"次月以降\",COUNTIF($P$5:$P95,\"次月以降\"),\"\")","v":""}]
[92,"","",{"$f":"IF(旅費振替依頼書!C98<>\"\",\"NS-\"&旅費振替依頼書!C98,\"\")","v":""},{"$f":"IF(旅費振替依頼書!L98<>\"\",旅費振替依頼書!L98,\"\")","v":""},{"$f":"IF(旅費振替依頼書!E98<>\"\",旅費振替依頼書!E98&\" \"&旅費振替依頼書!X98&\"-\"&旅費振替依頼書!Y98&\" \"&旅費振替依頼書!V98&\" \"&旅費振替依頼書!I98,\"\")","v":""},{"$f":"IF(旅費振替依頼書!X98<>\"\",旅費振替依頼書!X98,\"\")","v":""},"","","",{"$f":"IF(旅費振替依頼書!Y98<>\"\",旅費振替依頼書!Y98,\"\")","v":""},"","","","",{"$f":"IF(O96<>\"\",IF(AND(O96=0,旅費振替依頼書!$H$3=M96&\"月\"),\"当月\",IF(OR(O96=1,O96=89),\"次月\",\"次月以降\")),\"\")","v":""},{"$f":"IF($P96=\"当月\",COUNTIF($P$5:$P96,\"当月\"),\"\")","v":""},{"$f":"IF($P96=\"次月\",COUNTIF($P$5:$P96,\"次月\"),\"\")","v":""},{"$f":"IF($P96=\"次月以降\",COUNTIF($P$5:$P96,\"次月以降\"),\"\")","v":""}]
[93,"","",{"$f":"IF(旅費振替依頼書!C99<>\"\",\"NS-\"&旅費振替依頼書!C99,\"\")","v":""},{"$f":"IF(旅費振替依頼書!L99<>\"\",旅費振替依頼書!L99,\"\")","v":""},{"$f":"IF(旅費振替依頼書!E99<>\"\",旅費振替依頼書!E99&\" \"&旅費振替依頼書!X99&\"-\"&旅費振替依頼書!Y99&\" \"&旅費振替依頼書!V99&\" \"&旅費振替依頼書!I99,\"\")","v":""},{"$f":"IF(旅費振替依頼書!X99<>\"\",旅費振替依頼書!X99,\"\")","v":""},"","","",{"$f":"IF(旅費振替依頼書!Y99<>\"\",旅費振替依頼書!Y99,\"\")","v":""},"","","","",{"$f":"IF(O97<>\"\",IF(AND(O97=0,旅費振替依頼書!$H$3=M97&\"月\"),\"当月\",IF(OR(O97=1,O97=89),\"次月\",\"次月以降\")),\"\")","v":""},{"$f":"IF($P97=\"当月\",COUNTIF($P$5:$P97,\"当月\"),\"\")","v":""},{"$f":"IF($P97=\"次月\",COUNTIF($P$5:$P97,\"次月\"),\"\")","v":""},{"$f":"IF($P97=\"次月以降\",COUNTIF($P$5:$P97,\"次月以降\"),\"\")","v":""}]
[94,"","",{"$f":"IF(旅費振替依頼書!C100<>\"\",\"NS-\"&旅費振替依頼書!C100,\"\")","v":""},{"$f":"IF(旅費振替依頼書!L100<>\"\",旅費振替依頼書!L100,\"\")","v":""},{"$f":"IF(旅費振替依頼書!E100<>\"\",旅費振替依頼書!E100&\" \"&旅費振替依頼書!X100&\"-\"&旅費振替依頼書!Y100&\" \"&旅費振替依頼書!V100&\" \"&旅費振替依頼書!I100,\"\")","v":""},{"$f":"IF(旅費振替依頼書!X100<>\"\",旅費振替依頼書!X100,\"\")","v":""},"","","",{"$f":"IF(旅費振替依頼書!Y100<>\"\",旅費振替依頼書!Y100,\"\")","v":""},"","","","",{"$f":"IF(O98<>\"\",IF(AND(O98=0,旅費振替依頼書!$H$3=M98&\"月\"),\"当月\",IF(OR(O98=1,O98=89),\"次月\",\"次月以降\")),\"\")","v":""},{"$f":"IF($P98=\"当月\",COUNTIF($P$5:$P98,\"当月\"),\"\")","v":""},{"$f":"IF($P98=\"次月\",COUNTIF($P$5:$P98,\"次月\"),\"\")","v":""},{"$f":"IF($P98=\"次月以降\",COUNTIF($P$5:$P98,\"次月以降\"),\"\")","v":""}]
[95,"","",{"$f":"IF(旅費振替依頼書!C101<>\"\",\"NS-\"&旅費振替依頼書!C101,\"\")","v":""},{"$f":"IF(旅費振替依頼書!L101<>\"\",旅費振替依頼書!L101,\"\")","v":""},{"$f":"IF(旅費振替依頼書!E101<>\"\",旅費振替依頼書!E101&\" \"&旅費振替依頼書!X101&\"-\"&旅費振替依頼書!Y101&\" \"&旅費振替依頼書!V101&\" \"&旅費振替依頼書!I101,\"\")","v":""},{"$f":"IF(旅費振替依頼書!X101<>\"\",旅費振替依頼書!X101,\"\")","v":""},"","","",{"$f":"IF(旅費振替依頼書!Y101<>\"\",旅費振替依頼書!Y101,\"\")","v":""},"","","","",{"$f":"IF(O99<>\"\",IF(AND(O99=0,旅費振替依頼書!$H$3=M99&\"月\"),\"当月\",IF(OR(O99=1,O99=89),\"次月\",\"次月以降\")),\"\")","v":""},{"$f":"IF($P99=\"当月\",COUNTIF($P$5:$P99,\"当月\"),\"\")","v":""},{"$f":"IF($P99=\"次月\",COUNTIF($P$5:$P99,\"次月\"),\"\")","v":""},{"$f":"IF($P99=\"次月以降\",COUNTIF($P$5:$P99,\"次月以降\"),\"\")","v":""}]
[96,"","",{"$f":"IF(旅費振替依頼書!C102<>\"\",\"NS-\"&旅費振替依頼書!C102,\"\")","v":""},{"$f":"IF(旅費振替依頼書!L102<>\"\",旅費振替依頼書!L102,\"\")","v":""},{"$f":"IF(旅費振替依頼書!E102<>\"\",旅費振替依頼書!E102&\" \"&旅費振替依頼書!X102&\"-\"&旅費振替依頼書!Y102&\" \"&旅費振替依頼書!V102&\" \"&旅費振替依頼書!I102,\"\")","v":""},{"$f":"IF(旅費振替依頼書!X102<>\"\",旅費振替依頼書!X102,\"\")","v":""},"","","",{"$f":"IF(旅費振替依頼書!Y102<>\"\",旅費振替依頼書!Y102,\"\")","v":""},"","","","",{"$f":"IF(O100<>\"\",IF(AND(O100=0,旅費振替依頼書!$H$3=M100&\"月\"),\"当月\",IF(OR(O100=1,O100=89),\"次月\",\"次月以降\")),\"\")","v":""},{"$f":"IF($P100=\"当月\",COUNTIF($P$5:$P100,\"当月\"),\"\")","v":""},{"$f":"IF($P100=\"次月\",COUNTIF($P$5:$P100,\"次月\"),\"\")","v":""},{"$f":"IF($P100=\"次月以降\",COUNTIF($P$5:$P100,\"次月以降\"),\"\")","v":""}]

{"sheet":"当月仕訳（非表示）","index":3,"n_rows":100,"n_cols":9,"rows_kept":100,"cut":false,"hidden":true,"merged":[]}
["当月仕訳"]
["※シート保護（パス無）訂正後、要保護"]
[null,null,7700200,"作業費",null,"仕訳有無"]
[null,null,7700403,"旅費",null,{"$f":"IF(COUNTIF($A$7:$A$100,\"eof\")=0,\"N\",\"Y\")","v":"N"}]
[]
["会社コード","転記日付","勘定コード","利益センタ","明細額","テキスト"]
[{"$f":"IF(A6=\"会社コード\",\"NS\",IF(I6=\"end\",\"eof\",\"\"))","v":"NS"},{"$f":"IF(B6=\"転記日付\",INDEX('バッチ反映用（非表示）'!$A$5:$O$100,MATCH($G7,'バッチ反映用（非表示）'!$Q$5:$Q$100,0),MATCH('当月仕訳（非表示）'!B$6,'バッチ反映用（非表示）'!$A$4:$G$4,0)),\"\")","v":{"$error":"#N/A"}},{"$f":"IF(D7<>\"\",IF(I7<>\"end\",$C$3,$C$4),\"\")","v":""},{"$f":"IF($H7=\"TRUE\",INDEX('バッチ反映用（非表示）'!$A$5:$O$100,MATCH($G7,'バッチ反映用（非表示）'!$Q$5:$Q$100,0),MATCH('当月仕訳（非表示）'!D$6,'バッチ反映用（非表示）'!$A$4:$G$4,0)),IF($I7=\"end\",D6,\"\"))","v":""},{"$f":"IF($H7=\"TRUE\",INDEX('バッチ反映用（非表示）'!$A$5:$O$100,MATCH($G7,'バッチ反映用（非表示）'!$Q$5:$Q$100,0),MATCH('当月仕訳（非表示）'!E$6,'バッチ反映用（非表示）'!$A$4:$G$4,0)),IF($I7=\"end\",SUM($E6:E$7)*-1,\"\"))","v":""},{"$f":"IF($H7=\"TRUE\",INDEX('バッチ反映用（非表示）'!$A$5:$O$100,MATCH($G7,'バッチ反映用（非表示）'!$Q$5:$Q$100,0),MATCH('当月仕訳（非表示）'!F$6,'バッチ反映用（非表示）'!$A$4:$G$4,0)),IF($I7=\"end\",\"0\"&旅費振替依頼書!$I$3&旅費振替依頼書!$J$3&\"振替 \"&MONTH(SUBSTITUTE($B$7,\".\",\"/\"))&\"月旅費→\"&MONTH(SUBSTITUTE($B$7,\".\",\"/\"))&\"月作業費 \"&G6&\"件\",\"\"))","v":""},1,{"$f":"IF(ISERROR(INDEX('バッチ反映用（非表示）'!$A$5:$O$100,MATCH($G7,'バッチ反映用（非表示）'!$Q$5:$Q$100,0),MATCH('当月仕訳（非表示）'!E$6,'バッチ反映用（非表示）'!$A$4:$G$4,0)))=FALSE,\"TRUE\",\"FALSE\")","v":"FALSE"},{"$f":"IF(AND(H6=\"TRUE\",H7=\"FALSE\"),\"end\",\"\")","v":""}]
[{"$f":"IF(A7=\"会社コード\",\"NS\",IF(I7=\"end\",\"eof\",\"\"))","v":""},{"$f":"IF(B7=\"転記日付\",INDEX('バッチ反映用（非表示）'!$A$5:$O$100,MATCH($G8,'バッチ反映用（非表示）'!$Q$5:$Q$100,0),MATCH('当月仕訳（非表示）'!B$6,'バッチ反映用（非表示）'!$A$4:$G$4,0)),\"\")","v":{"$error":"#N/A"}},{"$f":"IF(D8<>\"\",IF(I8<>\"end\",$C$3,$C$4),\"\")","v":""},{"$f":"IF($H8=\"TRUE\",INDEX('バッチ反映用（非表示）'!$A$5:$O$100,MATCH($G8,'バッチ反映用（非表示）'!$Q$5:$Q$100,0),MATCH('当月仕訳（非表示）'!D$6,'バッチ反映用（非表示）'!$A$4:$G$4,0)),IF($I8=\"end\",D7,\"\"))","v":""},{"$f":"IF($H8=\"TRUE\",INDEX('バッチ反映用（非表示）'!$A$5:$O$100,MATCH($G8,'バッチ反映用（非表示）'!$Q$5:$Q$100,0),MATCH('当月仕訳（非表示）'!E$6,'バッチ反映用（非表示）'!$A$4:$G$4,0)),IF($I8=\"end\",SUM($E7:E$7)*-1,\"\"))","v":""},{"$f":"IF($H8=\"TRUE\",INDEX('バッチ反映用（非表示）'!$A$5:$O$100,MATCH($G8,'バッチ反映用（非表示）'!$Q$5:$Q$100,0),MATCH('当月仕訳（非表示）'!F$6,'バッチ反映用（非表示）'!$A$4:$G$4,0)),IF($I8=\"end\",\"0\"&旅費振替依頼書!$I$3&旅費振替依頼書!$J$3&\"振替 \"&MONTH(SUBSTITUTE($B$7,\".\",\"/\"))&\"月旅費→\"&MONTH(SUBSTITUTE($B$7,\".\",\"/\"))&\"月作業費 \"&G7&\"件\",\"\"))","v":""},2,{"$f":"IF(ISERROR(INDEX('バッチ反映用（非表示）'!$A$5:$O$100,MATCH($G8,'バッチ反映用（非表示）'!$Q$5:$Q$100,0),MATCH('当月仕訳（非表示）'!E$6,'バッチ反映用（非表示）'!$A$4:$G$4,0)))=FALSE,\"TRUE\",\"FALSE\")","v":"FALSE"},{"$f":"IF(AND(H7=\"TRUE\",H8=\"FALSE\"),\"end\",\"\")","v":""}]
["",{"$f":"IF(B8=\"転記日付\",INDEX('バッチ反映用（非表示）'!$A$5:$O$100,MATCH($G9,'バッチ反映用（非表示）'!$Q$5:$Q$100,0),MATCH('当月仕訳（非表示）'!B$6,'バッチ反映用（非表示）'!$A$4:$G$4,0)),\"\")","v":{"$error":"#N/A"}},"",{"$f":"IF($H9=\"TRUE\",INDEX('バッチ反映用（非表示）'!$A$5:$O$100,MATCH($G9,'バッチ反映用（非表示）'!$Q$5:$Q$100,0),MATCH('当月仕訳（非表示）'!D$6,'バッチ反映用（非表示）'!$A$4:$G$4,0)),IF($I9=\"end\",D8,\"\"))","v":""},{"$f":"IF($H9=\"TRUE\",INDEX('バッチ反映用（非表示）'!$A$5:$O$100,MATCH($G9,'バッチ反映用（非表示）'!$Q$5:$Q$100,0),MATCH('当月仕訳（非表示）'!E$6,'バッチ反映用（非表示）'!$A$4:$G$4,0)),IF($I9=\"end\",SUM($E$7:E8)*-1,\"\"))","v":""},{"$f":"IF($H9=\"TRUE\",INDEX('バッチ反映用（非表示）'!$A$5:$O$100,MATCH($G9,'バッチ反映用（非表示）'!$Q$5:$Q$100,0),MATCH('当月仕訳（非表示）'!F$6,'バッチ反映用（非表示）'!$A$4:$G$4,0)),IF($I9=\"end\",\"0\"&旅費振替依頼書!$I$3&旅費振替依頼書!$J$3&\"振替 \"&MONTH(SUBSTITUTE($B$7,\".\",\"/\"))&\"月旅費→\"&MONTH(SUBSTITUTE($B$7,\".\",\"/\"))&\"月作業費 \"&G8&\"件\",\"\"))","v":""},3,{"$f":"IF(ISERROR(INDEX('バッチ反映用（非表示）'!$A$5:$O$100,MATCH($G9,'バッチ反映用（非表示）'!$Q$5:$Q$100,0),MATCH('当月仕訳（非表示）'!E$6,'バッチ反映用（非表示）'!$A$4:$G$4,0)))=FALSE,\"TRUE\",\"FALSE\")","v":"FALSE"},""]
["",{"$f":"IF(B9=\"転記日付\",INDEX('バッチ反映用（非表示）'!$A$5:$O$100,MATCH($G10,'バッチ反映用（非表示）'!$Q$5:$Q$100,0),MATCH('当月仕訳（非表示）'!B$6,'バッチ反映用（非表示）'!$A$4:$G$4,0)),\"\")","v":{"$error":"#N/A"}},"",{"$f":"IF($H10=\"TRUE\",INDEX('バッチ反映用（非表示）'!$A$5:$O$100,MATCH($G10,'バッチ反映用（非表示）'!$Q$5:$Q$100,0),MATCH('当月仕訳（非表示）'!D$6,'バッチ反映用（非表示）'!$A$4:$G$4,0)),IF($I10=\"end\",D9,\"\"))","v":""},{"$f":"IF($H10=\"TRUE\",INDEX('バッチ反映用（非表示）'!$A$5:$O$100,MATCH($G10,'バッチ反映用（非表示）'!$Q$5:$Q$100,0),MATCH('当月仕訳（非表示）'!E$6,'バッチ反映用（非表示）'!$A$4:$G$4,0)),IF($I10=\"end\",SUM($E$7:E9)*-1,\"\"))","v":""},{"$f":"IF($H10=\"TRUE\",INDEX('バッチ反映用（非表示）'!$A$5:$O$100,MATCH($G10,'バッチ反映用（非表示）'!$Q$5:$Q$100,0),MATCH('当月仕訳（非表示）'!F$6,'バッチ反映用（非表示）'!$A$4:$G$4,0)),IF($I10=\"end\",\"0\"&旅費振替依頼書!$I$3&旅費振替依頼書!$J$3&\"振替 \"&MONTH(SUBSTITUTE($B$7,\".\",\"/\"))&\"月旅費→\"&MONTH(SUBSTITUTE($B$7,\".\",\"/\"))&\"月作業費 \"&G9&\"件\",\"\"))","v":""},4,{"$f":"IF(ISERROR(INDEX('バッチ反映用（非表示）'!$A$5:$O$100,MATCH($G10,'バッチ反映用（非表示）'!$Q$5:$Q$100,0),MATCH('当月仕訳（非表示）'!E$6,'バッチ反映用（非表示）'!$A$4:$G$4,0)))=FALSE,\"TRUE\",\"FALSE\")","v":"FALSE"},""]
["",{"$f":"IF(B10=\"転記日付\",INDEX('バッチ反映用（非表示）'!$A$5:$O$100,MATCH($G11,'バッチ反映用（非表示）'!$Q$5:$Q$100,0),MATCH('当月仕訳（非表示）'!B$6,'バッチ反映用（非表示）'!$A$4:$G$4,0)),\"\")","v":{"$error":"#N/A"}},"",{"$f":"IF($H11=\"TRUE\",INDEX('バッチ反映用（非表示）'!$A$5:$O$100,MATCH($G11,'バッチ反映用（非表示）'!$Q$5:$Q$100,0),MATCH('当月仕訳（非表示）'!D$6,'バッチ反映用（非表示）'!$A$4:$G$4,0)),IF($I11=\"end\",D10,\"\"))","v":""},{"$f":"IF($H11=\"TRUE\",INDEX('バッチ反映用（非表示）'!$A$5:$O$100,MATCH($G11,'バッチ反映用（非表示）'!$Q$5:$Q$100,0),MATCH('当月仕訳（非表示）'!E$6,'バッチ反映用（非表示）'!$A$4:$G$4,0)),IF($I11=\"end\",SUM($E$7:E10)*-1,\"\"))","v":""},{"$f":"IF($H11=\"TRUE\",INDEX('バッチ反映用（非表示）'!$A$5:$O$100,MATCH($G11,'バッチ反映用（非表示）'!$Q$5:$Q$100,0),MATCH('当月仕訳（非表示）'!F$6,'バッチ反映用（非表示）'!$A$4:$G$4,0)),IF($I11=\"end\",\"0\"&旅費振替依頼書!$I$3&旅費振替依頼書!$J$3&\"振替 \"&MONTH(SUBSTITUTE($B$7,\".\",\"/\"))&\"月旅費→\"&MONTH(SUBSTITUTE($B$7,\".\",\"/\"))&\"月作業費 \"&G10&\"件\",\"\"))","v":""},5,{"$f":"IF(ISERROR(INDEX('バッチ反映用（非表示）'!$A$5:$O$100,MATCH($G11,'バッチ反映用（非表示）'!$Q$5:$Q$100,0),MATCH('当月仕訳（非表示）'!E$6,'バッチ反映用（非表示）'!$A$4:$G$4,0)))=FALSE,\"TRUE\",\"FALSE\")","v":"FALSE"},""]
["",{"$f":"IF(B11=\"転記日付\",INDEX('バッチ反映用（非表示）'!$A$5:$O$100,MATCH($G12,'バッチ反映用（非表示）'!$Q$5:$Q$100,0),MATCH('当月仕訳（非表示）'!B$6,'バッチ反映用（非表示）'!$A$4:$G$4,0)),\"\")","v":{"$error":"#N/A"}},"",{"$f":"IF($H12=\"TRUE\",INDEX('バッチ反映用（非表示）'!$A$5:$O$100,MATCH($G12,'バッチ反映用（非表示）'!$Q$5:$Q$100,0),MATCH('当月仕訳（非表示）'!D$6,'バッチ反映用（非表示）'!$A$4:$G$4,0)),IF($I12=\"end\",D11,\"\"))","v":""},{"$f":"IF($H12=\"TRUE\",INDEX('バッチ反映用（非表示）'!$A$5:$O$100,MATCH($G12,'バッチ反映用（非表示）'!$Q$5:$Q$100,0),MATCH('当月仕訳（非表示）'!E$6,'バッチ反映用（非表示）'!$A$4:$G$4,0)),IF($I12=\"end\",SUM($E$7:E11)*-1,\"\"))","v":""},{"$f":"IF($H12=\"TRUE\",INDEX('バッチ反映用（非表示）'!$A$5:$O$100,MATCH($G12,'バッチ反映用（非表示）'!$Q$5:$Q$100,0),MATCH('当月仕訳（非表示）'!F$6,'バッチ反映用（非表示）'!$A$4:$G$4,0)),IF($I12=\"end\",\"0\"&旅費振替依頼書!$I$3&旅費振替依頼書!$J$3&\"振替 \"&MONTH(SUBSTITUTE($B$7,\".\",\"/\"))&\"月旅費→\"&MONTH(SUBSTITUTE($B$7,\".\",\"/\"))&\"月作業費 \"&G11&\"件\",\"\"))","v":""},6,{"$f":"IF(ISERROR(INDEX('バッチ反映用（非表示）'!$A$5:$O$100,MATCH($G12,'バッチ反映用（非表示）'!$Q$5:$Q$100,0),MATCH('当月仕訳（非表示）'!E$6,'バッチ反映用（非表示）'!$A$4:$G$4,0)))=FALSE,\"TRUE\",\"FALSE\")","v":"FALSE"},""]
["",{"$f":"IF(B12=\"転記日付\",INDEX('バッチ反映用（非表示）'!$A$5:$O$100,MATCH($G13,'バッチ反映用（非表示）'!$Q$5:$Q$100,0),MATCH('当月仕訳（非表示）'!B$6,'バッチ反映用（非表示）'!$A$4:$G$4,0)),\"\")","v":{"$error":"#N/A"}},"",{"$f":"IF($H13=\"TRUE\",INDEX('バッチ反映用（非表示）'!$A$5:$O$100,MATCH($G13,'バッチ反映用（非表示）'!$Q$5:$Q$100,0),MATCH('当月仕訳（非表示）'!D$6,'バッチ反映用（非表示）'!$A$4:$G$4,0)),IF($I13=\"end\",D12,\"\"))","v":""},{"$f":"IF($H13=\"TRUE\",INDEX('バッチ反映用（非表示）'!$A$5:$O$100,MATCH($G13,'バッチ反映用（非表示）'!$Q$5:$Q$100,0),MATCH('当月仕訳（非表示）'!E$6,'バッチ反映用（非表示）'!$A$4:$G$4,0)),IF($I13=\"end\",SUM($E$7:E12)*-1,\"\"))","v":""},{"$f":"IF($H13=\"TRUE\",INDEX('バッチ反映用（非表示）'!$A$5:$O$100,MATCH($G13,'バッチ反映用（非表示）'!$Q$5:$Q$100,0),MATCH('当月仕訳（非表示）'!F$6,'バッチ反映用（非表示）'!$A$4:$G$4,0)),IF($I13=\"end\",\"0\"&旅費振替依頼書!$I$3&旅費振替依頼書!$J$3&\"振替 \"&MONTH(SUBSTITUTE($B$7,\".\",\"/\"))&\"月旅費→\"&MONTH(SUBSTITUTE($B$7,\".\",\"/\"))&\"月作業費 \"&G12&\"件\",\"\"))","v":""},7,{"$f":"IF(ISERROR(INDEX('バッチ反映用（非表示）'!$A$5:$O$100,MATCH($G13,'バッチ反映用（非表示）'!$Q$5:$Q$100,0),MATCH('当月仕訳（非表示）'!E$6,'バッチ反映用（非表示）'!$A$4:$G$4,0)))=FALSE,\"TRUE\",\"FALSE\")","v":"FALSE"},""]
["",{"$f":"IF(B13=\"転記日付\",INDEX('バッチ反映用（非表示）'!$A$5:$O$100,MATCH($G14,'バッチ反映用（非表示）'!$Q$5:$Q$100,0),MATCH('当月仕訳（非表示）'!B$6,'バッチ反映用（非表示）'!$A$4:$G$4,0)),\"\")","v":{"$error":"#N/A"}},"",{"$f":"IF($H14=\"TRUE\",INDEX('バッチ反映用（非表示）'!$A$5:$O$100,MATCH($G14,'バッチ反映用（非表示）'!$Q$5:$Q$100,0),MATCH('当月仕訳（非表示）'!D$6,'バッチ反映用（非表示）'!$A$4:$G$4,0)),IF($I14=\"end\",D13,\"\"))","v":""},{"$f":"IF($H14=\"TRUE\",INDEX('バッチ反映用（非表示）'!$A$5:$O$100,MATCH($G14,'バッチ反映用（非表示）'!$Q$5:$Q$100,0),MATCH('当月仕訳（非表示）'!E$6,'バッチ反映用（非表示）'!$A$4:$G$4,0)),IF($I14=\"end\",SUM($E$7:E13)*-1,\"\"))","v":""},{"$f":"IF($H14=\"TRUE\",INDEX('バッチ反映用（非表示）'!$A$5:$O$100,MATCH($G14,'バッチ反映用（非表示）'!$Q$5:$Q$100,0),MATCH('当月仕訳（非表示）'!F$6,'バッチ反映用（非表示）'!$A$4:$G$4,0)),IF($I14=\"end\",\"0\"&旅費振替依頼書!$I$3&旅費振替依頼書!$J$3&\"振替 \"&MONTH(SUBSTITUTE($B$7,\".\",\"/\"))&\"月旅費→\"&MONTH(SUBSTITUTE($B$7,\".\",\"/\"))&\"月作業費 \"&G13&\"件\",\"\"))","v":""},8,{"$f":"IF(ISERROR(INDEX('バッチ反映用（非表示）'!$A$5:$O$100,MATCH($G14,'バッチ反映用（非表示）'!$Q$5:$Q$100,0),MATCH('当月仕訳（非表示）'!E$6,'バッチ反映用（非表示）'!$A$4:$G$4,0)))=FALSE,\"TRUE\",\"FALSE\")","v":"FALSE"},""]
["",{"$f":"IF(B14=\"転記日付\",INDEX('バッチ反映用（非表示）'!$A$5:$O$100,MATCH($G15,'バッチ反映用（非表示）'!$Q$5:$Q$100,0),MATCH('当月仕訳（非表示）'!B$6,'バッチ反映用（非表示）'!$A$4:$G$4,0)),\"\")","v":{"$error":"#N/A"}},"",{"$f":"IF($H15=\"TRUE\",INDEX('バッチ反映用（非表示）'!$A$5:$O$100,MATCH($G15,'バッチ反映用（非表示）'!$Q$5:$Q$100,0),MATCH('当月仕訳（非表示）'!D$6,'バッチ反映用（非表示）'!$A$4:$G$4,0)),IF($I15=\"end\",D14,\"\"))","v":""},{"$f":"IF($H15=\"TRUE\",INDEX('バッチ反映用（非表示）'!$A$5:$O$100,MATCH($G15,'バッチ反映用（非表示）'!$Q$5:$Q$100,0),MATCH('当月仕訳（非表示）'!E$6,'バッチ反映用（非表示）'!$A$4:$G$4,0)),IF($I15=\"end\",SUM($E$7:E14)*-1,\"\"))","v":""},{"$f":"IF($H15=\"TRUE\",INDEX('バッチ反映用（非表示）'!$A$5:$O$100,MATCH($G15,'バッチ反映用（非表示）'!$Q$5:$Q$100,0),MATCH('当月仕訳（非表示）'!F$6,'バッチ反映用（非表示）'!$A$4:$G$4,0)),IF($I15=\"end\",\"0\"&旅費振替依頼書!$I$3&旅費振替依頼書!$J$3&\"振替 \"&MONTH(SUBSTITUTE($B$7,\".\",\"/\"))&\"月旅費→\"&MONTH(SUBSTITUTE($B$7,\".\",\"/\"))&\"月作業費 \"&G14&\"件\",\"\"))","v":""},9,{"$f":"IF(ISERROR(INDEX('バッチ反映用（非表示）'!$A$5:$O$100,MATCH($G15,'バッチ反映用（非表示）'!$Q$5:$Q$100,0),MATCH('当月仕訳（非表示）'!E$6,'バッチ反映用（非表示）'!$A$4:$G$4,0)))=FALSE,\"TRUE\",\"FALSE\")","v":"FALSE"},""]
["",{"$f":"IF(B15=\"転記日付\",INDEX('バッチ反映用（非表示）'!$A$5:$O$100,MATCH($G16,'バッチ反映用（非表示）'!$Q$5:$Q$100,0),MATCH('当月仕訳（非表示）'!B$6,'バッチ反映用（非表示）'!$A$4:$G$4,0)),\"\")","v":{"$error":"#N/A"}},"",{"$f":"IF($H16=\"TRUE\",INDEX('バッチ反映用（非表示）'!$A$5:$O$100,MATCH($G16,'バッチ反映用（非表示）'!$Q$5:$Q$100,0),MATCH('当月仕訳（非表示）'!D$6,'バッチ反映用（非表示）'!$A$4:$G$4,0)),IF($I16=\"end\",D15,\"\"))","v":""},{"$f":"IF($H16=\"TRUE\",INDEX('バッチ反映用（非表示）'!$A$5:$O$100,MATCH($G16,'バッチ反映用（非表示）'!$Q$5:$Q$100,0),MATCH('当月仕訳（非表示）'!E$6,'バッチ反映用（非表示）'!$A$4:$G$4,0)),IF($I16=\"end\",SUM($E$7:E15)*-1,\"\"))","v":""},{"$f":"IF($H16=\"TRUE\",INDEX('バッチ反映用（非表示）'!$A$5:$O$100,MATCH($G16,'バッチ反映用（非表示）'!$Q$5:$Q$100,0),MATCH('当月仕訳（非表示）'!F$6,'バッチ反映用（非表示）'!$A$4:$G$4,0)),IF($I16=\"end\",\"0\"&旅費振替依頼書!$I$3&旅費振替依頼書!$J$3&\"振替 \"&MONTH(SUBSTITUTE($B$7,\".\",\"/\"))&\"月旅費→\"&MONTH(SUBSTITUTE($B$7,\".\",\"/\"))&\"月作業費 \"&G15&\"件\",\"\"))","v":""},10,{"$f":"IF(ISERROR(INDEX('バッチ反映用（非表示）'!$A$5:$O$100,MATCH($G16,'バッチ反映用（非表示）'!$Q$5:$Q$100,0),MATCH('当月仕訳（非表示）'!E$6,'バッチ反映用（非表示）'!$A$4:$G$4,0)))=FALSE,\"TRUE\",\"FALSE\")","v":"FALSE"},""]
["",{"$f":"IF(B16=\"転記日付\",INDEX('バッチ反映用（非表示）'!$A$5:$O$100,MATCH($G17,'バッチ反映用（非表示）'!$Q$5:$Q$100,0),MATCH('当月仕訳（非表示）'!B$6,'バッチ反映用（非表示）'!$A$4:$G$4,0)),\"\")","v":{"$error":"#N/A"}},"",{"$f":"IF($H17=\"TRUE\",INDEX('バッチ反映用（非表示）'!$A$5:$O$100,MATCH($G17,'バッチ反映用（非表示）'!$Q$5:$Q$100,0),MATCH('当月仕訳（非表示）'!D$6,'バッチ反映用（非表示）'!$A$4:$G$4,0)),IF($I17=\"end\",D16,\"\"))","v":""},{"$f":"IF($H17=\"TRUE\",INDEX('バッチ反映用（非表示）'!$A$5:$O$100,MATCH($G17,'バッチ反映用（非表示）'!$Q$5:$Q$100,0),MATCH('当月仕訳（非表示）'!E$6,'バッチ反映用（非表示）'!$A$4:$G$4,0)),IF($I17=\"end\",SUM($E$7:E16)*-1,\"\"))","v":""},{"$f":"IF($H17=\"TRUE\",INDEX('バッチ反映用（非表示）'!$A$5:$O$100,MATCH($G17,'バッチ反映用（非表示）'!$Q$5:$Q$100,0),MATCH('当月仕訳（非表示）'!F$6,'バッチ反映用（非表示）'!$A$4:$G$4,0)),IF($I17=\"end\",\"0\"&旅費振替依頼書!$I$3&旅費振替依頼書!$J$3&\"振替 \"&MONTH(SUBSTITUTE($B$7,\".\",\"/\"))&\"月旅費→\"&MONTH(SUBSTITUTE($B$7,\".\",\"/\"))&\"月作業費 \"&G16&\"件\",\"\"))","v":""},11,{"$f":"IF(ISERROR(INDEX('バッチ反映用（非表示）'!$A$5:$O$100,MATCH($G17,'バッチ反映用（非表示）'!$Q$5:$Q$100,0),MATCH('当月仕訳（非表示）'!E$6,'バッチ反映用（非表示）'!$A$4:$G$4,0)))=FALSE,\"TRUE\",\"FALSE\")","v":"FALSE"},""]
["",{"$f":"IF(B17=\"転記日付\",INDEX('バッチ反映用（非表示）'!$A$5:$O$100,MATCH($G18,'バッチ反映用（非表示）'!$Q$5:$Q$100,0),MATCH('当月仕訳（非表示）'!B$6,'バッチ反映用（非表示）'!$A$4:$G$4,0)),\"\")","v":{"$error":"#N/A"}},"",{"$f":"IF($H18=\"TRUE\",INDEX('バッチ反映用（非表示）'!$A$5:$O$100,MATCH($G18,'バッチ反映用（非表示）'!$Q$5:$Q$100,0),MATCH('当月仕訳（非表示）'!D$6,'バッチ反映用（非表示）'!$A$4:$G$4,0)),IF($I18=\"end\",D17,\"\"))","v":""},{"$f":"IF($H18=\"TRUE\",INDEX('バッチ反映用（非表示）'!$A$5:$O$100,MATCH($G18,'バッチ反映用（非表示）'!$Q$5:$Q$100,0),MATCH('当月仕訳（非表示）'!E$6,'バッチ反映用（非表示）'!$A$4:$G$4,0)),IF($I18=\"end\",SUM($E$7:E17)*-1,\"\"))","v":""},{"$f":"IF($H18=\"TRUE\",INDEX('バッチ反映用（非表示）'!$A$5:$O$100,MATCH($G18,'バッチ反映用（非表示）'!$Q$5:$Q$100,0),MATCH('当月仕訳（非表示）'!F$6,'バッチ反映用（非表示）'!$A$4:$G$4,0)),IF($I18=\"end\",\"0\"&旅費振替依頼書!$I$3&旅費振替依頼書!$J$3&\"振替 \"&MONTH(SUBSTITUTE($B$7,\".\",\"/\"))&\"月旅費→\"&MONTH(SUBSTITUTE($B$7,\".\",\"/\"))&\"月作業費 \"&G17&\"件\",\"\"))","v":""},12,{"$f":"IF(ISERROR(INDEX('バッチ反映用（非表示）'!$A$5:$O$100,MATCH($G18,'バッチ反映用（非表示）'!$Q$5:$Q$100,0),MATCH('当月仕訳（非表示）'!E$6,'バッチ反映用（非表示）'!$A$4:$G$4,0)))=FALSE,\"TRUE\",\"FALSE\")","v":"FALSE"},""]
["",{"$f":"IF(B18=\"転記日付\",INDEX('バッチ反映用（非表示）'!$A$5:$O$100,MATCH($G19,'バッチ反映用（非表示）'!$Q$5:$Q$100,0),MATCH('当月仕訳（非表示）'!B$6,'バッチ反映用（非表示）'!$A$4:$G$4,0)),\"\")","v":{"$error":"#N/A"}},"",{"$f":"IF($H19=\"TRUE\",INDEX('バッチ反映用（非表示）'!$A$5:$O$100,MATCH($G19,'バッチ反映用（非表示）'!$Q$5:$Q$100,0),MATCH('当月仕訳（非表示）'!D$6,'バッチ反映用（非表示）'!$A$4:$G$4,0)),IF($I19=\"end\",D18,\"\"))","v":""},{"$f":"IF($H19=\"TRUE\",INDEX('バッチ反映用（非表示）'!$A$5:$O$100,MATCH($G19,'バッチ反映用（非表示）'!$Q$5:$Q$100,0),MATCH('当月仕訳（非表示）'!E$6,'バッチ反映用（非表示）'!$A$4:$G$4,0)),IF($I19=\"end\",SUM($E$7:E18)*-1,\"\"))","v":""},{"$f":"IF($H19=\"TRUE\",INDEX('バッチ反映用（非表示）'!$A$5:$O$100,MATCH($G19,'バッチ反映用（非表示）'!$Q$5:$Q$100,0),MATCH('当月仕訳（非表示）'!F$6,'バッチ反映用（非表示）'!$A$4:$G$4,0)),IF($I19=\"end\",\"0\"&旅費振替依頼書!$I$3&旅費振替依頼書!$J$3&\"振替 \"&MONTH(SUBSTITUTE($B$7,\".\",\"/\"))&\"月旅費→\"&MONTH(SUBSTITUTE($B$7,\".\",\"/\"))&\"月作業費 \"&G18&\"件\",\"\"))","v":""},13,{"$f":"IF(ISERROR(INDEX('バッチ反映用（非表示）'!$A$5:$O$100,MATCH($G19,'バッチ反映用（非表示）'!$Q$5:$Q$100,0),MATCH('当月仕訳（非表示）'!E$6,'バッチ反映用（非表示）'!$A$4:$G$4,0)))=FALSE,\"TRUE\",\"FALSE\")","v":"FALSE"},""]
["",{"$f":"IF(B19=\"転記日付\",INDEX('バッチ反映用（非表示）'!$A$5:$O$100,MATCH($G20,'バッチ反映用（非表示）'!$Q$5:$Q$100,0),MATCH('当月仕訳（非表示）'!B$6,'バッチ反映用（非表示）'!$A$4:$G$4,0)),\"\")","v":{"$error":"#N/A"}},"",{"$f":"IF($H20=\"TRUE\",INDEX('バッチ反映用（非表示）'!$A$5:$O$100,MATCH($G20,'バッチ反映用（非表示）'!$Q$5:$Q$100,0),MATCH('当月仕訳（非表示）'!D$6,'バッチ反映用（非表示）'!$A$4:$G$4,0)),IF($I20=\"end\",D19,\"\"))","v":""},{"$f":"IF($H20=\"TRUE\",INDEX('バッチ反映用（非表示）'!$A$5:$O$100,MATCH($G20,'バッチ反映用（非表示）'!$Q$5:$Q$100,0),MATCH('当月仕訳（非表示）'!E$6,'バッチ反映用（非表示）'!$A$4:$G$4,0)),IF($I20=\"end\",SUM($E$7:E19)*-1,\"\"))","v":""},{"$f":"IF($H20=\"TRUE\",INDEX('バッチ反映用（非表示）'!$A$5:$O$100,MATCH($G20,'バッチ反映用（非表示）'!$Q$5:$Q$100,0),MATCH('当月仕訳（非表示）'!F$6,'バッチ反映用（非表示）'!$A$4:$G$4,0)),IF($I20=\"end\",\"0\"&旅費振替依頼書!$I$3&旅費振替依頼書!$J$3&\"振替 \"&MONTH(SUBSTITUTE($B$7,\".\",\"/\"))&\"月旅費→\"&MONTH(SUBSTITUTE($B$7,\".\",\"/\"))&\"月作業費 \"&G19&\"件\",\"\"))","v":""},14,{"$f":"IF(ISERROR(INDEX('バッチ反映用（非表示）'!$A$5:$O$100,MATCH($G20,'バッチ反映用（非表示）'!$Q$5:$Q$100,0),MATCH('当月仕訳（非表示）'!E$6,'バッチ反映用（非表示）'!$A$4:$G$4,0)))=FALSE,\"TRUE\",\"FALSE\")","v":"FALSE"},""]
["",{"$f":"IF(B20=\"転記日付\",INDEX('バッチ反映用（非表示）'!$A$5:$O$100,MATCH($G21,'バッチ反映用（非表示）'!$Q$5:$Q$100,0),MATCH('当月仕訳（非表示）'!B$6,'バッチ反映用（非表示）'!$A$4:$G$4,0)),\"\")","v":{"$error":"#N/A"}},"",{"$f":"IF($H21=\"TRUE\",INDEX('バッチ反映用（非表示）'!$A$5:$O$100,MATCH($G21,'バッチ反映用（非表示）'!$Q$5:$Q$100,0),MATCH('当月仕訳（非表示）'!D$6,'バッチ反映用（非表示）'!$A$4:$G$4,0)),IF($I21=\"end\",D20,\"\"))","v":""},{"$f":"IF($H21=\"TRUE\",INDEX('バッチ反映用（非表示）'!$A$5:$O$100,MATCH($G21,'バッチ反映用（非表示）'!$Q$5:$Q$100,0),MATCH('当月仕訳（非表示）'!E$6,'バッチ反映用（非表示）'!$A$4:$G$4,0)),IF($I21=\"end\",SUM($E$7:E20)*-1,\"\"))","v":""},{"$f":"IF($H21=\"TRUE\",INDEX('バッチ反映用（非表示）'!$A$5:$O$100,MATCH($G21,'バッチ反映用（非表示）'!$Q$5:$Q$100,0),MATCH('当月仕訳（非表示）'!F$6,'バッチ反映用（非表示）'!$A$4:$G$4,0)),IF($I21=\"end\",\"0\"&旅費振替依頼書!$I$3&旅費振替依頼書!$J$3&\"振替 \"&MONTH(SUBSTITUTE($B$7,\".\",\"/\"))&\"月旅費→\"&MONTH(SUBSTITUTE($B$7,\".\",\"/\"))&\"月作業費 \"&G20&\"件\",\"\"))","v":""},15,{"$f":"IF(ISERROR(INDEX('バッチ反映用（非表示）'!$A$5:$O$100,MATCH($G21,'バッチ反映用（非表示）'!$Q$5:$Q$100,0),MATCH('当月仕訳（非表示）'!E$6,'バッチ反映用（非表示）'!$A$4:$G$4,0)))=FALSE,\"TRUE\",\"FALSE\")","v":"FALSE"},""]
["",{"$f":"IF(B21=\"転記日付\",INDEX('バッチ反映用（非表示）'!$A$5:$O$100,MATCH($G22,'バッチ反映用（非表示）'!$Q$5:$Q$100,0),MATCH('当月仕訳（非表示）'!B$6,'バッチ反映用（非表示）'!$A$4:$G$4,0)),\"\")","v":{"$error":"#N/A"}},"",{"$f":"IF($H22=\"TRUE\",INDEX('バッチ反映用（非表示）'!$A$5:$O$100,MATCH($G22,'バッチ反映用（非表示）'!$Q$5:$Q$100,0),MATCH('当月仕訳（非表示）'!D$6,'バッチ反映用（非表示）'!$A$4:$G$4,0)),IF($I22=\"end\",D21,\"\"))","v":""},{"$f":"IF($H22=\"TRUE\",INDEX('バッチ反映用（非表示）'!$A$5:$O$100,MATCH($G22,'バッチ反映用（非表示）'!$Q$5:$Q$100,0),MATCH('当月仕訳（非表示）'!E$6,'バッチ反映用（非表示）'!$A$4:$G$4,0)),IF($I22=\"end\",SUM($E$7:E21)*-1,\"\"))","v":""},{"$f":"IF($H22=\"TRUE\",INDEX('バッチ反映用（非表示）'!$A$5:$O$100,MATCH($G22,'バッチ反映用（非表示）'!$Q$5:$Q$100,0),MATCH('当月仕訳（非表示）'!F$6,'バッチ反映用（非表示）'!$A$4:$G$4,0)),IF($I22=\"end\",\"0\"&旅費振替依頼書!$I$3&旅費振替依頼書!$J$3&\"振替 \"&MONTH(SUBSTITUTE($B$7,\".\",\"/\"))&\"月旅費→\"&MONTH(SUBSTITUTE($B$7,\".\",\"/\"))&\"月作業費 \"&G21&\"件\",\"\"))","v":""},16,{"$f":"IF(ISERROR(INDEX('バッチ反映用（非表示）'!$A$5:$O$100,MATCH($G22,'バッチ反映用（非表示）'!$Q$5:$Q$100,0),MATCH('当月仕訳（非表示）'!E$6,'バッチ反映用（非表示）'!$A$4:$G$4,0)))=FALSE,\"TRUE\",\"FALSE\")","v":"FALSE"},""]
["",{"$f":"IF(B22=\"転記日付\",INDEX('バッチ反映用（非表示）'!$A$5:$O$100,MATCH($G23,'バッチ反映用（非表示）'!$Q$5:$Q$100,0),MATCH('当月仕訳（非表示）'!B$6,'バッチ反映用（非表示）'!$A$4:$G$4,0)),\"\")","v":{"$error":"#N/A"}},"",{"$f":"IF($H23=\"TRUE\",INDEX('バッチ反映用（非表示）'!$A$5:$O$100,MATCH($G23,'バッチ反映用（非表示）'!$Q$5:$Q$100,0),MATCH('当月仕訳（非表示）'!D$6,'バッチ反映用（非表示）'!$A$4:$G$4,0)),IF($I23=\"end\",D22,\"\"))","v":""},{"$f":"IF($H23=\"TRUE\",INDEX('バッチ反映用（非表示）'!$A$5:$O$100,MATCH($G23,'バッチ反映用（非表示）'!$Q$5:$Q$100,0),MATCH('当月仕訳（非表示）'!E$6,'バッチ反映用（非表示）'!$A$4:$G$4,0)),IF($I23=\"end\",SUM($E$7:E22)*-1,\"\"))","v":""},{"$f":"IF($H23=\"TRUE\",INDEX('バッチ反映用（非表示）'!$A$5:$O$100,MATCH($G23,'バッチ反映用（非表示）'!$Q$5:$Q$100,0),MATCH('当月仕訳（非表示）'!F$6,'バッチ反映用（非表示）'!$A$4:$G$4,0)),IF($I23=\"end\",\"0\"&旅費振替依頼書!$I$3&旅費振替依頼書!$J$3&\"振替 \"&MONTH(SUBSTITUTE($B$7,\".\",\"/\"))&\"月旅費→\"&MONTH(SUBSTITUTE($B$7,\".\",\"/\"))&\"月作業費 \"&G22&\"件\",\"\"))","v":""},17,{"$f":"IF(ISERROR(INDEX('バッチ反映用（非表示）'!$A$5:$O$100,MATCH($G23,'バッチ反映用（非表示）'!$Q$5:$Q$100,0),MATCH('当月仕訳（非表示）'!E$6,'バッチ反映用（非表示）'!$A$4:$G$4,0)))=FALSE,\"TRUE\",\"FALSE\")","v":"FALSE"},""]
["",{"$f":"IF(B23=\"転記日付\",INDEX('バッチ反映用（非表示）'!$A$5:$O$100,MATCH($G24,'バッチ反映用（非表示）'!$Q$5:$Q$100,0),MATCH('当月仕訳（非表示）'!B$6,'バッチ反映用（非表示）'!$A$4:$G$4,0)),\"\")","v":{"$error":"#N/A"}},"",{"$f":"IF($H24=\"TRUE\",INDEX('バッチ反映用（非表示）'!$A$5:$O$100,MATCH($G24,'バッチ反映用（非表示）'!$Q$5:$Q$100,0),MATCH('当月仕訳（非表示）'!D$6,'バッチ反映用（非表示）'!$A$4:$G$4,0)),IF($I24=\"end\",D23,\"\"))","v":""},{"$f":"IF($H24=\"TRUE\",INDEX('バッチ反映用（非表示）'!$A$5:$O$100,MATCH($G24,'バッチ反映用（非表示）'!$Q$5:$Q$100,0),MATCH('当月仕訳（非表示）'!E$6,'バッチ反映用（非表示）'!$A$4:$G$4,0)),IF($I24=\"end\",SUM($E$7:E23)*-1,\"\"))","v":""},{"$f":"IF($H24=\"TRUE\",INDEX('バッチ反映用（非表示）'!$A$5:$O$100,MATCH($G24,'バッチ反映用（非表示）'!$Q$5:$Q$100,0),MATCH('当月仕訳（非表示）'!F$6,'バッチ反映用（非表示）'!$A$4:$G$4,0)),IF($I24=\"end\",\"0\"&旅費振替依頼書!$I$3&旅費振替依頼書!$J$3&\"振替 \"&MONTH(SUBSTITUTE($B$7,\".\",\"/\"))&\"月旅費→\"&MONTH(SUBSTITUTE($B$7,\".\",\"/\"))&\"月作業費 \"&G23&\"件\",\"\"))","v":""},18,{"$f":"IF(ISERROR(INDEX('バッチ反映用（非表示）'!$A$5:$O$100,MATCH($G24,'バッチ反映用（非表示）'!$Q$5:$Q$100,0),MATCH('当月仕訳（非表示）'!E$6,'バッチ反映用（非表示）'!$A$4:$G$4,0)))=FALSE,\"TRUE\",\"FALSE\")","v":"FALSE"},""]
[{"$f":"IF(A24=\"会社コード\",\"NS\",IF(I24=\"end\",\"eof\",\"\"))","v":""},{"$f":"IF(B24=\"転記日付\",INDEX('バッチ反映用（非表示）'!$A$5:$O$100,MATCH($G25,'バッチ反映用（非表示）'!$Q$5:$Q$100,0),MATCH('当月仕訳（非表示）'!B$6,'バッチ反映用（非表示）'!$A$4:$G$4,0)),\"\")","v":{"$error":"#N/A"}},{"$f":"IF(D25<>\"\",IF(I25<>\"end\",$C$3,$C$4),\"\")","v":""},{"$f":"IF($H25=\"TRUE\",INDEX('バッチ反映用（非表示）'!$A$5:$O$100,MATCH($G25,'バッチ反映用（非表示）'!$Q$5:$Q$100,0),MATCH('当月仕訳（非表示）'!D$6,'バッチ反映用（非表示）'!$A$4:$G$4,0)),IF($I25=\"end\",D24,\"\"))","v":""},{"$f":"IF($H25=\"TRUE\",INDEX('バッチ反映用（非表示）'!$A$5:$O$100,MATCH($G25,'バッチ反映用（非表示）'!$Q$5:$Q$100,0),MATCH('当月仕訳（非表示）'!E$6,'バッチ反映用（非表示）'!$A$4:$G$4,0)),IF($I25=\"end\",SUM($E$7:E24)*-1,\"\"))","v":""},{"$f":"IF($H25=\"TRUE\",INDEX('バッチ反映用（非表示）'!$A$5:$O$100,MATCH($G25,'バッチ反映用（非表示）'!$Q$5:$Q$100,0),MATCH('当月仕訳（非表示）'!F$6,'バッチ反映用（非表示）'!$A$4:$G$4,0)),IF($I25=\"end\",\"0\"&旅費振替依頼書!$I$3&旅費振替依頼書!$J$3&\"振替 \"&MONTH(SUBSTITUTE($B$7,\".\",\"/\"))&\"月旅費→\"&MONTH(SUBSTITUTE($B$7,\".\",\"/\"))&\"月作業費 \"&G24&\"件\",\"\"))","v":""},19,{"$f":"IF(ISERROR(INDEX('バッチ反映用（非表示）'!$A$5:$O$100,MATCH($G25,'バッチ反映用（非表示）'!$Q$5:$Q$100,0),MATCH('当月仕訳（非表示）'!E$6,'バッチ反映用（非表示）'!$A$4:$G$4,0)))=FALSE,\"TRUE\",\"FALSE\")","v":"FALSE"},{"$f":"IF(AND(H24=\"TRUE\",H25=\"FALSE\"),\"end\",\"\")","v":""}]
["",{"$f":"IF(B25=\"転記日付\",INDEX('バッチ反映用（非表示）'!$A$5:$O$100,MATCH($G26,'バッチ反映用（非表示）'!$Q$5:$Q$100,0),MATCH('当月仕訳（非表示）'!B$6,'バッチ反映用（非表示）'!$A$4:$G$4,0)),\"\")","v":{"$error":"#N/A"}},"",{"$f":"IF($H26=\"TRUE\",INDEX('バッチ反映用（非表示）'!$A$5:$O$100,MATCH($G26,'バッチ反映用（非表示）'!$Q$5:$Q$100,0),MATCH('当月仕訳（非表示）'!D$6,'バッチ反映用（非表示）'!$A$4:$G$4,0)),IF($I26=\"end\",D25,\"\"))","v":""},{"$f":"IF($H26=\"TRUE\",INDEX('バッチ反映用（非表示）'!$A$5:$O$100,MATCH($G26,'バッチ反映用（非表示）'!$Q$5:$Q$100,0),MATCH('当月仕訳（非表示）'!E$6,'バッチ反映用（非表示）'!$A$4:$G$4,0)),IF($I26=\"end\",SUM($E$7:E25)*-1,\"\"))","v":""},{"$f":"IF($H26=\"TRUE\",INDEX('バッチ反映用（非表示）'!$A$5:$O$100,MATCH($G26,'バッチ反映用（非表示）'!$Q$5:$Q$100,0),MATCH('当月仕訳（非表示）'!F$6,'バッチ反映用（非表示）'!$A$4:$G$4,0)),IF($I26=\"end\",\"0\"&旅費振替依頼書!$I$3&旅費振替依頼書!$J$3&\"振替 \"&MONTH(SUBSTITUTE($B$7,\".\",\"/\"))&\"月旅費→\"&MONTH(SUBSTITUTE($B$7,\".\",\"/\"))&\"月作業費 \"&G25&\"件\",\"\"))","v":""},20,{"$f":"IF(ISERROR(INDEX('バッチ反映用（非表示）'!$A$5:$O$100,MATCH($G26,'バッチ反映用（非表示）'!$Q$5:$Q$100,0),MATCH('当月仕訳（非表示）'!E$6,'バッチ反映用（非表示）'!$A$4:$G$4,0)))=FALSE,\"TRUE\",\"FALSE\")","v":"FALSE"},""]
["",{"$f":"IF(B26=\"転記日付\",INDEX('バッチ反映用（非表示）'!$A$5:$O$100,MATCH($G27,'バッチ反映用（非表示）'!$Q$5:$Q$100,0),MATCH('当月仕訳（非表示）'!B$6,'バッチ反映用（非表示）'!$A$4:$G$4,0)),\"\")","v":{"$error":"#N/A"}},"",{"$f":"IF($H27=\"TRUE\",INDEX('バッチ反映用（非表示）'!$A$5:$O$100,MATCH($G27,'バッチ反映用（非表示）'!$Q$5:$Q$100,0),MATCH('当月仕訳（非表示）'!D$6,'バッチ反映用（非表示）'!$A$4:$G$4,0)),IF($I27=\"end\",D26,\"\"))","v":""},{"$f":"IF($H27=\"TRUE\",INDEX('バッチ反映用（非表示）'!$A$5:$O$100,MATCH($G27,'バッチ反映用（非表示）'!$Q$5:$Q$100,0),MATCH('当月仕訳（非表示）'!E$6,'バッチ反映用（非表示）'!$A$4:$G$4,0)),IF($I27=\"end\",SUM($E$7:E26)*-1,\"\"))","v":""},{"$f":"IF($H27=\"TRUE\",INDEX('バッチ反映用（非表示）'!$A$5:$O$100,MATCH($G27,'バッチ反映用（非表示）'!$Q$5:$Q$100,0),MATCH('当月仕訳（非表示）'!F$6,'バッチ反映用（非表示）'!$A$4:$G$4,0)),IF($I27=\"end\",\"0\"&旅費振替依頼書!$I$3&旅費振替依頼書!$J$3&\"振替 \"&MONTH(SUBSTITUTE($B$7,\".\",\"/\"))&\"月旅費→\"&MONTH(SUBSTITUTE($B$7,\".\",\"/\"))&\"月作業費 \"&G26&\"件\",\"\"))","v":""},21,{"$f":"IF(ISERROR(INDEX('バッチ反映用（非表示）'!$A$5:$O$100,MATCH($G27,'バッチ反映用（非表示）'!$Q$5:$Q$100,0),MATCH('当月仕訳（非表示）'!E$6,'バッチ反映用（非表示）'!$A$4:$G$4,0)))=FALSE,\"TRUE\",\"FALSE\")","v":"FALSE"},""]
["",{"$f":"IF(B27=\"転記日付\",INDEX('バッチ反映用（非表示）'!$A$5:$O$100,MATCH($G28,'バッチ反映用（非表示）'!$Q$5:$Q$100,0),MATCH('当月仕訳（非表示）'!B$6,'バッチ反映用（非表示）'!$A$4:$G$4,0)),\"\")","v":{"$error":"#N/A"}},"",{"$f":"IF($H28=\"TRUE\",INDEX('バッチ反映用（非表示）'!$A$5:$O$100,MATCH($G28,'バッチ反映用（非表示）'!$Q$5:$Q$100,0),MATCH('当月仕訳（非表示）'!D$6,'バッチ反映用（非表示）'!$A$4:$G$4,0)),IF($I28=\"end\",D27,\"\"))","v":""},{"$f":"IF($H28=\"TRUE\",INDEX('バッチ反映用（非表示）'!$A$5:$O$100,MATCH($G28,'バッチ反映用（非表示）'!$Q$5:$Q$100,0),MATCH('当月仕訳（非表示）'!E$6,'バッチ反映用（非表示）'!$A$4:$G$4,0)),IF($I28=\"end\",SUM($E$7:E27)*-1,\"\"))","v":""},{"$f":"IF($H28=\"TRUE\",INDEX('バッチ反映用（非表示）'!$A$5:$O$100,MATCH($G28,'バッチ反映用（非表示）'!$Q$5:$Q$100,0),MATCH('当月仕訳（非表示）'!F$6,'バッチ反映用（非表示）'!$A$4:$G$4,0)),IF($I28=\"end\",\"0\"&旅費振替依頼書!$I$3&旅費振替依頼書!$J$3&\"振替 \"&MONTH(SUBSTITUTE($B$7,\".\",\"/\"))&\"月旅費→\"&MONTH(SUBSTITUTE($B$7,\".\",\"/\"))&\"月作業費 \"&G27&\"件\",\"\"))","v":""},22,{"$f":"IF(ISERROR(INDEX('バッチ反映用（非表示）'!$A$5:$O$100,MATCH($G28,'バッチ反映用（非表示）'!$Q$5:$Q$100,0),MATCH('当月仕訳（非表示）'!E$6,'バッチ反映用（非表示）'!$A$4:$G$4,0)))=FALSE,\"TRUE\",\"FALSE\")","v":"FALSE"},""]
["",{"$f":"IF(B28=\"転記日付\",INDEX('バッチ反映用（非表示）'!$A$5:$O$100,MATCH($G29,'バッチ反映用（非表示）'!$Q$5:$Q$100,0),MATCH('当月仕訳（非表示）'!B$6,'バッチ反映用（非表示）'!$A$4:$G$4,0)),\"\")","v":{"$error":"#N/A"}},"",{"$f":"IF($H29=\"TRUE\",INDEX('バッチ反映用（非表示）'!$A$5:$O$100,MATCH($G29,'バッチ反映用（非表示）'!$Q$5:$Q$100,0),MATCH('当月仕訳（非表示）'!D$6,'バッチ反映用（非表示）'!$A$4:$G$4,0)),IF($I29=\"end\",D28,\"\"))","v":""},{"$f":"IF($H29=\"TRUE\",INDEX('バッチ反映用（非表示）'!$A$5:$O$100,MATCH($G29,'バッチ反映用（非表示）'!$Q$5:$Q$100,0),MATCH('当月仕訳（非表示）'!E$6,'バッチ反映用（非表示）'!$A$4:$G$4,0)),IF($I29=\"end\",SUM($E$7:E28)*-1,\"\"))","v":""},{"$f":"IF($H29=\"TRUE\",INDEX('バッチ反映用（非表示）'!$A$5:$O$100,MATCH($G29,'バッチ反映用（非表示）'!$Q$5:$Q$100,0),MATCH('当月仕訳（非表示）'!F$6,'バッチ反映用（非表示）'!$A$4:$G$4,0)),IF($I29=\"end\",\"0\"&旅費振替依頼書!$I$3&旅費振替依頼書!$J$3&\"振替 \"&MONTH(SUBSTITUTE($B$7,\".\",\"/\"))&\"月旅費→\"&MONTH(SUBSTITUTE($B$7,\".\",\"/\"))&\"月作業費 \"&G28&\"件\",\"\"))","v":""},23,{"$f":"IF(ISERROR(INDEX('バッチ反映用（非表示）'!$A$5:$O$100,MATCH($G29,'バッチ反映用（非表示）'!$Q$5:$Q$100,0),MATCH('当月仕訳（非表示）'!E$6,'バッチ反映用（非表示）'!$A$4:$G$4,0)))=FALSE,\"TRUE\",\"FALSE\")","v":"FALSE"},""]
["",{"$f":"IF(B29=\"転記日付\",INDEX('バッチ反映用（非表示）'!$A$5:$O$100,MATCH($G30,'バッチ反映用（非表示）'!$Q$5:$Q$100,0),MATCH('当月仕訳（非表示）'!B$6,'バッチ反映用（非表示）'!$A$4:$G$4,0)),\"\")","v":{"$error":"#N/A"}},"",{"$f":"IF($H30=\"TRUE\",INDEX('バッチ反映用（非表示）'!$A$5:$O$100,MATCH($G30,'バッチ反映用（非表示）'!$Q$5:$Q$100,0),MATCH('当月仕訳（非表示）'!D$6,'バッチ反映用（非表示）'!$A$4:$G$4,0)),IF($I30=\"end\",D29,\"\"))","v":""},{"$f":"IF($H30=\"TRUE\",INDEX('バッチ反映用（非表示）'!$A$5:$O$100,MATCH($G30,'バッチ反映用（非表示）'!$Q$5:$Q$100,0),MATCH('当月仕訳（非表示）'!E$6,'バッチ反映用（非表示）'!$A$4:$G$4,0)),IF($I30=\"end\",SUM($E$7:E29)*-1,\"\"))","v":""},{"$f":"IF($H30=\"TRUE\",INDEX('バッチ反映用（非表示）'!$A$5:$O$100,MATCH($G30,'バッチ反映用（非表示）'!$Q$5:$Q$100,0),MATCH('当月仕訳（非表示）'!F$6,'バッチ反映用（非表示）'!$A$4:$G$4,0)),IF($I30=\"end\",\"0\"&旅費振替依頼書!$I$3&旅費振替依頼書!$J$3&\"振替 \"&MONTH(SUBSTITUTE($B$7,\".\",\"/\"))&\"月旅費→\"&MONTH(SUBSTITUTE($B$7,\".\",\"/\"))&\"月作業費 \"&G29&\"件\",\"\"))","v":""},24,{"$f":"IF(ISERROR(INDEX('バッチ反映用（非表示）'!$A$5:$O$100,MATCH($G30,'バッチ反映用（非表示）'!$Q$5:$Q$100,0),MATCH('当月仕訳（非表示）'!E$6,'バッチ反映用（非表示）'!$A$4:$G$4,0)))=FALSE,\"TRUE\",\"FALSE\")","v":"FALSE"},""]
["",{"$f":"IF(B30=\"転記日付\",INDEX('バッチ反映用（非表示）'!$A$5:$O$100,MATCH($G31,'バッチ反映用（非表示）'!$Q$5:$Q$100,0),MATCH('当月仕訳（非表示）'!B$6,'バッチ反映用（非表示）'!$A$4:$G$4,0)),\"\")","v":{"$error":"#N/A"}},"",{"$f":"IF($H31=\"TRUE\",INDEX('バッチ反映用（非表示）'!$A$5:$O$100,MATCH($G31,'バッチ反映用（非表示）'!$Q$5:$Q$100,0),MATCH('当月仕訳（非表示）'!D$6,'バッチ反映用（非表示）'!$A$4:$G$4,0)),IF($I31=\"end\",D30,\"\"))","v":""},{"$f":"IF($H31=\"TRUE\",INDEX('バッチ反映用（非表示）'!$A$5:$O$100,MATCH($G31,'バッチ反映用（非表示）'!$Q$5:$Q$100,0),MATCH('当月仕訳（非表示）'!E$6,'バッチ反映用（非表示）'!$A$4:$G$4,0)),IF($I31=\"end\",SUM($E$7:E30)*-1,\"\"))","v":""},{"$f":"IF($H31=\"TRUE\",INDEX('バッチ反映用（非表示）'!$A$5:$O$100,MATCH($G31,'バッチ反映用（非表示）'!$Q$5:$Q$100,0),MATCH('当月仕訳（非表示）'!F$6,'バッチ反映用（非表示）'!$A$4:$G$4,0)),IF($I31=\"end\",\"0\"&旅費振替依頼書!$I$3&旅費振替依頼書!$J$3&\"振替 \"&MONTH(SUBSTITUTE($B$7,\".\",\"/\"))&\"月旅費→\"&MONTH(SUBSTITUTE($B$7,\".\",\"/\"))&\"月作業費 \"&G30&\"件\",\"\"))","v":""},25,{"$f":"IF(ISERROR(INDEX('バッチ反映用（非表示）'!$A$5:$O$100,MATCH($G31,'バッチ反映用（非表示）'!$Q$5:$Q$100,0),MATCH('当月仕訳（非表示）'!E$6,'バッチ反映用（非表示）'!$A$4:$G$4,0)))=FALSE,\"TRUE\",\"FALSE\")","v":"FALSE"},""]
["",{"$f":"IF(B31=\"転記日付\",INDEX('バッチ反映用（非表示）'!$A$5:$O$100,MATCH($G32,'バッチ反映用（非表示）'!$Q$5:$Q$100,0),MATCH('当月仕訳（非表示）'!B$6,'バッチ反映用（非表示）'!$A$4:$G$4,0)),\"\")","v":{"$error":"#N/A"}},"",{"$f":"IF($H32=\"TRUE\",INDEX('バッチ反映用（非表示）'!$A$5:$O$100,MATCH($G32,'バッチ反映用（非表示）'!$Q$5:$Q$100,0),MATCH('当月仕訳（非表示）'!D$6,'バッチ反映用（非表示）'!$A$4:$G$4,0)),IF($I32=\"end\",D31,\"\"))","v":""},{"$f":"IF($H32=\"TRUE\",INDEX('バッチ反映用（非表示）'!$A$5:$O$100,MATCH($G32,'バッチ反映用（非表示）'!$Q$5:$Q$100,0),MATCH('当月仕訳（非表示）'!E$6,'バッチ反映用（非表示）'!$A$4:$G$4,0)),IF($I32=\"end\",SUM($E$7:E31)*-1,\"\"))","v":""},{"$f":"IF($H32=\"TRUE\",INDEX('バッチ反映用（非表示）'!$A$5:$O$100,MATCH($G32,'バッチ反映用（非表示）'!$Q$5:$Q$100,0),MATCH('当月仕訳（非表示）'!F$6,'バッチ反映用（非表示）'!$A$4:$G$4,0)),IF($I32=\"end\",\"0\"&旅費振替依頼書!$I$3&旅費振替依頼書!$J$3&\"振替 \"&MONTH(SUBSTITUTE($B$7,\".\",\"/\"))&\"月旅費→\"&MONTH(SUBSTITUTE($B$7,\".\",\"/\"))&\"月作業費 \"&G31&\"件\",\"\"))","v":""},26,{"$f":"IF(ISERROR(INDEX('バッチ反映用（非表示）'!$A$5:$O$100,MATCH($G32,'バッチ反映用（非表示）'!$Q$5:$Q$100,0),MATCH('当月仕訳（非表示）'!E$6,'バッチ反映用（非表示）'!$A$4:$G$4,0)))=FALSE,\"TRUE\",\"FALSE\")","v":"FALSE"},""]
["",{"$f":"IF(B32=\"転記日付\",INDEX('バッチ反映用（非表示）'!$A$5:$O$100,MATCH($G33,'バッチ反映用（非表示）'!$Q$5:$Q$100,0),MATCH('当月仕訳（非表示）'!B$6,'バッチ反映用（非表示）'!$A$4:$G$4,0)),\"\")","v":{"$error":"#N/A"}},"",{"$f":"IF($H33=\"TRUE\",INDEX('バッチ反映用（非表示）'!$A$5:$O$100,MATCH($G33,'バッチ反映用（非表示）'!$Q$5:$Q$100,0),MATCH('当月仕訳（非表示）'!D$6,'バッチ反映用（非表示）'!$A$4:$G$4,0)),IF($I33=\"end\",D32,\"\"))","v":""},{"$f":"IF($H33=\"TRUE\",INDEX('バッチ反映用（非表示）'!$A$5:$O$100,MATCH($G33,'バッチ反映用（非表示）'!$Q$5:$Q$100,0),MATCH('当月仕訳（非表示）'!E$6,'バッチ反映用（非表示）'!$A$4:$G$4,0)),IF($I33=\"end\",SUM($E$7:E32)*-1,\"\"))","v":""},{"$f":"IF($H33=\"TRUE\",INDEX('バッチ反映用（非表示）'!$A$5:$O$100,MATCH($G33,'バッチ反映用（非表示）'!$Q$5:$Q$100,0),MATCH('当月仕訳（非表示）'!F$6,'バッチ反映用（非表示）'!$A$4:$G$4,0)),IF($I33=\"end\",\"0\"&旅費振替依頼書!$I$3&旅費振替依頼書!$J$3&\"振替 \"&MONTH(SUBSTITUTE($B$7,\".\",\"/\"))&\"月旅費→\"&MONTH(SUBSTITUTE($B$7,\".\",\"/\"))&\"月作業費 \"&G32&\"件\",\"\"))","v":""},27,{"$f":"IF(ISERROR(INDEX('バッチ反映用（非表示）'!$A$5:$O$100,MATCH($G33,'バッチ反映用（非表示）'!$Q$5:$Q$100,0),MATCH('当月仕訳（非表示）'!E$6,'バッチ反映用（非表示）'!$A$4:$G$4,0)))=FALSE,\"TRUE\",\"FALSE\")","v":"FALSE"},""]
["",{"$f":"IF(B33=\"転記日付\",INDEX('バッチ反映用（非表示）'!$A$5:$O$100,MATCH($G34,'バッチ反映用（非表示）'!$Q$5:$Q$100,0),MATCH('当月仕訳（非表示）'!B$6,'バッチ反映用（非表示）'!$A$4:$G$4,0)),\"\")","v":{"$error":"#N/A"}},"",{"$f":"IF($H34=\"TRUE\",INDEX('バッチ反映用（非表示）'!$A$5:$O$100,MATCH($G34,'バッチ反映用（非表示）'!$Q$5:$Q$100,0),MATCH('当月仕訳（非表示）'!D$6,'バッチ反映用（非表示）'!$A$4:$G$4,0)),IF($I34=\"end\",D33,\"\"))","v":""},{"$f":"IF($H34=\"TRUE\",INDEX('バッチ反映用（非表示）'!$A$5:$O$100,MATCH($G34,'バッチ反映用（非表示）'!$Q$5:$Q$100,0),MATCH('当月仕訳（非表示）'!E$6,'バッチ反映用（非表示）'!$A$4:$G$4,0)),IF($I34=\"end\",SUM($E$7:E33)*-1,\"\"))","v":""},{"$f":"IF($H34=\"TRUE\",INDEX('バッチ反映用（非表示）'!$A$5:$O$100,MATCH($G34,'バッチ反映用（非表示）'!$Q$5:$Q$100,0),MATCH('当月仕訳（非表示）'!F$6,'バッチ反映用（非表示）'!$A$4:$G$4,0)),IF($I34=\"end\",\"0\"&旅費振替依頼書!$I$3&旅費振替依頼書!$J$3&\"振替 \"&MONTH(SUBSTITUTE($B$7,\".\",\"/\"))&\"月旅費→\"&MONTH(SUBSTITUTE($B$7,\".\",\"/\"))&\"月作業費 \"&G33&\"件\",\"\"))","v":""},28,{"$f":"IF(ISERROR(INDEX('バッチ反映用（非表示）'!$A$5:$O$100,MATCH($G34,'バッチ反映用（非表示）'!$Q$5:$Q$100,0),MATCH('当月仕訳（非表示）'!E$6,'バッチ反映用（非表示）'!$A$4:$G$4,0)))=FALSE,\"TRUE\",\"FALSE\")","v":"FALSE"},""]
["",{"$f":"IF(B34=\"転記日付\",INDEX('バッチ反映用（非表示）'!$A$5:$O$100,MATCH($G35,'バッチ反映用（非表示）'!$Q$5:$Q$100,0),MATCH('当月仕訳（非表示）'!B$6,'バッチ反映用（非表示）'!$A$4:$G$4,0)),\"\")","v":{"$error":"#N/A"}},"",{"$f":"IF($H35=\"TRUE\",INDEX('バッチ反映用（非表示）'!$A$5:$O$100,MATCH($G35,'バッチ反映用（非表示）'!$Q$5:$Q$100,0),MATCH('当月仕訳（非表示）'!D$6,'バッチ反映用（非表示）'!$A$4:$G$4,0)),IF($I35=\"end\",D34,\"\"))","v":""},{"$f":"IF($H35=\"TRUE\",INDEX('バッチ反映用（非表示）'!$A$5:$O$100,MATCH($G35,'バッチ反映用（非表示）'!$Q$5:$Q$100,0),MATCH('当月仕訳（非表示）'!E$6,'バッチ反映用（非表示）'!$A$4:$G$4,0)),IF($I35=\"end\",SUM($E$7:E34)*-1,\"\"))","v":""},{"$f":"IF($H35=\"TRUE\",INDEX('バッチ反映用（非表示）'!$A$5:$O$100,MATCH($G35,'バッチ反映用（非表示）'!$Q$5:$Q$100,0),MATCH('当月仕訳（非表示）'!F$6,'バッチ反映用（非表示）'!$A$4:$G$4,0)),IF($I35=\"end\",\"0\"&旅費振替依頼書!$I$3&旅費振替依頼書!$J$3&\"振替 \"&MONTH(SUBSTITUTE($B$7,\".\",\"/\"))&\"月旅費→\"&MONTH(SUBSTITUTE($B$7,\".\",\"/\"))&\"月作業費 \"&G34&\"件\",\"\"))","v":""},29,{"$f":"IF(ISERROR(INDEX('バッチ反映用（非表示）'!$A$5:$O$100,MATCH($G35,'バッチ反映用（非表示）'!$Q$5:$Q$100,0),MATCH('当月仕訳（非表示）'!E$6,'バッチ反映用（非表示）'!$A$4:$G$4,0)))=FALSE,\"TRUE\",\"FALSE\")","v":"FALSE"},""]
["",{"$f":"IF(B35=\"転記日付\",INDEX('バッチ反映用（非表示）'!$A$5:$O$100,MATCH($G36,'バッチ反映用（非表示）'!$Q$5:$Q$100,0),MATCH('当月仕訳（非表示）'!B$6,'バッチ反映用（非表示）'!$A$4:$G$4,0)),\"\")","v":{"$error":"#N/A"}},"",{"$f":"IF($H36=\"TRUE\",INDEX('バッチ反映用（非表示）'!$A$5:$O$100,MATCH($G36,'バッチ反映用（非表示）'!$Q$5:$Q$100,0),MATCH('当月仕訳（非表示）'!D$6,'バッチ反映用（非表示）'!$A$4:$G$4,0)),IF($I36=\"end\",D35,\"\"))","v":""},{"$f":"IF($H36=\"TRUE\",INDEX('バッチ反映用（非表示）'!$A$5:$O$100,MATCH($G36,'バッチ反映用（非表示）'!$Q$5:$Q$100,0),MATCH('当月仕訳（非表示）'!E$6,'バッチ反映用（非表示）'!$A$4:$G$4,0)),IF($I36=\"end\",SUM($E$7:E35)*-1,\"\"))","v":""},{"$f":"IF($H36=\"TRUE\",INDEX('バッチ反映用（非表示）'!$A$5:$O$100,MATCH($G36,'バッチ反映用（非表示）'!$Q$5:$Q$100,0),MATCH('当月仕訳（非表示）'!F$6,'バッチ反映用（非表示）'!$A$4:$G$4,0)),IF($I36=\"end\",\"0\"&旅費振替依頼書!$I$3&旅費振替依頼書!$J$3&\"振替 \"&MONTH(SUBSTITUTE($B$7,\".\",\"/\"))&\"月旅費→\"&MONTH(SUBSTITUTE($B$7,\".\",\"/\"))&\"月作業費 \"&G35&\"件\",\"\"))","v":""},30,{"$f":"IF(ISERROR(INDEX('バッチ反映用（非表示）'!$A$5:$O$100,MATCH($G36,'バッチ反映用（非表示）'!$Q$5:$Q$100,0),MATCH('当月仕訳（非表示）'!E$6,'バッチ反映用（非表示）'!$A$4:$G$4,0)))=FALSE,\"TRUE\",\"FALSE\")","v":"FALSE"},""]
["",{"$f":"IF(B36=\"転記日付\",INDEX('バッチ反映用（非表示）'!$A$5:$O$100,MATCH($G37,'バッチ反映用（非表示）'!$Q$5:$Q$100,0),MATCH('当月仕訳（非表示）'!B$6,'バッチ反映用（非表示）'!$A$4:$G$4,0)),\"\")","v":{"$error":"#N/A"}},"",{"$f":"IF($H37=\"TRUE\",INDEX('バッチ反映用（非表示）'!$A$5:$O$100,MATCH($G37,'バッチ反映用（非表示）'!$Q$5:$Q$100,0),MATCH('当月仕訳（非表示）'!D$6,'バッチ反映用（非表示）'!$A$4:$G$4,0)),IF($I37=\"end\",D36,\"\"))","v":""},{"$f":"IF($H37=\"TRUE\",INDEX('バッチ反映用（非表示）'!$A$5:$O$100,MATCH($G37,'バッチ反映用（非表示）'!$Q$5:$Q$100,0),MATCH('当月仕訳（非表示）'!E$6,'バッチ反映用（非表示）'!$A$4:$G$4,0)),IF($I37=\"end\",SUM($E$7:E36)*-1,\"\"))","v":""},{"$f":"IF($H37=\"TRUE\",INDEX('バッチ反映用（非表示）'!$A$5:$O$100,MATCH($G37,'バッチ反映用（非表示）'!$Q$5:$Q$100,0),MATCH('当月仕訳（非表示）'!F$6,'バッチ反映用（非表示）'!$A$4:$G$4,0)),IF($I37=\"end\",\"0\"&旅費振替依頼書!$I$3&旅費振替依頼書!$J$3&\"振替 \"&MONTH(SUBSTITUTE($B$7,\".\",\"/\"))&\"月旅費→\"&MONTH(SUBSTITUTE($B$7,\".\",\"/\"))&\"月作業費 \"&G36&\"件\",\"\"))","v":""},31,{"$f":"IF(ISERROR(INDEX('バッチ反映用（非表示）'!$A$5:$O$100,MATCH($G37,'バッチ反映用（非表示）'!$Q$5:$Q$100,0),MATCH('当月仕訳（非表示）'!E$6,'バッチ反映用（非表示）'!$A$4:$G$4,0)))=FALSE,\"TRUE\",\"FALSE\")","v":"FALSE"},""]
["",{"$f":"IF(B37=\"転記日付\",INDEX('バッチ反映用（非表示）'!$A$5:$O$100,MATCH($G38,'バッチ反映用（非表示）'!$Q$5:$Q$100,0),MATCH('当月仕訳（非表示）'!B$6,'バッチ反映用（非表示）'!$A$4:$G$4,0)),\"\")","v":{"$error":"#N/A"}},"",{"$f":"IF($H38=\"TRUE\",INDEX('バッチ反映用（非表示）'!$A$5:$O$100,MATCH($G38,'バッチ反映用（非表示）'!$Q$5:$Q$100,0),MATCH('当月仕訳（非表示）'!D$6,'バッチ反映用（非表示）'!$A$4:$G$4,0)),IF($I38=\"end\",D37,\"\"))","v":""},{"$f":"IF($H38=\"TRUE\",INDEX('バッチ反映用（非表示）'!$A$5:$O$100,MATCH($G38,'バッチ反映用（非表示）'!$Q$5:$Q$100,0),MATCH('当月仕訳（非表示）'!E$6,'バッチ反映用（非表示）'!$A$4:$G$4,0)),IF($I38=\"end\",SUM($E$7:E37)*-1,\"\"))","v":""},{"$f":"IF($H38=\"TRUE\",INDEX('バッチ反映用（非表示）'!$A$5:$O$100,MATCH($G38,'バッチ反映用（非表示）'!$Q$5:$Q$100,0),MATCH('当月仕訳（非表示）'!F$6,'バッチ反映用（非表示）'!$A$4:$G$4,0)),IF($I38=\"end\",\"0\"&旅費振替依頼書!$I$3&旅費振替依頼書!$J$3&\"振替 \"&MONTH(SUBSTITUTE($B$7,\".\",\"/\"))&\"月旅費→\"&MONTH(SUBSTITUTE($B$7,\".\",\"/\"))&\"月作業費 \"&G37&\"件\",\"\"))","v":""},32,{"$f":"IF(ISERROR(INDEX('バッチ反映用（非表示）'!$A$5:$O$100,MATCH($G38,'バッチ反映用（非表示）'!$Q$5:$Q$100,0),MATCH('当月仕訳（非表示）'!E$6,'バッチ反映用（非表示）'!$A$4:$G$4,0)))=FALSE,\"TRUE\",\"FALSE\")","v":"FALSE"},""]
["",{"$f":"IF(B38=\"転記日付\",INDEX('バッチ反映用（非表示）'!$A$5:$O$100,MATCH($G39,'バッチ反映用（非表示）'!$Q$5:$Q$100,0),MATCH('当月仕訳（非表示）'!B$6,'バッチ反映用（非表示）'!$A$4:$G$4,0)),\"\")","v":{"$error":"#N/A"}},"",{"$f":"IF($H39=\"TRUE\",INDEX('バッチ反映用（非表示）'!$A$5:$O$100,MATCH($G39,'バッチ反映用（非表示）'!$Q$5:$Q$100,0),MATCH('当月仕訳（非表示）'!D$6,'バッチ反映用（非表示）'!$A$4:$G$4,0)),IF($I39=\"end\",D38,\"\"))","v":""},{"$f":"IF($H39=\"TRUE\",INDEX('バッチ反映用（非表示）'!$A$5:$O$100,MATCH($G39,'バッチ反映用（非表示）'!$Q$5:$Q$100,0),MATCH('当月仕訳（非表示）'!E$6,'バッチ反映用（非表示）'!$A$4:$G$4,0)),IF($I39=\"end\",SUM($E$7:E38)*-1,\"\"))","v":""},{"$f":"IF($H39=\"TRUE\",INDEX('バッチ反映用（非表示）'!$A$5:$O$100,MATCH($G39,'バッチ反映用（非表示）'!$Q$5:$Q$100,0),MATCH('当月仕訳（非表示）'!F$6,'バッチ反映用（非表示）'!$A$4:$G$4,0)),IF($I39=\"end\",\"0\"&旅費振替依頼書!$I$3&旅費振替依頼書!$J$3&\"振替 \"&MONTH(SUBSTITUTE($B$7,\".\",\"/\"))&\"月旅費→\"&MONTH(SUBSTITUTE($B$7,\".\",\"/\"))&\"月作業費 \"&G38&\"件\",\"\"))","v":""},33,{"$f":"IF(ISERROR(INDEX('バッチ反映用（非表示）'!$A$5:$O$100,MATCH($G39,'バッチ反映用（非表示）'!$Q$5:$Q$100,0),MATCH('当月仕訳（非表示）'!E$6,'バッチ反映用（非表示）'!$A$4:$G$4,0)))=FALSE,\"TRUE\",\"FALSE\")","v":"FALSE"},""]
["",{"$f":"IF(B39=\"転記日付\",INDEX('バッチ反映用（非表示）'!$A$5:$O$100,MATCH($G40,'バッチ反映用（非表示）'!$Q$5:$Q$100,0),MATCH('当月仕訳（非表示）'!B$6,'バッチ反映用（非表示）'!$A$4:$G$4,0)),\"\")","v":{"$error":"#N/A"}},"",{"$f":"IF($H40=\"TRUE\",INDEX('バッチ反映用（非表示）'!$A$5:$O$100,MATCH($G40,'バッチ反映用（非表示）'!$Q$5:$Q$100,0),MATCH('当月仕訳（非表示）'!D$6,'バッチ反映用（非表示）'!$A$4:$G$4,0)),IF($I40=\"end\",D39,\"\"))","v":""},{"$f":"IF($H40=\"TRUE\",INDEX('バッチ反映用（非表示）'!$A$5:$O$100,MATCH($G40,'バッチ反映用（非表示）'!$Q$5:$Q$100,0),MATCH('当月仕訳（非表示）'!E$6,'バッチ反映用（非表示）'!$A$4:$G$4,0)),IF($I40=\"end\",SUM($E$7:E39)*-1,\"\"))","v":""},{"$f":"IF($H40=\"TRUE\",INDEX('バッチ反映用（非表示）'!$A$5:$O$100,MATCH($G40,'バッチ反映用（非表示）'!$Q$5:$Q$100,0),MATCH('当月仕訳（非表示）'!F$6,'バッチ反映用（非表示）'!$A$4:$G$4,0)),IF($I40=\"end\",\"0\"&旅費振替依頼書!$I$3&旅費振替依頼書!$J$3&\"振替 \"&MONTH(SUBSTITUTE($B$7,\".\",\"/\"))&\"月旅費→\"&MONTH(SUBSTITUTE($B$7,\".\",\"/\"))&\"月作業費 \"&G39&\"件\",\"\"))","v":""},34,{"$f":"IF(ISERROR(INDEX('バッチ反映用（非表示）'!$A$5:$O$100,MATCH($G40,'バッチ反映用（非表示）'!$Q$5:$Q$100,0),MATCH('当月仕訳（非表示）'!E$6,'バッチ反映用（非表示）'!$A$4:$G$4,0)))=FALSE,\"TRUE\",\"FALSE\")","v":"FALSE"},""]
["",{"$f":"IF(B40=\"転記日付\",INDEX('バッチ反映用（非表示）'!$A$5:$O$100,MATCH($G41,'バッチ反映用（非表示）'!$Q$5:$Q$100,0),MATCH('当月仕訳（非表示）'!B$6,'バッチ反映用（非表示）'!$A$4:$G$4,0)),\"\")","v":{"$error":"#N/A"}},"",{"$f":"IF($H41=\"TRUE\",INDEX('バッチ反映用（非表示）'!$A$5:$O$100,MATCH($G41,'バッチ反映用（非表示）'!$Q$5:$Q$100,0),MATCH('当月仕訳（非表示）'!D$6,'バッチ反映用（非表示）'!$A$4:$G$4,0)),IF($I41=\"end\",D40,\"\"))","v":""},{"$f":"IF($H41=\"TRUE\",INDEX('バッチ反映用（非表示）'!$A$5:$O$100,MATCH($G41,'バッチ反映用（非表示）'!$Q$5:$Q$100,0),MATCH('当月仕訳（非表示）'!E$6,'バッチ反映用（非表示）'!$A$4:$G$4,0)),IF($I41=\"end\",SUM($E$7:E40)*-1,\"\"))","v":""},{"$f":"IF($H41=\"TRUE\",INDEX('バッチ反映用（非表示）'!$A$5:$O$100,MATCH($G41,'バッチ反映用（非表示）'!$Q$5:$Q$100,0),MATCH('当月仕訳（非表示）'!F$6,'バッチ反映用（非表示）'!$A$4:$G$4,0)),IF($I41=\"end\",\"0\"&旅費振替依頼書!$I$3&旅費振替依頼書!$J$3&\"振替 \"&MONTH(SUBSTITUTE($B$7,\".\",\"/\"))&\"月旅費→\"&MONTH(SUBSTITUTE($B$7,\".\",\"/\"))&\"月作業費 \"&G40&\"件\",\"\"))","v":""},35,{"$f":"IF(ISERROR(INDEX('バッチ反映用（非表示）'!$A$5:$O$100,MATCH($G41,'バッチ反映用（非表示）'!$Q$5:$Q$100,0),MATCH('当月仕訳（非表示）'!E$6,'バッチ反映用（非表示）'!$A$4:$G$4,0)))=FALSE,\"TRUE\",\"FALSE\")","v":"FALSE"},""]
["",{"$f":"IF(B41=\"転記日付\",INDEX('バッチ反映用（非表示）'!$A$5:$O$100,MATCH($G42,'バッチ反映用（非表示）'!$Q$5:$Q$100,0),MATCH('当月仕訳（非表示）'!B$6,'バッチ反映用（非表示）'!$A$4:$G$4,0)),\"\")","v":{"$error":"#N/A"}},"",{"$f":"IF($H42=\"TRUE\",INDEX('バッチ反映用（非表示）'!$A$5:$O$100,MATCH($G42,'バッチ反映用（非表示）'!$Q$5:$Q$100,0),MATCH('当月仕訳（非表示）'!D$6,'バッチ反映用（非表示）'!$A$4:$G$4,0)),IF($I42=\"end\",D41,\"\"))","v":""},{"$f":"IF($H42=\"TRUE\",INDEX('バッチ反映用（非表示）'!$A$5:$O$100,MATCH($G42,'バッチ反映用（非表示）'!$Q$5:$Q$100,0),MATCH('当月仕訳（非表示）'!E$6,'バッチ反映用（非表示）'!$A$4:$G$4,0)),IF($I42=\"end\",SUM($E$7:E41)*-1,\"\"))","v":""},{"$f":"IF($H42=\"TRUE\",INDEX('バッチ反映用（非表示）'!$A$5:$O$100,MATCH($G42,'バッチ反映用（非表示）'!$Q$5:$Q$100,0),MATCH('当月仕訳（非表示）'!F$6,'バッチ反映用（非表示）'!$A$4:$G$4,0)),IF($I42=\"end\",\"0\"&旅費振替依頼書!$I$3&旅費振替依頼書!$J$3&\"振替 \"&MONTH(SUBSTITUTE($B$7,\".\",\"/\"))&\"月旅費→\"&MONTH(SUBSTITUTE($B$7,\".\",\"/\"))&\"月作業費 \"&G41&\"件\",\"\"))","v":""},36,{"$f":"IF(ISERROR(INDEX('バッチ反映用（非表示）'!$A$5:$O$100,MATCH($G42,'バッチ反映用（非表示）'!$Q$5:$Q$100,0),MATCH('当月仕訳（非表示）'!E$6,'バッチ反映用（非表示）'!$A$4:$G$4,0)))=FALSE,\"TRUE\",\"FALSE\")","v":"FALSE"},""]
["",{"$f":"IF(B42=\"転記日付\",INDEX('バッチ反映用（非表示）'!$A$5:$O$100,MATCH($G43,'バッチ反映用（非表示）'!$Q$5:$Q$100,0),MATCH('当月仕訳（非表示）'!B$6,'バッチ反映用（非表示）'!$A$4:$G$4,0)),\"\")","v":{"$error":"#N/A"}},"",{"$f":"IF($H43=\"TRUE\",INDEX('バッチ反映用（非表示）'!$A$5:$O$100,MATCH($G43,'バッチ反映用（非表示）'!$Q$5:$Q$100,0),MATCH('当月仕訳（非表示）'!D$6,'バッチ反映用（非表示）'!$A$4:$G$4,0)),IF($I43=\"end\",D42,\"\"))","v":""},{"$f":"IF($H43=\"TRUE\",INDEX('バッチ反映用（非表示）'!$A$5:$O$100,MATCH($G43,'バッチ反映用（非表示）'!$Q$5:$Q$100,0),MATCH('当月仕訳（非表示）'!E$6,'バッチ反映用（非表示）'!$A$4:$G$4,0)),IF($I43=\"end\",SUM($E$7:E42)*-1,\"\"))","v":""},{"$f":"IF($H43=\"TRUE\",INDEX('バッチ反映用（非表示）'!$A$5:$O$100,MATCH($G43,'バッチ反映用（非表示）'!$Q$5:$Q$100,0),MATCH('当月仕訳（非表示）'!F$6,'バッチ反映用（非表示）'!$A$4:$G$4,0)),IF($I43=\"end\",\"0\"&旅費振替依頼書!$I$3&旅費振替依頼書!$J$3&\"振替 \"&MONTH(SUBSTITUTE($B$7,\".\",\"/\"))&\"月旅費→\"&MONTH(SUBSTITUTE($B$7,\".\",\"/\"))&\"月作業費 \"&G42&\"件\",\"\"))","v":""},37,{"$f":"IF(ISERROR(INDEX('バッチ反映用（非表示）'!$A$5:$O$100,MATCH($G43,'バッチ反映用（非表示）'!$Q$5:$Q$100,0),MATCH('当月仕訳（非表示）'!E$6,'バッチ反映用（非表示）'!$A$4:$G$4,0)))=FALSE,\"TRUE\",\"FALSE\")","v":"FALSE"},""]
["",{"$f":"IF(B43=\"転記日付\",INDEX('バッチ反映用（非表示）'!$A$5:$O$100,MATCH($G44,'バッチ反映用（非表示）'!$Q$5:$Q$100,0),MATCH('当月仕訳（非表示）'!B$6,'バッチ反映用（非表示）'!$A$4:$G$4,0)),\"\")","v":{"$error":"#N/A"}},"",{"$f":"IF($H44=\"TRUE\",INDEX('バッチ反映用（非表示）'!$A$5:$O$100,MATCH($G44,'バッチ反映用（非表示）'!$Q$5:$Q$100,0),MATCH('当月仕訳（非表示）'!D$6,'バッチ反映用（非表示）'!$A$4:$G$4,0)),IF($I44=\"end\",D43,\"\"))","v":""},{"$f":"IF($H44=\"TRUE\",INDEX('バッチ反映用（非表示）'!$A$5:$O$100,MATCH($G44,'バッチ反映用（非表示）'!$Q$5:$Q$100,0),MATCH('当月仕訳（非表示）'!E$6,'バッチ反映用（非表示）'!$A$4:$G$4,0)),IF($I44=\"end\",SUM($E$7:E43)*-1,\"\"))","v":""},{"$f":"IF($H44=\"TRUE\",INDEX('バッチ反映用（非表示）'!$A$5:$O$100,MATCH($G44,'バッチ反映用（非表示）'!$Q$5:$Q$100,0),MATCH('当月仕訳（非表示）'!F$6,'バッチ反映用（非表示）'!$A$4:$G$4,0)),IF($I44=\"end\",\"0\"&旅費振替依頼書!$I$3&旅費振替依頼書!$J$3&\"振替 \"&MONTH(SUBSTITUTE($B$7,\".\",\"/\"))&\"月旅費→\"&MONTH(SUBSTITUTE($B$7,\".\",\"/\"))&\"月作業費 \"&G43&\"件\",\"\"))","v":""},38,{"$f":"IF(ISERROR(INDEX('バッチ反映用（非表示）'!$A$5:$O$100,MATCH($G44,'バッチ反映用（非表示）'!$Q$5:$Q$100,0),MATCH('当月仕訳（非表示）'!E$6,'バッチ反映用（非表示）'!$A$4:$G$4,0)))=FALSE,\"TRUE\",\"FALSE\")","v":"FALSE"},""]
["",{"$f":"IF(B44=\"転記日付\",INDEX('バッチ反映用（非表示）'!$A$5:$O$100,MATCH($G45,'バッチ反映用（非表示）'!$Q$5:$Q$100,0),MATCH('当月仕訳（非表示）'!B$6,'バッチ反映用（非表示）'!$A$4:$G$4,0)),\"\")","v":{"$error":"#N/A"}},"",{"$f":"IF($H45=\"TRUE\",INDEX('バッチ反映用（非表示）'!$A$5:$O$100,MATCH($G45,'バッチ反映用（非表示）'!$Q$5:$Q$100,0),MATCH('当月仕訳（非表示）'!D$6,'バッチ反映用（非表示）'!$A$4:$G$4,0)),IF($I45=\"end\",D44,\"\"))","v":""},{"$f":"IF($H45=\"TRUE\",INDEX('バッチ反映用（非表示）'!$A$5:$O$100,MATCH($G45,'バッチ反映用（非表示）'!$Q$5:$Q$100,0),MATCH('当月仕訳（非表示）'!E$6,'バッチ反映用（非表示）'!$A$4:$G$4,0)),IF($I45=\"end\",SUM($E$7:E44)*-1,\"\"))","v":""},{"$f":"IF($H45=\"TRUE\",INDEX('バッチ反映用（非表示）'!$A$5:$O$100,MATCH($G45,'バッチ反映用（非表示）'!$Q$5:$Q$100,0),MATCH('当月仕訳（非表示）'!F$6,'バッチ反映用（非表示）'!$A$4:$G$4,0)),IF($I45=\"end\",\"0\"&旅費振替依頼書!$I$3&旅費振替依頼書!$J$3&\"振替 \"&MONTH(SUBSTITUTE($B$7,\".\",\"/\"))&\"月旅費→\"&MONTH(SUBSTITUTE($B$7,\".\",\"/\"))&\"月作業費 \"&G44&\"件\",\"\"))","v":""},39,{"$f":"IF(ISERROR(INDEX('バッチ反映用（非表示）'!$A$5:$O$100,MATCH($G45,'バッチ反映用（非表示）'!$Q$5:$Q$100,0),MATCH('当月仕訳（非表示）'!E$6,'バッチ反映用（非表示）'!$A$4:$G$4,0)))=FALSE,\"TRUE\",\"FALSE\")","v":"FALSE"},""]
["",{"$f":"IF(B45=\"転記日付\",INDEX('バッチ反映用（非表示）'!$A$5:$O$100,MATCH($G46,'バッチ反映用（非表示）'!$Q$5:$Q$100,0),MATCH('当月仕訳（非表示）'!B$6,'バッチ反映用（非表示）'!$A$4:$G$4,0)),\"\")","v":{"$error":"#N/A"}},"",{"$f":"IF($H46=\"TRUE\",INDEX('バッチ反映用（非表示）'!$A$5:$O$100,MATCH($G46,'バッチ反映用（非表示）'!$Q$5:$Q$100,0),MATCH('当月仕訳（非表示）'!D$6,'バッチ反映用（非表示）'!$A$4:$G$4,0)),IF($I46=\"end\",D45,\"\"))","v":""},{"$f":"IF($H46=\"TRUE\",INDEX('バッチ反映用（非表示）'!$A$5:$O$100,MATCH($G46,'バッチ反映用（非表示）'!$Q$5:$Q$100,0),MATCH('当月仕訳（非表示）'!E$6,'バッチ反映用（非表示）'!$A$4:$G$4,0)),IF($I46=\"end\",SUM($E$7:E45)*-1,\"\"))","v":""},{"$f":"IF($H46=\"TRUE\",INDEX('バッチ反映用（非表示）'!$A$5:$O$100,MATCH($G46,'バッチ反映用（非表示）'!$Q$5:$Q$100,0),MATCH('当月仕訳（非表示）'!F$6,'バッチ反映用（非表示）'!$A$4:$G$4,0)),IF($I46=\"end\",\"0\"&旅費振替依頼書!$I$3&旅費振替依頼書!$J$3&\"振替 \"&MONTH(SUBSTITUTE($B$7,\".\",\"/\"))&\"月旅費→\"&MONTH(SUBSTITUTE($B$7,\".\",\"/\"))&\"月作業費 \"&G45&\"件\",\"\"))","v":""},40,{"$f":"IF(ISERROR(INDEX('バッチ反映用（非表示）'!$A$5:$O$100,MATCH($G46,'バッチ反映用（非表示）'!$Q$5:$Q$100,0),MATCH('当月仕訳（非表示）'!E$6,'バッチ反映用（非表示）'!$A$4:$G$4,0)))=FALSE,\"TRUE\",\"FALSE\")","v":"FALSE"},""]
["",{"$f":"IF(B46=\"転記日付\",INDEX('バッチ反映用（非表示）'!$A$5:$O$100,MATCH($G47,'バッチ反映用（非表示）'!$Q$5:$Q$100,0),MATCH('当月仕訳（非表示）'!B$6,'バッチ反映用（非表示）'!$A$4:$G$4,0)),\"\")","v":{"$error":"#N/A"}},"",{"$f":"IF($H47=\"TRUE\",INDEX('バッチ反映用（非表示）'!$A$5:$O$100,MATCH($G47,'バッチ反映用（非表示）'!$Q$5:$Q$100,0),MATCH('当月仕訳（非表示）'!D$6,'バッチ反映用（非表示）'!$A$4:$G$4,0)),IF($I47=\"end\",D46,\"\"))","v":""},{"$f":"IF($H47=\"TRUE\",INDEX('バッチ反映用（非表示）'!$A$5:$O$100,MATCH($G47,'バッチ反映用（非表示）'!$Q$5:$Q$100,0),MATCH('当月仕訳（非表示）'!E$6,'バッチ反映用（非表示）'!$A$4:$G$4,0)),IF($I47=\"end\",SUM($E$7:E46)*-1,\"\"))","v":""},{"$f":"IF($H47=\"TRUE\",INDEX('バッチ反映用（非表示）'!$A$5:$O$100,MATCH($G47,'バッチ反映用（非表示）'!$Q$5:$Q$100,0),MATCH('当月仕訳（非表示）'!F$6,'バッチ反映用（非表示）'!$A$4:$G$4,0)),IF($I47=\"end\",\"0\"&旅費振替依頼書!$I$3&旅費振替依頼書!$J$3&\"振替 \"&MONTH(SUBSTITUTE($B$7,\".\",\"/\"))&\"月旅費→\"&MONTH(SUBSTITUTE($B$7,\".\",\"/\"))&\"月作業費 \"&G46&\"件\",\"\"))","v":""},41,{"$f":"IF(ISERROR(INDEX('バッチ反映用（非表示）'!$A$5:$O$100,MATCH($G47,'バッチ反映用（非表示）'!$Q$5:$Q$100,0),MATCH('当月仕訳（非表示）'!E$6,'バッチ反映用（非表示）'!$A$4:$G$4,0)))=FALSE,\"TRUE\",\"FALSE\")","v":"FALSE"},""]
["",{"$f":"IF(B47=\"転記日付\",INDEX('バッチ反映用（非表示）'!$A$5:$O$100,MATCH($G48,'バッチ反映用（非表示）'!$Q$5:$Q$100,0),MATCH('当月仕訳（非表示）'!B$6,'バッチ反映用（非表示）'!$A$4:$G$4,0)),\"\")","v":{"$error":"#N/A"}},"",{"$f":"IF($H48=\"TRUE\",INDEX('バッチ反映用（非表示）'!$A$5:$O$100,MATCH($G48,'バッチ反映用（非表示）'!$Q$5:$Q$100,0),MATCH('当月仕訳（非表示）'!D$6,'バッチ反映用（非表示）'!$A$4:$G$4,0)),IF($I48=\"end\",D47,\"\"))","v":""},{"$f":"IF($H48=\"TRUE\",INDEX('バッチ反映用（非表示）'!$A$5:$O$100,MATCH($G48,'バッチ反映用（非表示）'!$Q$5:$Q$100,0),MATCH('当月仕訳（非表示）'!E$6,'バッチ反映用（非表示）'!$A$4:$G$4,0)),IF($I48=\"end\",SUM($E$7:E47)*-1,\"\"))","v":""},{"$f":"IF($H48=\"TRUE\",INDEX('バッチ反映用（非表示）'!$A$5:$O$100,MATCH($G48,'バッチ反映用（非表示）'!$Q$5:$Q$100,0),MATCH('当月仕訳（非表示）'!F$6,'バッチ反映用（非表示）'!$A$4:$G$4,0)),IF($I48=\"end\",\"0\"&旅費振替依頼書!$I$3&旅費振替依頼書!$J$3&\"振替 \"&MONTH(SUBSTITUTE($B$7,\".\",\"/\"))&\"月旅費→\"&MONTH(SUBSTITUTE($B$7,\".\",\"/\"))&\"月作業費 \"&G47&\"件\",\"\"))","v":""},42,{"$f":"IF(ISERROR(INDEX('バッチ反映用（非表示）'!$A$5:$O$100,MATCH($G48,'バッチ反映用（非表示）'!$Q$5:$Q$100,0),MATCH('当月仕訳（非表示）'!E$6,'バッチ反映用（非表示）'!$A$4:$G$4,0)))=FALSE,\"TRUE\",\"FALSE\")","v":"FALSE"},""]
["",{"$f":"IF(B48=\"転記日付\",INDEX('バッチ反映用（非表示）'!$A$5:$O$100,MATCH($G49,'バッチ反映用（非表示）'!$Q$5:$Q$100,0),MATCH('当月仕訳（非表示）'!B$6,'バッチ反映用（非表示）'!$A$4:$G$4,0)),\"\")","v":{"$error":"#N/A"}},"",{"$f":"IF($H49=\"TRUE\",INDEX('バッチ反映用（非表示）'!$A$5:$O$100,MATCH($G49,'バッチ反映用（非表示）'!$Q$5:$Q$100,0),MATCH('当月仕訳（非表示）'!D$6,'バッチ反映用（非表示）'!$A$4:$G$4,0)),IF($I49=\"end\",D48,\"\"))","v":""},{"$f":"IF($H49=\"TRUE\",INDEX('バッチ反映用（非表示）'!$A$5:$O$100,MATCH($G49,'バッチ反映用（非表示）'!$Q$5:$Q$100,0),MATCH('当月仕訳（非表示）'!E$6,'バッチ反映用（非表示）'!$A$4:$G$4,0)),IF($I49=\"end\",SUM($E$7:E48)*-1,\"\"))","v":""},{"$f":"IF($H49=\"TRUE\",INDEX('バッチ反映用（非表示）'!$A$5:$O$100,MATCH($G49,'バッチ反映用（非表示）'!$Q$5:$Q$100,0),MATCH('当月仕訳（非表示）'!F$6,'バッチ反映用（非表示）'!$A$4:$G$4,0)),IF($I49=\"end\",\"0\"&旅費振替依頼書!$I$3&旅費振替依頼書!$J$3&\"振替 \"&MONTH(SUBSTITUTE($B$7,\".\",\"/\"))&\"月旅費→\"&MONTH(SUBSTITUTE($B$7,\".\",\"/\"))&\"月作業費 \"&G48&\"件\",\"\"))","v":""},43,{"$f":"IF(ISERROR(INDEX('バッチ反映用（非表示）'!$A$5:$O$100,MATCH($G49,'バッチ反映用（非表示）'!$Q$5:$Q$100,0),MATCH('当月仕訳（非表示）'!E$6,'バッチ反映用（非表示）'!$A$4:$G$4,0)))=FALSE,\"TRUE\",\"FALSE\")","v":"FALSE"},""]
["",{"$f":"IF(B49=\"転記日付\",INDEX('バッチ反映用（非表示）'!$A$5:$O$100,MATCH($G50,'バッチ反映用（非表示）'!$Q$5:$Q$100,0),MATCH('当月仕訳（非表示）'!B$6,'バッチ反映用（非表示）'!$A$4:$G$4,0)),\"\")","v":{"$error":"#N/A"}},"",{"$f":"IF($H50=\"TRUE\",INDEX('バッチ反映用（非表示）'!$A$5:$O$100,MATCH($G50,'バッチ反映用（非表示）'!$Q$5:$Q$100,0),MATCH('当月仕訳（非表示）'!D$6,'バッチ反映用（非表示）'!$A$4:$G$4,0)),IF($I50=\"end\",D49,\"\"))","v":""},{"$f":"IF($H50=\"TRUE\",INDEX('バッチ反映用（非表示）'!$A$5:$O$100,MATCH($G50,'バッチ反映用（非表示）'!$Q$5:$Q$100,0),MATCH('当月仕訳（非表示）'!E$6,'バッチ反映用（非表示）'!$A$4:$G$4,0)),IF($I50=\"end\",SUM($E$7:E49)*-1,\"\"))","v":""},{"$f":"IF($H50=\"TRUE\",INDEX('バッチ反映用（非表示）'!$A$5:$O$100,MATCH($G50,'バッチ反映用（非表示）'!$Q$5:$Q$100,0),MATCH('当月仕訳（非表示）'!F$6,'バッチ反映用（非表示）'!$A$4:$G$4,0)),IF($I50=\"end\",\"0\"&旅費振替依頼書!$I$3&旅費振替依頼書!$J$3&\"振替 \"&MONTH(SUBSTITUTE($B$7,\".\",\"/\"))&\"月旅費→\"&MONTH(SUBSTITUTE($B$7,\".\",\"/\"))&\"月作業費 \"&G49&\"件\",\"\"))","v":""},44,{"$f":"IF(ISERROR(INDEX('バッチ反映用（非表示）'!$A$5:$O$100,MATCH($G50,'バッチ反映用（非表示）'!$Q$5:$Q$100,0),MATCH('当月仕訳（非表示）'!E$6,'バッチ反映用（非表示）'!$A$4:$G$4,0)))=FALSE,\"TRUE\",\"FALSE\")","v":"FALSE"},""]
["",{"$f":"IF(B50=\"転記日付\",INDEX('バッチ反映用（非表示）'!$A$5:$O$100,MATCH($G51,'バッチ反映用（非表示）'!$Q$5:$Q$100,0),MATCH('当月仕訳（非表示）'!B$6,'バッチ反映用（非表示）'!$A$4:$G$4,0)),\"\")","v":{"$error":"#N/A"}},"",{"$f":"IF($H51=\"TRUE\",INDEX('バッチ反映用（非表示）'!$A$5:$O$100,MATCH($G51,'バッチ反映用（非表示）'!$Q$5:$Q$100,0),MATCH('当月仕訳（非表示）'!D$6,'バッチ反映用（非表示）'!$A$4:$G$4,0)),IF($I51=\"end\",D50,\"\"))","v":""},{"$f":"IF($H51=\"TRUE\",INDEX('バッチ反映用（非表示）'!$A$5:$O$100,MATCH($G51,'バッチ反映用（非表示）'!$Q$5:$Q$100,0),MATCH('当月仕訳（非表示）'!E$6,'バッチ反映用（非表示）'!$A$4:$G$4,0)),IF($I51=\"end\",SUM($E$7:E50)*-1,\"\"))","v":""},{"$f":"IF($H51=\"TRUE\",INDEX('バッチ反映用（非表示）'!$A$5:$O$100,MATCH($G51,'バッチ反映用（非表示）'!$Q$5:$Q$100,0),MATCH('当月仕訳（非表示）'!F$6,'バッチ反映用（非表示）'!$A$4:$G$4,0)),IF($I51=\"end\",\"0\"&旅費振替依頼書!$I$3&旅費振替依頼書!$J$3&\"振替 \"&MONTH(SUBSTITUTE($B$7,\".\",\"/\"))&\"月旅費→\"&MONTH(SUBSTITUTE($B$7,\".\",\"/\"))&\"月作業費 \"&G50&\"件\",\"\"))","v":""},45,{"$f":"IF(ISERROR(INDEX('バッチ反映用（非表示）'!$A$5:$O$100,MATCH($G51,'バッチ反映用（非表示）'!$Q$5:$Q$100,0),MATCH('当月仕訳（非表示）'!E$6,'バッチ反映用（非表示）'!$A$4:$G$4,0)))=FALSE,\"TRUE\",\"FALSE\")","v":"FALSE"},""]
["",{"$f":"IF(B51=\"転記日付\",INDEX('バッチ反映用（非表示）'!$A$5:$O$100,MATCH($G52,'バッチ反映用（非表示）'!$Q$5:$Q$100,0),MATCH('当月仕訳（非表示）'!B$6,'バッチ反映用（非表示）'!$A$4:$G$4,0)),\"\")","v":{"$error":"#N/A"}},"",{"$f":"IF($H52=\"TRUE\",INDEX('バッチ反映用（非表示）'!$A$5:$O$100,MATCH($G52,'バッチ反映用（非表示）'!$Q$5:$Q$100,0),MATCH('当月仕訳（非表示）'!D$6,'バッチ反映用（非表示）'!$A$4:$G$4,0)),IF($I52=\"end\",D51,\"\"))","v":""},{"$f":"IF($H52=\"TRUE\",INDEX('バッチ反映用（非表示）'!$A$5:$O$100,MATCH($G52,'バッチ反映用（非表示）'!$Q$5:$Q$100,0),MATCH('当月仕訳（非表示）'!E$6,'バッチ反映用（非表示）'!$A$4:$G$4,0)),IF($I52=\"end\",SUM($E$7:E51)*-1,\"\"))","v":""},{"$f":"IF($H52=\"TRUE\",INDEX('バッチ反映用（非表示）'!$A$5:$O$100,MATCH($G52,'バッチ反映用（非表示）'!$Q$5:$Q$100,0),MATCH('当月仕訳（非表示）'!F$6,'バッチ反映用（非表示）'!$A$4:$G$4,0)),IF($I52=\"end\",\"0\"&旅費振替依頼書!$I$3&旅費振替依頼書!$J$3&\"振替 \"&MONTH(SUBSTITUTE($B$7,\".\",\"/\"))&\"月旅費→\"&MONTH(SUBSTITUTE($B$7,\".\",\"/\"))&\"月作業費 \"&G51&\"件\",\"\"))","v":""},46,{"$f":"IF(ISERROR(INDEX('バッチ反映用（非表示）'!$A$5:$O$100,MATCH($G52,'バッチ反映用（非表示）'!$Q$5:$Q$100,0),MATCH('当月仕訳（非表示）'!E$6,'バッチ反映用（非表示）'!$A$4:$G$4,0)))=FALSE,\"TRUE\",\"FALSE\")","v":"FALSE"},""]
["",{"$f":"IF(B52=\"転記日付\",INDEX('バッチ反映用（非表示）'!$A$5:$O$100,MATCH($G53,'バッチ反映用（非表示）'!$Q$5:$Q$100,0),MATCH('当月仕訳（非表示）'!B$6,'バッチ反映用（非表示）'!$A$4:$G$4,0)),\"\")","v":{"$error":"#N/A"}},"",{"$f":"IF($H53=\"TRUE\",INDEX('バッチ反映用（非表示）'!$A$5:$O$100,MATCH($G53,'バッチ反映用（非表示）'!$Q$5:$Q$100,0),MATCH('当月仕訳（非表示）'!D$6,'バッチ反映用（非表示）'!$A$4:$G$4,0)),IF($I53=\"end\",D52,\"\"))","v":""},{"$f":"IF($H53=\"TRUE\",INDEX('バッチ反映用（非表示）'!$A$5:$O$100,MATCH($G53,'バッチ反映用（非表示）'!$Q$5:$Q$100,0),MATCH('当月仕訳（非表示）'!E$6,'バッチ反映用（非表示）'!$A$4:$G$4,0)),IF($I53=\"end\",SUM($E$7:E52)*-1,\"\"))","v":""},{"$f":"IF($H53=\"TRUE\",INDEX('バッチ反映用（非表示）'!$A$5:$O$100,MATCH($G53,'バッチ反映用（非表示）'!$Q$5:$Q$100,0),MATCH('当月仕訳（非表示）'!F$6,'バッチ反映用（非表示）'!$A$4:$G$4,0)),IF($I53=\"end\",\"0\"&旅費振替依頼書!$I$3&旅費振替依頼書!$J$3&\"振替 \"&MONTH(SUBSTITUTE($B$7,\".\",\"/\"))&\"月旅費→\"&MONTH(SUBSTITUTE($B$7,\".\",\"/\"))&\"月作業費 \"&G52&\"件\",\"\"))","v":""},47,{"$f":"IF(ISERROR(INDEX('バッチ反映用（非表示）'!$A$5:$O$100,MATCH($G53,'バッチ反映用（非表示）'!$Q$5:$Q$100,0),MATCH('当月仕訳（非表示）'!E$6,'バッチ反映用（非表示）'!$A$4:$G$4,0)))=FALSE,\"TRUE\",\"FALSE\")","v":"FALSE"},""]
["",{"$f":"IF(B53=\"転記日付\",INDEX('バッチ反映用（非表示）'!$A$5:$O$100,MATCH($G54,'バッチ反映用（非表示）'!$Q$5:$Q$100,0),MATCH('当月仕訳（非表示）'!B$6,'バッチ反映用（非表示）'!$A$4:$G$4,0)),\"\")","v":{"$error":"#N/A"}},"",{"$f":"IF($H54=\"TRUE\",INDEX('バッチ反映用（非表示）'!$A$5:$O$100,MATCH($G54,'バッチ反映用（非表示）'!$Q$5:$Q$100,0),MATCH('当月仕訳（非表示）'!D$6,'バッチ反映用（非表示）'!$A$4:$G$4,0)),IF($I54=\"end\",D53,\"\"))","v":""},{"$f":"IF($H54=\"TRUE\",INDEX('バッチ反映用（非表示）'!$A$5:$O$100,MATCH($G54,'バッチ反映用（非表示）'!$Q$5:$Q$100,0),MATCH('当月仕訳（非表示）'!E$6,'バッチ反映用（非表示）'!$A$4:$G$4,0)),IF($I54=\"end\",SUM($E$7:E53)*-1,\"\"))","v":""},{"$f":"IF($H54=\"TRUE\",INDEX('バッチ反映用（非表示）'!$A$5:$O$100,MATCH($G54,'バッチ反映用（非表示）'!$Q$5:$Q$100,0),MATCH('当月仕訳（非表示）'!F$6,'バッチ反映用（非表示）'!$A$4:$G$4,0)),IF($I54=\"end\",\"0\"&旅費振替依頼書!$I$3&旅費振替依頼書!$J$3&\"振替 \"&MONTH(SUBSTITUTE($B$7,\".\",\"/\"))&\"月旅費→\"&MONTH(SUBSTITUTE($B$7,\".\",\"/\"))&\"月作業費 \"&G53&\"件\",\"\"))","v":""},48,{"$f":"IF(ISERROR(INDEX('バッチ反映用（非表示）'!$A$5:$O$100,MATCH($G54,'バッチ反映用（非表示）'!$Q$5:$Q$100,0),MATCH('当月仕訳（非表示）'!E$6,'バッチ反映用（非表示）'!$A$4:$G$4,0)))=FALSE,\"TRUE\",\"FALSE\")","v":"FALSE"},""]
["",{"$f":"IF(B54=\"転記日付\",INDEX('バッチ反映用（非表示）'!$A$5:$O$100,MATCH($G55,'バッチ反映用（非表示）'!$Q$5:$Q$100,0),MATCH('当月仕訳（非表示）'!B$6,'バッチ反映用（非表示）'!$A$4:$G$4,0)),\"\")","v":{"$error":"#N/A"}},"",{"$f":"IF($H55=\"TRUE\",INDEX('バッチ反映用（非表示）'!$A$5:$O$100,MATCH($G55,'バッチ反映用（非表示）'!$Q$5:$Q$100,0),MATCH('当月仕訳（非表示）'!D$6,'バッチ反映用（非表示）'!$A$4:$G$4,0)),IF($I55=\"end\",D54,\"\"))","v":""},{"$f":"IF($H55=\"TRUE\",INDEX('バッチ反映用（非表示）'!$A$5:$O$100,MATCH($G55,'バッチ反映用（非表示）'!$Q$5:$Q$100,0),MATCH('当月仕訳（非表示）'!E$6,'バッチ反映用（非表示）'!$A$4:$G$4,0)),IF($I55=\"end\",SUM($E$7:E54)*-1,\"\"))","v":""},{"$f":"IF($H55=\"TRUE\",INDEX('バッチ反映用（非表示）'!$A$5:$O$100,MATCH($G55,'バッチ反映用（非表示）'!$Q$5:$Q$100,0),MATCH('当月仕訳（非表示）'!F$6,'バッチ反映用（非表示）'!$A$4:$G$4,0)),IF($I55=\"end\",\"0\"&旅費振替依頼書!$I$3&旅費振替依頼書!$J$3&\"振替 \"&MONTH(SUBSTITUTE($B$7,\".\",\"/\"))&\"月旅費→\"&MONTH(SUBSTITUTE($B$7,\".\",\"/\"))&\"月作業費 \"&G54&\"件\",\"\"))","v":""},49,{"$f":"IF(ISERROR(INDEX('バッチ反映用（非表示）'!$A$5:$O$100,MATCH($G55,'バッチ反映用（非表示）'!$Q$5:$Q$100,0),MATCH('当月仕訳（非表示）'!E$6,'バッチ反映用（非表示）'!$A$4:$G$4,0)))=FALSE,\"TRUE\",\"FALSE\")","v":"FALSE"},""]
["",{"$f":"IF(B55=\"転記日付\",INDEX('バッチ反映用（非表示）'!$A$5:$O$100,MATCH($G56,'バッチ反映用（非表示）'!$Q$5:$Q$100,0),MATCH('当月仕訳（非表示）'!B$6,'バッチ反映用（非表示）'!$A$4:$G$4,0)),\"\")","v":{"$error":"#N/A"}},"",{"$f":"IF($H56=\"TRUE\",INDEX('バッチ反映用（非表示）'!$A$5:$O$100,MATCH($G56,'バッチ反映用（非表示）'!$Q$5:$Q$100,0),MATCH('当月仕訳（非表示）'!D$6,'バッチ反映用（非表示）'!$A$4:$G$4,0)),IF($I56=\"end\",D55,\"\"))","v":""},{"$f":"IF($H56=\"TRUE\",INDEX('バッチ反映用（非表示）'!$A$5:$O$100,MATCH($G56,'バッチ反映用（非表示）'!$Q$5:$Q$100,0),MATCH('当月仕訳（非表示）'!E$6,'バッチ反映用（非表示）'!$A$4:$G$4,0)),IF($I56=\"end\",SUM($E$7:E55)*-1,\"\"))","v":""},{"$f":"IF($H56=\"TRUE\",INDEX('バッチ反映用（非表示）'!$A$5:$O$100,MATCH($G56,'バッチ反映用（非表示）'!$Q$5:$Q$100,0),MATCH('当月仕訳（非表示）'!F$6,'バッチ反映用（非表示）'!$A$4:$G$4,0)),IF($I56=\"end\",\"0\"&旅費振替依頼書!$I$3&旅費振替依頼書!$J$3&\"振替 \"&MONTH(SUBSTITUTE($B$7,\".\",\"/\"))&\"月旅費→\"&MONTH(SUBSTITUTE($B$7,\".\",\"/\"))&\"月作業費 \"&G55&\"件\",\"\"))","v":""},50,{"$f":"IF(ISERROR(INDEX('バッチ反映用（非表示）'!$A$5:$O$100,MATCH($G56,'バッチ反映用（非表示）'!$Q$5:$Q$100,0),MATCH('当月仕訳（非表示）'!E$6,'バッチ反映用（非表示）'!$A$4:$G$4,0)))=FALSE,\"TRUE\",\"FALSE\")","v":"FALSE"},""]
["",{"$f":"IF(B56=\"転記日付\",INDEX('バッチ反映用（非表示）'!$A$5:$O$100,MATCH($G57,'バッチ反映用（非表示）'!$Q$5:$Q$100,0),MATCH('当月仕訳（非表示）'!B$6,'バッチ反映用（非表示）'!$A$4:$G$4,0)),\"\")","v":{"$error":"#N/A"}},"",{"$f":"IF($H57=\"TRUE\",INDEX('バッチ反映用（非表示）'!$A$5:$O$100,MATCH($G57,'バッチ反映用（非表示）'!$Q$5:$Q$100,0),MATCH('当月仕訳（非表示）'!D$6,'バッチ反映用（非表示）'!$A$4:$G$4,0)),IF($I57=\"end\",D56,\"\"))","v":""},{"$f":"IF($H57=\"TRUE\",INDEX('バッチ反映用（非表示）'!$A$5:$O$100,MATCH($G57,'バッチ反映用（非表示）'!$Q$5:$Q$100,0),MATCH('当月仕訳（非表示）'!E$6,'バッチ反映用（非表示）'!$A$4:$G$4,0)),IF($I57=\"end\",SUM($E$7:E56)*-1,\"\"))","v":""},{"$f":"IF($H57=\"TRUE\",INDEX('バッチ反映用（非表示）'!$A$5:$O$100,MATCH($G57,'バッチ反映用（非表示）'!$Q$5:$Q$100,0),MATCH('当月仕訳（非表示）'!F$6,'バッチ反映用（非表示）'!$A$4:$G$4,0)),IF($I57=\"end\",\"0\"&旅費振替依頼書!$I$3&旅費振替依頼書!$J$3&\"振替 \"&MONTH(SUBSTITUTE($B$7,\".\",\"/\"))&\"月旅費→\"&MONTH(SUBSTITUTE($B$7,\".\",\"/\"))&\"月作業費 \"&G56&\"件\",\"\"))","v":""},51,{"$f":"IF(ISERROR(INDEX('バッチ反映用（非表示）'!$A$5:$O$100,MATCH($G57,'バッチ反映用（非表示）'!$Q$5:$Q$100,0),MATCH('当月仕訳（非表示）'!E$6,'バッチ反映用（非表示）'!$A$4:$G$4,0)))=FALSE,\"TRUE\",\"FALSE\")","v":"FALSE"},""]
["",{"$f":"IF(B57=\"転記日付\",INDEX('バッチ反映用（非表示）'!$A$5:$O$100,MATCH($G58,'バッチ反映用（非表示）'!$Q$5:$Q$100,0),MATCH('当月仕訳（非表示）'!B$6,'バッチ反映用（非表示）'!$A$4:$G$4,0)),\"\")","v":{"$error":"#N/A"}},"",{"$f":"IF($H58=\"TRUE\",INDEX('バッチ反映用（非表示）'!$A$5:$O$100,MATCH($G58,'バッチ反映用（非表示）'!$Q$5:$Q$100,0),MATCH('当月仕訳（非表示）'!D$6,'バッチ反映用（非表示）'!$A$4:$G$4,0)),IF($I58=\"end\",D57,\"\"))","v":""},{"$f":"IF($H58=\"TRUE\",INDEX('バッチ反映用（非表示）'!$A$5:$O$100,MATCH($G58,'バッチ反映用（非表示）'!$Q$5:$Q$100,0),MATCH('当月仕訳（非表示）'!E$6,'バッチ反映用（非表示）'!$A$4:$G$4,0)),IF($I58=\"end\",SUM($E$7:E57)*-1,\"\"))","v":""},{"$f":"IF($H58=\"TRUE\",INDEX('バッチ反映用（非表示）'!$A$5:$O$100,MATCH($G58,'バッチ反映用（非表示）'!$Q$5:$Q$100,0),MATCH('当月仕訳（非表示）'!F$6,'バッチ反映用（非表示）'!$A$4:$G$4,0)),IF($I58=\"end\",\"0\"&旅費振替依頼書!$I$3&旅費振替依頼書!$J$3&\"振替 \"&MONTH(SUBSTITUTE($B$7,\".\",\"/\"))&\"月旅費→\"&MONTH(SUBSTITUTE($B$7,\".\",\"/\"))&\"月作業費 \"&G57&\"件\",\"\"))","v":""},52,{"$f":"IF(ISERROR(INDEX('バッチ反映用（非表示）'!$A$5:$O$100,MATCH($G58,'バッチ反映用（非表示）'!$Q$5:$Q$100,0),MATCH('当月仕訳（非表示）'!E$6,'バッチ反映用（非表示）'!$A$4:$G$4,0)))=FALSE,\"TRUE\",\"FALSE\")","v":"FALSE"},""]
["",{"$f":"IF(B58=\"転記日付\",INDEX('バッチ反映用（非表示）'!$A$5:$O$100,MATCH($G59,'バッチ反映用（非表示）'!$Q$5:$Q$100,0),MATCH('当月仕訳（非表示）'!B$6,'バッチ反映用（非表示）'!$A$4:$G$4,0)),\"\")","v":{"$error":"#N/A"}},"",{"$f":"IF($H59=\"TRUE\",INDEX('バッチ反映用（非表示）'!$A$5:$O$100,MATCH($G59,'バッチ反映用（非表示）'!$Q$5:$Q$100,0),MATCH('当月仕訳（非表示）'!D$6,'バッチ反映用（非表示）'!$A$4:$G$4,0)),IF($I59=\"end\",D58,\"\"))","v":""},{"$f":"IF($H59=\"TRUE\",INDEX('バッチ反映用（非表示）'!$A$5:$O$100,MATCH($G59,'バッチ反映用（非表示）'!$Q$5:$Q$100,0),MATCH('当月仕訳（非表示）'!E$6,'バッチ反映用（非表示）'!$A$4:$G$4,0)),IF($I59=\"end\",SUM($E$7:E58)*-1,\"\"))","v":""},{"$f":"IF($H59=\"TRUE\",INDEX('バッチ反映用（非表示）'!$A$5:$O$100,MATCH($G59,'バッチ反映用（非表示）'!$Q$5:$Q$100,0),MATCH('当月仕訳（非表示）'!F$6,'バッチ反映用（非表示）'!$A$4:$G$4,0)),IF($I59=\"end\",\"0\"&旅費振替依頼書!$I$3&旅費振替依頼書!$J$3&\"振替 \"&MONTH(SUBSTITUTE($B$7,\".\",\"/\"))&\"月旅費→\"&MONTH(SUBSTITUTE($B$7,\".\",\"/\"))&\"月作業費 \"&G58&\"件\",\"\"))","v":""},53,{"$f":"IF(ISERROR(INDEX('バッチ反映用（非表示）'!$A$5:$O$100,MATCH($G59,'バッチ反映用（非表示）'!$Q$5:$Q$100,0),MATCH('当月仕訳（非表示）'!E$6,'バッチ反映用（非表示）'!$A$4:$G$4,0)))=FALSE,\"TRUE\",\"FALSE\")","v":"FALSE"},""]
["",{"$f":"IF(B59=\"転記日付\",INDEX('バッチ反映用（非表示）'!$A$5:$O$100,MATCH($G60,'バッチ反映用（非表示）'!$Q$5:$Q$100,0),MATCH('当月仕訳（非表示）'!B$6,'バッチ反映用（非表示）'!$A$4:$G$4,0)),\"\")","v":{"$error":"#N/A"}},"",{"$f":"IF($H60=\"TRUE\",INDEX('バッチ反映用（非表示）'!$A$5:$O$100,MATCH($G60,'バッチ反映用（非表示）'!$Q$5:$Q$100,0),MATCH('当月仕訳（非表示）'!D$6,'バッチ反映用（非表示）'!$A$4:$G$4,0)),IF($I60=\"end\",D59,\"\"))","v":""},{"$f":"IF($H60=\"TRUE\",INDEX('バッチ反映用（非表示）'!$A$5:$O$100,MATCH($G60,'バッチ反映用（非表示）'!$Q$5:$Q$100,0),MATCH('当月仕訳（非表示）'!E$6,'バッチ反映用（非表示）'!$A$4:$G$4,0)),IF($I60=\"end\",SUM($E$7:E59)*-1,\"\"))","v":""},{"$f":"IF($H60=\"TRUE\",INDEX('バッチ反映用（非表示）'!$A$5:$O$100,MATCH($G60,'バッチ反映用（非表示）'!$Q$5:$Q$100,0),MATCH('当月仕訳（非表示）'!F$6,'バッチ反映用（非表示）'!$A$4:$G$4,0)),IF($I60=\"end\",\"0\"&旅費振替依頼書!$I$3&旅費振替依頼書!$J$3&\"振替 \"&MONTH(SUBSTITUTE($B$7,\".\",\"/\"))&\"月旅費→\"&MONTH(SUBSTITUTE($B$7,\".\",\"/\"))&\"月作業費 \"&G59&\"件\",\"\"))","v":""},54,{"$f":"IF(ISERROR(INDEX('バッチ反映用（非表示）'!$A$5:$O$100,MATCH($G60,'バッチ反映用（非表示）'!$Q$5:$Q$100,0),MATCH('当月仕訳（非表示）'!E$6,'バッチ反映用（非表示）'!$A$4:$G$4,0)))=FALSE,\"TRUE\",\"FALSE\")","v":"FALSE"},""]
["",{"$f":"IF(B60=\"転記日付\",INDEX('バッチ反映用（非表示）'!$A$5:$O$100,MATCH($G61,'バッチ反映用（非表示）'!$Q$5:$Q$100,0),MATCH('当月仕訳（非表示）'!B$6,'バッチ反映用（非表示）'!$A$4:$G$4,0)),\"\")","v":{"$error":"#N/A"}},"",{"$f":"IF($H61=\"TRUE\",INDEX('バッチ反映用（非表示）'!$A$5:$O$100,MATCH($G61,'バッチ反映用（非表示）'!$Q$5:$Q$100,0),MATCH('当月仕訳（非表示）'!D$6,'バッチ反映用（非表示）'!$A$4:$G$4,0)),IF($I61=\"end\",D60,\"\"))","v":""},{"$f":"IF($H61=\"TRUE\",INDEX('バッチ反映用（非表示）'!$A$5:$O$100,MATCH($G61,'バッチ反映用（非表示）'!$Q$5:$Q$100,0),MATCH('当月仕訳（非表示）'!E$6,'バッチ反映用（非表示）'!$A$4:$G$4,0)),IF($I61=\"end\",SUM($E$7:E60)*-1,\"\"))","v":""},{"$f":"IF($H61=\"TRUE\",INDEX('バッチ反映用（非表示）'!$A$5:$O$100,MATCH($G61,'バッチ反映用（非表示）'!$Q$5:$Q$100,0),MATCH('当月仕訳（非表示）'!F$6,'バッチ反映用（非表示）'!$A$4:$G$4,0)),IF($I61=\"end\",\"0\"&旅費振替依頼書!$I$3&旅費振替依頼書!$J$3&\"振替 \"&MONTH(SUBSTITUTE($B$7,\".\",\"/\"))&\"月旅費→\"&MONTH(SUBSTITUTE($B$7,\".\",\"/\"))&\"月作業費 \"&G60&\"件\",\"\"))","v":""},55,{"$f":"IF(ISERROR(INDEX('バッチ反映用（非表示）'!$A$5:$O$100,MATCH($G61,'バッチ反映用（非表示）'!$Q$5:$Q$100,0),MATCH('当月仕訳（非表示）'!E$6,'バッチ反映用（非表示）'!$A$4:$G$4,0)))=FALSE,\"TRUE\",\"FALSE\")","v":"FALSE"},""]
["",{"$f":"IF(B61=\"転記日付\",INDEX('バッチ反映用（非表示）'!$A$5:$O$100,MATCH($G62,'バッチ反映用（非表示）'!$Q$5:$Q$100,0),MATCH('当月仕訳（非表示）'!B$6,'バッチ反映用（非表示）'!$A$4:$G$4,0)),\"\")","v":{"$error":"#N/A"}},"",{"$f":"IF($H62=\"TRUE\",INDEX('バッチ反映用（非表示）'!$A$5:$O$100,MATCH($G62,'バッチ反映用（非表示）'!$Q$5:$Q$100,0),MATCH('当月仕訳（非表示）'!D$6,'バッチ反映用（非表示）'!$A$4:$G$4,0)),IF($I62=\"end\",D61,\"\"))","v":""},{"$f":"IF($H62=\"TRUE\",INDEX('バッチ反映用（非表示）'!$A$5:$O$100,MATCH($G62,'バッチ反映用（非表示）'!$Q$5:$Q$100,0),MATCH('当月仕訳（非表示）'!E$6,'バッチ反映用（非表示）'!$A$4:$G$4,0)),IF($I62=\"end\",SUM($E$7:E61)*-1,\"\"))","v":""},{"$f":"IF($H62=\"TRUE\",INDEX('バッチ反映用（非表示）'!$A$5:$O$100,MATCH($G62,'バッチ反映用（非表示）'!$Q$5:$Q$100,0),MATCH('当月仕訳（非表示）'!F$6,'バッチ反映用（非表示）'!$A$4:$G$4,0)),IF($I62=\"end\",\"0\"&旅費振替依頼書!$I$3&旅費振替依頼書!$J$3&\"振替 \"&MONTH(SUBSTITUTE($B$7,\".\",\"/\"))&\"月旅費→\"&MONTH(SUBSTITUTE($B$7,\".\",\"/\"))&\"月作業費 \"&G61&\"件\",\"\"))","v":""},56,{"$f":"IF(ISERROR(INDEX('バッチ反映用（非表示）'!$A$5:$O$100,MATCH($G62,'バッチ反映用（非表示）'!$Q$5:$Q$100,0),MATCH('当月仕訳（非表示）'!E$6,'バッチ反映用（非表示）'!$A$4:$G$4,0)))=FALSE,\"TRUE\",\"FALSE\")","v":"FALSE"},""]
["",{"$f":"IF(B62=\"転記日付\",INDEX('バッチ反映用（非表示）'!$A$5:$O$100,MATCH($G63,'バッチ反映用（非表示）'!$Q$5:$Q$100,0),MATCH('当月仕訳（非表示）'!B$6,'バッチ反映用（非表示）'!$A$4:$G$4,0)),\"\")","v":{"$error":"#N/A"}},"",{"$f":"IF($H63=\"TRUE\",INDEX('バッチ反映用（非表示）'!$A$5:$O$100,MATCH($G63,'バッチ反映用（非表示）'!$Q$5:$Q$100,0),MATCH('当月仕訳（非表示）'!D$6,'バッチ反映用（非表示）'!$A$4:$G$4,0)),IF($I63=\"end\",D62,\"\"))","v":""},{"$f":"IF($H63=\"TRUE\",INDEX('バッチ反映用（非表示）'!$A$5:$O$100,MATCH($G63,'バッチ反映用（非表示）'!$Q$5:$Q$100,0),MATCH('当月仕訳（非表示）'!E$6,'バッチ反映用（非表示）'!$A$4:$G$4,0)),IF($I63=\"end\",SUM($E$7:E62)*-1,\"\"))","v":""},{"$f":"IF($H63=\"TRUE\",INDEX('バッチ反映用（非表示）'!$A$5:$O$100,MATCH($G63,'バッチ反映用（非表示）'!$Q$5:$Q$100,0),MATCH('当月仕訳（非表示）'!F$6,'バッチ反映用（非表示）'!$A$4:$G$4,0)),IF($I63=\"end\",\"0\"&旅費振替依頼書!$I$3&旅費振替依頼書!$J$3&\"振替 \"&MONTH(SUBSTITUTE($B$7,\".\",\"/\"))&\"月旅費→\"&MONTH(SUBSTITUTE($B$7,\".\",\"/\"))&\"月作業費 \"&G62&\"件\",\"\"))","v":""},57,{"$f":"IF(ISERROR(INDEX('バッチ反映用（非表示）'!$A$5:$O$100,MATCH($G63,'バッチ反映用（非表示）'!$Q$5:$Q$100,0),MATCH('当月仕訳（非表示）'!E$6,'バッチ反映用（非表示）'!$A$4:$G$4,0)))=FALSE,\"TRUE\",\"FALSE\")","v":"FALSE"},""]
["",{"$f":"IF(B63=\"転記日付\",INDEX('バッチ反映用（非表示）'!$A$5:$O$100,MATCH($G64,'バッチ反映用（非表示）'!$Q$5:$Q$100,0),MATCH('当月仕訳（非表示）'!B$6,'バッチ反映用（非表示）'!$A$4:$G$4,0)),\"\")","v":{"$error":"#N/A"}},"",{"$f":"IF($H64=\"TRUE\",INDEX('バッチ反映用（非表示）'!$A$5:$O$100,MATCH($G64,'バッチ反映用（非表示）'!$Q$5:$Q$100,0),MATCH('当月仕訳（非表示）'!D$6,'バッチ反映用（非表示）'!$A$4:$G$4,0)),IF($I64=\"end\",D63,\"\"))","v":""},{"$f":"IF($H64=\"TRUE\",INDEX('バッチ反映用（非表示）'!$A$5:$O$100,MATCH($G64,'バッチ反映用（非表示）'!$Q$5:$Q$100,0),MATCH('当月仕訳（非表示）'!E$6,'バッチ反映用（非表示）'!$A$4:$G$4,0)),IF($I64=\"end\",SUM($E$7:E63)*-1,\"\"))","v":""},{"$f":"IF($H64=\"TRUE\",INDEX('バッチ反映用（非表示）'!$A$5:$O$100,MATCH($G64,'バッチ反映用（非表示）'!$Q$5:$Q$100,0),MATCH('当月仕訳（非表示）'!F$6,'バッチ反映用（非表示）'!$A$4:$G$4,0)),IF($I64=\"end\",\"0\"&旅費振替依頼書!$I$3&旅費振替依頼書!$J$3&\"振替 \"&MONTH(SUBSTITUTE($B$7,\".\",\"/\"))&\"月旅費→\"&MONTH(SUBSTITUTE($B$7,\".\",\"/\"))&\"月作業費 \"&G63&\"件\",\"\"))","v":""},58,{"$f":"IF(ISERROR(INDEX('バッチ反映用（非表示）'!$A$5:$O$100,MATCH($G64,'バッチ反映用（非表示）'!$Q$5:$Q$100,0),MATCH('当月仕訳（非表示）'!E$6,'バッチ反映用（非表示）'!$A$4:$G$4,0)))=FALSE,\"TRUE\",\"FALSE\")","v":"FALSE"},""]
["",{"$f":"IF(B64=\"転記日付\",INDEX('バッチ反映用（非表示）'!$A$5:$O$100,MATCH($G65,'バッチ反映用（非表示）'!$Q$5:$Q$100,0),MATCH('当月仕訳（非表示）'!B$6,'バッチ反映用（非表示）'!$A$4:$G$4,0)),\"\")","v":{"$error":"#N/A"}},"",{"$f":"IF($H65=\"TRUE\",INDEX('バッチ反映用（非表示）'!$A$5:$O$100,MATCH($G65,'バッチ反映用（非表示）'!$Q$5:$Q$100,0),MATCH('当月仕訳（非表示）'!D$6,'バッチ反映用（非表示）'!$A$4:$G$4,0)),IF($I65=\"end\",D64,\"\"))","v":""},{"$f":"IF($H65=\"TRUE\",INDEX('バッチ反映用（非表示）'!$A$5:$O$100,MATCH($G65,'バッチ反映用（非表示）'!$Q$5:$Q$100,0),MATCH('当月仕訳（非表示）'!E$6,'バッチ反映用（非表示）'!$A$4:$G$4,0)),IF($I65=\"end\",SUM($E$7:E64)*-1,\"\"))","v":""},{"$f":"IF($H65=\"TRUE\",INDEX('バッチ反映用（非表示）'!$A$5:$O$100,MATCH($G65,'バッチ反映用（非表示）'!$Q$5:$Q$100,0),MATCH('当月仕訳（非表示）'!F$6,'バッチ反映用（非表示）'!$A$4:$G$4,0)),IF($I65=\"end\",\"0\"&旅費振替依頼書!$I$3&旅費振替依頼書!$J$3&\"振替 \"&MONTH(SUBSTITUTE($B$7,\".\",\"/\"))&\"月旅費→\"&MONTH(SUBSTITUTE($B$7,\".\",\"/\"))&\"月作業費 \"&G64&\"件\",\"\"))","v":""},59,{"$f":"IF(ISERROR(INDEX('バッチ反映用（非表示）'!$A$5:$O$100,MATCH($G65,'バッチ反映用（非表示）'!$Q$5:$Q$100,0),MATCH('当月仕訳（非表示）'!E$6,'バッチ反映用（非表示）'!$A$4:$G$4,0)))=FALSE,\"TRUE\",\"FALSE\")","v":"FALSE"},""]
["",{"$f":"IF(B65=\"転記日付\",INDEX('バッチ反映用（非表示）'!$A$5:$O$100,MATCH($G66,'バッチ反映用（非表示）'!$Q$5:$Q$100,0),MATCH('当月仕訳（非表示）'!B$6,'バッチ反映用（非表示）'!$A$4:$G$4,0)),\"\")","v":{"$error":"#N/A"}},"",{"$f":"IF($H66=\"TRUE\",INDEX('バッチ反映用（非表示）'!$A$5:$O$100,MATCH($G66,'バッチ反映用（非表示）'!$Q$5:$Q$100,0),MATCH('当月仕訳（非表示）'!D$6,'バッチ反映用（非表示）'!$A$4:$G$4,0)),IF($I66=\"end\",D65,\"\"))","v":""},{"$f":"IF($H66=\"TRUE\",INDEX('バッチ反映用（非表示）'!$A$5:$O$100,MATCH($G66,'バッチ反映用（非表示）'!$Q$5:$Q$100,0),MATCH('当月仕訳（非表示）'!E$6,'バッチ反映用（非表示）'!$A$4:$G$4,0)),IF($I66=\"end\",SUM($E$7:E65)*-1,\"\"))","v":""},{"$f":"IF($H66=\"TRUE\",INDEX('バッチ反映用（非表示）'!$A$5:$O$100,MATCH($G66,'バッチ反映用（非表示）'!$Q$5:$Q$100,0),MATCH('当月仕訳（非表示）'!F$6,'バッチ反映用（非表示）'!$A$4:$G$4,0)),IF($I66=\"end\",\"0\"&旅費振替依頼書!$I$3&旅費振替依頼書!$J$3&\"振替 \"&MONTH(SUBSTITUTE($B$7,\".\",\"/\"))&\"月旅費→\"&MONTH(SUBSTITUTE($B$7,\".\",\"/\"))&\"月作業費 \"&G65&\"件\",\"\"))","v":""},60,{"$f":"IF(ISERROR(INDEX('バッチ反映用（非表示）'!$A$5:$O$100,MATCH($G66,'バッチ反映用（非表示）'!$Q$5:$Q$100,0),MATCH('当月仕訳（非表示）'!E$6,'バッチ反映用（非表示）'!$A$4:$G$4,0)))=FALSE,\"TRUE\",\"FALSE\")","v":"FALSE"},""]
["",{"$f":"IF(B66=\"転記日付\",INDEX('バッチ反映用（非表示）'!$A$5:$O$100,MATCH($G67,'バッチ反映用（非表示）'!$Q$5:$Q$100,0),MATCH('当月仕訳（非表示）'!B$6,'バッチ反映用（非表示）'!$A$4:$G$4,0)),\"\")","v":{"$error":"#N/A"}},"",{"$f":"IF($H67=\"TRUE\",INDEX('バッチ反映用（非表示）'!$A$5:$O$100,MATCH($G67,'バッチ反映用（非表示）'!$Q$5:$Q$100,0),MATCH('当月仕訳（非表示）'!D$6,'バッチ反映用（非表示）'!$A$4:$G$4,0)),IF($I67=\"end\",D66,\"\"))","v":""},{"$f":"IF($H67=\"TRUE\",INDEX('バッチ反映用（非表示）'!$A$5:$O$100,MATCH($G67,'バッチ反映用（非表示）'!$Q$5:$Q$100,0),MATCH('当月仕訳（非表示）'!E$6,'バッチ反映用（非表示）'!$A$4:$G$4,0)),IF($I67=\"end\",SUM($E$7:E66)*-1,\"\"))","v":""},{"$f":"IF($H67=\"TRUE\",INDEX('バッチ反映用（非表示）'!$A$5:$O$100,MATCH($G67,'バッチ反映用（非表示）'!$Q$5:$Q$100,0),MATCH('当月仕訳（非表示）'!F$6,'バッチ反映用（非表示）'!$A$4:$G$4,0)),IF($I67=\"end\",\"0\"&旅費振替依頼書!$I$3&旅費振替依頼書!$J$3&\"振替 \"&MONTH(SUBSTITUTE($B$7,\".\",\"/\"))&\"月旅費→\"&MONTH(SUBSTITUTE($B$7,\".\",\"/\"))&\"月作業費 \"&G66&\"件\",\"\"))","v":""},61,{"$f":"IF(ISERROR(INDEX('バッチ反映用（非表示）'!$A$5:$O$100,MATCH($G67,'バッチ反映用（非表示）'!$Q$5:$Q$100,0),MATCH('当月仕訳（非表示）'!E$6,'バッチ反映用（非表示）'!$A$4:$G$4,0)))=FALSE,\"TRUE\",\"FALSE\")","v":"FALSE"},""]
["",{"$f":"IF(B67=\"転記日付\",INDEX('バッチ反映用（非表示）'!$A$5:$O$100,MATCH($G68,'バッチ反映用（非表示）'!$Q$5:$Q$100,0),MATCH('当月仕訳（非表示）'!B$6,'バッチ反映用（非表示）'!$A$4:$G$4,0)),\"\")","v":{"$error":"#N/A"}},"",{"$f":"IF($H68=\"TRUE\",INDEX('バッチ反映用（非表示）'!$A$5:$O$100,MATCH($G68,'バッチ反映用（非表示）'!$Q$5:$Q$100,0),MATCH('当月仕訳（非表示）'!D$6,'バッチ反映用（非表示）'!$A$4:$G$4,0)),IF($I68=\"end\",D67,\"\"))","v":""},{"$f":"IF($H68=\"TRUE\",INDEX('バッチ反映用（非表示）'!$A$5:$O$100,MATCH($G68,'バッチ反映用（非表示）'!$Q$5:$Q$100,0),MATCH('当月仕訳（非表示）'!E$6,'バッチ反映用（非表示）'!$A$4:$G$4,0)),IF($I68=\"end\",SUM($E$7:E67)*-1,\"\"))","v":""},{"$f":"IF($H68=\"TRUE\",INDEX('バッチ反映用（非表示）'!$A$5:$O$100,MATCH($G68,'バッチ反映用（非表示）'!$Q$5:$Q$100,0),MATCH('当月仕訳（非表示）'!F$6,'バッチ反映用（非表示）'!$A$4:$G$4,0)),IF($I68=\"end\",\"0\"&旅費振替依頼書!$I$3&旅費振替依頼書!$J$3&\"振替 \"&MONTH(SUBSTITUTE($B$7,\".\",\"/\"))&\"月旅費→\"&MONTH(SUBSTITUTE($B$7,\".\",\"/\"))&\"月作業費 \"&G67&\"件\",\"\"))","v":""},62,{"$f":"IF(ISERROR(INDEX('バッチ反映用（非表示）'!$A$5:$O$100,MATCH($G68,'バッチ反映用（非表示）'!$Q$5:$Q$100,0),MATCH('当月仕訳（非表示）'!E$6,'バッチ反映用（非表示）'!$A$4:$G$4,0)))=FALSE,\"TRUE\",\"FALSE\")","v":"FALSE"},""]
["",{"$f":"IF(B68=\"転記日付\",INDEX('バッチ反映用（非表示）'!$A$5:$O$100,MATCH($G69,'バッチ反映用（非表示）'!$Q$5:$Q$100,0),MATCH('当月仕訳（非表示）'!B$6,'バッチ反映用（非表示）'!$A$4:$G$4,0)),\"\")","v":{"$error":"#N/A"}},"",{"$f":"IF($H69=\"TRUE\",INDEX('バッチ反映用（非表示）'!$A$5:$O$100,MATCH($G69,'バッチ反映用（非表示）'!$Q$5:$Q$100,0),MATCH('当月仕訳（非表示）'!D$6,'バッチ反映用（非表示）'!$A$4:$G$4,0)),IF($I69=\"end\",D68,\"\"))","v":""},{"$f":"IF($H69=\"TRUE\",INDEX('バッチ反映用（非表示）'!$A$5:$O$100,MATCH($G69,'バッチ反映用（非表示）'!$Q$5:$Q$100,0),MATCH('当月仕訳（非表示）'!E$6,'バッチ反映用（非表示）'!$A$4:$G$4,0)),IF($I69=\"end\",SUM($E$7:E68)*-1,\"\"))","v":""},{"$f":"IF($H69=\"TRUE\",INDEX('バッチ反映用（非表示）'!$A$5:$O$100,MATCH($G69,'バッチ反映用（非表示）'!$Q$5:$Q$100,0),MATCH('当月仕訳（非表示）'!F$6,'バッチ反映用（非表示）'!$A$4:$G$4,0)),IF($I69=\"end\",\"0\"&旅費振替依頼書!$I$3&旅費振替依頼書!$J$3&\"振替 \"&MONTH(SUBSTITUTE($B$7,\".\",\"/\"))&\"月旅費→\"&MONTH(SUBSTITUTE($B$7,\".\",\"/\"))&\"月作業費 \"&G68&\"件\",\"\"))","v":""},63,{"$f":"IF(ISERROR(INDEX('バッチ反映用（非表示）'!$A$5:$O$100,MATCH($G69,'バッチ反映用（非表示）'!$Q$5:$Q$100,0),MATCH('当月仕訳（非表示）'!E$6,'バッチ反映用（非表示）'!$A$4:$G$4,0)))=FALSE,\"TRUE\",\"FALSE\")","v":"FALSE"},""]
["",{"$f":"IF(B69=\"転記日付\",INDEX('バッチ反映用（非表示）'!$A$5:$O$100,MATCH($G70,'バッチ反映用（非表示）'!$Q$5:$Q$100,0),MATCH('当月仕訳（非表示）'!B$6,'バッチ反映用（非表示）'!$A$4:$G$4,0)),\"\")","v":{"$error":"#N/A"}},"",{"$f":"IF($H70=\"TRUE\",INDEX('バッチ反映用（非表示）'!$A$5:$O$100,MATCH($G70,'バッチ反映用（非表示）'!$Q$5:$Q$100,0),MATCH('当月仕訳（非表示）'!D$6,'バッチ反映用（非表示）'!$A$4:$G$4,0)),IF($I70=\"end\",D69,\"\"))","v":""},{"$f":"IF($H70=\"TRUE\",INDEX('バッチ反映用（非表示）'!$A$5:$O$100,MATCH($G70,'バッチ反映用（非表示）'!$Q$5:$Q$100,0),MATCH('当月仕訳（非表示）'!E$6,'バッチ反映用（非表示）'!$A$4:$G$4,0)),IF($I70=\"end\",SUM($E$7:E69)*-1,\"\"))","v":""},{"$f":"IF($H70=\"TRUE\",INDEX('バッチ反映用（非表示）'!$A$5:$O$100,MATCH($G70,'バッチ反映用（非表示）'!$Q$5:$Q$100,0),MATCH('当月仕訳（非表示）'!F$6,'バッチ反映用（非表示）'!$A$4:$G$4,0)),IF($I70=\"end\",\"0\"&旅費振替依頼書!$I$3&旅費振替依頼書!$J$3&\"振替 \"&MONTH(SUBSTITUTE($B$7,\".\",\"/\"))&\"月旅費→\"&MONTH(SUBSTITUTE($B$7,\".\",\"/\"))&\"月作業費 \"&G69&\"件\",\"\"))","v":""},64,{"$f":"IF(ISERROR(INDEX('バッチ反映用（非表示）'!$A$5:$O$100,MATCH($G70,'バッチ反映用（非表示）'!$Q$5:$Q$100,0),MATCH('当月仕訳（非表示）'!E$6,'バッチ反映用（非表示）'!$A$4:$G$4,0)))=FALSE,\"TRUE\",\"FALSE\")","v":"FALSE"},""]
["",{"$f":"IF(B70=\"転記日付\",INDEX('バッチ反映用（非表示）'!$A$5:$O$100,MATCH($G71,'バッチ反映用（非表示）'!$Q$5:$Q$100,0),MATCH('当月仕訳（非表示）'!B$6,'バッチ反映用（非表示）'!$A$4:$G$4,0)),\"\")","v":{"$error":"#N/A"}},"",{"$f":"IF($H71=\"TRUE\",INDEX('バッチ反映用（非表示）'!$A$5:$O$100,MATCH($G71,'バッチ反映用（非表示）'!$Q$5:$Q$100,0),MATCH('当月仕訳（非表示）'!D$6,'バッチ反映用（非表示）'!$A$4:$G$4,0)),IF($I71=\"end\",D70,\"\"))","v":""},{"$f":"IF($H71=\"TRUE\",INDEX('バッチ反映用（非表示）'!$A$5:$O$100,MATCH($G71,'バッチ反映用（非表示）'!$Q$5:$Q$100,0),MATCH('当月仕訳（非表示）'!E$6,'バッチ反映用（非表示）'!$A$4:$G$4,0)),IF($I71=\"end\",SUM($E$7:E70)*-1,\"\"))","v":""},{"$f":"IF($H71=\"TRUE\",INDEX('バッチ反映用（非表示）'!$A$5:$O$100,MATCH($G71,'バッチ反映用（非表示）'!$Q$5:$Q$100,0),MATCH('当月仕訳（非表示）'!F$6,'バッチ反映用（非表示）'!$A$4:$G$4,0)),IF($I71=\"end\",\"0\"&旅費振替依頼書!$I$3&旅費振替依頼書!$J$3&\"振替 \"&MONTH(SUBSTITUTE($B$7,\".\",\"/\"))&\"月旅費→\"&MONTH(SUBSTITUTE($B$7,\".\",\"/\"))&\"月作業費 \"&G70&\"件\",\"\"))","v":""},65,{"$f":"IF(ISERROR(INDEX('バッチ反映用（非表示）'!$A$5:$O$100,MATCH($G71,'バッチ反映用（非表示）'!$Q$5:$Q$100,0),MATCH('当月仕訳（非表示）'!E$6,'バッチ反映用（非表示）'!$A$4:$G$4,0)))=FALSE,\"TRUE\",\"FALSE\")","v":"FALSE"},""]
["",{"$f":"IF(B71=\"転記日付\",INDEX('バッチ反映用（非表示）'!$A$5:$O$100,MATCH($G72,'バッチ反映用（非表示）'!$Q$5:$Q$100,0),MATCH('当月仕訳（非表示）'!B$6,'バッチ反映用（非表示）'!$A$4:$G$4,0)),\"\")","v":{"$error":"#N/A"}},"",{"$f":"IF($H72=\"TRUE\",INDEX('バッチ反映用（非表示）'!$A$5:$O$100,MATCH($G72,'バッチ反映用（非表示）'!$Q$5:$Q$100,0),MATCH('当月仕訳（非表示）'!D$6,'バッチ反映用（非表示）'!$A$4:$G$4,0)),IF($I72=\"end\",D71,\"\"))","v":""},{"$f":"IF($H72=\"TRUE\",INDEX('バッチ反映用（非表示）'!$A$5:$O$100,MATCH($G72,'バッチ反映用（非表示）'!$Q$5:$Q$100,0),MATCH('当月仕訳（非表示）'!E$6,'バッチ反映用（非表示）'!$A$4:$G$4,0)),IF($I72=\"end\",SUM($E$7:E71)*-1,\"\"))","v":""},{"$f":"IF($H72=\"TRUE\",INDEX('バッチ反映用（非表示）'!$A$5:$O$100,MATCH($G72,'バッチ反映用（非表示）'!$Q$5:$Q$100,0),MATCH('当月仕訳（非表示）'!F$6,'バッチ反映用（非表示）'!$A$4:$G$4,0)),IF($I72=\"end\",\"0\"&旅費振替依頼書!$I$3&旅費振替依頼書!$J$3&\"振替 \"&MONTH(SUBSTITUTE($B$7,\".\",\"/\"))&\"月旅費→\"&MONTH(SUBSTITUTE($B$7,\".\",\"/\"))&\"月作業費 \"&G71&\"件\",\"\"))","v":""},66,{"$f":"IF(ISERROR(INDEX('バッチ反映用（非表示）'!$A$5:$O$100,MATCH($G72,'バッチ反映用（非表示）'!$Q$5:$Q$100,0),MATCH('当月仕訳（非表示）'!E$6,'バッチ反映用（非表示）'!$A$4:$G$4,0)))=FALSE,\"TRUE\",\"FALSE\")","v":"FALSE"},""]
["",{"$f":"IF(B72=\"転記日付\",INDEX('バッチ反映用（非表示）'!$A$5:$O$100,MATCH($G73,'バッチ反映用（非表示）'!$Q$5:$Q$100,0),MATCH('当月仕訳（非表示）'!B$6,'バッチ反映用（非表示）'!$A$4:$G$4,0)),\"\")","v":{"$error":"#N/A"}},"",{"$f":"IF($H73=\"TRUE\",INDEX('バッチ反映用（非表示）'!$A$5:$O$100,MATCH($G73,'バッチ反映用（非表示）'!$Q$5:$Q$100,0),MATCH('当月仕訳（非表示）'!D$6,'バッチ反映用（非表示）'!$A$4:$G$4,0)),IF($I73=\"end\",D72,\"\"))","v":""},{"$f":"IF($H73=\"TRUE\",INDEX('バッチ反映用（非表示）'!$A$5:$O$100,MATCH($G73,'バッチ反映用（非表示）'!$Q$5:$Q$100,0),MATCH('当月仕訳（非表示）'!E$6,'バッチ反映用（非表示）'!$A$4:$G$4,0)),IF($I73=\"end\",SUM($E$7:E72)*-1,\"\"))","v":""},{"$f":"IF($H73=\"TRUE\",INDEX('バッチ反映用（非表示）'!$A$5:$O$100,MATCH($G73,'バッチ反映用（非表示）'!$Q$5:$Q$100,0),MATCH('当月仕訳（非表示）'!F$6,'バッチ反映用（非表示）'!$A$4:$G$4,0)),IF($I73=\"end\",\"0\"&旅費振替依頼書!$I$3&旅費振替依頼書!$J$3&\"振替 \"&MONTH(SUBSTITUTE($B$7,\".\",\"/\"))&\"月旅費→\"&MONTH(SUBSTITUTE($B$7,\".\",\"/\"))&\"月作業費 \"&G72&\"件\",\"\"))","v":""},67,{"$f":"IF(ISERROR(INDEX('バッチ反映用（非表示）'!$A$5:$O$100,MATCH($G73,'バッチ反映用（非表示）'!$Q$5:$Q$100,0),MATCH('当月仕訳（非表示）'!E$6,'バッチ反映用（非表示）'!$A$4:$G$4,0)))=FALSE,\"TRUE\",\"FALSE\")","v":"FALSE"},""]
["",{"$f":"IF(B73=\"転記日付\",INDEX('バッチ反映用（非表示）'!$A$5:$O$100,MATCH($G74,'バッチ反映用（非表示）'!$Q$5:$Q$100,0),MATCH('当月仕訳（非表示）'!B$6,'バッチ反映用（非表示）'!$A$4:$G$4,0)),\"\")","v":{"$error":"#N/A"}},"",{"$f":"IF($H74=\"TRUE\",INDEX('バッチ反映用（非表示）'!$A$5:$O$100,MATCH($G74,'バッチ反映用（非表示）'!$Q$5:$Q$100,0),MATCH('当月仕訳（非表示）'!D$6,'バッチ反映用（非表示）'!$A$4:$G$4,0)),IF($I74=\"end\",D73,\"\"))","v":""},{"$f":"IF($H74=\"TRUE\",INDEX('バッチ反映用（非表示）'!$A$5:$O$100,MATCH($G74,'バッチ反映用（非表示）'!$Q$5:$Q$100,0),MATCH('当月仕訳（非表示）'!E$6,'バッチ反映用（非表示）'!$A$4:$G$4,0)),IF($I74=\"end\",SUM($E$7:E73)*-1,\"\"))","v":""},{"$f":"IF($H74=\"TRUE\",INDEX('バッチ反映用（非表示）'!$A$5:$O$100,MATCH($G74,'バッチ反映用（非表示）'!$Q$5:$Q$100,0),MATCH('当月仕訳（非表示）'!F$6,'バッチ反映用（非表示）'!$A$4:$G$4,0)),IF($I74=\"end\",\"0\"&旅費振替依頼書!$I$3&旅費振替依頼書!$J$3&\"振替 \"&MONTH(SUBSTITUTE($B$7,\".\",\"/\"))&\"月旅費→\"&MONTH(SUBSTITUTE($B$7,\".\",\"/\"))&\"月作業費 \"&G73&\"件\",\"\"))","v":""},68,{"$f":"IF(ISERROR(INDEX('バッチ反映用（非表示）'!$A$5:$O$100,MATCH($G74,'バッチ反映用（非表示）'!$Q$5:$Q$100,0),MATCH('当月仕訳（非表示）'!E$6,'バッチ反映用（非表示）'!$A$4:$G$4,0)))=FALSE,\"TRUE\",\"FALSE\")","v":"FALSE"},""]
["",{"$f":"IF(B74=\"転記日付\",INDEX('バッチ反映用（非表示）'!$A$5:$O$100,MATCH($G75,'バッチ反映用（非表示）'!$Q$5:$Q$100,0),MATCH('当月仕訳（非表示）'!B$6,'バッチ反映用（非表示）'!$A$4:$G$4,0)),\"\")","v":{"$error":"#N/A"}},"",{"$f":"IF($H75=\"TRUE\",INDEX('バッチ反映用（非表示）'!$A$5:$O$100,MATCH($G75,'バッチ反映用（非表示）'!$Q$5:$Q$100,0),MATCH('当月仕訳（非表示）'!D$6,'バッチ反映用（非表示）'!$A$4:$G$4,0)),IF($I75=\"end\",D74,\"\"))","v":""},{"$f":"IF($H75=\"TRUE\",INDEX('バッチ反映用（非表示）'!$A$5:$O$100,MATCH($G75,'バッチ反映用（非表示）'!$Q$5:$Q$100,0),MATCH('当月仕訳（非表示）'!E$6,'バッチ反映用（非表示）'!$A$4:$G$4,0)),IF($I75=\"end\",SUM($E$7:E74)*-1,\"\"))","v":""},{"$f":"IF($H75=\"TRUE\",INDEX('バッチ反映用（非表示）'!$A$5:$O$100,MATCH($G75,'バッチ反映用（非表示）'!$Q$5:$Q$100,0),MATCH('当月仕訳（非表示）'!F$6,'バッチ反映用（非表示）'!$A$4:$G$4,0)),IF($I75=\"end\",\"0\"&旅費振替依頼書!$I$3&旅費振替依頼書!$J$3&\"振替 \"&MONTH(SUBSTITUTE($B$7,\".\",\"/\"))&\"月旅費→\"&MONTH(SUBSTITUTE($B$7,\".\",\"/\"))&\"月作業費 \"&G74&\"件\",\"\"))","v":""},69,{"$f":"IF(ISERROR(INDEX('バッチ反映用（非表示）'!$A$5:$O$100,MATCH($G75,'バッチ反映用（非表示）'!$Q$5:$Q$100,0),MATCH('当月仕訳（非表示）'!E$6,'バッチ反映用（非表示）'!$A$4:$G$4,0)))=FALSE,\"TRUE\",\"FALSE\")","v":"FALSE"},""]
["",{"$f":"IF(B75=\"転記日付\",INDEX('バッチ反映用（非表示）'!$A$5:$O$100,MATCH($G76,'バッチ反映用（非表示）'!$Q$5:$Q$100,0),MATCH('当月仕訳（非表示）'!B$6,'バッチ反映用（非表示）'!$A$4:$G$4,0)),\"\")","v":{"$error":"#N/A"}},"",{"$f":"IF($H76=\"TRUE\",INDEX('バッチ反映用（非表示）'!$A$5:$O$100,MATCH($G76,'バッチ反映用（非表示）'!$Q$5:$Q$100,0),MATCH('当月仕訳（非表示）'!D$6,'バッチ反映用（非表示）'!$A$4:$G$4,0)),IF($I76=\"end\",D75,\"\"))","v":""},{"$f":"IF($H76=\"TRUE\",INDEX('バッチ反映用（非表示）'!$A$5:$O$100,MATCH($G76,'バッチ反映用（非表示）'!$Q$5:$Q$100,0),MATCH('当月仕訳（非表示）'!E$6,'バッチ反映用（非表示）'!$A$4:$G$4,0)),IF($I76=\"end\",SUM($E$7:E75)*-1,\"\"))","v":""},{"$f":"IF($H76=\"TRUE\",INDEX('バッチ反映用（非表示）'!$A$5:$O$100,MATCH($G76,'バッチ反映用（非表示）'!$Q$5:$Q$100,0),MATCH('当月仕訳（非表示）'!F$6,'バッチ反映用（非表示）'!$A$4:$G$4,0)),IF($I76=\"end\",\"0\"&旅費振替依頼書!$I$3&旅費振替依頼書!$J$3&\"振替 \"&MONTH(SUBSTITUTE($B$7,\".\",\"/\"))&\"月旅費→\"&MONTH(SUBSTITUTE($B$7,\".\",\"/\"))&\"月作業費 \"&G75&\"件\",\"\"))","v":""},70,{"$f":"IF(ISERROR(INDEX('バッチ反映用（非表示）'!$A$5:$O$100,MATCH($G76,'バッチ反映用（非表示）'!$Q$5:$Q$100,0),MATCH('当月仕訳（非表示）'!E$6,'バッチ反映用（非表示）'!$A$4:$G$4,0)))=FALSE,\"TRUE\",\"FALSE\")","v":"FALSE"},""]
["",{"$f":"IF(B76=\"転記日付\",INDEX('バッチ反映用（非表示）'!$A$5:$O$100,MATCH($G77,'バッチ反映用（非表示）'!$Q$5:$Q$100,0),MATCH('当月仕訳（非表示）'!B$6,'バッチ反映用（非表示）'!$A$4:$G$4,0)),\"\")","v":{"$error":"#N/A"}},"",{"$f":"IF($H77=\"TRUE\",INDEX('バッチ反映用（非表示）'!$A$5:$O$100,MATCH($G77,'バッチ反映用（非表示）'!$Q$5:$Q$100,0),MATCH('当月仕訳（非表示）'!D$6,'バッチ反映用（非表示）'!$A$4:$G$4,0)),IF($I77=\"end\",D76,\"\"))","v":""},{"$f":"IF($H77=\"TRUE\",INDEX('バッチ反映用（非表示）'!$A$5:$O$100,MATCH($G77,'バッチ反映用（非表示）'!$Q$5:$Q$100,0),MATCH('当月仕訳（非表示）'!E$6,'バッチ反映用（非表示）'!$A$4:$G$4,0)),IF($I77=\"end\",SUM($E$7:E76)*-1,\"\"))","v":""},{"$f":"IF($H77=\"TRUE\",INDEX('バッチ反映用（非表示）'!$A$5:$O$100,MATCH($G77,'バッチ反映用（非表示）'!$Q$5:$Q$100,0),MATCH('当月仕訳（非表示）'!F$6,'バッチ反映用（非表示）'!$A$4:$G$4,0)),IF($I77=\"end\",\"0\"&旅費振替依頼書!$I$3&旅費振替依頼書!$J$3&\"振替 \"&MONTH(SUBSTITUTE($B$7,\".\",\"/\"))&\"月旅費→\"&MONTH(SUBSTITUTE($B$7,\".\",\"/\"))&\"月作業費 \"&G76&\"件\",\"\"))","v":""},71,{"$f":"IF(ISERROR(INDEX('バッチ反映用（非表示）'!$A$5:$O$100,MATCH($G77,'バッチ反映用（非表示）'!$Q$5:$Q$100,0),MATCH('当月仕訳（非表示）'!E$6,'バッチ反映用（非表示）'!$A$4:$G$4,0)))=FALSE,\"TRUE\",\"FALSE\")","v":"FALSE"},""]
["",{"$f":"IF(B77=\"転記日付\",INDEX('バッチ反映用（非表示）'!$A$5:$O$100,MATCH($G78,'バッチ反映用（非表示）'!$Q$5:$Q$100,0),MATCH('当月仕訳（非表示）'!B$6,'バッチ反映用（非表示）'!$A$4:$G$4,0)),\"\")","v":{"$error":"#N/A"}},"",{"$f":"IF($H78=\"TRUE\",INDEX('バッチ反映用（非表示）'!$A$5:$O$100,MATCH($G78,'バッチ反映用（非表示）'!$Q$5:$Q$100,0),MATCH('当月仕訳（非表示）'!D$6,'バッチ反映用（非表示）'!$A$4:$G$4,0)),IF($I78=\"end\",D77,\"\"))","v":""},{"$f":"IF($H78=\"TRUE\",INDEX('バッチ反映用（非表示）'!$A$5:$O$100,MATCH($G78,'バッチ反映用（非表示）'!$Q$5:$Q$100,0),MATCH('当月仕訳（非表示）'!E$6,'バッチ反映用（非表示）'!$A$4:$G$4,0)),IF($I78=\"end\",SUM($E$7:E77)*-1,\"\"))","v":""},{"$f":"IF($H78=\"TRUE\",INDEX('バッチ反映用（非表示）'!$A$5:$O$100,MATCH($G78,'バッチ反映用（非表示）'!$Q$5:$Q$100,0),MATCH('当月仕訳（非表示）'!F$6,'バッチ反映用（非表示）'!$A$4:$G$4,0)),IF($I78=\"end\",\"0\"&旅費振替依頼書!$I$3&旅費振替依頼書!$J$3&\"振替 \"&MONTH(SUBSTITUTE($B$7,\".\",\"/\"))&\"月旅費→\"&MONTH(SUBSTITUTE($B$7,\".\",\"/\"))&\"月作業費 \"&G77&\"件\",\"\"))","v":""},72,{"$f":"IF(ISERROR(INDEX('バッチ反映用（非表示）'!$A$5:$O$100,MATCH($G78,'バッチ反映用（非表示）'!$Q$5:$Q$100,0),MATCH('当月仕訳（非表示）'!E$6,'バッチ反映用（非表示）'!$A$4:$G$4,0)))=FALSE,\"TRUE\",\"FALSE\")","v":"FALSE"},""]
["",{"$f":"IF(B78=\"転記日付\",INDEX('バッチ反映用（非表示）'!$A$5:$O$100,MATCH($G79,'バッチ反映用（非表示）'!$Q$5:$Q$100,0),MATCH('当月仕訳（非表示）'!B$6,'バッチ反映用（非表示）'!$A$4:$G$4,0)),\"\")","v":{"$error":"#N/A"}},"",{"$f":"IF($H79=\"TRUE\",INDEX('バッチ反映用（非表示）'!$A$5:$O$100,MATCH($G79,'バッチ反映用（非表示）'!$Q$5:$Q$100,0),MATCH('当月仕訳（非表示）'!D$6,'バッチ反映用（非表示）'!$A$4:$G$4,0)),IF($I79=\"end\",D78,\"\"))","v":""},{"$f":"IF($H79=\"TRUE\",INDEX('バッチ反映用（非表示）'!$A$5:$O$100,MATCH($G79,'バッチ反映用（非表示）'!$Q$5:$Q$100,0),MATCH('当月仕訳（非表示）'!E$6,'バッチ反映用（非表示）'!$A$4:$G$4,0)),IF($I79=\"end\",SUM($E$7:E78)*-1,\"\"))","v":""},{"$f":"IF($H79=\"TRUE\",INDEX('バッチ反映用（非表示）'!$A$5:$O$100,MATCH($G79,'バッチ反映用（非表示）'!$Q$5:$Q$100,0),MATCH('当月仕訳（非表示）'!F$6,'バッチ反映用（非表示）'!$A$4:$G$4,0)),IF($I79=\"end\",\"0\"&旅費振替依頼書!$I$3&旅費振替依頼書!$J$3&\"振替 \"&MONTH(SUBSTITUTE($B$7,\".\",\"/\"))&\"月旅費→\"&MONTH(SUBSTITUTE($B$7,\".\",\"/\"))&\"月作業費 \"&G78&\"件\",\"\"))","v":""},73,{"$f":"IF(ISERROR(INDEX('バッチ反映用（非表示）'!$A$5:$O$100,MATCH($G79,'バッチ反映用（非表示）'!$Q$5:$Q$100,0),MATCH('当月仕訳（非表示）'!E$6,'バッチ反映用（非表示）'!$A$4:$G$4,0)))=FALSE,\"TRUE\",\"FALSE\")","v":"FALSE"},""]
["",{"$f":"IF(B79=\"転記日付\",INDEX('バッチ反映用（非表示）'!$A$5:$O$100,MATCH($G80,'バッチ反映用（非表示）'!$Q$5:$Q$100,0),MATCH('当月仕訳（非表示）'!B$6,'バッチ反映用（非表示）'!$A$4:$G$4,0)),\"\")","v":{"$error":"#N/A"}},"",{"$f":"IF($H80=\"TRUE\",INDEX('バッチ反映用（非表示）'!$A$5:$O$100,MATCH($G80,'バッチ反映用（非表示）'!$Q$5:$Q$100,0),MATCH('当月仕訳（非表示）'!D$6,'バッチ反映用（非表示）'!$A$4:$G$4,0)),IF($I80=\"end\",D79,\"\"))","v":""},{"$f":"IF($H80=\"TRUE\",INDEX('バッチ反映用（非表示）'!$A$5:$O$100,MATCH($G80,'バッチ反映用（非表示）'!$Q$5:$Q$100,0),MATCH('当月仕訳（非表示）'!E$6,'バッチ反映用（非表示）'!$A$4:$G$4,0)),IF($I80=\"end\",SUM($E$7:E79)*-1,\"\"))","v":""},{"$f":"IF($H80=\"TRUE\",INDEX('バッチ反映用（非表示）'!$A$5:$O$100,MATCH($G80,'バッチ反映用（非表示）'!$Q$5:$Q$100,0),MATCH('当月仕訳（非表示）'!F$6,'バッチ反映用（非表示）'!$A$4:$G$4,0)),IF($I80=\"end\",\"0\"&旅費振替依頼書!$I$3&旅費振替依頼書!$J$3&\"振替 \"&MONTH(SUBSTITUTE($B$7,\".\",\"/\"))&\"月旅費→\"&MONTH(SUBSTITUTE($B$7,\".\",\"/\"))&\"月作業費 \"&G79&\"件\",\"\"))","v":""},74,{"$f":"IF(ISERROR(INDEX('バッチ反映用（非表示）'!$A$5:$O$100,MATCH($G80,'バッチ反映用（非表示）'!$Q$5:$Q$100,0),MATCH('当月仕訳（非表示）'!E$6,'バッチ反映用（非表示）'!$A$4:$G$4,0)))=FALSE,\"TRUE\",\"FALSE\")","v":"FALSE"},""]
["",{"$f":"IF(B80=\"転記日付\",INDEX('バッチ反映用（非表示）'!$A$5:$O$100,MATCH($G81,'バッチ反映用（非表示）'!$Q$5:$Q$100,0),MATCH('当月仕訳（非表示）'!B$6,'バッチ反映用（非表示）'!$A$4:$G$4,0)),\"\")","v":{"$error":"#N/A"}},"",{"$f":"IF($H81=\"TRUE\",INDEX('バッチ反映用（非表示）'!$A$5:$O$100,MATCH($G81,'バッチ反映用（非表示）'!$Q$5:$Q$100,0),MATCH('当月仕訳（非表示）'!D$6,'バッチ反映用（非表示）'!$A$4:$G$4,0)),IF($I81=\"end\",D80,\"\"))","v":""},{"$f":"IF($H81=\"TRUE\",INDEX('バッチ反映用（非表示）'!$A$5:$O$100,MATCH($G81,'バッチ反映用（非表示）'!$Q$5:$Q$100,0),MATCH('当月仕訳（非表示）'!E$6,'バッチ反映用（非表示）'!$A$4:$G$4,0)),IF($I81=\"end\",SUM($E$7:E80)*-1,\"\"))","v":""},{"$f":"IF($H81=\"TRUE\",INDEX('バッチ反映用（非表示）'!$A$5:$O$100,MATCH($G81,'バッチ反映用（非表示）'!$Q$5:$Q$100,0),MATCH('当月仕訳（非表示）'!F$6,'バッチ反映用（非表示）'!$A$4:$G$4,0)),IF($I81=\"end\",\"0\"&旅費振替依頼書!$I$3&旅費振替依頼書!$J$3&\"振替 \"&MONTH(SUBSTITUTE($B$7,\".\",\"/\"))&\"月旅費→\"&MONTH(SUBSTITUTE($B$7,\".\",\"/\"))&\"月作業費 \"&G80&\"件\",\"\"))","v":""},75,{"$f":"IF(ISERROR(INDEX('バッチ反映用（非表示）'!$A$5:$O$100,MATCH($G81,'バッチ反映用（非表示）'!$Q$5:$Q$100,0),MATCH('当月仕訳（非表示）'!E$6,'バッチ反映用（非表示）'!$A$4:$G$4,0)))=FALSE,\"TRUE\",\"FALSE\")","v":"FALSE"},""]
["",{"$f":"IF(B81=\"転記日付\",INDEX('バッチ反映用（非表示）'!$A$5:$O$100,MATCH($G82,'バッチ反映用（非表示）'!$Q$5:$Q$100,0),MATCH('当月仕訳（非表示）'!B$6,'バッチ反映用（非表示）'!$A$4:$G$4,0)),\"\")","v":{"$error":"#N/A"}},"",{"$f":"IF($H82=\"TRUE\",INDEX('バッチ反映用（非表示）'!$A$5:$O$100,MATCH($G82,'バッチ反映用（非表示）'!$Q$5:$Q$100,0),MATCH('当月仕訳（非表示）'!D$6,'バッチ反映用（非表示）'!$A$4:$G$4,0)),IF($I82=\"end\",D81,\"\"))","v":""},{"$f":"IF($H82=\"TRUE\",INDEX('バッチ反映用（非表示）'!$A$5:$O$100,MATCH($G82,'バッチ反映用（非表示）'!$Q$5:$Q$100,0),MATCH('当月仕訳（非表示）'!E$6,'バッチ反映用（非表示）'!$A$4:$G$4,0)),IF($I82=\"end\",SUM($E$7:E81)*-1,\"\"))","v":""},{"$f":"IF($H82=\"TRUE\",INDEX('バッチ反映用（非表示）'!$A$5:$O$100,MATCH($G82,'バッチ反映用（非表示）'!$Q$5:$Q$100,0),MATCH('当月仕訳（非表示）'!F$6,'バッチ反映用（非表示）'!$A$4:$G$4,0)),IF($I82=\"end\",\"0\"&旅費振替依頼書!$I$3&旅費振替依頼書!$J$3&\"振替 \"&MONTH(SUBSTITUTE($B$7,\".\",\"/\"))&\"月旅費→\"&MONTH(SUBSTITUTE($B$7,\".\",\"/\"))&\"月作業費 \"&G81&\"件\",\"\"))","v":""},76,{"$f":"IF(ISERROR(INDEX('バッチ反映用（非表示）'!$A$5:$O$100,MATCH($G82,'バッチ反映用（非表示）'!$Q$5:$Q$100,0),MATCH('当月仕訳（非表示）'!E$6,'バッチ反映用（非表示）'!$A$4:$G$4,0)))=FALSE,\"TRUE\",\"FALSE\")","v":"FALSE"},""]
["",{"$f":"IF(B82=\"転記日付\",INDEX('バッチ反映用（非表示）'!$A$5:$O$100,MATCH($G83,'バッチ反映用（非表示）'!$Q$5:$Q$100,0),MATCH('当月仕訳（非表示）'!B$6,'バッチ反映用（非表示）'!$A$4:$G$4,0)),\"\")","v":{"$error":"#N/A"}},"",{"$f":"IF($H83=\"TRUE\",INDEX('バッチ反映用（非表示）'!$A$5:$O$100,MATCH($G83,'バッチ反映用（非表示）'!$Q$5:$Q$100,0),MATCH('当月仕訳（非表示）'!D$6,'バッチ反映用（非表示）'!$A$4:$G$4,0)),IF($I83=\"end\",D82,\"\"))","v":""},{"$f":"IF($H83=\"TRUE\",INDEX('バッチ反映用（非表示）'!$A$5:$O$100,MATCH($G83,'バッチ反映用（非表示）'!$Q$5:$Q$100,0),MATCH('当月仕訳（非表示）'!E$6,'バッチ反映用（非表示）'!$A$4:$G$4,0)),IF($I83=\"end\",SUM($E$7:E82)*-1,\"\"))","v":""},{"$f":"IF($H83=\"TRUE\",INDEX('バッチ反映用（非表示）'!$A$5:$O$100,MATCH($G83,'バッチ反映用（非表示）'!$Q$5:$Q$100,0),MATCH('当月仕訳（非表示）'!F$6,'バッチ反映用（非表示）'!$A$4:$G$4,0)),IF($I83=\"end\",\"0\"&旅費振替依頼書!$I$3&旅費振替依頼書!$J$3&\"振替 \"&MONTH(SUBSTITUTE($B$7,\".\",\"/\"))&\"月旅費→\"&MONTH(SUBSTITUTE($B$7,\".\",\"/\"))&\"月作業費 \"&G82&\"件\",\"\"))","v":""},77,{"$f":"IF(ISERROR(INDEX('バッチ反映用（非表示）'!$A$5:$O$100,MATCH($G83,'バッチ反映用（非表示）'!$Q$5:$Q$100,0),MATCH('当月仕訳（非表示）'!E$6,'バッチ反映用（非表示）'!$A$4:$G$4,0)))=FALSE,\"TRUE\",\"FALSE\")","v":"FALSE"},""]
["",{"$f":"IF(B83=\"転記日付\",INDEX('バッチ反映用（非表示）'!$A$5:$O$100,MATCH($G84,'バッチ反映用（非表示）'!$Q$5:$Q$100,0),MATCH('当月仕訳（非表示）'!B$6,'バッチ反映用（非表示）'!$A$4:$G$4,0)),\"\")","v":{"$error":"#N/A"}},"",{"$f":"IF($H84=\"TRUE\",INDEX('バッチ反映用（非表示）'!$A$5:$O$100,MATCH($G84,'バッチ反映用（非表示）'!$Q$5:$Q$100,0),MATCH('当月仕訳（非表示）'!D$6,'バッチ反映用（非表示）'!$A$4:$G$4,0)),IF($I84=\"end\",D83,\"\"))","v":""},{"$f":"IF($H84=\"TRUE\",INDEX('バッチ反映用（非表示）'!$A$5:$O$100,MATCH($G84,'バッチ反映用（非表示）'!$Q$5:$Q$100,0),MATCH('当月仕訳（非表示）'!E$6,'バッチ反映用（非表示）'!$A$4:$G$4,0)),IF($I84=\"end\",SUM($E$7:E83)*-1,\"\"))","v":""},{"$f":"IF($H84=\"TRUE\",INDEX('バッチ反映用（非表示）'!$A$5:$O$100,MATCH($G84,'バッチ反映用（非表示）'!$Q$5:$Q$100,0),MATCH('当月仕訳（非表示）'!F$6,'バッチ反映用（非表示）'!$A$4:$G$4,0)),IF($I84=\"end\",\"0\"&旅費振替依頼書!$I$3&旅費振替依頼書!$J$3&\"振替 \"&MONTH(SUBSTITUTE($B$7,\".\",\"/\"))&\"月旅費→\"&MONTH(SUBSTITUTE($B$7,\".\",\"/\"))&\"月作業費 \"&G83&\"件\",\"\"))","v":""},78,{"$f":"IF(ISERROR(INDEX('バッチ反映用（非表示）'!$A$5:$O$100,MATCH($G84,'バッチ反映用（非表示）'!$Q$5:$Q$100,0),MATCH('当月仕訳（非表示）'!E$6,'バッチ反映用（非表示）'!$A$4:$G$4,0)))=FALSE,\"TRUE\",\"FALSE\")","v":"FALSE"},""]
["",{"$f":"IF(B84=\"転記日付\",INDEX('バッチ反映用（非表示）'!$A$5:$O$100,MATCH($G85,'バッチ反映用（非表示）'!$Q$5:$Q$100,0),MATCH('当月仕訳（非表示）'!B$6,'バッチ反映用（非表示）'!$A$4:$G$4,0)),\"\")","v":{"$error":"#N/A"}},"",{"$f":"IF($H85=\"TRUE\",INDEX('バッチ反映用（非表示）'!$A$5:$O$100,MATCH($G85,'バッチ反映用（非表示）'!$Q$5:$Q$100,0),MATCH('当月仕訳（非表示）'!D$6,'バッチ反映用（非表示）'!$A$4:$G$4,0)),IF($I85=\"end\",D84,\"\"))","v":""},{"$f":"IF($H85=\"TRUE\",INDEX('バッチ反映用（非表示）'!$A$5:$O$100,MATCH($G85,'バッチ反映用（非表示）'!$Q$5:$Q$100,0),MATCH('当月仕訳（非表示）'!E$6,'バッチ反映用（非表示）'!$A$4:$G$4,0)),IF($I85=\"end\",SUM($E$7:E84)*-1,\"\"))","v":""},{"$f":"IF($H85=\"TRUE\",INDEX('バッチ反映用（非表示）'!$A$5:$O$100,MATCH($G85,'バッチ反映用（非表示）'!$Q$5:$Q$100,0),MATCH('当月仕訳（非表示）'!F$6,'バッチ反映用（非表示）'!$A$4:$G$4,0)),IF($I85=\"end\",\"0\"&旅費振替依頼書!$I$3&旅費振替依頼書!$J$3&\"振替 \"&MONTH(SUBSTITUTE($B$7,\".\",\"/\"))&\"月旅費→\"&MONTH(SUBSTITUTE($B$7,\".\",\"/\"))&\"月作業費 \"&G84&\"件\",\"\"))","v":""},79,{"$f":"IF(ISERROR(INDEX('バッチ反映用（非表示）'!$A$5:$O$100,MATCH($G85,'バッチ反映用（非表示）'!$Q$5:$Q$100,0),MATCH('当月仕訳（非表示）'!E$6,'バッチ反映用（非表示）'!$A$4:$G$4,0)))=FALSE,\"TRUE\",\"FALSE\")","v":"FALSE"},""]
["",{"$f":"IF(B85=\"転記日付\",INDEX('バッチ反映用（非表示）'!$A$5:$O$100,MATCH($G86,'バッチ反映用（非表示）'!$Q$5:$Q$100,0),MATCH('当月仕訳（非表示）'!B$6,'バッチ反映用（非表示）'!$A$4:$G$4,0)),\"\")","v":{"$error":"#N/A"}},"",{"$f":"IF($H86=\"TRUE\",INDEX('バッチ反映用（非表示）'!$A$5:$O$100,MATCH($G86,'バッチ反映用（非表示）'!$Q$5:$Q$100,0),MATCH('当月仕訳（非表示）'!D$6,'バッチ反映用（非表示）'!$A$4:$G$4,0)),IF($I86=\"end\",D85,\"\"))","v":""},{"$f":"IF($H86=\"TRUE\",INDEX('バッチ反映用（非表示）'!$A$5:$O$100,MATCH($G86,'バッチ反映用（非表示）'!$Q$5:$Q$100,0),MATCH('当月仕訳（非表示）'!E$6,'バッチ反映用（非表示）'!$A$4:$G$4,0)),IF($I86=\"end\",SUM($E$7:E85)*-1,\"\"))","v":""},{"$f":"IF($H86=\"TRUE\",INDEX('バッチ反映用（非表示）'!$A$5:$O$100,MATCH($G86,'バッチ反映用（非表示）'!$Q$5:$Q$100,0),MATCH('当月仕訳（非表示）'!F$6,'バッチ反映用（非表示）'!$A$4:$G$4,0)),IF($I86=\"end\",\"0\"&旅費振替依頼書!$I$3&旅費振替依頼書!$J$3&\"振替 \"&MONTH(SUBSTITUTE($B$7,\".\",\"/\"))&\"月旅費→\"&MONTH(SUBSTITUTE($B$7,\".\",\"/\"))&\"月作業費 \"&G85&\"件\",\"\"))","v":""},80,{"$f":"IF(ISERROR(INDEX('バッチ反映用（非表示）'!$A$5:$O$100,MATCH($G86,'バッチ反映用（非表示）'!$Q$5:$Q$100,0),MATCH('当月仕訳（非表示）'!E$6,'バッチ反映用（非表示）'!$A$4:$G$4,0)))=FALSE,\"TRUE\",\"FALSE\")","v":"FALSE"},""]
["",{"$f":"IF(B86=\"転記日付\",INDEX('バッチ反映用（非表示）'!$A$5:$O$100,MATCH($G87,'バッチ反映用（非表示）'!$Q$5:$Q$100,0),MATCH('当月仕訳（非表示）'!B$6,'バッチ反映用（非表示）'!$A$4:$G$4,0)),\"\")","v":{"$error":"#N/A"}},"",{"$f":"IF($H87=\"TRUE\",INDEX('バッチ反映用（非表示）'!$A$5:$O$100,MATCH($G87,'バッチ反映用（非表示）'!$Q$5:$Q$100,0),MATCH('当月仕訳（非表示）'!D$6,'バッチ反映用（非表示）'!$A$4:$G$4,0)),IF($I87=\"end\",D86,\"\"))","v":""},{"$f":"IF($H87=\"TRUE\",INDEX('バッチ反映用（非表示）'!$A$5:$O$100,MATCH($G87,'バッチ反映用（非表示）'!$Q$5:$Q$100,0),MATCH('当月仕訳（非表示）'!E$6,'バッチ反映用（非表示）'!$A$4:$G$4,0)),IF($I87=\"end\",SUM($E$7:E86)*-1,\"\"))","v":""},{"$f":"IF($H87=\"TRUE\",INDEX('バッチ反映用（非表示）'!$A$5:$O$100,MATCH($G87,'バッチ反映用（非表示）'!$Q$5:$Q$100,0),MATCH('当月仕訳（非表示）'!F$6,'バッチ反映用（非表示）'!$A$4:$G$4,0)),IF($I87=\"end\",\"0\"&旅費振替依頼書!$I$3&旅費振替依頼書!$J$3&\"振替 \"&MONTH(SUBSTITUTE($B$7,\".\",\"/\"))&\"月旅費→\"&MONTH(SUBSTITUTE($B$7,\".\",\"/\"))&\"月作業費 \"&G86&\"件\",\"\"))","v":""},81,{"$f":"IF(ISERROR(INDEX('バッチ反映用（非表示）'!$A$5:$O$100,MATCH($G87,'バッチ反映用（非表示）'!$Q$5:$Q$100,0),MATCH('当月仕訳（非表示）'!E$6,'バッチ反映用（非表示）'!$A$4:$G$4,0)))=FALSE,\"TRUE\",\"FALSE\")","v":"FALSE"},""]
["",{"$f":"IF(B87=\"転記日付\",INDEX('バッチ反映用（非表示）'!$A$5:$O$100,MATCH($G88,'バッチ反映用（非表示）'!$Q$5:$Q$100,0),MATCH('当月仕訳（非表示）'!B$6,'バッチ反映用（非表示）'!$A$4:$G$4,0)),\"\")","v":{"$error":"#N/A"}},"",{"$f":"IF($H88=\"TRUE\",INDEX('バッチ反映用（非表示）'!$A$5:$O$100,MATCH($G88,'バッチ反映用（非表示）'!$Q$5:$Q$100,0),MATCH('当月仕訳（非表示）'!D$6,'バッチ反映用（非表示）'!$A$4:$G$4,0)),IF($I88=\"end\",D87,\"\"))","v":""},{"$f":"IF($H88=\"TRUE\",INDEX('バッチ反映用（非表示）'!$A$5:$O$100,MATCH($G88,'バッチ反映用（非表示）'!$Q$5:$Q$100,0),MATCH('当月仕訳（非表示）'!E$6,'バッチ反映用（非表示）'!$A$4:$G$4,0)),IF($I88=\"end\",SUM($E$7:E87)*-1,\"\"))","v":""},{"$f":"IF($H88=\"TRUE\",INDEX('バッチ反映用（非表示）'!$A$5:$O$100,MATCH($G88,'バッチ反映用（非表示）'!$Q$5:$Q$100,0),MATCH('当月仕訳（非表示）'!F$6,'バッチ反映用（非表示）'!$A$4:$G$4,0)),IF($I88=\"end\",\"0\"&旅費振替依頼書!$I$3&旅費振替依頼書!$J$3&\"振替 \"&MONTH(SUBSTITUTE($B$7,\".\",\"/\"))&\"月旅費→\"&MONTH(SUBSTITUTE($B$7,\".\",\"/\"))&\"月作業費 \"&G87&\"件\",\"\"))","v":""},82,{"$f":"IF(ISERROR(INDEX('バッチ反映用（非表示）'!$A$5:$O$100,MATCH($G88,'バッチ反映用（非表示）'!$Q$5:$Q$100,0),MATCH('当月仕訳（非表示）'!E$6,'バッチ反映用（非表示）'!$A$4:$G$4,0)))=FALSE,\"TRUE\",\"FALSE\")","v":"FALSE"},""]
[{"$f":"IF(A88=\"会社コード\",\"NS\",IF(I88=\"end\",\"eof\",\"\"))","v":""},{"$f":"IF(B88=\"転記日付\",INDEX('バッチ反映用（非表示）'!$A$5:$O$100,MATCH($G89,'バッチ反映用（非表示）'!$Q$5:$Q$100,0),MATCH('当月仕訳（非表示）'!B$6,'バッチ反映用（非表示）'!$A$4:$G$4,0)),\"\")","v":{"$error":"#N/A"}},{"$f":"IF(D89<>\"\",IF(I89<>\"end\",$C$3,$C$4),\"\")","v":""},{"$f":"IF($H89=\"TRUE\",INDEX('バッチ反映用（非表示）'!$A$5:$O$100,MATCH($G89,'バッチ反映用（非表示）'!$Q$5:$Q$100,0),MATCH('当月仕訳（非表示）'!D$6,'バッチ反映用（非表示）'!$A$4:$G$4,0)),IF($I89=\"end\",D88,\"\"))","v":""},{"$f":"IF($H89=\"TRUE\",INDEX('バッチ反映用（非表示）'!$A$5:$O$100,MATCH($G89,'バッチ反映用（非表示）'!$Q$5:$Q$100,0),MATCH('当月仕訳（非表示）'!E$6,'バッチ反映用（非表示）'!$A$4:$G$4,0)),IF($I89=\"end\",SUM($E$7:E88)*-1,\"\"))","v":""},{"$f":"IF($H89=\"TRUE\",INDEX('バッチ反映用（非表示）'!$A$5:$O$100,MATCH($G89,'バッチ反映用（非表示）'!$Q$5:$Q$100,0),MATCH('当月仕訳（非表示）'!F$6,'バッチ反映用（非表示）'!$A$4:$G$4,0)),IF($I89=\"end\",\"0\"&旅費振替依頼書!$I$3&旅費振替依頼書!$J$3&\"振替 \"&MONTH(SUBSTITUTE($B$7,\".\",\"/\"))&\"月旅費→\"&MONTH(SUBSTITUTE($B$7,\".\",\"/\"))&\"月作業費 \"&G88&\"件\",\"\"))","v":""},83,{"$f":"IF(ISERROR(INDEX('バッチ反映用（非表示）'!$A$5:$O$100,MATCH($G89,'バッチ反映用（非表示）'!$Q$5:$Q$100,0),MATCH('当月仕訳（非表示）'!E$6,'バッチ反映用（非表示）'!$A$4:$G$4,0)))=FALSE,\"TRUE\",\"FALSE\")","v":"FALSE"},{"$f":"IF(AND(H88=\"TRUE\",H89=\"FALSE\"),\"end\",\"\")","v":""}]
["",{"$f":"IF(B89=\"転記日付\",INDEX('バッチ反映用（非表示）'!$A$5:$O$100,MATCH($G90,'バッチ反映用（非表示）'!$Q$5:$Q$100,0),MATCH('当月仕訳（非表示）'!B$6,'バッチ反映用（非表示）'!$A$4:$G$4,0)),\"\")","v":{"$error":"#N/A"}},"",{"$f":"IF($H90=\"TRUE\",INDEX('バッチ反映用（非表示）'!$A$5:$O$100,MATCH($G90,'バッチ反映用（非表示）'!$Q$5:$Q$100,0),MATCH('当月仕訳（非表示）'!D$6,'バッチ反映用（非表示）'!$A$4:$G$4,0)),IF($I90=\"end\",D89,\"\"))","v":""},{"$f":"IF($H90=\"TRUE\",INDEX('バッチ反映用（非表示）'!$A$5:$O$100,MATCH($G90,'バッチ反映用（非表示）'!$Q$5:$Q$100,0),MATCH('当月仕訳（非表示）'!E$6,'バッチ反映用（非表示）'!$A$4:$G$4,0)),IF($I90=\"end\",SUM($E$7:E89)*-1,\"\"))","v":""},{"$f":"IF($H90=\"TRUE\",INDEX('バッチ反映用（非表示）'!$A$5:$O$100,MATCH($G90,'バッチ反映用（非表示）'!$Q$5:$Q$100,0),MATCH('当月仕訳（非表示）'!F$6,'バッチ反映用（非表示）'!$A$4:$G$4,0)),IF($I90=\"end\",\"0\"&旅費振替依頼書!$I$3&旅費振替依頼書!$J$3&\"振替 \"&MONTH(SUBSTITUTE($B$7,\".\",\"/\"))&\"月旅費→\"&MONTH(SUBSTITUTE($B$7,\".\",\"/\"))&\"月作業費 \"&G89&\"件\",\"\"))","v":""},84,{"$f":"IF(ISERROR(INDEX('バッチ反映用（非表示）'!$A$5:$O$100,MATCH($G90,'バッチ反映用（非表示）'!$Q$5:$Q$100,0),MATCH('当月仕訳（非表示）'!E$6,'バッチ反映用（非表示）'!$A$4:$G$4,0)))=FALSE,\"TRUE\",\"FALSE\")","v":"FALSE"},""]
["",{"$f":"IF(B90=\"転記日付\",INDEX('バッチ反映用（非表示）'!$A$5:$O$100,MATCH($G91,'バッチ反映用（非表示）'!$Q$5:$Q$100,0),MATCH('当月仕訳（非表示）'!B$6,'バッチ反映用（非表示）'!$A$4:$G$4,0)),\"\")","v":{"$error":"#N/A"}},"",{"$f":"IF($H91=\"TRUE\",INDEX('バッチ反映用（非表示）'!$A$5:$O$100,MATCH($G91,'バッチ反映用（非表示）'!$Q$5:$Q$100,0),MATCH('当月仕訳（非表示）'!D$6,'バッチ反映用（非表示）'!$A$4:$G$4,0)),IF($I91=\"end\",D90,\"\"))","v":""},{"$f":"IF($H91=\"TRUE\",INDEX('バッチ反映用（非表示）'!$A$5:$O$100,MATCH($G91,'バッチ反映用（非表示）'!$Q$5:$Q$100,0),MATCH('当月仕訳（非表示）'!E$6,'バッチ反映用（非表示）'!$A$4:$G$4,0)),IF($I91=\"end\",SUM($E$7:E90)*-1,\"\"))","v":""},{"$f":"IF($H91=\"TRUE\",INDEX('バッチ反映用（非表示）'!$A$5:$O$100,MATCH($G91,'バッチ反映用（非表示）'!$Q$5:$Q$100,0),MATCH('当月仕訳（非表示）'!F$6,'バッチ反映用（非表示）'!$A$4:$G$4,0)),IF($I91=\"end\",\"0\"&旅費振替依頼書!$I$3&旅費振替依頼書!$J$3&\"振替 \"&MONTH(SUBSTITUTE($B$7,\".\",\"/\"))&\"月旅費→\"&MONTH(SUBSTITUTE($B$7,\".\",\"/\"))&\"月作業費 \"&G90&\"件\",\"\"))","v":""},85,{"$f":"IF(ISERROR(INDEX('バッチ反映用（非表示）'!$A$5:$O$100,MATCH($G91,'バッチ反映用（非表示）'!$Q$5:$Q$100,0),MATCH('当月仕訳（非表示）'!E$6,'バッチ反映用（非表示）'!$A$4:$G$4,0)))=FALSE,\"TRUE\",\"FALSE\")","v":"FALSE"},""]
["",{"$f":"IF(B91=\"転記日付\",INDEX('バッチ反映用（非表示）'!$A$5:$O$100,MATCH($G92,'バッチ反映用（非表示）'!$Q$5:$Q$100,0),MATCH('当月仕訳（非表示）'!B$6,'バッチ反映用（非表示）'!$A$4:$G$4,0)),\"\")","v":{"$error":"#N/A"}},"",{"$f":"IF($H92=\"TRUE\",INDEX('バッチ反映用（非表示）'!$A$5:$O$100,MATCH($G92,'バッチ反映用（非表示）'!$Q$5:$Q$100,0),MATCH('当月仕訳（非表示）'!D$6,'バッチ反映用（非表示）'!$A$4:$G$4,0)),IF($I92=\"end\",D91,\"\"))","v":""},{"$f":"IF($H92=\"TRUE\",INDEX('バッチ反映用（非表示）'!$A$5:$O$100,MATCH($G92,'バッチ反映用（非表示）'!$Q$5:$Q$100,0),MATCH('当月仕訳（非表示）'!E$6,'バッチ反映用（非表示）'!$A$4:$G$4,0)),IF($I92=\"end\",SUM($E$7:E91)*-1,\"\"))","v":""},{"$f":"IF($H92=\"TRUE\",INDEX('バッチ反映用（非表示）'!$A$5:$O$100,MATCH($G92,'バッチ反映用（非表示）'!$Q$5:$Q$100,0),MATCH('当月仕訳（非表示）'!F$6,'バッチ反映用（非表示）'!$A$4:$G$4,0)),IF($I92=\"end\",\"0\"&旅費振替依頼書!$I$3&旅費振替依頼書!$J$3&\"振替 \"&MONTH(SUBSTITUTE($B$7,\".\",\"/\"))&\"月旅費→\"&MONTH(SUBSTITUTE($B$7,\".\",\"/\"))&\"月作業費 \"&G91&\"件\",\"\"))","v":""},86,{"$f":"IF(ISERROR(INDEX('バッチ反映用（非表示）'!$A$5:$O$100,MATCH($G92,'バッチ反映用（非表示）'!$Q$5:$Q$100,0),MATCH('当月仕訳（非表示）'!E$6,'バッチ反映用（非表示）'!$A$4:$G$4,0)))=FALSE,\"TRUE\",\"FALSE\")","v":"FALSE"},""]
["",{"$f":"IF(B92=\"転記日付\",INDEX('バッチ反映用（非表示）'!$A$5:$O$100,MATCH($G93,'バッチ反映用（非表示）'!$Q$5:$Q$100,0),MATCH('当月仕訳（非表示）'!B$6,'バッチ反映用（非表示）'!$A$4:$G$4,0)),\"\")","v":{"$error":"#N/A"}},"",{"$f":"IF($H93=\"TRUE\",INDEX('バッチ反映用（非表示）'!$A$5:$O$100,MATCH($G93,'バッチ反映用（非表示）'!$Q$5:$Q$100,0),MATCH('当月仕訳（非表示）'!D$6,'バッチ反映用（非表示）'!$A$4:$G$4,0)),IF($I93=\"end\",D92,\"\"))","v":""},{"$f":"IF($H93=\"TRUE\",INDEX('バッチ反映用（非表示）'!$A$5:$O$100,MATCH($G93,'バッチ反映用（非表示）'!$Q$5:$Q$100,0),MATCH('当月仕訳（非表示）'!E$6,'バッチ反映用（非表示）'!$A$4:$G$4,0)),IF($I93=\"end\",SUM($E$7:E92)*-1,\"\"))","v":""},{"$f":"IF($H93=\"TRUE\",INDEX('バッチ反映用（非表示）'!$A$5:$O$100,MATCH($G93,'バッチ反映用（非表示）'!$Q$5:$Q$100,0),MATCH('当月仕訳（非表示）'!F$6,'バッチ反映用（非表示）'!$A$4:$G$4,0)),IF($I93=\"end\",\"0\"&旅費振替依頼書!$I$3&旅費振替依頼書!$J$3&\"振替 \"&MONTH(SUBSTITUTE($B$7,\".\",\"/\"))&\"月旅費→\"&MONTH(SUBSTITUTE($B$7,\".\",\"/\"))&\"月作業費 \"&G92&\"件\",\"\"))","v":""},87,{"$f":"IF(ISERROR(INDEX('バッチ反映用（非表示）'!$A$5:$O$100,MATCH($G93,'バッチ反映用（非表示）'!$Q$5:$Q$100,0),MATCH('当月仕訳（非表示）'!E$6,'バッチ反映用（非表示）'!$A$4:$G$4,0)))=FALSE,\"TRUE\",\"FALSE\")","v":"FALSE"},""]
["",{"$f":"IF(B93=\"転記日付\",INDEX('バッチ反映用（非表示）'!$A$5:$O$100,MATCH($G94,'バッチ反映用（非表示）'!$Q$5:$Q$100,0),MATCH('当月仕訳（非表示）'!B$6,'バッチ反映用（非表示）'!$A$4:$G$4,0)),\"\")","v":{"$error":"#N/A"}},"",{"$f":"IF($H94=\"TRUE\",INDEX('バッチ反映用（非表示）'!$A$5:$O$100,MATCH($G94,'バッチ反映用（非表示）'!$Q$5:$Q$100,0),MATCH('当月仕訳（非表示）'!D$6,'バッチ反映用（非表示）'!$A$4:$G$4,0)),IF($I94=\"end\",D93,\"\"))","v":""},{"$f":"IF($H94=\"TRUE\",INDEX('バッチ反映用（非表示）'!$A$5:$O$100,MATCH($G94,'バッチ反映用（非表示）'!$Q$5:$Q$100,0),MATCH('当月仕訳（非表示）'!E$6,'バッチ反映用（非表示）'!$A$4:$G$4,0)),IF($I94=\"end\",SUM($E$7:E93)*-1,\"\"))","v":""},{"$f":"IF($H94=\"TRUE\",INDEX('バッチ反映用（非表示）'!$A$5:$O$100,MATCH($G94,'バッチ反映用（非表示）'!$Q$5:$Q$100,0),MATCH('当月仕訳（非表示）'!F$6,'バッチ反映用（非表示）'!$A$4:$G$4,0)),IF($I94=\"end\",\"0\"&旅費振替依頼書!$I$3&旅費振替依頼書!$J$3&\"振替 \"&MONTH(SUBSTITUTE($B$7,\".\",\"/\"))&\"月旅費→\"&MONTH(SUBSTITUTE($B$7,\".\",\"/\"))&\"月作業費 \"&G93&\"件\",\"\"))","v":""},88,{"$f":"IF(ISERROR(INDEX('バッチ反映用（非表示）'!$A$5:$O$100,MATCH($G94,'バッチ反映用（非表示）'!$Q$5:$Q$100,0),MATCH('当月仕訳（非表示）'!E$6,'バッチ反映用（非表示）'!$A$4:$G$4,0)))=FALSE,\"TRUE\",\"FALSE\")","v":"FALSE"},""]
["",{"$f":"IF(B94=\"転記日付\",INDEX('バッチ反映用（非表示）'!$A$5:$O$100,MATCH($G95,'バッチ反映用（非表示）'!$Q$5:$Q$100,0),MATCH('当月仕訳（非表示）'!B$6,'バッチ反映用（非表示）'!$A$4:$G$4,0)),\"\")","v":{"$error":"#N/A"}},"",{"$f":"IF($H95=\"TRUE\",INDEX('バッチ反映用（非表示）'!$A$5:$O$100,MATCH($G95,'バッチ反映用（非表示）'!$Q$5:$Q$100,0),MATCH('当月仕訳（非表示）'!D$6,'バッチ反映用（非表示）'!$A$4:$G$4,0)),IF($I95=\"end\",D94,\"\"))","v":""},{"$f":"IF($H95=\"TRUE\",INDEX('バッチ反映用（非表示）'!$A$5:$O$100,MATCH($G95,'バッチ反映用（非表示）'!$Q$5:$Q$100,0),MATCH('当月仕訳（非表示）'!E$6,'バッチ反映用（非表示）'!$A$4:$G$4,0)),IF($I95=\"end\",SUM($E$7:E94)*-1,\"\"))","v":""},{"$f":"IF($H95=\"TRUE\",INDEX('バッチ反映用（非表示）'!$A$5:$O$100,MATCH($G95,'バッチ反映用（非表示）'!$Q$5:$Q$100,0),MATCH('当月仕訳（非表示）'!F$6,'バッチ反映用（非表示）'!$A$4:$G$4,0)),IF($I95=\"end\",\"0\"&旅費振替依頼書!$I$3&旅費振替依頼書!$J$3&\"振替 \"&MONTH(SUBSTITUTE($B$7,\".\",\"/\"))&\"月旅費→\"&MONTH(SUBSTITUTE($B$7,\".\",\"/\"))&\"月作業費 \"&G94&\"件\",\"\"))","v":""},89,{"$f":"IF(ISERROR(INDEX('バッチ反映用（非表示）'!$A$5:$O$100,MATCH($G95,'バッチ反映用（非表示）'!$Q$5:$Q$100,0),MATCH('当月仕訳（非表示）'!E$6,'バッチ反映用（非表示）'!$A$4:$G$4,0)))=FALSE,\"TRUE\",\"FALSE\")","v":"FALSE"},""]
["",{"$f":"IF(B95=\"転記日付\",INDEX('バッチ反映用（非表示）'!$A$5:$O$100,MATCH($G96,'バッチ反映用（非表示）'!$Q$5:$Q$100,0),MATCH('当月仕訳（非表示）'!B$6,'バッチ反映用（非表示）'!$A$4:$G$4,0)),\"\")","v":{"$error":"#N/A"}},"",{"$f":"IF($H96=\"TRUE\",INDEX('バッチ反映用（非表示）'!$A$5:$O$100,MATCH($G96,'バッチ反映用（非表示）'!$Q$5:$Q$100,0),MATCH('当月仕訳（非表示）'!D$6,'バッチ反映用（非表示）'!$A$4:$G$4,0)),IF($I96=\"end\",D95,\"\"))","v":""},{"$f":"IF($H96=\"TRUE\",INDEX('バッチ反映用（非表示）'!$A$5:$O$100,MATCH($G96,'バッチ反映用（非表示）'!$Q$5:$Q$100,0),MATCH('当月仕訳（非表示）'!E$6,'バッチ反映用（非表示）'!$A$4:$G$4,0)),IF($I96=\"end\",SUM($E$7:E95)*-1,\"\"))","v":""},{"$f":"IF($H96=\"TRUE\",INDEX('バッチ反映用（非表示）'!$A$5:$O$100,MATCH($G96,'バッチ反映用（非表示）'!$Q$5:$Q$100,0),MATCH('当月仕訳（非表示）'!F$6,'バッチ反映用（非表示）'!$A$4:$G$4,0)),IF($I96=\"end\",\"0\"&旅費振替依頼書!$I$3&旅費振替依頼書!$J$3&\"振替 \"&MONTH(SUBSTITUTE($B$7,\".\",\"/\"))&\"月旅費→\"&MONTH(SUBSTITUTE($B$7,\".\",\"/\"))&\"月作業費 \"&G95&\"件\",\"\"))","v":""},90,{"$f":"IF(ISERROR(INDEX('バッチ反映用（非表示）'!$A$5:$O$100,MATCH($G96,'バッチ反映用（非表示）'!$Q$5:$Q$100,0),MATCH('当月仕訳（非表示）'!E$6,'バッチ反映用（非表示）'!$A$4:$G$4,0)))=FALSE,\"TRUE\",\"FALSE\")","v":"FALSE"},""]
["",{"$f":"IF(B96=\"転記日付\",INDEX('バッチ反映用（非表示）'!$A$5:$O$100,MATCH($G97,'バッチ反映用（非表示）'!$Q$5:$Q$100,0),MATCH('当月仕訳（非表示）'!B$6,'バッチ反映用（非表示）'!$A$4:$G$4,0)),\"\")","v":{"$error":"#N/A"}},"",{"$f":"IF($H97=\"TRUE\",INDEX('バッチ反映用（非表示）'!$A$5:$O$100,MATCH($G97,'バッチ反映用（非表示）'!$Q$5:$Q$100,0),MATCH('当月仕訳（非表示）'!D$6,'バッチ反映用（非表示）'!$A$4:$G$4,0)),IF($I97=\"end\",D96,\"\"))","v":""},{"$f":"IF($H97=\"TRUE\",INDEX('バッチ反映用（非表示）'!$A$5:$O$100,MATCH($G97,'バッチ反映用（非表示）'!$Q$5:$Q$100,0),MATCH('当月仕訳（非表示）'!E$6,'バッチ反映用（非表示）'!$A$4:$G$4,0)),IF($I97=\"end\",SUM($E$7:E96)*-1,\"\"))","v":""},{"$f":"IF($H97=\"TRUE\",INDEX('バッチ反映用（非表示）'!$A$5:$O$100,MATCH($G97,'バッチ反映用（非表示）'!$Q$5:$Q$100,0),MATCH('当月仕訳（非表示）'!F$6,'バッチ反映用（非表示）'!$A$4:$G$4,0)),IF($I97=\"end\",\"0\"&旅費振替依頼書!$I$3&旅費振替依頼書!$J$3&\"振替 \"&MONTH(SUBSTITUTE($B$7,\".\",\"/\"))&\"月旅費→\"&MONTH(SUBSTITUTE($B$7,\".\",\"/\"))&\"月作業費 \"&G96&\"件\",\"\"))","v":""},91,{"$f":"IF(ISERROR(INDEX('バッチ反映用（非表示）'!$A$5:$O$100,MATCH($G97,'バッチ反映用（非表示）'!$Q$5:$Q$100,0),MATCH('当月仕訳（非表示）'!E$6,'バッチ反映用（非表示）'!$A$4:$G$4,0)))=FALSE,\"TRUE\",\"FALSE\")","v":"FALSE"},""]
["",{"$f":"IF(B97=\"転記日付\",INDEX('バッチ反映用（非表示）'!$A$5:$O$100,MATCH($G98,'バッチ反映用（非表示）'!$Q$5:$Q$100,0),MATCH('当月仕訳（非表示）'!B$6,'バッチ反映用（非表示）'!$A$4:$G$4,0)),\"\")","v":{"$error":"#N/A"}},"",{"$f":"IF($H98=\"TRUE\",INDEX('バッチ反映用（非表示）'!$A$5:$O$100,MATCH($G98,'バッチ反映用（非表示）'!$Q$5:$Q$100,0),MATCH('当月仕訳（非表示）'!D$6,'バッチ反映用（非表示）'!$A$4:$G$4,0)),IF($I98=\"end\",D97,\"\"))","v":""},{"$f":"IF($H98=\"TRUE\",INDEX('バッチ反映用（非表示）'!$A$5:$O$100,MATCH($G98,'バッチ反映用（非表示）'!$Q$5:$Q$100,0),MATCH('当月仕訳（非表示）'!E$6,'バッチ反映用（非表示）'!$A$4:$G$4,0)),IF($I98=\"end\",SUM($E$7:E97)*-1,\"\"))","v":""},{"$f":"IF($H98=\"TRUE\",INDEX('バッチ反映用（非表示）'!$A$5:$O$100,MATCH($G98,'バッチ反映用（非表示）'!$Q$5:$Q$100,0),MATCH('当月仕訳（非表示）'!F$6,'バッチ反映用（非表示）'!$A$4:$G$4,0)),IF($I98=\"end\",\"0\"&旅費振替依頼書!$I$3&旅費振替依頼書!$J$3&\"振替 \"&MONTH(SUBSTITUTE($B$7,\".\",\"/\"))&\"月旅費→\"&MONTH(SUBSTITUTE($B$7,\".\",\"/\"))&\"月作業費 \"&G97&\"件\",\"\"))","v":""},92,{"$f":"IF(ISERROR(INDEX('バッチ反映用（非表示）'!$A$5:$O$100,MATCH($G98,'バッチ反映用（非表示）'!$Q$5:$Q$100,0),MATCH('当月仕訳（非表示）'!E$6,'バッチ反映用（非表示）'!$A$4:$G$4,0)))=FALSE,\"TRUE\",\"FALSE\")","v":"FALSE"},""]
["",{"$f":"IF(B98=\"転記日付\",INDEX('バッチ反映用（非表示）'!$A$5:$O$100,MATCH($G99,'バッチ反映用（非表示）'!$Q$5:$Q$100,0),MATCH('当月仕訳（非表示）'!B$6,'バッチ反映用（非表示）'!$A$4:$G$4,0)),\"\")","v":{"$error":"#N/A"}},"",{"$f":"IF($H99=\"TRUE\",INDEX('バッチ反映用（非表示）'!$A$5:$O$100,MATCH($G99,'バッチ反映用（非表示）'!$Q$5:$Q$100,0),MATCH('当月仕訳（非表示）'!D$6,'バッチ反映用（非表示）'!$A$4:$G$4,0)),IF($I99=\"end\",D98,\"\"))","v":""},{"$f":"IF($H99=\"TRUE\",INDEX('バッチ反映用（非表示）'!$A$5:$O$100,MATCH($G99,'バッチ反映用（非表示）'!$Q$5:$Q$100,0),MATCH('当月仕訳（非表示）'!E$6,'バッチ反映用（非表示）'!$A$4:$G$4,0)),IF($I99=\"end\",SUM($E$7:E98)*-1,\"\"))","v":""},{"$f":"IF($H99=\"TRUE\",INDEX('バッチ反映用（非表示）'!$A$5:$O$100,MATCH($G99,'バッチ反映用（非表示）'!$Q$5:$Q$100,0),MATCH('当月仕訳（非表示）'!F$6,'バッチ反映用（非表示）'!$A$4:$G$4,0)),IF($I99=\"end\",\"0\"&旅費振替依頼書!$I$3&旅費振替依頼書!$J$3&\"振替 \"&MONTH(SUBSTITUTE($B$7,\".\",\"/\"))&\"月旅費→\"&MONTH(SUBSTITUTE($B$7,\".\",\"/\"))&\"月作業費 \"&G98&\"件\",\"\"))","v":""},93,{"$f":"IF(ISERROR(INDEX('バッチ反映用（非表示）'!$A$5:$O$100,MATCH($G99,'バッチ反映用（非表示）'!$Q$5:$Q$100,0),MATCH('当月仕訳（非表示）'!E$6,'バッチ反映用（非表示）'!$A$4:$G$4,0)))=FALSE,\"TRUE\",\"FALSE\")","v":"FALSE"},""]
["",{"$f":"IF(B99=\"転記日付\",INDEX('バッチ反映用（非表示）'!$A$5:$O$100,MATCH($G100,'バッチ反映用（非表示）'!$Q$5:$Q$100,0),MATCH('当月仕訳（非表示）'!B$6,'バッチ反映用（非表示）'!$A$4:$G$4,0)),\"\")","v":{"$error":"#N/A"}},"",{"$f":"IF($H100=\"TRUE\",INDEX('バッチ反映用（非表示）'!$A$5:$O$100,MATCH($G100,'バッチ反映用（非表示）'!$Q$5:$Q$100,0),MATCH('当月仕訳（非表示）'!D$6,'バッチ反映用（非表示）'!$A$4:$G$4,0)),IF($I100=\"end\",D99,\"\"))","v":""},{"$f":"IF($H100=\"TRUE\",INDEX('バッチ反映用（非表示）'!$A$5:$O$100,MATCH($G100,'バッチ反映用（非表示）'!$Q$5:$Q$100,0),MATCH('当月仕訳（非表示）'!E$6,'バッチ反映用（非表示）'!$A$4:$G$4,0)),IF($I100=\"end\",SUM($E$7:E99)*-1,\"\"))","v":""},{"$f":"IF($H100=\"TRUE\",INDEX('バッチ反映用（非表示）'!$A$5:$O$100,MATCH($G100,'バッチ反映用（非表示）'!$Q$5:$Q$100,0),MATCH('当月仕訳（非表示）'!F$6,'バッチ反映用（非表示）'!$A$4:$G$4,0)),IF($I100=\"end\",\"0\"&旅費振替依頼書!$I$3&旅費振替依頼書!$J$3&\"振替 \"&MONTH(SUBSTITUTE($B$7,\".\",\"/\"))&\"月旅費→\"&MONTH(SUBSTITUTE($B$7,\".\",\"/\"))&\"月作業費 \"&G99&\"件\",\"\"))","v":""},94,{"$f":"IF(ISERROR(INDEX('バッチ反映用（非表示）'!$A$5:$O$100,MATCH($G100,'バッチ反映用（非表示）'!$Q$5:$Q$100,0),MATCH('当月仕訳（非表示）'!E$6,'バッチ反映用（非表示）'!$A$4:$G$4,0)))=FALSE,\"TRUE\",\"FALSE\")","v":"FALSE"},""]

{"sheet":"次月仕訳（非表示）","index":4,"n_rows":100,"n_cols":24,"rows_kept":100,"cut":false,"hidden":true,"merged":[[4,7,4,8],[4,18,4,19]]}
["次月仕訳"]
["※シート保護（パス無）訂正後、要保護"]
[null,null,7700200,"作業費",null,"仕訳有無"]
[null,null,7700403,"旅費",null,{"$f":"IF(COUNTIF($A$7:$A$100,\"eof\")=0,\"N\",\"Y\")","v":"N"}]
[null,null,null,null,null,null,null,"本社付け替え",null,null,null,null,null,null,null,null,null,null,"戻しの仕訳"]
["会社コード","転記日付\n（次月以降）","勘定コード","利益センタ","明細額","テキスト",null,"会社コード","転記日付","勘定コード","利益センタ","明細額","テキスト",null,null,null,null,null,"会社コード","転記日付\n（次月以降）","勘定コード","利益センタ","明細額","テキスト"]
[{"$f":"IF(L7<>\"\",H7,INDIRECT(\"S\"&ROW(H7)-MAX($O$7:$O$100)))","v":"NS"},{"$f":"IF(L7<>\"\",I7,INDIRECT(\"T\"&ROW(H7)-MAX($O$7:$O$100)))","v":{"$error":"#N/A"}},{"$f":"IF(L7<>\"\",J7,INDIRECT(\"U\"&ROW(H7)-MAX($O$7:$O$100)))","v":""},{"$f":"IF(L7<>\"\",K7,INDIRECT(\"V\"&ROW(H7)-MAX($O$7:$O$100)))","v":""},{"$f":"IF(L7<>\"\",L7,INDIRECT(\"W\"&ROW(H7)-MAX($O$7:$O$100)))","v":""},{"$f":"IF(L7<>\"\",M7,INDIRECT(\"X\"&ROW(H7)-MAX($O$7:$O$100)))","v":""},null,{"$f":"IF(H6=\"会社コード\",\"NS\",IF(Q6=\"end\",\"\",\"\"))","v":"NS"},{"$f":"IF(I6=\"転記日付\",INDEX('バッチ反映用（非表示）'!$A$5:$O$100,MATCH($N7,'バッチ反映用（非表示）'!$R$5:$R$100,0),MATCH('次月仕訳（非表示）'!I$6,'バッチ反映用（非表示）'!$A$4:$G$4,0)),\"\")","v":{"$error":"#N/A"}},{"$f":"IF(K7<>\"\",$C$4,\"\")","v":""},{"$f":"IF($P7=\"TRUE\",INDEX('バッチ反映用（非表示）'!$A$5:$O$100,MATCH($N7,'バッチ反映用（非表示）'!$R$5:$R$100,0),MATCH('次月仕訳（非表示）'!K$6,'バッチ反映用（非表示）'!$A$4:$G$4,0)),IF(AND(P7=\"FALSE\",Q7=\"end\"),\"NS-0100\",\"\"))","v":""},{"$f":"IF($P7=\"TRUE\",INDEX('バッチ反映用（非表示）'!$A$5:$O$100,MATCH($N7,'バッチ反映用（非表示）'!$R$5:$R$100,0),MATCH('次月仕訳（非表示）'!L$6,'バッチ反映用（非表示）'!$A$4:$G$4,0))*-1,IF($Q7=\"end\",SUM($L6:L$7)*-1,\"\"))","v":""},{"$f":"IF($P7=\"TRUE\",INDEX('バッチ反映用（非表示）'!$A$5:$O$100,MATCH($N7,'バッチ反映用（非表示）'!$R$5:$R$100,0),MATCH('次月仕訳（非表示）'!M$6,'バッチ反映用（非表示）'!$A$4:$G$4,0)),IF($Q7=\"end\",\"0\"&旅費振替依頼書!$I$3&旅費振替依頼書!$J$3&\"振替 \"&MONTH(SUBSTITUTE($B$7,\".\",\"/\"))&\"月旅費→\"&MONTH(EOMONTH(SUBSTITUTE($I$7,\".\",\"/\"),1))&\"月作業費 \"&N6&\"件\",\"\"))","v":""},1,{"$f":"IF(M7<>\"\",N7,\"\")","v":""},{"$f":"IF(ISERROR(INDEX('バッチ反映用（非表示）'!$A$5:$O$100,MATCH($N7,'バッチ反映用（非表示）'!$R$5:$R$100,0),MATCH('次月仕訳（非表示）'!L$6,'バッチ反映用（非表示）'!$A$4:$G$4,0)))=FALSE,\"TRUE\",\"FALSE\")","v":"FALSE"},{"$f":"IF(AND(P6=\"TRUE\",P7=\"FALSE\"),\"end\",\"\")","v":""},null,{"$f":"IF(H6=\"会社コード\",\"NS\",IF(Q6=\"end\",\"eof\",\"\"))","v":"NS"},{"$f":"IF(I6=\"転記日付\",INDEX('バッチ反映用（非表示）'!$A$5:$O$100,MATCH($N7,'バッチ反映用（非表示）'!$R$5:$R$100,0),MATCH('次月仕訳（非表示）'!T$6,'バッチ反映用（非表示）'!$A$4:$G$4,0)),\"\")","v":{"$error":"#N/A"}},{"$f":"IF(J7<>\"\",IF(K7<>\"NS-0\"&旅費振替依頼書!$I$3,$C$4,$C$3),\"\")","v":""},{"$f":"IF(K7<>\"\",K7,\"\")","v":""},{"$f":"IF(L7<>\"\",L7*-1,\"\")","v":""},{"$f":"IF(M7<>\"\",M7,\"\")","v":""}]
[{"$f":"IF(L8<>\"\",H8,INDIRECT(\"S\"&ROW(H8)-MAX($O$7:$O$100)))","v":""},{"$f":"IF(L8<>\"\",I8,INDIRECT(\"T\"&ROW(H8)-MAX($O$7:$O$100)))","v":{"$error":"#N/A"}},{"$f":"IF(L8<>\"\",J8,INDIRECT(\"U\"&ROW(H8)-MAX($O$7:$O$100)))","v":""},{"$f":"IF(L8<>\"\",K8,INDIRECT(\"V\"&ROW(H8)-MAX($O$7:$O$100)))","v":""},{"$f":"IF(L8<>\"\",L8,INDIRECT(\"W\"&ROW(H8)-MAX($O$7:$O$100)))","v":""},{"$f":"IF(L8<>\"\",M8,INDIRECT(\"X\"&ROW(H8)-MAX($O$7:$O$100)))","v":""},null,"",{"$f":"IF(I7=\"転記日付\",INDEX('バッチ反映用（非表示）'!$A$5:$O$100,MATCH($N8,'バッチ反映用（非表示）'!$R$5:$R$100,0),MATCH('次月仕訳（非表示）'!I$6,'バッチ反映用（非表示）'!$A$4:$G$4,0)),\"\")","v":{"$error":"#N/A"}},{"$f":"IF(K8<>\"\",$C$4,\"\")","v":""},{"$f":"IF($P8=\"TRUE\",INDEX('バッチ反映用（非表示）'!$A$5:$O$100,MATCH($N8,'バッチ反映用（非表示）'!$R$5:$R$100,0),MATCH('次月仕訳（非表示）'!K$6,'バッチ反映用（非表示）'!$A$4:$G$4,0)),IF(AND(P8=\"FALSE\",Q8=\"end\"),\"NS-0100\",\"\"))","v":""},{"$f":"IF($P8=\"TRUE\",INDEX('バッチ反映用（非表示）'!$A$5:$O$100,MATCH($N8,'バッチ反映用（非表示）'!$R$5:$R$100,0),MATCH('次月仕訳（非表示）'!L$6,'バッチ反映用（非表示）'!$A$4:$G$4,0))*-1,IF($Q8=\"end\",SUM($L7:L$7)*-1,\"\"))","v":""},{"$f":"IF($P8=\"TRUE\",INDEX('バッチ反映用（非表示）'!$A$5:$O$100,MATCH($N8,'バッチ反映用（非表示）'!$R$5:$R$100,0),MATCH('次月仕訳（非表示）'!M$6,'バッチ反映用（非表示）'!$A$4:$G$4,0)),IF($Q8=\"end\",\"0\"&旅費振替依頼書!$I$3&旅費振替依頼書!$J$3&\"振替 \"&MONTH(SUBSTITUTE($B$7,\".\",\"/\"))&\"月旅費→\"&MONTH(EOMONTH(SUBSTITUTE($I$7,\".\",\"/\"),1))&\"月作業費 \"&N7&\"件\",\"\"))","v":""},2,{"$f":"IF(M8<>\"\",N8,\"\")","v":""},{"$f":"IF(ISERROR(INDEX('バッチ反映用（非表示）'!$A$5:$O$100,MATCH($N8,'バッチ反映用（非表示）'!$R$5:$R$100,0),MATCH('次月仕訳（非表示）'!L$6,'バッチ反映用（非表示）'!$A$4:$G$4,0)))=FALSE,\"TRUE\",\"FALSE\")","v":"FALSE"},{"$f":"IF(AND(P7=\"TRUE\",P8=\"FALSE\"),\"end\",\"\")","v":""},null,"",{"$f":"IF(I7=\"転記日付\",INDEX('バッチ反映用（非表示）'!$A$5:$O$100,MATCH($N8,'バッチ反映用（非表示）'!$R$5:$R$100,0),MATCH('次月仕訳（非表示）'!T$6,'バッチ反映用（非表示）'!$A$4:$G$4,0)),\"\")","v":{"$error":"#N/A"}},{"$f":"IF(J8<>\"\",IF(K8<>\"NS-0\"&旅費振替依頼書!$I$3,$C$4,$C$3),\"\")","v":""},{"$f":"IF(K8<>\"\",K8,\"\")","v":""},{"$f":"IF(L8<>\"\",L8*-1,\"\")","v":""},""]
[{"$f":"IF(L9<>\"\",H9,INDIRECT(\"S\"&ROW(H9)-MAX($O$7:$O$100)))","v":""},{"$f":"IF(L9<>\"\",I9,INDIRECT(\"T\"&ROW(H9)-MAX($O$7:$O$100)))","v":{"$error":"#N/A"}},{"$f":"IF(L9<>\"\",J9,INDIRECT(\"U\"&ROW(H9)-MAX($O$7:$O$100)))","v":""},{"$f":"IF(L9<>\"\",K9,INDIRECT(\"V\"&ROW(H9)-MAX($O$7:$O$100)))","v":""},{"$f":"IF(L9<>\"\",L9,INDIRECT(\"W\"&ROW(H9)-MAX($O$7:$O$100)))","v":""},{"$f":"IF(L9<>\"\",M9,INDIRECT(\"X\"&ROW(H9)-MAX($O$7:$O$100)))","v":""},null,"",{"$f":"IF(I8=\"転記日付\",INDEX('バッチ反映用（非表示）'!$A$5:$O$100,MATCH($N9,'バッチ反映用（非表示）'!$R$5:$R$100,0),MATCH('次月仕訳（非表示）'!I$6,'バッチ反映用（非表示）'!$A$4:$G$4,0)),\"\")","v":{"$error":"#N/A"}},"",{"$f":"IF($P9=\"TRUE\",INDEX('バッチ反映用（非表示）'!$A$5:$O$100,MATCH($N9,'バッチ反映用（非表示）'!$R$5:$R$100,0),MATCH('次月仕訳（非表示）'!K$6,'バッチ反映用（非表示）'!$A$4:$G$4,0)),IF(AND(P9=\"FALSE\",Q9=\"end\"),\"NS-0100\",\"\"))","v":""},{"$f":"IF($P9=\"TRUE\",INDEX('バッチ反映用（非表示）'!$A$5:$O$100,MATCH($N9,'バッチ反映用（非表示）'!$R$5:$R$100,0),MATCH('次月仕訳（非表示）'!L$6,'バッチ反映用（非表示）'!$A$4:$G$4,0))*-1,IF($Q9=\"end\",SUM($L$7:L8)*-1,\"\"))","v":""},{"$f":"IF($P9=\"TRUE\",INDEX('バッチ反映用（非表示）'!$A$5:$O$100,MATCH($N9,'バッチ反映用（非表示）'!$R$5:$R$100,0),MATCH('次月仕訳（非表示）'!M$6,'バッチ反映用（非表示）'!$A$4:$G$4,0)),IF($Q9=\"end\",\"0\"&旅費振替依頼書!$I$3&旅費振替依頼書!$J$3&\"振替 \"&MONTH(SUBSTITUTE($B$7,\".\",\"/\"))&\"月旅費→\"&MONTH(EOMONTH(SUBSTITUTE($I$7,\".\",\"/\"),1))&\"月作業費 \"&N8&\"件\",\"\"))","v":""},3,"",{"$f":"IF(ISERROR(INDEX('バッチ反映用（非表示）'!$A$5:$O$100,MATCH($N9,'バッチ反映用（非表示）'!$R$5:$R$100,0),MATCH('次月仕訳（非表示）'!L$6,'バッチ反映用（非表示）'!$A$4:$G$4,0)))=FALSE,\"TRUE\",\"FALSE\")","v":"FALSE"},"",null,"",{"$f":"IF(I8=\"転記日付\",INDEX('バッチ反映用（非表示）'!$A$5:$O$100,MATCH($N9,'バッチ反映用（非表示）'!$R$5:$R$100,0),MATCH('次月仕訳（非表示）'!T$6,'バッチ反映用（非表示）'!$A$4:$G$4,0)),\"\")","v":{"$error":"#N/A"}},{"$f":"IF(J9<>\"\",IF(K9<>\"NS-0\"&旅費振替依頼書!$I$3,$C$4,$C$3),\"\")","v":""},"","",""]
[{"$f":"IF(L10<>\"\",H10,INDIRECT(\"S\"&ROW(H10)-MAX($O$7:$O$100)))","v":""},{"$f":"IF(L10<>\"\",I10,INDIRECT(\"T\"&ROW(H10)-MAX($O$7:$O$100)))","v":{"$error":"#N/A"}},{"$f":"IF(L10<>\"\",J10,INDIRECT(\"U\"&ROW(H10)-MAX($O$7:$O$100)))","v":""},{"$f":"IF(L10<>\"\",K10,INDIRECT(\"V\"&ROW(H10)-MAX($O$7:$O$100)))","v":""},{"$f":"IF(L10<>\"\",L10,INDIRECT(\"W\"&ROW(H10)-MAX($O$7:$O$100)))","v":""},{"$f":"IF(L10<>\"\",M10,INDIRECT(\"X\"&ROW(H10)-MAX($O$7:$O$100)))","v":""},null,"",{"$f":"IF(I9=\"転記日付\",INDEX('バッチ反映用（非表示）'!$A$5:$O$100,MATCH($N10,'バッチ反映用（非表示）'!$R$5:$R$100,0),MATCH('次月仕訳（非表示）'!I$6,'バッチ反映用（非表示）'!$A$4:$G$4,0)),\"\")","v":{"$error":"#N/A"}},"",{"$f":"IF($P10=\"TRUE\",INDEX('バッチ反映用（非表示）'!$A$5:$O$100,MATCH($N10,'バッチ反映用（非表示）'!$R$5:$R$100,0),MATCH('次月仕訳（非表示）'!K$6,'バッチ反映用（非表示）'!$A$4:$G$4,0)),IF(AND(P10=\"FALSE\",Q10=\"end\"),\"NS-0100\",\"\"))","v":""},{"$f":"IF($P10=\"TRUE\",INDEX('バッチ反映用（非表示）'!$A$5:$O$100,MATCH($N10,'バッチ反映用（非表示）'!$R$5:$R$100,0),MATCH('次月仕訳（非表示）'!L$6,'バッチ反映用（非表示）'!$A$4:$G$4,0))*-1,IF($Q10=\"end\",SUM($L$7:L9)*-1,\"\"))","v":""},{"$f":"IF($P10=\"TRUE\",INDEX('バッチ反映用（非表示）'!$A$5:$O$100,MATCH($N10,'バッチ反映用（非表示）'!$R$5:$R$100,0),MATCH('次月仕訳（非表示）'!M$6,'バッチ反映用（非表示）'!$A$4:$G$4,0)),IF($Q10=\"end\",\"0\"&旅費振替依頼書!$I$3&旅費振替依頼書!$J$3&\"振替 \"&MONTH(SUBSTITUTE($B$7,\".\",\"/\"))&\"月旅費→\"&MONTH(EOMONTH(SUBSTITUTE($I$7,\".\",\"/\"),1))&\"月作業費 \"&N9&\"件\",\"\"))","v":""},4,"",{"$f":"IF(ISERROR(INDEX('バッチ反映用（非表示）'!$A$5:$O$100,MATCH($N10,'バッチ反映用（非表示）'!$R$5:$R$100,0),MATCH('次月仕訳（非表示）'!L$6,'バッチ反映用（非表示）'!$A$4:$G$4,0)))=FALSE,\"TRUE\",\"FALSE\")","v":"FALSE"},"",null,"",{"$f":"IF(I9=\"転記日付\",INDEX('バッチ反映用（非表示）'!$A$5:$O$100,MATCH($N10,'バッチ反映用（非表示）'!$R$5:$R$100,0),MATCH('次月仕訳（非表示）'!T$6,'バッチ反映用（非表示）'!$A$4:$G$4,0)),\"\")","v":{"$error":"#N/A"}},{"$f":"IF(J10<>\"\",IF(K10<>\"NS-0\"&旅費振替依頼書!$I$3,$C$4,$C$3),\"\")","v":""},"","",""]
[{"$f":"IF(L11<>\"\",H11,INDIRECT(\"S\"&ROW(H11)-MAX($O$7:$O$100)))","v":""},{"$f":"IF(L11<>\"\",I11,INDIRECT(\"T\"&ROW(H11)-MAX($O$7:$O$100)))","v":{"$error":"#N/A"}},{"$f":"IF(L11<>\"\",J11,INDIRECT(\"U\"&ROW(H11)-MAX($O$7:$O$100)))","v":""},{"$f":"IF(L11<>\"\",K11,INDIRECT(\"V\"&ROW(H11)-MAX($O$7:$O$100)))","v":""},{"$f":"IF(L11<>\"\",L11,INDIRECT(\"W\"&ROW(H11)-MAX($O$7:$O$100)))","v":""},{"$f":"IF(L11<>\"\",M11,INDIRECT(\"X\"&ROW(H11)-MAX($O$7:$O$100)))","v":""},null,"",{"$f":"IF(I10=\"転記日付\",INDEX('バッチ反映用（非表示）'!$A$5:$O$100,MATCH($N11,'バッチ反映用（非表示）'!$R$5:$R$100,0),MATCH('次月仕訳（非表示）'!I$6,'バッチ反映用（非表示）'!$A$4:$G$4,0)),\"\")","v":{"$error":"#N/A"}},"",{"$f":"IF($P11=\"TRUE\",INDEX('バッチ反映用（非表示）'!$A$5:$O$100,MATCH($N11,'バッチ反映用（非表示）'!$R$5:$R$100,0),MATCH('次月仕訳（非表示）'!K$6,'バッチ反映用（非表示）'!$A$4:$G$4,0)),IF(AND(P11=\"FALSE\",Q11=\"end\"),\"NS-0100\",\"\"))","v":""},{"$f":"IF($P11=\"TRUE\",INDEX('バッチ反映用（非表示）'!$A$5:$O$100,MATCH($N11,'バッチ反映用（非表示）'!$R$5:$R$100,0),MATCH('次月仕訳（非表示）'!L$6,'バッチ反映用（非表示）'!$A$4:$G$4,0))*-1,IF($Q11=\"end\",SUM($L$7:L10)*-1,\"\"))","v":""},{"$f":"IF($P11=\"TRUE\",INDEX('バッチ反映用（非表示）'!$A$5:$O$100,MATCH($N11,'バッチ反映用（非表示）'!$R$5:$R$100,0),MATCH('次月仕訳（非表示）'!M$6,'バッチ反映用（非表示）'!$A$4:$G$4,0)),IF($Q11=\"end\",\"0\"&旅費振替依頼書!$I$3&旅費振替依頼書!$J$3&\"振替 \"&MONTH(SUBSTITUTE($B$7,\".\",\"/\"))&\"月旅費→\"&MONTH(EOMONTH(SUBSTITUTE($I$7,\".\",\"/\"),1))&\"月作業費 \"&N10&\"件\",\"\"))","v":""},5,"",{"$f":"IF(ISERROR(INDEX('バッチ反映用（非表示）'!$A$5:$O$100,MATCH($N11,'バッチ反映用（非表示）'!$R$5:$R$100,0),MATCH('次月仕訳（非表示）'!L$6,'バッチ反映用（非表示）'!$A$4:$G$4,0)))=FALSE,\"TRUE\",\"FALSE\")","v":"FALSE"},"",null,"",{"$f":"IF(I10=\"転記日付\",INDEX('バッチ反映用（非表示）'!$A$5:$O$100,MATCH($N11,'バッチ反映用（非表示）'!$R$5:$R$100,0),MATCH('次月仕訳（非表示）'!T$6,'バッチ反映用（非表示）'!$A$4:$G$4,0)),\"\")","v":{"$error":"#N/A"}},{"$f":"IF(J11<>\"\",IF(K11<>\"NS-0\"&旅費振替依頼書!$I$3,$C$4,$C$3),\"\")","v":""},"","",""]
[{"$f":"IF(L12<>\"\",H12,INDIRECT(\"S\"&ROW(H12)-MAX($O$7:$O$100)))","v":""},{"$f":"IF(L12<>\"\",I12,INDIRECT(\"T\"&ROW(H12)-MAX($O$7:$O$100)))","v":{"$error":"#N/A"}},{"$f":"IF(L12<>\"\",J12,INDIRECT(\"U\"&ROW(H12)-MAX($O$7:$O$100)))","v":""},{"$f":"IF(L12<>\"\",K12,INDIRECT(\"V\"&ROW(H12)-MAX($O$7:$O$100)))","v":""},{"$f":"IF(L12<>\"\",L12,INDIRECT(\"W\"&ROW(H12)-MAX($O$7:$O$100)))","v":""},{"$f":"IF(L12<>\"\",M12,INDIRECT(\"X\"&ROW(H12)-MAX($O$7:$O$100)))","v":""},null,{"$f":"IF(H11=\"会社コード\",\"NS\",IF(Q11=\"end\",\"\",\"\"))","v":""},{"$f":"IF(I11=\"転記日付\",INDEX('バッチ反映用（非表示）'!$A$5:$O$100,MATCH($N12,'バッチ反映用（非表示）'!$R$5:$R$100,0),MATCH('次月仕訳（非表示）'!I$6,'バッチ反映用（非表示）'!$A$4:$G$4,0)),\"\")","v":{"$error":"#N/A"}},{"$f":"IF(K12<>\"\",$C$4,\"\")","v":""},{"$f":"IF($P12=\"TRUE\",INDEX('バッチ反映用（非表示）'!$A$5:$O$100,MATCH($N12,'バッチ反映用（非表示）'!$R$5:$R$100,0),MATCH('次月仕訳（非表示）'!K$6,'バッチ反映用（非表示）'!$A$4:$G$4,0)),IF(AND(P12=\"FALSE\",Q12=\"end\"),\"NS-0100\",\"\"))","v":""},{"$f":"IF($P12=\"TRUE\",INDEX('バッチ反映用（非表示）'!$A$5:$O$100,MATCH($N12,'バッチ反映用（非表示）'!$R$5:$R$100,0),MATCH('次月仕訳（非表示）'!L$6,'バッチ反映用（非表示）'!$A$4:$G$4,0))*-1,IF($Q12=\"end\",SUM($L$7:L11)*-1,\"\"))","v":""},{"$f":"IF($P12=\"TRUE\",INDEX('バッチ反映用（非表示）'!$A$5:$O$100,MATCH($N12,'バッチ反映用（非表示）'!$R$5:$R$100,0),MATCH('次月仕訳（非表示）'!M$6,'バッチ反映用（非表示）'!$A$4:$G$4,0)),IF($Q12=\"end\",\"0\"&旅費振替依頼書!$I$3&旅費振替依頼書!$J$3&\"振替 \"&MONTH(SUBSTITUTE($B$7,\".\",\"/\"))&\"月旅費→\"&MONTH(EOMONTH(SUBSTITUTE($I$7,\".\",\"/\"),1))&\"月作業費 \"&N11&\"件\",\"\"))","v":""},6,{"$f":"IF(M12<>\"\",N12,\"\")","v":""},{"$f":"IF(ISERROR(INDEX('バッチ反映用（非表示）'!$A$5:$O$100,MATCH($N12,'バッチ反映用（非表示）'!$R$5:$R$100,0),MATCH('次月仕訳（非表示）'!L$6,'バッチ反映用（非表示）'!$A$4:$G$4,0)))=FALSE,\"TRUE\",\"FALSE\")","v":"FALSE"},{"$f":"IF(AND(P11=\"TRUE\",P12=\"FALSE\"),\"end\",\"\")","v":""},null,{"$f":"IF(H11=\"会社コード\",\"NS\",IF(Q11=\"end\",\"eof\",\"\"))","v":""},{"$f":"IF(I11=\"転記日付\",INDEX('バッチ反映用（非表示）'!$A$5:$O$100,MATCH($N12,'バッチ反映用（非表示）'!$R$5:$R$100,0),MATCH('次月仕訳（非表示）'!T$6,'バッチ反映用（非表示）'!$A$4:$G$4,0)),\"\")","v":{"$error":"#N/A"}},{"$f":"IF(J12<>\"\",IF(K12<>\"NS-0\"&旅費振替依頼書!$I$3,$C$4,$C$3),\"\")","v":""},{"$f":"IF(K12<>\"\",K12,\"\")","v":""},{"$f":"IF(L12<>\"\",L12*-1,\"\")","v":""},""]
["",{"$error":"#N/A"},"","","","",null,"",{"$f":"IF(I12=\"転記日付\",INDEX('バッチ反映用（非表示）'!$A$5:$O$100,MATCH($N13,'バッチ反映用（非表示）'!$R$5:$R$100,0),MATCH('次月仕訳（非表示）'!I$6,'バッチ反映用（非表示）'!$A$4:$G$4,0)),\"\")","v":{"$error":"#N/A"}},"",{"$f":"IF($P13=\"TRUE\",INDEX('バッチ反映用（非表示）'!$A$5:$O$100,MATCH($N13,'バッチ反映用（非表示）'!$R$5:$R$100,0),MATCH('次月仕訳（非表示）'!K$6,'バッチ反映用（非表示）'!$A$4:$G$4,0)),IF(AND(P13=\"FALSE\",Q13=\"end\"),\"NS-0100\",\"\"))","v":""},{"$f":"IF($P13=\"TRUE\",INDEX('バッチ反映用（非表示）'!$A$5:$O$100,MATCH($N13,'バッチ反映用（非表示）'!$R$5:$R$100,0),MATCH('次月仕訳（非表示）'!L$6,'バッチ反映用（非表示）'!$A$4:$G$4,0))*-1,IF($Q13=\"end\",SUM($L$7:L12)*-1,\"\"))","v":""},{"$f":"IF($P13=\"TRUE\",INDEX('バッチ反映用（非表示）'!$A$5:$O$100,MATCH($N13,'バッチ反映用（非表示）'!$R$5:$R$100,0),MATCH('次月仕訳（非表示）'!M$6,'バッチ反映用（非表示）'!$A$4:$G$4,0)),IF($Q13=\"end\",\"0\"&旅費振替依頼書!$I$3&旅費振替依頼書!$J$3&\"振替 \"&MONTH(SUBSTITUTE($B$7,\".\",\"/\"))&\"月旅費→\"&MONTH(EOMONTH(SUBSTITUTE($I$7,\".\",\"/\"),1))&\"月作業費 \"&N12&\"件\",\"\"))","v":""},7,"",{"$f":"IF(ISERROR(INDEX('バッチ反映用（非表示）'!$A$5:$O$100,MATCH($N13,'バッチ反映用（非表示）'!$R$5:$R$100,0),MATCH('次月仕訳（非表示）'!L$6,'バッチ反映用（非表示）'!$A$4:$G$4,0)))=FALSE,\"TRUE\",\"FALSE\")","v":"FALSE"},"",null,"",{"$f":"IF(I12=\"転記日付\",INDEX('バッチ反映用（非表示）'!$A$5:$O$100,MATCH($N13,'バッチ反映用（非表示）'!$R$5:$R$100,0),MATCH('次月仕訳（非表示）'!T$6,'バッチ反映用（非表示）'!$A$4:$G$4,0)),\"\")","v":{"$error":"#N/A"}},{"$f":"IF(J13<>\"\",IF(K13<>\"NS-0\"&旅費振替依頼書!$I$3,$C$4,$C$3),\"\")","v":""},"","",""]
["",{"$error":"#N/A"},"","","","",null,"",{"$f":"IF(I13=\"転記日付\",INDEX('バッチ反映用（非表示）'!$A$5:$O$100,MATCH($N14,'バッチ反映用（非表示）'!$R$5:$R$100,0),MATCH('次月仕訳（非表示）'!I$6,'バッチ反映用（非表示）'!$A$4:$G$4,0)),\"\")","v":{"$error":"#N/A"}},"",{"$f":"IF($P14=\"TRUE\",INDEX('バッチ反映用（非表示）'!$A$5:$O$100,MATCH($N14,'バッチ反映用（非表示）'!$R$5:$R$100,0),MATCH('次月仕訳（非表示）'!K$6,'バッチ反映用（非表示）'!$A$4:$G$4,0)),IF(AND(P14=\"FALSE\",Q14=\"end\"),\"NS-0100\",\"\"))","v":""},{"$f":"IF($P14=\"TRUE\",INDEX('バッチ反映用（非表示）'!$A$5:$O$100,MATCH($N14,'バッチ反映用（非表示）'!$R$5:$R$100,0),MATCH('次月仕訳（非表示）'!L$6,'バッチ反映用（非表示）'!$A$4:$G$4,0))*-1,IF($Q14=\"end\",SUM($L$7:L13)*-1,\"\"))","v":""},{"$f":"IF($P14=\"TRUE\",INDEX('バッチ反映用（非表示）'!$A$5:$O$100,MATCH($N14,'バッチ反映用（非表示）'!$R$5:$R$100,0),MATCH('次月仕訳（非表示）'!M$6,'バッチ反映用（非表示）'!$A$4:$G$4,0)),IF($Q14=\"end\",\"0\"&旅費振替依頼書!$I$3&旅費振替依頼書!$J$3&\"振替 \"&MONTH(SUBSTITUTE($B$7,\".\",\"/\"))&\"月旅費→\"&MONTH(EOMONTH(SUBSTITUTE($I$7,\".\",\"/\"),1))&\"月作業費 \"&N13&\"件\",\"\"))","v":""},8,"",{"$f":"IF(ISERROR(INDEX('バッチ反映用（非表示）'!$A$5:$O$100,MATCH($N14,'バッチ反映用（非表示）'!$R$5:$R$100,0),MATCH('次月仕訳（非表示）'!L$6,'バッチ反映用（非表示）'!$A$4:$G$4,0)))=FALSE,\"TRUE\",\"FALSE\")","v":"FALSE"},"",null,"",{"$f":"IF(I13=\"転記日付\",INDEX('バッチ反映用（非表示）'!$A$5:$O$100,MATCH($N14,'バッチ反映用（非表示）'!$R$5:$R$100,0),MATCH('次月仕訳（非表示）'!T$6,'バッチ反映用（非表示）'!$A$4:$G$4,0)),\"\")","v":{"$error":"#N/A"}},{"$f":"IF(J14<>\"\",IF(K14<>\"NS-0\"&旅費振替依頼書!$I$3,$C$4,$C$3),\"\")","v":""},"","",""]
["",{"$error":"#N/A"},"","","","",null,"",{"$f":"IF(I14=\"転記日付\",INDEX('バッチ反映用（非表示）'!$A$5:$O$100,MATCH($N15,'バッチ反映用（非表示）'!$R$5:$R$100,0),MATCH('次月仕訳（非表示）'!I$6,'バッチ反映用（非表示）'!$A$4:$G$4,0)),\"\")","v":{"$error":"#N/A"}},"",{"$f":"IF($P15=\"TRUE\",INDEX('バッチ反映用（非表示）'!$A$5:$O$100,MATCH($N15,'バッチ反映用（非表示）'!$R$5:$R$100,0),MATCH('次月仕訳（非表示）'!K$6,'バッチ反映用（非表示）'!$A$4:$G$4,0)),IF(AND(P15=\"FALSE\",Q15=\"end\"),\"NS-0100\",\"\"))","v":""},{"$f":"IF($P15=\"TRUE\",INDEX('バッチ反映用（非表示）'!$A$5:$O$100,MATCH($N15,'バッチ反映用（非表示）'!$R$5:$R$100,0),MATCH('次月仕訳（非表示）'!L$6,'バッチ反映用（非表示）'!$A$4:$G$4,0))*-1,IF($Q15=\"end\",SUM($L$7:L14)*-1,\"\"))","v":""},{"$f":"IF($P15=\"TRUE\",INDEX('バッチ反映用（非表示）'!$A$5:$O$100,MATCH($N15,'バッチ反映用（非表示）'!$R$5:$R$100,0),MATCH('次月仕訳（非表示）'!M$6,'バッチ反映用（非表示）'!$A$4:$G$4,0)),IF($Q15=\"end\",\"0\"&旅費振替依頼書!$I$3&旅費振替依頼書!$J$3&\"振替 \"&MONTH(SUBSTITUTE($B$7,\".\",\"/\"))&\"月旅費→\"&MONTH(EOMONTH(SUBSTITUTE($I$7,\".\",\"/\"),1))&\"月作業費 \"&N14&\"件\",\"\"))","v":""},9,"",{"$f":"IF(ISERROR(INDEX('バッチ反映用（非表示）'!$A$5:$O$100,MATCH($N15,'バッチ反映用（非表示）'!$R$5:$R$100,0),MATCH('次月仕訳（非表示）'!L$6,'バッチ反映用（非表示）'!$A$4:$G$4,0)))=FALSE,\"TRUE\",\"FALSE\")","v":"FALSE"},"",null,"",{"$f":"IF(I14=\"転記日付\",INDEX('バッチ反映用（非表示）'!$A$5:$O$100,MATCH($N15,'バッチ反映用（非表示）'!$R$5:$R$100,0),MATCH('次月仕訳（非表示）'!T$6,'バッチ反映用（非表示）'!$A$4:$G$4,0)),\"\")","v":{"$error":"#N/A"}},{"$f":"IF(J15<>\"\",IF(K15<>\"NS-0\"&旅費振替依頼書!$I$3,$C$4,$C$3),\"\")","v":""},"","",""]
["",{"$error":"#N/A"},"","","","",null,"",{"$f":"IF(I15=\"転記日付\",INDEX('バッチ反映用（非表示）'!$A$5:$O$100,MATCH($N16,'バッチ反映用（非表示）'!$R$5:$R$100,0),MATCH('次月仕訳（非表示）'!I$6,'バッチ反映用（非表示）'!$A$4:$G$4,0)),\"\")","v":{"$error":"#N/A"}},"",{"$f":"IF($P16=\"TRUE\",INDEX('バッチ反映用（非表示）'!$A$5:$O$100,MATCH($N16,'バッチ反映用（非表示）'!$R$5:$R$100,0),MATCH('次月仕訳（非表示）'!K$6,'バッチ反映用（非表示）'!$A$4:$G$4,0)),IF(AND(P16=\"FALSE\",Q16=\"end\"),\"NS-0100\",\"\"))","v":""},{"$f":"IF($P16=\"TRUE\",INDEX('バッチ反映用（非表示）'!$A$5:$O$100,MATCH($N16,'バッチ反映用（非表示）'!$R$5:$R$100,0),MATCH('次月仕訳（非表示）'!L$6,'バッチ反映用（非表示）'!$A$4:$G$4,0))*-1,IF($Q16=\"end\",SUM($L$7:L15)*-1,\"\"))","v":""},{"$f":"IF($P16=\"TRUE\",INDEX('バッチ反映用（非表示）'!$A$5:$O$100,MATCH($N16,'バッチ反映用（非表示）'!$R$5:$R$100,0),MATCH('次月仕訳（非表示）'!M$6,'バッチ反映用（非表示）'!$A$4:$G$4,0)),IF($Q16=\"end\",\"0\"&旅費振替依頼書!$I$3&旅費振替依頼書!$J$3&\"振替 \"&MONTH(SUBSTITUTE($B$7,\".\",\"/\"))&\"月旅費→\"&MONTH(EOMONTH(SUBSTITUTE($I$7,\".\",\"/\"),1))&\"月作業費 \"&N15&\"件\",\"\"))","v":""},10,"",{"$f":"IF(ISERROR(INDEX('バッチ反映用（非表示）'!$A$5:$O$100,MATCH($N16,'バッチ反映用（非表示）'!$R$5:$R$100,0),MATCH('次月仕訳（非表示）'!L$6,'バッチ反映用（非表示）'!$A$4:$G$4,0)))=FALSE,\"TRUE\",\"FALSE\")","v":"FALSE"},"",null,"",{"$f":"IF(I15=\"転記日付\",INDEX('バッチ反映用（非表示）'!$A$5:$O$100,MATCH($N16,'バッチ反映用（非表示）'!$R$5:$R$100,0),MATCH('次月仕訳（非表示）'!T$6,'バッチ反映用（非表示）'!$A$4:$G$4,0)),\"\")","v":{"$error":"#N/A"}},{"$f":"IF(J16<>\"\",IF(K16<>\"NS-0\"&旅費振替依頼書!$I$3,$C$4,$C$3),\"\")","v":""},"","",{"$f":"IF(M16<>\"\",M16,\"\")","v":""}]
["",{"$error":"#N/A"},"","","","",null,"",{"$f":"IF(I16=\"転記日付\",INDEX('バッチ反映用（非表示）'!$A$5:$O$100,MATCH($N17,'バッチ反映用（非表示）'!$R$5:$R$100,0),MATCH('次月仕訳（非表示）'!I$6,'バッチ反映用（非表示）'!$A$4:$G$4,0)),\"\")","v":{"$error":"#N/A"}},"",{"$f":"IF($P17=\"TRUE\",INDEX('バッチ反映用（非表示）'!$A$5:$O$100,MATCH($N17,'バッチ反映用（非表示）'!$R$5:$R$100,0),MATCH('次月仕訳（非表示）'!K$6,'バッチ反映用（非表示）'!$A$4:$G$4,0)),IF(AND(P17=\"FALSE\",Q17=\"end\"),\"NS-0100\",\"\"))","v":""},{"$f":"IF($P17=\"TRUE\",INDEX('バッチ反映用（非表示）'!$A$5:$O$100,MATCH($N17,'バッチ反映用（非表示）'!$R$5:$R$100,0),MATCH('次月仕訳（非表示）'!L$6,'バッチ反映用（非表示）'!$A$4:$G$4,0))*-1,IF($Q17=\"end\",SUM($L$7:L16)*-1,\"\"))","v":""},{"$f":"IF($P17=\"TRUE\",INDEX('バッチ反映用（非表示）'!$A$5:$O$100,MATCH($N17,'バッチ反映用（非表示）'!$R$5:$R$100,0),MATCH('次月仕訳（非表示）'!M$6,'バッチ反映用（非表示）'!$A$4:$G$4,0)),IF($Q17=\"end\",\"0\"&旅費振替依頼書!$I$3&旅費振替依頼書!$J$3&\"振替 \"&MONTH(SUBSTITUTE($B$7,\".\",\"/\"))&\"月旅費→\"&MONTH(EOMONTH(SUBSTITUTE($I$7,\".\",\"/\"),1))&\"月作業費 \"&N16&\"件\",\"\"))","v":""},11,"",{"$f":"IF(ISERROR(INDEX('バッチ反映用（非表示）'!$A$5:$O$100,MATCH($N17,'バッチ反映用（非表示）'!$R$5:$R$100,0),MATCH('次月仕訳（非表示）'!L$6,'バッチ反映用（非表示）'!$A$4:$G$4,0)))=FALSE,\"TRUE\",\"FALSE\")","v":"FALSE"},"",null,"",{"$f":"IF(I16=\"転記日付\",INDEX('バッチ反映用（非表示）'!$A$5:$O$100,MATCH($N17,'バッチ反映用（非表示）'!$R$5:$R$100,0),MATCH('次月仕訳（非表示）'!T$6,'バッチ反映用（非表示）'!$A$4:$G$4,0)),\"\")","v":{"$error":"#N/A"}},{"$f":"IF(J17<>\"\",IF(K17<>\"NS-0\"&旅費振替依頼書!$I$3,$C$4,$C$3),\"\")","v":""},"","",""]
["",{"$error":"#N/A"},"","","","",null,"",{"$f":"IF(I17=\"転記日付\",INDEX('バッチ反映用（非表示）'!$A$5:$O$100,MATCH($N18,'バッチ反映用（非表示）'!$R$5:$R$100,0),MATCH('次月仕訳（非表示）'!I$6,'バッチ反映用（非表示）'!$A$4:$G$4,0)),\"\")","v":{"$error":"#N/A"}},"",{"$f":"IF($P18=\"TRUE\",INDEX('バッチ反映用（非表示）'!$A$5:$O$100,MATCH($N18,'バッチ反映用（非表示）'!$R$5:$R$100,0),MATCH('次月仕訳（非表示）'!K$6,'バッチ反映用（非表示）'!$A$4:$G$4,0)),IF(AND(P18=\"FALSE\",Q18=\"end\"),\"NS-0100\",\"\"))","v":""},{"$f":"IF($P18=\"TRUE\",INDEX('バッチ反映用（非表示）'!$A$5:$O$100,MATCH($N18,'バッチ反映用（非表示）'!$R$5:$R$100,0),MATCH('次月仕訳（非表示）'!L$6,'バッチ反映用（非表示）'!$A$4:$G$4,0))*-1,IF($Q18=\"end\",SUM($L$7:L17)*-1,\"\"))","v":""},{"$f":"IF($P18=\"TRUE\",INDEX('バッチ反映用（非表示）'!$A$5:$O$100,MATCH($N18,'バッチ反映用（非表示）'!$R$5:$R$100,0),MATCH('次月仕訳（非表示）'!M$6,'バッチ反映用（非表示）'!$A$4:$G$4,0)),IF($Q18=\"end\",\"0\"&旅費振替依頼書!$I$3&旅費振替依頼書!$J$3&\"振替 \"&MONTH(SUBSTITUTE($B$7,\".\",\"/\"))&\"月旅費→\"&MONTH(EOMONTH(SUBSTITUTE($I$7,\".\",\"/\"),1))&\"月作業費 \"&N17&\"件\",\"\"))","v":""},12,"",{"$f":"IF(ISERROR(INDEX('バッチ反映用（非表示）'!$A$5:$O$100,MATCH($N18,'バッチ反映用（非表示）'!$R$5:$R$100,0),MATCH('次月仕訳（非表示）'!L$6,'バッチ反映用（非表示）'!$A$4:$G$4,0)))=FALSE,\"TRUE\",\"FALSE\")","v":"FALSE"},"",null,"",{"$f":"IF(I17=\"転記日付\",INDEX('バッチ反映用（非表示）'!$A$5:$O$100,MATCH($N18,'バッチ反映用（非表示）'!$R$5:$R$100,0),MATCH('次月仕訳（非表示）'!T$6,'バッチ反映用（非表示）'!$A$4:$G$4,0)),\"\")","v":{"$error":"#N/A"}},{"$f":"IF(J18<>\"\",IF(K18<>\"NS-0\"&旅費振替依頼書!$I$3,$C$4,$C$3),\"\")","v":""},"","",""]
["",{"$error":"#N/A"},"","","","",null,"",{"$f":"IF(I18=\"転記日付\",INDEX('バッチ反映用（非表示）'!$A$5:$O$100,MATCH($N19,'バッチ反映用（非表示）'!$R$5:$R$100,0),MATCH('次月仕訳（非表示）'!I$6,'バッチ反映用（非表示）'!$A$4:$G$4,0)),\"\")","v":{"$error":"#N/A"}},"",{"$f":"IF($P19=\"TRUE\",INDEX('バッチ反映用（非表示）'!$A$5:$O$100,MATCH($N19,'バッチ反映用（非表示）'!$R$5:$R$100,0),MATCH('次月仕訳（非表示）'!K$6,'バッチ反映用（非表示）'!$A$4:$G$4,0)),IF(AND(P19=\"FALSE\",Q19=\"end\"),\"NS-0100\",\"\"))","v":""},{"$f":"IF($P19=\"TRUE\",INDEX('バッチ反映用（非表示）'!$A$5:$O$100,MATCH($N19,'バッチ反映用（非表示）'!$R$5:$R$100,0),MATCH('次月仕訳（非表示）'!L$6,'バッチ反映用（非表示）'!$A$4:$G$4,0))*-1,IF($Q19=\"end\",SUM($L$7:L18)*-1,\"\"))","v":""},{"$f":"IF($P19=\"TRUE\",INDEX('バッチ反映用（非表示）'!$A$5:$O$100,MATCH($N19,'バッチ反映用（非表示）'!$R$5:$R$100,0),MATCH('次月仕訳（非表示）'!M$6,'バッチ反映用（非表示）'!$A$4:$G$4,0)),IF($Q19=\"end\",\"0\"&旅費振替依頼書!$I$3&旅費振替依頼書!$J$3&\"振替 \"&MONTH(SUBSTITUTE($B$7,\".\",\"/\"))&\"月旅費→\"&MONTH(EOMONTH(SUBSTITUTE($I$7,\".\",\"/\"),1))&\"月作業費 \"&N18&\"件\",\"\"))","v":""},13,"",{"$f":"IF(ISERROR(INDEX('バッチ反映用（非表示）'!$A$5:$O$100,MATCH($N19,'バッチ反映用（非表示）'!$R$5:$R$100,0),MATCH('次月仕訳（非表示）'!L$6,'バッチ反映用（非表示）'!$A$4:$G$4,0)))=FALSE,\"TRUE\",\"FALSE\")","v":"FALSE"},"",null,"",{"$f":"IF(I18=\"転記日付\",INDEX('バッチ反映用（非表示）'!$A$5:$O$100,MATCH($N19,'バッチ反映用（非表示）'!$R$5:$R$100,0),MATCH('次月仕訳（非表示）'!T$6,'バッチ反映用（非表示）'!$A$4:$G$4,0)),\"\")","v":{"$error":"#N/A"}},{"$f":"IF(J19<>\"\",IF(K19<>\"NS-0\"&旅費振替依頼書!$I$3,$C$4,$C$3),\"\")","v":""},"","",""]
["",{"$error":"#N/A"},"","","","",null,"",{"$f":"IF(I19=\"転記日付\",INDEX('バッチ反映用（非表示）'!$A$5:$O$100,MATCH($N20,'バッチ反映用（非表示）'!$R$5:$R$100,0),MATCH('次月仕訳（非表示）'!I$6,'バッチ反映用（非表示）'!$A$4:$G$4,0)),\"\")","v":{"$error":"#N/A"}},"",{"$f":"IF($P20=\"TRUE\",INDEX('バッチ反映用（非表示）'!$A$5:$O$100,MATCH($N20,'バッチ反映用（非表示）'!$R$5:$R$100,0),MATCH('次月仕訳（非表示）'!K$6,'バッチ反映用（非表示）'!$A$4:$G$4,0)),IF(AND(P20=\"FALSE\",Q20=\"end\"),\"NS-0100\",\"\"))","v":""},{"$f":"IF($P20=\"TRUE\",INDEX('バッチ反映用（非表示）'!$A$5:$O$100,MATCH($N20,'バッチ反映用（非表示）'!$R$5:$R$100,0),MATCH('次月仕訳（非表示）'!L$6,'バッチ反映用（非表示）'!$A$4:$G$4,0))*-1,IF($Q20=\"end\",SUM($L$7:L19)*-1,\"\"))","v":""},{"$f":"IF($P20=\"TRUE\",INDEX('バッチ反映用（非表示）'!$A$5:$O$100,MATCH($N20,'バッチ反映用（非表示）'!$R$5:$R$100,0),MATCH('次月仕訳（非表示）'!M$6,'バッチ反映用（非表示）'!$A$4:$G$4,0)),IF($Q20=\"end\",\"0\"&旅費振替依頼書!$I$3&旅費振替依頼書!$J$3&\"振替 \"&MONTH(SUBSTITUTE($B$7,\".\",\"/\"))&\"月旅費→\"&MONTH(EOMONTH(SUBSTITUTE($I$7,\".\",\"/\"),1))&\"月作業費 \"&N19&\"件\",\"\"))","v":""},14,"",{"$f":"IF(ISERROR(INDEX('バッチ反映用（非表示）'!$A$5:$O$100,MATCH($N20,'バッチ反映用（非表示）'!$R$5:$R$100,0),MATCH('次月仕訳（非表示）'!L$6,'バッチ反映用（非表示）'!$A$4:$G$4,0)))=FALSE,\"TRUE\",\"FALSE\")","v":"FALSE"},"",null,"",{"$f":"IF(I19=\"転記日付\",INDEX('バッチ反映用（非表示）'!$A$5:$O$100,MATCH($N20,'バッチ反映用（非表示）'!$R$5:$R$100,0),MATCH('次月仕訳（非表示）'!T$6,'バッチ反映用（非表示）'!$A$4:$G$4,0)),\"\")","v":{"$error":"#N/A"}},{"$f":"IF(J20<>\"\",IF(K20<>\"NS-0\"&旅費振替依頼書!$I$3,$C$4,$C$3),\"\")","v":""},"","",""]
["",{"$error":"#N/A"},"","","","",null,"",{"$f":"IF(I20=\"転記日付\",INDEX('バッチ反映用（非表示）'!$A$5:$O$100,MATCH($N21,'バッチ反映用（非表示）'!$R$5:$R$100,0),MATCH('次月仕訳（非表示）'!I$6,'バッチ反映用（非表示）'!$A$4:$G$4,0)),\"\")","v":{"$error":"#N/A"}},"",{"$f":"IF($P21=\"TRUE\",INDEX('バッチ反映用（非表示）'!$A$5:$O$100,MATCH($N21,'バッチ反映用（非表示）'!$R$5:$R$100,0),MATCH('次月仕訳（非表示）'!K$6,'バッチ反映用（非表示）'!$A$4:$G$4,0)),IF(AND(P21=\"FALSE\",Q21=\"end\"),\"NS-0100\",\"\"))","v":""},{"$f":"IF($P21=\"TRUE\",INDEX('バッチ反映用（非表示）'!$A$5:$O$100,MATCH($N21,'バッチ反映用（非表示）'!$R$5:$R$100,0),MATCH('次月仕訳（非表示）'!L$6,'バッチ反映用（非表示）'!$A$4:$G$4,0))*-1,IF($Q21=\"end\",SUM($L$7:L20)*-1,\"\"))","v":""},{"$f":"IF($P21=\"TRUE\",INDEX('バッチ反映用（非表示）'!$A$5:$O$100,MATCH($N21,'バッチ反映用（非表示）'!$R$5:$R$100,0),MATCH('次月仕訳（非表示）'!M$6,'バッチ反映用（非表示）'!$A$4:$G$4,0)),IF($Q21=\"end\",\"0\"&旅費振替依頼書!$I$3&旅費振替依頼書!$J$3&\"振替 \"&MONTH(SUBSTITUTE($B$7,\".\",\"/\"))&\"月旅費→\"&MONTH(EOMONTH(SUBSTITUTE($I$7,\".\",\"/\"),1))&\"月作業費 \"&N20&\"件\",\"\"))","v":""},15,"",{"$f":"IF(ISERROR(INDEX('バッチ反映用（非表示）'!$A$5:$O$100,MATCH($N21,'バッチ反映用（非表示）'!$R$5:$R$100,0),MATCH('次月仕訳（非表示）'!L$6,'バッチ反映用（非表示）'!$A$4:$G$4,0)))=FALSE,\"TRUE\",\"FALSE\")","v":"FALSE"},"",null,"",{"$f":"IF(I20=\"転記日付\",INDEX('バッチ反映用（非表示）'!$A$5:$O$100,MATCH($N21,'バッチ反映用（非表示）'!$R$5:$R$100,0),MATCH('次月仕訳（非表示）'!T$6,'バッチ反映用（非表示）'!$A$4:$G$4,0)),\"\")","v":{"$error":"#N/A"}},{"$f":"IF(J21<>\"\",IF(K21<>\"NS-0\"&旅費振替依頼書!$I$3,$C$4,$C$3),\"\")","v":""},"","",""]
["",{"$error":"#N/A"},"","","","",null,"",{"$f":"IF(I21=\"転記日付\",INDEX('バッチ反映用（非表示）'!$A$5:$O$100,MATCH($N22,'バッチ反映用（非表示）'!$R$5:$R$100,0),MATCH('次月仕訳（非表示）'!I$6,'バッチ反映用（非表示）'!$A$4:$G$4,0)),\"\")","v":{"$error":"#N/A"}},"",{"$f":"IF($P22=\"TRUE\",INDEX('バッチ反映用（非表示）'!$A$5:$O$100,MATCH($N22,'バッチ反映用（非表示）'!$R$5:$R$100,0),MATCH('次月仕訳（非表示）'!K$6,'バッチ反映用（非表示）'!$A$4:$G$4,0)),IF(AND(P22=\"FALSE\",Q22=\"end\"),\"NS-0100\",\"\"))","v":""},{"$f":"IF($P22=\"TRUE\",INDEX('バッチ反映用（非表示）'!$A$5:$O$100,MATCH($N22,'バッチ反映用（非表示）'!$R$5:$R$100,0),MATCH('次月仕訳（非表示）'!L$6,'バッチ反映用（非表示）'!$A$4:$G$4,0))*-1,IF($Q22=\"end\",SUM($L$7:L21)*-1,\"\"))","v":""},{"$f":"IF($P22=\"TRUE\",INDEX('バッチ反映用（非表示）'!$A$5:$O$100,MATCH($N22,'バッチ反映用（非表示）'!$R$5:$R$100,0),MATCH('次月仕訳（非表示）'!M$6,'バッチ反映用（非表示）'!$A$4:$G$4,0)),IF($Q22=\"end\",\"0\"&旅費振替依頼書!$I$3&旅費振替依頼書!$J$3&\"振替 \"&MONTH(SUBSTITUTE($B$7,\".\",\"/\"))&\"月旅費→\"&MONTH(EOMONTH(SUBSTITUTE($I$7,\".\",\"/\"),1))&\"月作業費 \"&N21&\"件\",\"\"))","v":""},16,"",{"$f":"IF(ISERROR(INDEX('バッチ反映用（非表示）'!$A$5:$O$100,MATCH($N22,'バッチ反映用（非表示）'!$R$5:$R$100,0),MATCH('次月仕訳（非表示）'!L$6,'バッチ反映用（非表示）'!$A$4:$G$4,0)))=FALSE,\"TRUE\",\"FALSE\")","v":"FALSE"},"",null,"",{"$f":"IF(I21=\"転記日付\",INDEX('バッチ反映用（非表示）'!$A$5:$O$100,MATCH($N22,'バッチ反映用（非表示）'!$R$5:$R$100,0),MATCH('次月仕訳（非表示）'!T$6,'バッチ反映用（非表示）'!$A$4:$G$4,0)),\"\")","v":{"$error":"#N/A"}},{"$f":"IF(J22<>\"\",IF(K22<>\"NS-0\"&旅費振替依頼書!$I$3,$C$4,$C$3),\"\")","v":""},"","",""]
["",{"$error":"#N/A"},"","","","",null,"",{"$f":"IF(I22=\"転記日付\",INDEX('バッチ反映用（非表示）'!$A$5:$O$100,MATCH($N23,'バッチ反映用（非表示）'!$R$5:$R$100,0),MATCH('次月仕訳（非表示）'!I$6,'バッチ反映用（非表示）'!$A$4:$G$4,0)),\"\")","v":{"$error":"#N/A"}},"",{"$f":"IF($P23=\"TRUE\",INDEX('バッチ反映用（非表示）'!$A$5:$O$100,MATCH($N23,'バッチ反映用（非表示）'!$R$5:$R$100,0),MATCH('次月仕訳（非表示）'!K$6,'バッチ反映用（非表示）'!$A$4:$G$4,0)),IF(AND(P23=\"FALSE\",Q23=\"end\"),\"NS-0100\",\"\"))","v":""},{"$f":"IF($P23=\"TRUE\",INDEX('バッチ反映用（非表示）'!$A$5:$O$100,MATCH($N23,'バッチ反映用（非表示）'!$R$5:$R$100,0),MATCH('次月仕訳（非表示）'!L$6,'バッチ反映用（非表示）'!$A$4:$G$4,0))*-1,IF($Q23=\"end\",SUM($L$7:L22)*-1,\"\"))","v":""},{"$f":"IF($P23=\"TRUE\",INDEX('バッチ反映用（非表示）'!$A$5:$O$100,MATCH($N23,'バッチ反映用（非表示）'!$R$5:$R$100,0),MATCH('次月仕訳（非表示）'!M$6,'バッチ反映用（非表示）'!$A$4:$G$4,0)),IF($Q23=\"end\",\"0\"&旅費振替依頼書!$I$3&旅費振替依頼書!$J$3&\"振替 \"&MONTH(SUBSTITUTE($B$7,\".\",\"/\"))&\"月旅費→\"&MONTH(EOMONTH(SUBSTITUTE($I$7,\".\",\"/\"),1))&\"月作業費 \"&N22&\"件\",\"\"))","v":""},17,"",{"$f":"IF(ISERROR(INDEX('バッチ反映用（非表示）'!$A$5:$O$100,MATCH($N23,'バッチ反映用（非表示）'!$R$5:$R$100,0),MATCH('次月仕訳（非表示）'!L$6,'バッチ反映用（非表示）'!$A$4:$G$4,0)))=FALSE,\"TRUE\",\"FALSE\")","v":"FALSE"},"",null,"",{"$f":"IF(I22=\"転記日付\",INDEX('バッチ反映用（非表示）'!$A$5:$O$100,MATCH($N23,'バッチ反映用（非表示）'!$R$5:$R$100,0),MATCH('次月仕訳（非表示）'!T$6,'バッチ反映用（非表示）'!$A$4:$G$4,0)),\"\")","v":{"$error":"#N/A"}},{"$f":"IF(J23<>\"\",IF(K23<>\"NS-0\"&旅費振替依頼書!$I$3,$C$4,$C$3),\"\")","v":""},"","",""]
["",{"$error":"#N/A"},"","","","",null,"",{"$f":"IF(I23=\"転記日付\",INDEX('バッチ反映用（非表示）'!$A$5:$O$100,MATCH($N24,'バッチ反映用（非表示）'!$R$5:$R$100,0),MATCH('次月仕訳（非表示）'!I$6,'バッチ反映用（非表示）'!$A$4:$G$4,0)),\"\")","v":{"$error":"#N/A"}},"",{"$f":"IF($P24=\"TRUE\",INDEX('バッチ反映用（非表示）'!$A$5:$O$100,MATCH($N24,'バッチ反映用（非表示）'!$R$5:$R$100,0),MATCH('次月仕訳（非表示）'!K$6,'バッチ反映用（非表示）'!$A$4:$G$4,0)),IF(AND(P24=\"FALSE\",Q24=\"end\"),\"NS-0100\",\"\"))","v":""},{"$f":"IF($P24=\"TRUE\",INDEX('バッチ反映用（非表示）'!$A$5:$O$100,MATCH($N24,'バッチ反映用（非表示）'!$R$5:$R$100,0),MATCH('次月仕訳（非表示）'!L$6,'バッチ反映用（非表示）'!$A$4:$G$4,0))*-1,IF($Q24=\"end\",SUM($L$7:L23)*-1,\"\"))","v":""},{"$f":"IF($P24=\"TRUE\",INDEX('バッチ反映用（非表示）'!$A$5:$O$100,MATCH($N24,'バッチ反映用（非表示）'!$R$5:$R$100,0),MATCH('次月仕訳（非表示）'!M$6,'バッチ反映用（非表示）'!$A$4:$G$4,0)),IF($Q24=\"end\",\"0\"&旅費振替依頼書!$I$3&旅費振替依頼書!$J$3&\"振替 \"&MONTH(SUBSTITUTE($B$7,\".\",\"/\"))&\"月旅費→\"&MONTH(EOMONTH(SUBSTITUTE($I$7,\".\",\"/\"),1))&\"月作業費 \"&N23&\"件\",\"\"))","v":""},18,"",{"$f":"IF(ISERROR(INDEX('バッチ反映用（非表示）'!$A$5:$O$100,MATCH($N24,'バッチ反映用（非表示）'!$R$5:$R$100,0),MATCH('次月仕訳（非表示）'!L$6,'バッチ反映用（非表示）'!$A$4:$G$4,0)))=FALSE,\"TRUE\",\"FALSE\")","v":"FALSE"},"",null,"",{"$f":"IF(I23=\"転記日付\",INDEX('バッチ反映用（非表示）'!$A$5:$O$100,MATCH($N24,'バッチ反映用（非表示）'!$R$5:$R$100,0),MATCH('次月仕訳（非表示）'!T$6,'バッチ反映用（非表示）'!$A$4:$G$4,0)),\"\")","v":{"$error":"#N/A"}},{"$f":"IF(J24<>\"\",IF(K24<>\"NS-0\"&旅費振替依頼書!$I$3,$C$4,$C$3),\"\")","v":""},"","",""]
["",{"$error":"#N/A"},"","","","",null,"",{"$f":"IF(I24=\"転記日付\",INDEX('バッチ反映用（非表示）'!$A$5:$O$100,MATCH($N25,'バッチ反映用（非表示）'!$R$5:$R$100,0),MATCH('次月仕訳（非表示）'!I$6,'バッチ反映用（非表示）'!$A$4:$G$4,0)),\"\")","v":{"$error":"#N/A"}},"",{"$f":"IF($P25=\"TRUE\",INDEX('バッチ反映用（非表示）'!$A$5:$O$100,MATCH($N25,'バッチ反映用（非表示）'!$R$5:$R$100,0),MATCH('次月仕訳（非表示）'!K$6,'バッチ反映用（非表示）'!$A$4:$G$4,0)),IF(AND(P25=\"FALSE\",Q25=\"end\"),\"NS-0100\",\"\"))","v":""},{"$f":"IF($P25=\"TRUE\",INDEX('バッチ反映用（非表示）'!$A$5:$O$100,MATCH($N25,'バッチ反映用（非表示）'!$R$5:$R$100,0),MATCH('次月仕訳（非表示）'!L$6,'バッチ反映用（非表示）'!$A$4:$G$4,0))*-1,IF($Q25=\"end\",SUM($L$7:L24)*-1,\"\"))","v":""},{"$f":"IF($P25=\"TRUE\",INDEX('バッチ反映用（非表示）'!$A$5:$O$100,MATCH($N25,'バッチ反映用（非表示）'!$R$5:$R$100,0),MATCH('次月仕訳（非表示）'!M$6,'バッチ反映用（非表示）'!$A$4:$G$4,0)),IF($Q25=\"end\",\"0\"&旅費振替依頼書!$I$3&旅費振替依頼書!$J$3&\"振替 \"&MONTH(SUBSTITUTE($B$7,\".\",\"/\"))&\"月旅費→\"&MONTH(EOMONTH(SUBSTITUTE($I$7,\".\",\"/\"),1))&\"月作業費 \"&N24&\"件\",\"\"))","v":""},19,"",{"$f":"IF(ISERROR(INDEX('バッチ反映用（非表示）'!$A$5:$O$100,MATCH($N25,'バッチ反映用（非表示）'!$R$5:$R$100,0),MATCH('次月仕訳（非表示）'!L$6,'バッチ反映用（非表示）'!$A$4:$G$4,0)))=FALSE,\"TRUE\",\"FALSE\")","v":"FALSE"},"",null,"",{"$f":"IF(I24=\"転記日付\",INDEX('バッチ反映用（非表示）'!$A$5:$O$100,MATCH($N25,'バッチ反映用（非表示）'!$R$5:$R$100,0),MATCH('次月仕訳（非表示）'!T$6,'バッチ反映用（非表示）'!$A$4:$G$4,0)),\"\")","v":{"$error":"#N/A"}},{"$f":"IF(J25<>\"\",IF(K25<>\"NS-0\"&旅費振替依頼書!$I$3,$C$4,$C$3),\"\")","v":""},"","",""]
["",{"$error":"#N/A"},"","","","",null,"",{"$f":"IF(I25=\"転記日付\",INDEX('バッチ反映用（非表示）'!$A$5:$O$100,MATCH($N26,'バッチ反映用（非表示）'!$R$5:$R$100,0),MATCH('次月仕訳（非表示）'!I$6,'バッチ反映用（非表示）'!$A$4:$G$4,0)),\"\")","v":{"$error":"#N/A"}},"",{"$f":"IF($P26=\"TRUE\",INDEX('バッチ反映用（非表示）'!$A$5:$O$100,MATCH($N26,'バッチ反映用（非表示）'!$R$5:$R$100,0),MATCH('次月仕訳（非表示）'!K$6,'バッチ反映用（非表示）'!$A$4:$G$4,0)),IF(AND(P26=\"FALSE\",Q26=\"end\"),\"NS-0100\",\"\"))","v":""},{"$f":"IF($P26=\"TRUE\",INDEX('バッチ反映用（非表示）'!$A$5:$O$100,MATCH($N26,'バッチ反映用（非表示）'!$R$5:$R$100,0),MATCH('次月仕訳（非表示）'!L$6,'バッチ反映用（非表示）'!$A$4:$G$4,0))*-1,IF($Q26=\"end\",SUM($L$7:L25)*-1,\"\"))","v":""},{"$f":"IF($P26=\"TRUE\",INDEX('バッチ反映用（非表示）'!$A$5:$O$100,MATCH($N26,'バッチ反映用（非表示）'!$R$5:$R$100,0),MATCH('次月仕訳（非表示）'!M$6,'バッチ反映用（非表示）'!$A$4:$G$4,0)),IF($Q26=\"end\",\"0\"&旅費振替依頼書!$I$3&旅費振替依頼書!$J$3&\"振替 \"&MONTH(SUBSTITUTE($B$7,\".\",\"/\"))&\"月旅費→\"&MONTH(EOMONTH(SUBSTITUTE($I$7,\".\",\"/\"),1))&\"月作業費 \"&N25&\"件\",\"\"))","v":""},20,"",{"$f":"IF(ISERROR(INDEX('バッチ反映用（非表示）'!$A$5:$O$100,MATCH($N26,'バッチ反映用（非表示）'!$R$5:$R$100,0),MATCH('次月仕訳（非表示）'!L$6,'バッチ反映用（非表示）'!$A$4:$G$4,0)))=FALSE,\"TRUE\",\"FALSE\")","v":"FALSE"},"",null,"",{"$f":"IF(I25=\"転記日付\",INDEX('バッチ反映用（非表示）'!$A$5:$O$100,MATCH($N26,'バッチ反映用（非表示）'!$R$5:$R$100,0),MATCH('次月仕訳（非表示）'!T$6,'バッチ反映用（非表示）'!$A$4:$G$4,0)),\"\")","v":{"$error":"#N/A"}},{"$f":"IF(J26<>\"\",IF(K26<>\"NS-0\"&旅費振替依頼書!$I$3,$C$4,$C$3),\"\")","v":""},"","",""]
["",{"$error":"#N/A"},"","","","",null,"",{"$f":"IF(I26=\"転記日付\",INDEX('バッチ反映用（非表示）'!$A$5:$O$100,MATCH($N27,'バッチ反映用（非表示）'!$R$5:$R$100,0),MATCH('次月仕訳（非表示）'!I$6,'バッチ反映用（非表示）'!$A$4:$G$4,0)),\"\")","v":{"$error":"#N/A"}},"",{"$f":"IF($P27=\"TRUE\",INDEX('バッチ反映用（非表示）'!$A$5:$O$100,MATCH($N27,'バッチ反映用（非表示）'!$R$5:$R$100,0),MATCH('次月仕訳（非表示）'!K$6,'バッチ反映用（非表示）'!$A$4:$G$4,0)),IF(AND(P27=\"FALSE\",Q27=\"end\"),\"NS-0100\",\"\"))","v":""},{"$f":"IF($P27=\"TRUE\",INDEX('バッチ反映用（非表示）'!$A$5:$O$100,MATCH($N27,'バッチ反映用（非表示）'!$R$5:$R$100,0),MATCH('次月仕訳（非表示）'!L$6,'バッチ反映用（非表示）'!$A$4:$G$4,0))*-1,IF($Q27=\"end\",SUM($L$7:L26)*-1,\"\"))","v":""},{"$f":"IF($P27=\"TRUE\",INDEX('バッチ反映用（非表示）'!$A$5:$O$100,MATCH($N27,'バッチ反映用（非表示）'!$R$5:$R$100,0),MATCH('次月仕訳（非表示）'!M$6,'バッチ反映用（非表示）'!$A$4:$G$4,0)),IF($Q27=\"end\",\"0\"&旅費振替依頼書!$I$3&旅費振替依頼書!$J$3&\"振替 \"&MONTH(SUBSTITUTE($B$7,\".\",\"/\"))&\"月旅費→\"&MONTH(EOMONTH(SUBSTITUTE($I$7,\".\",\"/\"),1))&\"月作業費 \"&N26&\"件\",\"\"))","v":""},21,"",{"$f":"IF(ISERROR(INDEX('バッチ反映用（非表示）'!$A$5:$O$100,MATCH($N27,'バッチ反映用（非表示）'!$R$5:$R$100,0),MATCH('次月仕訳（非表示）'!L$6,'バッチ反映用（非表示）'!$A$4:$G$4,0)))=FALSE,\"TRUE\",\"FALSE\")","v":"FALSE"},"",null,"",{"$f":"IF(I26=\"転記日付\",INDEX('バッチ反映用（非表示）'!$A$5:$O$100,MATCH($N27,'バッチ反映用（非表示）'!$R$5:$R$100,0),MATCH('次月仕訳（非表示）'!T$6,'バッチ反映用（非表示）'!$A$4:$G$4,0)),\"\")","v":{"$error":"#N/A"}},{"$f":"IF(J27<>\"\",IF(K27<>\"NS-0\"&旅費振替依頼書!$I$3,$C$4,$C$3),\"\")","v":""},"","",""]
["",{"$error":"#N/A"},"","","","",null,"",{"$f":"IF(I27=\"転記日付\",INDEX('バッチ反映用（非表示）'!$A$5:$O$100,MATCH($N28,'バッチ反映用（非表示）'!$R$5:$R$100,0),MATCH('次月仕訳（非表示）'!I$6,'バッチ反映用（非表示）'!$A$4:$G$4,0)),\"\")","v":{"$error":"#N/A"}},"",{"$f":"IF($P28=\"TRUE\",INDEX('バッチ反映用（非表示）'!$A$5:$O$100,MATCH($N28,'バッチ反映用（非表示）'!$R$5:$R$100,0),MATCH('次月仕訳（非表示）'!K$6,'バッチ反映用（非表示）'!$A$4:$G$4,0)),IF(AND(P28=\"FALSE\",Q28=\"end\"),\"NS-0100\",\"\"))","v":""},{"$f":"IF($P28=\"TRUE\",INDEX('バッチ反映用（非表示）'!$A$5:$O$100,MATCH($N28,'バッチ反映用（非表示）'!$R$5:$R$100,0),MATCH('次月仕訳（非表示）'!L$6,'バッチ反映用（非表示）'!$A$4:$G$4,0))*-1,IF($Q28=\"end\",SUM($L$7:L27)*-1,\"\"))","v":""},{"$f":"IF($P28=\"TRUE\",INDEX('バッチ反映用（非表示）'!$A$5:$O$100,MATCH($N28,'バッチ反映用（非表示）'!$R$5:$R$100,0),MATCH('次月仕訳（非表示）'!M$6,'バッチ反映用（非表示）'!$A$4:$G$4,0)),IF($Q28=\"end\",\"0\"&旅費振替依頼書!$I$3&旅費振替依頼書!$J$3&\"振替 \"&MONTH(SUBSTITUTE($B$7,\".\",\"/\"))&\"月旅費→\"&MONTH(EOMONTH(SUBSTITUTE($I$7,\".\",\"/\"),1))&\"月作業費 \"&N27&\"件\",\"\"))","v":""},22,"",{"$f":"IF(ISERROR(INDEX('バッチ反映用（非表示）'!$A$5:$O$100,MATCH($N28,'バッチ反映用（非表示）'!$R$5:$R$100,0),MATCH('次月仕訳（非表示）'!L$6,'バッチ反映用（非表示）'!$A$4:$G$4,0)))=FALSE,\"TRUE\",\"FALSE\")","v":"FALSE"},"",null,"",{"$f":"IF(I27=\"転記日付\",INDEX('バッチ反映用（非表示）'!$A$5:$O$100,MATCH($N28,'バッチ反映用（非表示）'!$R$5:$R$100,0),MATCH('次月仕訳（非表示）'!T$6,'バッチ反映用（非表示）'!$A$4:$G$4,0)),\"\")","v":{"$error":"#N/A"}},{"$f":"IF(J28<>\"\",IF(K28<>\"NS-0\"&旅費振替依頼書!$I$3,$C$4,$C$3),\"\")","v":""},"","",""]
["",{"$error":"#N/A"},"","","","",null,"",{"$f":"IF(I28=\"転記日付\",INDEX('バッチ反映用（非表示）'!$A$5:$O$100,MATCH($N29,'バッチ反映用（非表示）'!$R$5:$R$100,0),MATCH('次月仕訳（非表示）'!I$6,'バッチ反映用（非表示）'!$A$4:$G$4,0)),\"\")","v":{"$error":"#N/A"}},"",{"$f":"IF($P29=\"TRUE\",INDEX('バッチ反映用（非表示）'!$A$5:$O$100,MATCH($N29,'バッチ反映用（非表示）'!$R$5:$R$100,0),MATCH('次月仕訳（非表示）'!K$6,'バッチ反映用（非表示）'!$A$4:$G$4,0)),IF(AND(P29=\"FALSE\",Q29=\"end\"),\"NS-0100\",\"\"))","v":""},{"$f":"IF($P29=\"TRUE\",INDEX('バッチ反映用（非表示）'!$A$5:$O$100,MATCH($N29,'バッチ反映用（非表示）'!$R$5:$R$100,0),MATCH('次月仕訳（非表示）'!L$6,'バッチ反映用（非表示）'!$A$4:$G$4,0))*-1,IF($Q29=\"end\",SUM($L$7:L28)*-1,\"\"))","v":""},{"$f":"IF($P29=\"TRUE\",INDEX('バッチ反映用（非表示）'!$A$5:$O$100,MATCH($N29,'バッチ反映用（非表示）'!$R$5:$R$100,0),MATCH('次月仕訳（非表示）'!M$6,'バッチ反映用（非表示）'!$A$4:$G$4,0)),IF($Q29=\"end\",\"0\"&旅費振替依頼書!$I$3&旅費振替依頼書!$J$3&\"振替 \"&MONTH(SUBSTITUTE($B$7,\".\",\"/\"))&\"月旅費→\"&MONTH(EOMONTH(SUBSTITUTE($I$7,\".\",\"/\"),1))&\"月作業費 \"&N28&\"件\",\"\"))","v":""},23,"",{"$f":"IF(ISERROR(INDEX('バッチ反映用（非表示）'!$A$5:$O$100,MATCH($N29,'バッチ反映用（非表示）'!$R$5:$R$100,0),MATCH('次月仕訳（非表示）'!L$6,'バッチ反映用（非表示）'!$A$4:$G$4,0)))=FALSE,\"TRUE\",\"FALSE\")","v":"FALSE"},"",null,"",{"$f":"IF(I28=\"転記日付\",INDEX('バッチ反映用（非表示）'!$A$5:$O$100,MATCH($N29,'バッチ反映用（非表示）'!$R$5:$R$100,0),MATCH('次月仕訳（非表示）'!T$6,'バッチ反映用（非表示）'!$A$4:$G$4,0)),\"\")","v":{"$error":"#N/A"}},{"$f":"IF(J29<>\"\",IF(K29<>\"NS-0\"&旅費振替依頼書!$I$3,$C$4,$C$3),\"\")","v":""},"","",""]
["",{"$error":"#N/A"},"","","","",null,"",{"$f":"IF(I29=\"転記日付\",INDEX('バッチ反映用（非表示）'!$A$5:$O$100,MATCH($N30,'バッチ反映用（非表示）'!$R$5:$R$100,0),MATCH('次月仕訳（非表示）'!I$6,'バッチ反映用（非表示）'!$A$4:$G$4,0)),\"\")","v":{"$error":"#N/A"}},"",{"$f":"IF($P30=\"TRUE\",INDEX('バッチ反映用（非表示）'!$A$5:$O$100,MATCH($N30,'バッチ反映用（非表示）'!$R$5:$R$100,0),MATCH('次月仕訳（非表示）'!K$6,'バッチ反映用（非表示）'!$A$4:$G$4,0)),IF(AND(P30=\"FALSE\",Q30=\"end\"),\"NS-0100\",\"\"))","v":""},{"$f":"IF($P30=\"TRUE\",INDEX('バッチ反映用（非表示）'!$A$5:$O$100,MATCH($N30,'バッチ反映用（非表示）'!$R$5:$R$100,0),MATCH('次月仕訳（非表示）'!L$6,'バッチ反映用（非表示）'!$A$4:$G$4,0))*-1,IF($Q30=\"end\",SUM($L$7:L29)*-1,\"\"))","v":""},{"$f":"IF($P30=\"TRUE\",INDEX('バッチ反映用（非表示）'!$A$5:$O$100,MATCH($N30,'バッチ反映用（非表示）'!$R$5:$R$100,0),MATCH('次月仕訳（非表示）'!M$6,'バッチ反映用（非表示）'!$A$4:$G$4,0)),IF($Q30=\"end\",\"0\"&旅費振替依頼書!$I$3&旅費振替依頼書!$J$3&\"振替 \"&MONTH(SUBSTITUTE($B$7,\".\",\"/\"))&\"月旅費→\"&MONTH(EOMONTH(SUBSTITUTE($I$7,\".\",\"/\"),1))&\"月作業費 \"&N29&\"件\",\"\"))","v":""},24,"",{"$f":"IF(ISERROR(INDEX('バッチ反映用（非表示）'!$A$5:$O$100,MATCH($N30,'バッチ反映用（非表示）'!$R$5:$R$100,0),MATCH('次月仕訳（非表示）'!L$6,'バッチ反映用（非表示）'!$A$4:$G$4,0)))=FALSE,\"TRUE\",\"FALSE\")","v":"FALSE"},"",null,"",{"$f":"IF(I29=\"転記日付\",INDEX('バッチ反映用（非表示）'!$A$5:$O$100,MATCH($N30,'バッチ反映用（非表示）'!$R$5:$R$100,0),MATCH('次月仕訳（非表示）'!T$6,'バッチ反映用（非表示）'!$A$4:$G$4,0)),\"\")","v":{"$error":"#N/A"}},{"$f":"IF(J30<>\"\",IF(K30<>\"NS-0\"&旅費振替依頼書!$I$3,$C$4,$C$3),\"\")","v":""},"","",""]
["",{"$error":"#N/A"},"","","","",null,"",{"$f":"IF(I30=\"転記日付\",INDEX('バッチ反映用（非表示）'!$A$5:$O$100,MATCH($N31,'バッチ反映用（非表示）'!$R$5:$R$100,0),MATCH('次月仕訳（非表示）'!I$6,'バッチ反映用（非表示）'!$A$4:$G$4,0)),\"\")","v":{"$error":"#N/A"}},"",{"$f":"IF($P31=\"TRUE\",INDEX('バッチ反映用（非表示）'!$A$5:$O$100,MATCH($N31,'バッチ反映用（非表示）'!$R$5:$R$100,0),MATCH('次月仕訳（非表示）'!K$6,'バッチ反映用（非表示）'!$A$4:$G$4,0)),IF(AND(P31=\"FALSE\",Q31=\"end\"),\"NS-0100\",\"\"))","v":""},{"$f":"IF($P31=\"TRUE\",INDEX('バッチ反映用（非表示）'!$A$5:$O$100,MATCH($N31,'バッチ反映用（非表示）'!$R$5:$R$100,0),MATCH('次月仕訳（非表示）'!L$6,'バッチ反映用（非表示）'!$A$4:$G$4,0))*-1,IF($Q31=\"end\",SUM($L$7:L30)*-1,\"\"))","v":""},{"$f":"IF($P31=\"TRUE\",INDEX('バッチ反映用（非表示）'!$A$5:$O$100,MATCH($N31,'バッチ反映用（非表示）'!$R$5:$R$100,0),MATCH('次月仕訳（非表示）'!M$6,'バッチ反映用（非表示）'!$A$4:$G$4,0)),IF($Q31=\"end\",\"0\"&旅費振替依頼書!$I$3&旅費振替依頼書!$J$3&\"振替 \"&MONTH(SUBSTITUTE($B$7,\".\",\"/\"))&\"月旅費→\"&MONTH(EOMONTH(SUBSTITUTE($I$7,\".\",\"/\"),1))&\"月作業費 \"&N30&\"件\",\"\"))","v":""},25,"",{"$f":"IF(ISERROR(INDEX('バッチ反映用（非表示）'!$A$5:$O$100,MATCH($N31,'バッチ反映用（非表示）'!$R$5:$R$100,0),MATCH('次月仕訳（非表示）'!L$6,'バッチ反映用（非表示）'!$A$4:$G$4,0)))=FALSE,\"TRUE\",\"FALSE\")","v":"FALSE"},"",null,"",{"$f":"IF(I30=\"転記日付\",INDEX('バッチ反映用（非表示）'!$A$5:$O$100,MATCH($N31,'バッチ反映用（非表示）'!$R$5:$R$100,0),MATCH('次月仕訳（非表示）'!T$6,'バッチ反映用（非表示）'!$A$4:$G$4,0)),\"\")","v":{"$error":"#N/A"}},{"$f":"IF(J31<>\"\",IF(K31<>\"NS-0\"&旅費振替依頼書!$I$3,$C$4,$C$3),\"\")","v":""},"","",""]
["",{"$error":"#N/A"},"","","","",null,"",{"$f":"IF(I31=\"転記日付\",INDEX('バッチ反映用（非表示）'!$A$5:$O$100,MATCH($N32,'バッチ反映用（非表示）'!$R$5:$R$100,0),MATCH('次月仕訳（非表示）'!I$6,'バッチ反映用（非表示）'!$A$4:$G$4,0)),\"\")","v":{"$error":"#N/A"}},"",{"$f":"IF($P32=\"TRUE\",INDEX('バッチ反映用（非表示）'!$A$5:$O$100,MATCH($N32,'バッチ反映用（非表示）'!$R$5:$R$100,0),MATCH('次月仕訳（非表示）'!K$6,'バッチ反映用（非表示）'!$A$4:$G$4,0)),IF(AND(P32=\"FALSE\",Q32=\"end\"),\"NS-0100\",\"\"))","v":""},{"$f":"IF($P32=\"TRUE\",INDEX('バッチ反映用（非表示）'!$A$5:$O$100,MATCH($N32,'バッチ反映用（非表示）'!$R$5:$R$100,0),MATCH('次月仕訳（非表示）'!L$6,'バッチ反映用（非表示）'!$A$4:$G$4,0))*-1,IF($Q32=\"end\",SUM($L$7:L31)*-1,\"\"))","v":""},{"$f":"IF($P32=\"TRUE\",INDEX('バッチ反映用（非表示）'!$A$5:$O$100,MATCH($N32,'バッチ反映用（非表示）'!$R$5:$R$100,0),MATCH('次月仕訳（非表示）'!M$6,'バッチ反映用（非表示）'!$A$4:$G$4,0)),IF($Q32=\"end\",\"0\"&旅費振替依頼書!$I$3&旅費振替依頼書!$J$3&\"振替 \"&MONTH(SUBSTITUTE($B$7,\".\",\"/\"))&\"月旅費→\"&MONTH(EOMONTH(SUBSTITUTE($I$7,\".\",\"/\"),1))&\"月作業費 \"&N31&\"件\",\"\"))","v":""},26,"",{"$f":"IF(ISERROR(INDEX('バッチ反映用（非表示）'!$A$5:$O$100,MATCH($N32,'バッチ反映用（非表示）'!$R$5:$R$100,0),MATCH('次月仕訳（非表示）'!L$6,'バッチ反映用（非表示）'!$A$4:$G$4,0)))=FALSE,\"TRUE\",\"FALSE\")","v":"FALSE"},"",null,"",{"$f":"IF(I31=\"転記日付\",INDEX('バッチ反映用（非表示）'!$A$5:$O$100,MATCH($N32,'バッチ反映用（非表示）'!$R$5:$R$100,0),MATCH('次月仕訳（非表示）'!T$6,'バッチ反映用（非表示）'!$A$4:$G$4,0)),\"\")","v":{"$error":"#N/A"}},{"$f":"IF(J32<>\"\",IF(K32<>\"NS-0\"&旅費振替依頼書!$I$3,$C$4,$C$3),\"\")","v":""},"","",""]
["",{"$error":"#N/A"},"","","","",null,"",{"$f":"IF(I32=\"転記日付\",INDEX('バッチ反映用（非表示）'!$A$5:$O$100,MATCH($N33,'バッチ反映用（非表示）'!$R$5:$R$100,0),MATCH('次月仕訳（非表示）'!I$6,'バッチ反映用（非表示）'!$A$4:$G$4,0)),\"\")","v":{"$error":"#N/A"}},"",{"$f":"IF($P33=\"TRUE\",INDEX('バッチ反映用（非表示）'!$A$5:$O$100,MATCH($N33,'バッチ反映用（非表示）'!$R$5:$R$100,0),MATCH('次月仕訳（非表示）'!K$6,'バッチ反映用（非表示）'!$A$4:$G$4,0)),IF(AND(P33=\"FALSE\",Q33=\"end\"),\"NS-0100\",\"\"))","v":""},{"$f":"IF($P33=\"TRUE\",INDEX('バッチ反映用（非表示）'!$A$5:$O$100,MATCH($N33,'バッチ反映用（非表示）'!$R$5:$R$100,0),MATCH('次月仕訳（非表示）'!L$6,'バッチ反映用（非表示）'!$A$4:$G$4,0))*-1,IF($Q33=\"end\",SUM($L$7:L32)*-1,\"\"))","v":""},{"$f":"IF($P33=\"TRUE\",INDEX('バッチ反映用（非表示）'!$A$5:$O$100,MATCH($N33,'バッチ反映用（非表示）'!$R$5:$R$100,0),MATCH('次月仕訳（非表示）'!M$6,'バッチ反映用（非表示）'!$A$4:$G$4,0)),IF($Q33=\"end\",\"0\"&旅費振替依頼書!$I$3&旅費振替依頼書!$J$3&\"振替 \"&MONTH(SUBSTITUTE($B$7,\".\",\"/\"))&\"月旅費→\"&MONTH(EOMONTH(SUBSTITUTE($I$7,\".\",\"/\"),1))&\"月作業費 \"&N32&\"件\",\"\"))","v":""},27,"",{"$f":"IF(ISERROR(INDEX('バッチ反映用（非表示）'!$A$5:$O$100,MATCH($N33,'バッチ反映用（非表示）'!$R$5:$R$100,0),MATCH('次月仕訳（非表示）'!L$6,'バッチ反映用（非表示）'!$A$4:$G$4,0)))=FALSE,\"TRUE\",\"FALSE\")","v":"FALSE"},"",null,"",{"$f":"IF(I32=\"転記日付\",INDEX('バッチ反映用（非表示）'!$A$5:$O$100,MATCH($N33,'バッチ反映用（非表示）'!$R$5:$R$100,0),MATCH('次月仕訳（非表示）'!T$6,'バッチ反映用（非表示）'!$A$4:$G$4,0)),\"\")","v":{"$error":"#N/A"}},{"$f":"IF(J33<>\"\",IF(K33<>\"NS-0\"&旅費振替依頼書!$I$3,$C$4,$C$3),\"\")","v":""},"","",""]
["",{"$error":"#N/A"},"","","","",null,"",{"$f":"IF(I33=\"転記日付\",INDEX('バッチ反映用（非表示）'!$A$5:$O$100,MATCH($N34,'バッチ反映用（非表示）'!$R$5:$R$100,0),MATCH('次月仕訳（非表示）'!I$6,'バッチ反映用（非表示）'!$A$4:$G$4,0)),\"\")","v":{"$error":"#N/A"}},"",{"$f":"IF($P34=\"TRUE\",INDEX('バッチ反映用（非表示）'!$A$5:$O$100,MATCH($N34,'バッチ反映用（非表示）'!$R$5:$R$100,0),MATCH('次月仕訳（非表示）'!K$6,'バッチ反映用（非表示）'!$A$4:$G$4,0)),IF(AND(P34=\"FALSE\",Q34=\"end\"),\"NS-0100\",\"\"))","v":""},{"$f":"IF($P34=\"TRUE\",INDEX('バッチ反映用（非表示）'!$A$5:$O$100,MATCH($N34,'バッチ反映用（非表示）'!$R$5:$R$100,0),MATCH('次月仕訳（非表示）'!L$6,'バッチ反映用（非表示）'!$A$4:$G$4,0))*-1,IF($Q34=\"end\",SUM($L$7:L33)*-1,\"\"))","v":""},{"$f":"IF($P34=\"TRUE\",INDEX('バッチ反映用（非表示）'!$A$5:$O$100,MATCH($N34,'バッチ反映用（非表示）'!$R$5:$R$100,0),MATCH('次月仕訳（非表示）'!M$6,'バッチ反映用（非表示）'!$A$4:$G$4,0)),IF($Q34=\"end\",\"0\"&旅費振替依頼書!$I$3&旅費振替依頼書!$J$3&\"振替 \"&MONTH(SUBSTITUTE($B$7,\".\",\"/\"))&\"月旅費→\"&MONTH(EOMONTH(SUBSTITUTE($I$7,\".\",\"/\"),1))&\"月作業費 \"&N33&\"件\",\"\"))","v":""},28,"",{"$f":"IF(ISERROR(INDEX('バッチ反映用（非表示）'!$A$5:$O$100,MATCH($N34,'バッチ反映用（非表示）'!$R$5:$R$100,0),MATCH('次月仕訳（非表示）'!L$6,'バッチ反映用（非表示）'!$A$4:$G$4,0)))=FALSE,\"TRUE\",\"FALSE\")","v":"FALSE"},"",null,"",{"$f":"IF(I33=\"転記日付\",INDEX('バッチ反映用（非表示）'!$A$5:$O$100,MATCH($N34,'バッチ反映用（非表示）'!$R$5:$R$100,0),MATCH('次月仕訳（非表示）'!T$6,'バッチ反映用（非表示）'!$A$4:$G$4,0)),\"\")","v":{"$error":"#N/A"}},{"$f":"IF(J34<>\"\",IF(K34<>\"NS-0\"&旅費振替依頼書!$I$3,$C$4,$C$3),\"\")","v":""},"","",""]
["",{"$error":"#N/A"},"","","","",null,"",{"$f":"IF(I34=\"転記日付\",INDEX('バッチ反映用（非表示）'!$A$5:$O$100,MATCH($N35,'バッチ反映用（非表示）'!$R$5:$R$100,0),MATCH('次月仕訳（非表示）'!I$6,'バッチ反映用（非表示）'!$A$4:$G$4,0)),\"\")","v":{"$error":"#N/A"}},"",{"$f":"IF($P35=\"TRUE\",INDEX('バッチ反映用（非表示）'!$A$5:$O$100,MATCH($N35,'バッチ反映用（非表示）'!$R$5:$R$100,0),MATCH('次月仕訳（非表示）'!K$6,'バッチ反映用（非表示）'!$A$4:$G$4,0)),IF(AND(P35=\"FALSE\",Q35=\"end\"),\"NS-0100\",\"\"))","v":""},{"$f":"IF($P35=\"TRUE\",INDEX('バッチ反映用（非表示）'!$A$5:$O$100,MATCH($N35,'バッチ反映用（非表示）'!$R$5:$R$100,0),MATCH('次月仕訳（非表示）'!L$6,'バッチ反映用（非表示）'!$A$4:$G$4,0))*-1,IF($Q35=\"end\",SUM($L$7:L34)*-1,\"\"))","v":""},{"$f":"IF($P35=\"TRUE\",INDEX('バッチ反映用（非表示）'!$A$5:$O$100,MATCH($N35,'バッチ反映用（非表示）'!$R$5:$R$100,0),MATCH('次月仕訳（非表示）'!M$6,'バッチ反映用（非表示）'!$A$4:$G$4,0)),IF($Q35=\"end\",\"0\"&旅費振替依頼書!$I$3&旅費振替依頼書!$J$3&\"振替 \"&MONTH(SUBSTITUTE($B$7,\".\",\"/\"))&\"月旅費→\"&MONTH(EOMONTH(SUBSTITUTE($I$7,\".\",\"/\"),1))&\"月作業費 \"&N34&\"件\",\"\"))","v":""},29,"",{"$f":"IF(ISERROR(INDEX('バッチ反映用（非表示）'!$A$5:$O$100,MATCH($N35,'バッチ反映用（非表示）'!$R$5:$R$100,0),MATCH('次月仕訳（非表示）'!L$6,'バッチ反映用（非表示）'!$A$4:$G$4,0)))=FALSE,\"TRUE\",\"FALSE\")","v":"FALSE"},"",null,"",{"$f":"IF(I34=\"転記日付\",INDEX('バッチ反映用（非表示）'!$A$5:$O$100,MATCH($N35,'バッチ反映用（非表示）'!$R$5:$R$100,0),MATCH('次月仕訳（非表示）'!T$6,'バッチ反映用（非表示）'!$A$4:$G$4,0)),\"\")","v":{"$error":"#N/A"}},{"$f":"IF(J35<>\"\",IF(K35<>\"NS-0\"&旅費振替依頼書!$I$3,$C$4,$C$3),\"\")","v":""},"","",""]
["",{"$error":"#N/A"},"","","","",null,"",{"$f":"IF(I35=\"転記日付\",INDEX('バッチ反映用（非表示）'!$A$5:$O$100,MATCH($N36,'バッチ反映用（非表示）'!$R$5:$R$100,0),MATCH('次月仕訳（非表示）'!I$6,'バッチ反映用（非表示）'!$A$4:$G$4,0)),\"\")","v":{"$error":"#N/A"}},"",{"$f":"IF($P36=\"TRUE\",INDEX('バッチ反映用（非表示）'!$A$5:$O$100,MATCH($N36,'バッチ反映用（非表示）'!$R$5:$R$100,0),MATCH('次月仕訳（非表示）'!K$6,'バッチ反映用（非表示）'!$A$4:$G$4,0)),IF(AND(P36=\"FALSE\",Q36=\"end\"),\"NS-0100\",\"\"))","v":""},{"$f":"IF($P36=\"TRUE\",INDEX('バッチ反映用（非表示）'!$A$5:$O$100,MATCH($N36,'バッチ反映用（非表示）'!$R$5:$R$100,0),MATCH('次月仕訳（非表示）'!L$6,'バッチ反映用（非表示）'!$A$4:$G$4,0))*-1,IF($Q36=\"end\",SUM($L$7:L35)*-1,\"\"))","v":""},{"$f":"IF($P36=\"TRUE\",INDEX('バッチ反映用（非表示）'!$A$5:$O$100,MATCH($N36,'バッチ反映用（非表示）'!$R$5:$R$100,0),MATCH('次月仕訳（非表示）'!M$6,'バッチ反映用（非表示）'!$A$4:$G$4,0)),IF($Q36=\"end\",\"0\"&旅費振替依頼書!$I$3&旅費振替依頼書!$J$3&\"振替 \"&MONTH(SUBSTITUTE($B$7,\".\",\"/\"))&\"月旅費→\"&MONTH(EOMONTH(SUBSTITUTE($I$7,\".\",\"/\"),1))&\"月作業費 \"&N35&\"件\",\"\"))","v":""},30,"",{"$f":"IF(ISERROR(INDEX('バッチ反映用（非表示）'!$A$5:$O$100,MATCH($N36,'バッチ反映用（非表示）'!$R$5:$R$100,0),MATCH('次月仕訳（非表示）'!L$6,'バッチ反映用（非表示）'!$A$4:$G$4,0)))=FALSE,\"TRUE\",\"FALSE\")","v":"FALSE"},"",null,"",{"$f":"IF(I35=\"転記日付\",INDEX('バッチ反映用（非表示）'!$A$5:$O$100,MATCH($N36,'バッチ反映用（非表示）'!$R$5:$R$100,0),MATCH('次月仕訳（非表示）'!T$6,'バッチ反映用（非表示）'!$A$4:$G$4,0)),\"\")","v":{"$error":"#N/A"}},{"$f":"IF(J36<>\"\",IF(K36<>\"NS-0\"&旅費振替依頼書!$I$3,$C$4,$C$3),\"\")","v":""},"","",""]
["",{"$error":"#N/A"},"","","","",null,"",{"$f":"IF(I36=\"転記日付\",INDEX('バッチ反映用（非表示）'!$A$5:$O$100,MATCH($N37,'バッチ反映用（非表示）'!$R$5:$R$100,0),MATCH('次月仕訳（非表示）'!I$6,'バッチ反映用（非表示）'!$A$4:$G$4,0)),\"\")","v":{"$error":"#N/A"}},"",{"$f":"IF($P37=\"TRUE\",INDEX('バッチ反映用（非表示）'!$A$5:$O$100,MATCH($N37,'バッチ反映用（非表示）'!$R$5:$R$100,0),MATCH('次月仕訳（非表示）'!K$6,'バッチ反映用（非表示）'!$A$4:$G$4,0)),IF(AND(P37=\"FALSE\",Q37=\"end\"),\"NS-0100\",\"\"))","v":""},{"$f":"IF($P37=\"TRUE\",INDEX('バッチ反映用（非表示）'!$A$5:$O$100,MATCH($N37,'バッチ反映用（非表示）'!$R$5:$R$100,0),MATCH('次月仕訳（非表示）'!L$6,'バッチ反映用（非表示）'!$A$4:$G$4,0))*-1,IF($Q37=\"end\",SUM($L$7:L36)*-1,\"\"))","v":""},{"$f":"IF($P37=\"TRUE\",INDEX('バッチ反映用（非表示）'!$A$5:$O$100,MATCH($N37,'バッチ反映用（非表示）'!$R$5:$R$100,0),MATCH('次月仕訳（非表示）'!M$6,'バッチ反映用（非表示）'!$A$4:$G$4,0)),IF($Q37=\"end\",\"0\"&旅費振替依頼書!$I$3&旅費振替依頼書!$J$3&\"振替 \"&MONTH(SUBSTITUTE($B$7,\".\",\"/\"))&\"月旅費→\"&MONTH(EOMONTH(SUBSTITUTE($I$7,\".\",\"/\"),1))&\"月作業費 \"&N36&\"件\",\"\"))","v":""},31,"",{"$f":"IF(ISERROR(INDEX('バッチ反映用（非表示）'!$A$5:$O$100,MATCH($N37,'バッチ反映用（非表示）'!$R$5:$R$100,0),MATCH('次月仕訳（非表示）'!L$6,'バッチ反映用（非表示）'!$A$4:$G$4,0)))=FALSE,\"TRUE\",\"FALSE\")","v":"FALSE"},"",null,"",{"$f":"IF(I36=\"転記日付\",INDEX('バッチ反映用（非表示）'!$A$5:$O$100,MATCH($N37,'バッチ反映用（非表示）'!$R$5:$R$100,0),MATCH('次月仕訳（非表示）'!T$6,'バッチ反映用（非表示）'!$A$4:$G$4,0)),\"\")","v":{"$error":"#N/A"}},{"$f":"IF(J37<>\"\",IF(K37<>\"NS-0\"&旅費振替依頼書!$I$3,$C$4,$C$3),\"\")","v":""},"","",""]
["",{"$error":"#N/A"},"","","","",null,"",{"$f":"IF(I37=\"転記日付\",INDEX('バッチ反映用（非表示）'!$A$5:$O$100,MATCH($N38,'バッチ反映用（非表示）'!$R$5:$R$100,0),MATCH('次月仕訳（非表示）'!I$6,'バッチ反映用（非表示）'!$A$4:$G$4,0)),\"\")","v":{"$error":"#N/A"}},"",{"$f":"IF($P38=\"TRUE\",INDEX('バッチ反映用（非表示）'!$A$5:$O$100,MATCH($N38,'バッチ反映用（非表示）'!$R$5:$R$100,0),MATCH('次月仕訳（非表示）'!K$6,'バッチ反映用（非表示）'!$A$4:$G$4,0)),IF(AND(P38=\"FALSE\",Q38=\"end\"),\"NS-0100\",\"\"))","v":""},{"$f":"IF($P38=\"TRUE\",INDEX('バッチ反映用（非表示）'!$A$5:$O$100,MATCH($N38,'バッチ反映用（非表示）'!$R$5:$R$100,0),MATCH('次月仕訳（非表示）'!L$6,'バッチ反映用（非表示）'!$A$4:$G$4,0))*-1,IF($Q38=\"end\",SUM($L$7:L37)*-1,\"\"))","v":""},{"$f":"IF($P38=\"TRUE\",INDEX('バッチ反映用（非表示）'!$A$5:$O$100,MATCH($N38,'バッチ反映用（非表示）'!$R$5:$R$100,0),MATCH('次月仕訳（非表示）'!M$6,'バッチ反映用（非表示）'!$A$4:$G$4,0)),IF($Q38=\"end\",\"0\"&旅費振替依頼書!$I$3&旅費振替依頼書!$J$3&\"振替 \"&MONTH(SUBSTITUTE($B$7,\".\",\"/\"))&\"月旅費→\"&MONTH(EOMONTH(SUBSTITUTE($I$7,\".\",\"/\"),1))&\"月作業費 \"&N37&\"件\",\"\"))","v":""},32,"",{"$f":"IF(ISERROR(INDEX('バッチ反映用（非表示）'!$A$5:$O$100,MATCH($N38,'バッチ反映用（非表示）'!$R$5:$R$100,0),MATCH('次月仕訳（非表示）'!L$6,'バッチ反映用（非表示）'!$A$4:$G$4,0)))=FALSE,\"TRUE\",\"FALSE\")","v":"FALSE"},"",null,"",{"$f":"IF(I37=\"転記日付\",INDEX('バッチ反映用（非表示）'!$A$5:$O$100,MATCH($N38,'バッチ反映用（非表示）'!$R$5:$R$100,0),MATCH('次月仕訳（非表示）'!T$6,'バッチ反映用（非表示）'!$A$4:$G$4,0)),\"\")","v":{"$error":"#N/A"}},{"$f":"IF(J38<>\"\",IF(K38<>\"NS-0\"&旅費振替依頼書!$I$3,$C$4,$C$3),\"\")","v":""},"","",""]
["",{"$error":"#N/A"},"","","","",null,"",{"$f":"IF(I38=\"転記日付\",INDEX('バッチ反映用（非表示）'!$A$5:$O$100,MATCH($N39,'バッチ反映用（非表示）'!$R$5:$R$100,0),MATCH('次月仕訳（非表示）'!I$6,'バッチ反映用（非表示）'!$A$4:$G$4,0)),\"\")","v":{"$error":"#N/A"}},"",{"$f":"IF($P39=\"TRUE\",INDEX('バッチ反映用（非表示）'!$A$5:$O$100,MATCH($N39,'バッチ反映用（非表示）'!$R$5:$R$100,0),MATCH('次月仕訳（非表示）'!K$6,'バッチ反映用（非表示）'!$A$4:$G$4,0)),IF(AND(P39=\"FALSE\",Q39=\"end\"),\"NS-0100\",\"\"))","v":""},{"$f":"IF($P39=\"TRUE\",INDEX('バッチ反映用（非表示）'!$A$5:$O$100,MATCH($N39,'バッチ反映用（非表示）'!$R$5:$R$100,0),MATCH('次月仕訳（非表示）'!L$6,'バッチ反映用（非表示）'!$A$4:$G$4,0))*-1,IF($Q39=\"end\",SUM($L$7:L38)*-1,\"\"))","v":""},{"$f":"IF($P39=\"TRUE\",INDEX('バッチ反映用（非表示）'!$A$5:$O$100,MATCH($N39,'バッチ反映用（非表示）'!$R$5:$R$100,0),MATCH('次月仕訳（非表示）'!M$6,'バッチ反映用（非表示）'!$A$4:$G$4,0)),IF($Q39=\"end\",\"0\"&旅費振替依頼書!$I$3&旅費振替依頼書!$J$3&\"振替 \"&MONTH(SUBSTITUTE($B$7,\".\",\"/\"))&\"月旅費→\"&MONTH(EOMONTH(SUBSTITUTE($I$7,\".\",\"/\"),1))&\"月作業費 \"&N38&\"件\",\"\"))","v":""},33,"",{"$f":"IF(ISERROR(INDEX('バッチ反映用（非表示）'!$A$5:$O$100,MATCH($N39,'バッチ反映用（非表示）'!$R$5:$R$100,0),MATCH('次月仕訳（非表示）'!L$6,'バッチ反映用（非表示）'!$A$4:$G$4,0)))=FALSE,\"TRUE\",\"FALSE\")","v":"FALSE"},"",null,"",{"$f":"IF(I38=\"転記日付\",INDEX('バッチ反映用（非表示）'!$A$5:$O$100,MATCH($N39,'バッチ反映用（非表示）'!$R$5:$R$100,0),MATCH('次月仕訳（非表示）'!T$6,'バッチ反映用（非表示）'!$A$4:$G$4,0)),\"\")","v":{"$error":"#N/A"}},{"$f":"IF(J39<>\"\",IF(K39<>\"NS-0\"&旅費振替依頼書!$I$3,$C$4,$C$3),\"\")","v":""},"","",""]
["",{"$error":"#N/A"},"","","","",null,"",{"$f":"IF(I39=\"転記日付\",INDEX('バッチ反映用（非表示）'!$A$5:$O$100,MATCH($N40,'バッチ反映用（非表示）'!$R$5:$R$100,0),MATCH('次月仕訳（非表示）'!I$6,'バッチ反映用（非表示）'!$A$4:$G$4,0)),\"\")","v":{"$error":"#N/A"}},"",{"$f":"IF($P40=\"TRUE\",INDEX('バッチ反映用（非表示）'!$A$5:$O$100,MATCH($N40,'バッチ反映用（非表示）'!$R$5:$R$100,0),MATCH('次月仕訳（非表示）'!K$6,'バッチ反映用（非表示）'!$A$4:$G$4,0)),IF(AND(P40=\"FALSE\",Q40=\"end\"),\"NS-0100\",\"\"))","v":""},{"$f":"IF($P40=\"TRUE\",INDEX('バッチ反映用（非表示）'!$A$5:$O$100,MATCH($N40,'バッチ反映用（非表示）'!$R$5:$R$100,0),MATCH('次月仕訳（非表示）'!L$6,'バッチ反映用（非表示）'!$A$4:$G$4,0))*-1,IF($Q40=\"end\",SUM($L$7:L39)*-1,\"\"))","v":""},{"$f":"IF($P40=\"TRUE\",INDEX('バッチ反映用（非表示）'!$A$5:$O$100,MATCH($N40,'バッチ反映用（非表示）'!$R$5:$R$100,0),MATCH('次月仕訳（非表示）'!M$6,'バッチ反映用（非表示）'!$A$4:$G$4,0)),IF($Q40=\"end\",\"0\"&旅費振替依頼書!$I$3&旅費振替依頼書!$J$3&\"振替 \"&MONTH(SUBSTITUTE($B$7,\".\",\"/\"))&\"月旅費→\"&MONTH(EOMONTH(SUBSTITUTE($I$7,\".\",\"/\"),1))&\"月作業費 \"&N39&\"件\",\"\"))","v":""},34,"",{"$f":"IF(ISERROR(INDEX('バッチ反映用（非表示）'!$A$5:$O$100,MATCH($N40,'バッチ反映用（非表示）'!$R$5:$R$100,0),MATCH('次月仕訳（非表示）'!L$6,'バッチ反映用（非表示）'!$A$4:$G$4,0)))=FALSE,\"TRUE\",\"FALSE\")","v":"FALSE"},"",null,"",{"$f":"IF(I39=\"転記日付\",INDEX('バッチ反映用（非表示）'!$A$5:$O$100,MATCH($N40,'バッチ反映用（非表示）'!$R$5:$R$100,0),MATCH('次月仕訳（非表示）'!T$6,'バッチ反映用（非表示）'!$A$4:$G$4,0)),\"\")","v":{"$error":"#N/A"}},{"$f":"IF(J40<>\"\",IF(K40<>\"NS-0\"&旅費振替依頼書!$I$3,$C$4,$C$3),\"\")","v":""},"","",""]
["",{"$error":"#N/A"},"","","","",null,"",{"$f":"IF(I40=\"転記日付\",INDEX('バッチ反映用（非表示）'!$A$5:$O$100,MATCH($N41,'バッチ反映用（非表示）'!$R$5:$R$100,0),MATCH('次月仕訳（非表示）'!I$6,'バッチ反映用（非表示）'!$A$4:$G$4,0)),\"\")","v":{"$error":"#N/A"}},"",{"$f":"IF($P41=\"TRUE\",INDEX('バッチ反映用（非表示）'!$A$5:$O$100,MATCH($N41,'バッチ反映用（非表示）'!$R$5:$R$100,0),MATCH('次月仕訳（非表示）'!K$6,'バッチ反映用（非表示）'!$A$4:$G$4,0)),IF(AND(P41=\"FALSE\",Q41=\"end\"),\"NS-0100\",\"\"))","v":""},{"$f":"IF($P41=\"TRUE\",INDEX('バッチ反映用（非表示）'!$A$5:$O$100,MATCH($N41,'バッチ反映用（非表示）'!$R$5:$R$100,0),MATCH('次月仕訳（非表示）'!L$6,'バッチ反映用（非表示）'!$A$4:$G$4,0))*-1,IF($Q41=\"end\",SUM($L$7:L40)*-1,\"\"))","v":""},{"$f":"IF($P41=\"TRUE\",INDEX('バッチ反映用（非表示）'!$A$5:$O$100,MATCH($N41,'バッチ反映用（非表示）'!$R$5:$R$100,0),MATCH('次月仕訳（非表示）'!M$6,'バッチ反映用（非表示）'!$A$4:$G$4,0)),IF($Q41=\"end\",\"0\"&旅費振替依頼書!$I$3&旅費振替依頼書!$J$3&\"振替 \"&MONTH(SUBSTITUTE($B$7,\".\",\"/\"))&\"月旅費→\"&MONTH(EOMONTH(SUBSTITUTE($I$7,\".\",\"/\"),1))&\"月作業費 \"&N40&\"件\",\"\"))","v":""},35,"",{"$f":"IF(ISERROR(INDEX('バッチ反映用（非表示）'!$A$5:$O$100,MATCH($N41,'バッチ反映用（非表示）'!$R$5:$R$100,0),MATCH('次月仕訳（非表示）'!L$6,'バッチ反映用（非表示）'!$A$4:$G$4,0)))=FALSE,\"TRUE\",\"FALSE\")","v":"FALSE"},"",null,"",{"$f":"IF(I40=\"転記日付\",INDEX('バッチ反映用（非表示）'!$A$5:$O$100,MATCH($N41,'バッチ反映用（非表示）'!$R$5:$R$100,0),MATCH('次月仕訳（非表示）'!T$6,'バッチ反映用（非表示）'!$A$4:$G$4,0)),\"\")","v":{"$error":"#N/A"}},{"$f":"IF(J41<>\"\",IF(K41<>\"NS-0\"&旅費振替依頼書!$I$3,$C$4,$C$3),\"\")","v":""},"","",""]
["",{"$error":"#N/A"},"","","","",null,"",{"$f":"IF(I41=\"転記日付\",INDEX('バッチ反映用（非表示）'!$A$5:$O$100,MATCH($N42,'バッチ反映用（非表示）'!$R$5:$R$100,0),MATCH('次月仕訳（非表示）'!I$6,'バッチ反映用（非表示）'!$A$4:$G$4,0)),\"\")","v":{"$error":"#N/A"}},"",{"$f":"IF($P42=\"TRUE\",INDEX('バッチ反映用（非表示）'!$A$5:$O$100,MATCH($N42,'バッチ反映用（非表示）'!$R$5:$R$100,0),MATCH('次月仕訳（非表示）'!K$6,'バッチ反映用（非表示）'!$A$4:$G$4,0)),IF(AND(P42=\"FALSE\",Q42=\"end\"),\"NS-0100\",\"\"))","v":""},{"$f":"IF($P42=\"TRUE\",INDEX('バッチ反映用（非表示）'!$A$5:$O$100,MATCH($N42,'バッチ反映用（非表示）'!$R$5:$R$100,0),MATCH('次月仕訳（非表示）'!L$6,'バッチ反映用（非表示）'!$A$4:$G$4,0))*-1,IF($Q42=\"end\",SUM($L$7:L41)*-1,\"\"))","v":""},{"$f":"IF($P42=\"TRUE\",INDEX('バッチ反映用（非表示）'!$A$5:$O$100,MATCH($N42,'バッチ反映用（非表示）'!$R$5:$R$100,0),MATCH('次月仕訳（非表示）'!M$6,'バッチ反映用（非表示）'!$A$4:$G$4,0)),IF($Q42=\"end\",\"0\"&旅費振替依頼書!$I$3&旅費振替依頼書!$J$3&\"振替 \"&MONTH(SUBSTITUTE($B$7,\".\",\"/\"))&\"月旅費→\"&MONTH(EOMONTH(SUBSTITUTE($I$7,\".\",\"/\"),1))&\"月作業費 \"&N41&\"件\",\"\"))","v":""},36,"",{"$f":"IF(ISERROR(INDEX('バッチ反映用（非表示）'!$A$5:$O$100,MATCH($N42,'バッチ反映用（非表示）'!$R$5:$R$100,0),MATCH('次月仕訳（非表示）'!L$6,'バッチ反映用（非表示）'!$A$4:$G$4,0)))=FALSE,\"TRUE\",\"FALSE\")","v":"FALSE"},"",null,"",{"$f":"IF(I41=\"転記日付\",INDEX('バッチ反映用（非表示）'!$A$5:$O$100,MATCH($N42,'バッチ反映用（非表示）'!$R$5:$R$100,0),MATCH('次月仕訳（非表示）'!T$6,'バッチ反映用（非表示）'!$A$4:$G$4,0)),\"\")","v":{"$error":"#N/A"}},{"$f":"IF(J42<>\"\",IF(K42<>\"NS-0\"&旅費振替依頼書!$I$3,$C$4,$C$3),\"\")","v":""},"","",""]
["",{"$error":"#N/A"},"","","","",null,"",{"$f":"IF(I42=\"転記日付\",INDEX('バッチ反映用（非表示）'!$A$5:$O$100,MATCH($N43,'バッチ反映用（非表示）'!$R$5:$R$100,0),MATCH('次月仕訳（非表示）'!I$6,'バッチ反映用（非表示）'!$A$4:$G$4,0)),\"\")","v":{"$error":"#N/A"}},"",{"$f":"IF($P43=\"TRUE\",INDEX('バッチ反映用（非表示）'!$A$5:$O$100,MATCH($N43,'バッチ反映用（非表示）'!$R$5:$R$100,0),MATCH('次月仕訳（非表示）'!K$6,'バッチ反映用（非表示）'!$A$4:$G$4,0)),IF(AND(P43=\"FALSE\",Q43=\"end\"),\"NS-0100\",\"\"))","v":""},{"$f":"IF($P43=\"TRUE\",INDEX('バッチ反映用（非表示）'!$A$5:$O$100,MATCH($N43,'バッチ反映用（非表示）'!$R$5:$R$100,0),MATCH('次月仕訳（非表示）'!L$6,'バッチ反映用（非表示）'!$A$4:$G$4,0))*-1,IF($Q43=\"end\",SUM($L$7:L42)*-1,\"\"))","v":""},{"$f":"IF($P43=\"TRUE\",INDEX('バッチ反映用（非表示）'!$A$5:$O$100,MATCH($N43,'バッチ反映用（非表示）'!$R$5:$R$100,0),MATCH('次月仕訳（非表示）'!M$6,'バッチ反映用（非表示）'!$A$4:$G$4,0)),IF($Q43=\"end\",\"0\"&旅費振替依頼書!$I$3&旅費振替依頼書!$J$3&\"振替 \"&MONTH(SUBSTITUTE($B$7,\".\",\"/\"))&\"月旅費→\"&MONTH(EOMONTH(SUBSTITUTE($I$7,\".\",\"/\"),1))&\"月作業費 \"&N42&\"件\",\"\"))","v":""},37,"",{"$f":"IF(ISERROR(INDEX('バッチ反映用（非表示）'!$A$5:$O$100,MATCH($N43,'バッチ反映用（非表示）'!$R$5:$R$100,0),MATCH('次月仕訳（非表示）'!L$6,'バッチ反映用（非表示）'!$A$4:$G$4,0)))=FALSE,\"TRUE\",\"FALSE\")","v":"FALSE"},"",null,"",{"$f":"IF(I42=\"転記日付\",INDEX('バッチ反映用（非表示）'!$A$5:$O$100,MATCH($N43,'バッチ反映用（非表示）'!$R$5:$R$100,0),MATCH('次月仕訳（非表示）'!T$6,'バッチ反映用（非表示）'!$A$4:$G$4,0)),\"\")","v":{"$error":"#N/A"}},{"$f":"IF(J43<>\"\",IF(K43<>\"NS-0\"&旅費振替依頼書!$I$3,$C$4,$C$3),\"\")","v":""},"","",""]
["",{"$error":"#N/A"},"","","","",null,"",{"$f":"IF(I43=\"転記日付\",INDEX('バッチ反映用（非表示）'!$A$5:$O$100,MATCH($N44,'バッチ反映用（非表示）'!$R$5:$R$100,0),MATCH('次月仕訳（非表示）'!I$6,'バッチ反映用（非表示）'!$A$4:$G$4,0)),\"\")","v":{"$error":"#N/A"}},"",{"$f":"IF($P44=\"TRUE\",INDEX('バッチ反映用（非表示）'!$A$5:$O$100,MATCH($N44,'バッチ反映用（非表示）'!$R$5:$R$100,0),MATCH('次月仕訳（非表示）'!K$6,'バッチ反映用（非表示）'!$A$4:$G$4,0)),IF(AND(P44=\"FALSE\",Q44=\"end\"),\"NS-0100\",\"\"))","v":""},{"$f":"IF($P44=\"TRUE\",INDEX('バッチ反映用（非表示）'!$A$5:$O$100,MATCH($N44,'バッチ反映用（非表示）'!$R$5:$R$100,0),MATCH('次月仕訳（非表示）'!L$6,'バッチ反映用（非表示）'!$A$4:$G$4,0))*-1,IF($Q44=\"end\",SUM($L$7:L43)*-1,\"\"))","v":""},{"$f":"IF($P44=\"TRUE\",INDEX('バッチ反映用（非表示）'!$A$5:$O$100,MATCH($N44,'バッチ反映用（非表示）'!$R$5:$R$100,0),MATCH('次月仕訳（非表示）'!M$6,'バッチ反映用（非表示）'!$A$4:$G$4,0)),IF($Q44=\"end\",\"0\"&旅費振替依頼書!$I$3&旅費振替依頼書!$J$3&\"振替 \"&MONTH(SUBSTITUTE($B$7,\".\",\"/\"))&\"月旅費→\"&MONTH(EOMONTH(SUBSTITUTE($I$7,\".\",\"/\"),1))&\"月作業費 \"&N43&\"件\",\"\"))","v":""},38,"",{"$f":"IF(ISERROR(INDEX('バッチ反映用（非表示）'!$A$5:$O$100,MATCH($N44,'バッチ反映用（非表示）'!$R$5:$R$100,0),MATCH('次月仕訳（非表示）'!L$6,'バッチ反映用（非表示）'!$A$4:$G$4,0)))=FALSE,\"TRUE\",\"FALSE\")","v":"FALSE"},"",null,"",{"$f":"IF(I43=\"転記日付\",INDEX('バッチ反映用（非表示）'!$A$5:$O$100,MATCH($N44,'バッチ反映用（非表示）'!$R$5:$R$100,0),MATCH('次月仕訳（非表示）'!T$6,'バッチ反映用（非表示）'!$A$4:$G$4,0)),\"\")","v":{"$error":"#N/A"}},{"$f":"IF(J44<>\"\",IF(K44<>\"NS-0\"&旅費振替依頼書!$I$3,$C$4,$C$3),\"\")","v":""},"","",""]
["",{"$error":"#N/A"},"","","","",null,"",{"$f":"IF(I44=\"転記日付\",INDEX('バッチ反映用（非表示）'!$A$5:$O$100,MATCH($N45,'バッチ反映用（非表示）'!$R$5:$R$100,0),MATCH('次月仕訳（非表示）'!I$6,'バッチ反映用（非表示）'!$A$4:$G$4,0)),\"\")","v":{"$error":"#N/A"}},"",{"$f":"IF($P45=\"TRUE\",INDEX('バッチ反映用（非表示）'!$A$5:$O$100,MATCH($N45,'バッチ反映用（非表示）'!$R$5:$R$100,0),MATCH('次月仕訳（非表示）'!K$6,'バッチ反映用（非表示）'!$A$4:$G$4,0)),IF(AND(P45=\"FALSE\",Q45=\"end\"),\"NS-0100\",\"\"))","v":""},{"$f":"IF($P45=\"TRUE\",INDEX('バッチ反映用（非表示）'!$A$5:$O$100,MATCH($N45,'バッチ反映用（非表示）'!$R$5:$R$100,0),MATCH('次月仕訳（非表示）'!L$6,'バッチ反映用（非表示）'!$A$4:$G$4,0))*-1,IF($Q45=\"end\",SUM($L$7:L44)*-1,\"\"))","v":""},{"$f":"IF($P45=\"TRUE\",INDEX('バッチ反映用（非表示）'!$A$5:$O$100,MATCH($N45,'バッチ反映用（非表示）'!$R$5:$R$100,0),MATCH('次月仕訳（非表示）'!M$6,'バッチ反映用（非表示）'!$A$4:$G$4,0)),IF($Q45=\"end\",\"0\"&旅費振替依頼書!$I$3&旅費振替依頼書!$J$3&\"振替 \"&MONTH(SUBSTITUTE($B$7,\".\",\"/\"))&\"月旅費→\"&MONTH(EOMONTH(SUBSTITUTE($I$7,\".\",\"/\"),1))&\"月作業費 \"&N44&\"件\",\"\"))","v":""},39,"",{"$f":"IF(ISERROR(INDEX('バッチ反映用（非表示）'!$A$5:$O$100,MATCH($N45,'バッチ反映用（非表示）'!$R$5:$R$100,0),MATCH('次月仕訳（非表示）'!L$6,'バッチ反映用（非表示）'!$A$4:$G$4,0)))=FALSE,\"TRUE\",\"FALSE\")","v":"FALSE"},"",null,"",{"$f":"IF(I44=\"転記日付\",INDEX('バッチ反映用（非表示）'!$A$5:$O$100,MATCH($N45,'バッチ反映用（非表示）'!$R$5:$R$100,0),MATCH('次月仕訳（非表示）'!T$6,'バッチ反映用（非表示）'!$A$4:$G$4,0)),\"\")","v":{"$error":"#N/A"}},{"$f":"IF(J45<>\"\",IF(K45<>\"NS-0\"&旅費振替依頼書!$I$3,$C$4,$C$3),\"\")","v":""},"","",""]
["",{"$error":"#N/A"},"","","","",null,"",{"$f":"IF(I45=\"転記日付\",INDEX('バッチ反映用（非表示）'!$A$5:$O$100,MATCH($N46,'バッチ反映用（非表示）'!$R$5:$R$100,0),MATCH('次月仕訳（非表示）'!I$6,'バッチ反映用（非表示）'!$A$4:$G$4,0)),\"\")","v":{"$error":"#N/A"}},"",{"$f":"IF($P46=\"TRUE\",INDEX('バッチ反映用（非表示）'!$A$5:$O$100,MATCH($N46,'バッチ反映用（非表示）'!$R$5:$R$100,0),MATCH('次月仕訳（非表示）'!K$6,'バッチ反映用（非表示）'!$A$4:$G$4,0)),IF(AND(P46=\"FALSE\",Q46=\"end\"),\"NS-0100\",\"\"))","v":""},{"$f":"IF($P46=\"TRUE\",INDEX('バッチ反映用（非表示）'!$A$5:$O$100,MATCH($N46,'バッチ反映用（非表示）'!$R$5:$R$100,0),MATCH('次月仕訳（非表示）'!L$6,'バッチ反映用（非表示）'!$A$4:$G$4,0))*-1,IF($Q46=\"end\",SUM($L$7:L45)*-1,\"\"))","v":""},{"$f":"IF($P46=\"TRUE\",INDEX('バッチ反映用（非表示）'!$A$5:$O$100,MATCH($N46,'バッチ反映用（非表示）'!$R$5:$R$100,0),MATCH('次月仕訳（非表示）'!M$6,'バッチ反映用（非表示）'!$A$4:$G$4,0)),IF($Q46=\"end\",\"0\"&旅費振替依頼書!$I$3&旅費振替依頼書!$J$3&\"振替 \"&MONTH(SUBSTITUTE($B$7,\".\",\"/\"))&\"月旅費→\"&MONTH(EOMONTH(SUBSTITUTE($I$7,\".\",\"/\"),1))&\"月作業費 \"&N45&\"件\",\"\"))","v":""},40,"",{"$f":"IF(ISERROR(INDEX('バッチ反映用（非表示）'!$A$5:$O$100,MATCH($N46,'バッチ反映用（非表示）'!$R$5:$R$100,0),MATCH('次月仕訳（非表示）'!L$6,'バッチ反映用（非表示）'!$A$4:$G$4,0)))=FALSE,\"TRUE\",\"FALSE\")","v":"FALSE"},"",null,"",{"$f":"IF(I45=\"転記日付\",INDEX('バッチ反映用（非表示）'!$A$5:$O$100,MATCH($N46,'バッチ反映用（非表示）'!$R$5:$R$100,0),MATCH('次月仕訳（非表示）'!T$6,'バッチ反映用（非表示）'!$A$4:$G$4,0)),\"\")","v":{"$error":"#N/A"}},{"$f":"IF(J46<>\"\",IF(K46<>\"NS-0\"&旅費振替依頼書!$I$3,$C$4,$C$3),\"\")","v":""},"","",""]
["",{"$error":"#N/A"},"","","","",null,"",{"$f":"IF(I46=\"転記日付\",INDEX('バッチ反映用（非表示）'!$A$5:$O$100,MATCH($N47,'バッチ反映用（非表示）'!$R$5:$R$100,0),MATCH('次月仕訳（非表示）'!I$6,'バッチ反映用（非表示）'!$A$4:$G$4,0)),\"\")","v":{"$error":"#N/A"}},"",{"$f":"IF($P47=\"TRUE\",INDEX('バッチ反映用（非表示）'!$A$5:$O$100,MATCH($N47,'バッチ反映用（非表示）'!$R$5:$R$100,0),MATCH('次月仕訳（非表示）'!K$6,'バッチ反映用（非表示）'!$A$4:$G$4,0)),IF(AND(P47=\"FALSE\",Q47=\"end\"),\"NS-0100\",\"\"))","v":""},{"$f":"IF($P47=\"TRUE\",INDEX('バッチ反映用（非表示）'!$A$5:$O$100,MATCH($N47,'バッチ反映用（非表示）'!$R$5:$R$100,0),MATCH('次月仕訳（非表示）'!L$6,'バッチ反映用（非表示）'!$A$4:$G$4,0))*-1,IF($Q47=\"end\",SUM($L$7:L46)*-1,\"\"))","v":""},{"$f":"IF($P47=\"TRUE\",INDEX('バッチ反映用（非表示）'!$A$5:$O$100,MATCH($N47,'バッチ反映用（非表示）'!$R$5:$R$100,0),MATCH('次月仕訳（非表示）'!M$6,'バッチ反映用（非表示）'!$A$4:$G$4,0)),IF($Q47=\"end\",\"0\"&旅費振替依頼書!$I$3&旅費振替依頼書!$J$3&\"振替 \"&MONTH(SUBSTITUTE($B$7,\".\",\"/\"))&\"月旅費→\"&MONTH(EOMONTH(SUBSTITUTE($I$7,\".\",\"/\"),1))&\"月作業費 \"&N46&\"件\",\"\"))","v":""},41,"",{"$f":"IF(ISERROR(INDEX('バッチ反映用（非表示）'!$A$5:$O$100,MATCH($N47,'バッチ反映用（非表示）'!$R$5:$R$100,0),MATCH('次月仕訳（非表示）'!L$6,'バッチ反映用（非表示）'!$A$4:$G$4,0)))=FALSE,\"TRUE\",\"FALSE\")","v":"FALSE"},"",null,"",{"$f":"IF(I46=\"転記日付\",INDEX('バッチ反映用（非表示）'!$A$5:$O$100,MATCH($N47,'バッチ反映用（非表示）'!$R$5:$R$100,0),MATCH('次月仕訳（非表示）'!T$6,'バッチ反映用（非表示）'!$A$4:$G$4,0)),\"\")","v":{"$error":"#N/A"}},{"$f":"IF(J47<>\"\",IF(K47<>\"NS-0\"&旅費振替依頼書!$I$3,$C$4,$C$3),\"\")","v":""},"","",""]
["",{"$error":"#N/A"},"","","","",null,"",{"$f":"IF(I47=\"転記日付\",INDEX('バッチ反映用（非表示）'!$A$5:$O$100,MATCH($N48,'バッチ反映用（非表示）'!$R$5:$R$100,0),MATCH('次月仕訳（非表示）'!I$6,'バッチ反映用（非表示）'!$A$4:$G$4,0)),\"\")","v":{"$error":"#N/A"}},"",{"$f":"IF($P48=\"TRUE\",INDEX('バッチ反映用（非表示）'!$A$5:$O$100,MATCH($N48,'バッチ反映用（非表示）'!$R$5:$R$100,0),MATCH('次月仕訳（非表示）'!K$6,'バッチ反映用（非表示）'!$A$4:$G$4,0)),IF(AND(P48=\"FALSE\",Q48=\"end\"),\"NS-0100\",\"\"))","v":""},{"$f":"IF($P48=\"TRUE\",INDEX('バッチ反映用（非表示）'!$A$5:$O$100,MATCH($N48,'バッチ反映用（非表示）'!$R$5:$R$100,0),MATCH('次月仕訳（非表示）'!L$6,'バッチ反映用（非表示）'!$A$4:$G$4,0))*-1,IF($Q48=\"end\",SUM($L$7:L47)*-1,\"\"))","v":""},{"$f":"IF($P48=\"TRUE\",INDEX('バッチ反映用（非表示）'!$A$5:$O$100,MATCH($N48,'バッチ反映用（非表示）'!$R$5:$R$100,0),MATCH('次月仕訳（非表示）'!M$6,'バッチ反映用（非表示）'!$A$4:$G$4,0)),IF($Q48=\"end\",\"0\"&旅費振替依頼書!$I$3&旅費振替依頼書!$J$3&\"振替 \"&MONTH(SUBSTITUTE($B$7,\".\",\"/\"))&\"月旅費→\"&MONTH(EOMONTH(SUBSTITUTE($I$7,\".\",\"/\"),1))&\"月作業費 \"&N47&\"件\",\"\"))","v":""},42,"",{"$f":"IF(ISERROR(INDEX('バッチ反映用（非表示）'!$A$5:$O$100,MATCH($N48,'バッチ反映用（非表示）'!$R$5:$R$100,0),MATCH('次月仕訳（非表示）'!L$6,'バッチ反映用（非表示）'!$A$4:$G$4,0)))=FALSE,\"TRUE\",\"FALSE\")","v":"FALSE"},"",null,"",{"$f":"IF(I47=\"転記日付\",INDEX('バッチ反映用（非表示）'!$A$5:$O$100,MATCH($N48,'バッチ反映用（非表示）'!$R$5:$R$100,0),MATCH('次月仕訳（非表示）'!T$6,'バッチ反映用（非表示）'!$A$4:$G$4,0)),\"\")","v":{"$error":"#N/A"}},{"$f":"IF(J48<>\"\",IF(K48<>\"NS-0\"&旅費振替依頼書!$I$3,$C$4,$C$3),\"\")","v":""},"","",""]
["",{"$error":"#N/A"},"","","","",null,"",{"$f":"IF(I48=\"転記日付\",INDEX('バッチ反映用（非表示）'!$A$5:$O$100,MATCH($N49,'バッチ反映用（非表示）'!$R$5:$R$100,0),MATCH('次月仕訳（非表示）'!I$6,'バッチ反映用（非表示）'!$A$4:$G$4,0)),\"\")","v":{"$error":"#N/A"}},"",{"$f":"IF($P49=\"TRUE\",INDEX('バッチ反映用（非表示）'!$A$5:$O$100,MATCH($N49,'バッチ反映用（非表示）'!$R$5:$R$100,0),MATCH('次月仕訳（非表示）'!K$6,'バッチ反映用（非表示）'!$A$4:$G$4,0)),IF(AND(P49=\"FALSE\",Q49=\"end\"),\"NS-0100\",\"\"))","v":""},{"$f":"IF($P49=\"TRUE\",INDEX('バッチ反映用（非表示）'!$A$5:$O$100,MATCH($N49,'バッチ反映用（非表示）'!$R$5:$R$100,0),MATCH('次月仕訳（非表示）'!L$6,'バッチ反映用（非表示）'!$A$4:$G$4,0))*-1,IF($Q49=\"end\",SUM($L$7:L48)*-1,\"\"))","v":""},{"$f":"IF($P49=\"TRUE\",INDEX('バッチ反映用（非表示）'!$A$5:$O$100,MATCH($N49,'バッチ反映用（非表示）'!$R$5:$R$100,0),MATCH('次月仕訳（非表示）'!M$6,'バッチ反映用（非表示）'!$A$4:$G$4,0)),IF($Q49=\"end\",\"0\"&旅費振替依頼書!$I$3&旅費振替依頼書!$J$3&\"振替 \"&MONTH(SUBSTITUTE($B$7,\".\",\"/\"))&\"月旅費→\"&MONTH(EOMONTH(SUBSTITUTE($I$7,\".\",\"/\"),1))&\"月作業費 \"&N48&\"件\",\"\"))","v":""},43,"",{"$f":"IF(ISERROR(INDEX('バッチ反映用（非表示）'!$A$5:$O$100,MATCH($N49,'バッチ反映用（非表示）'!$R$5:$R$100,0),MATCH('次月仕訳（非表示）'!L$6,'バッチ反映用（非表示）'!$A$4:$G$4,0)))=FALSE,\"TRUE\",\"FALSE\")","v":"FALSE"},"",null,"",{"$f":"IF(I48=\"転記日付\",INDEX('バッチ反映用（非表示）'!$A$5:$O$100,MATCH($N49,'バッチ反映用（非表示）'!$R$5:$R$100,0),MATCH('次月仕訳（非表示）'!T$6,'バッチ反映用（非表示）'!$A$4:$G$4,0)),\"\")","v":{"$error":"#N/A"}},{"$f":"IF(J49<>\"\",IF(K49<>\"NS-0\"&旅費振替依頼書!$I$3,$C$4,$C$3),\"\")","v":""},"","",""]
["",{"$error":"#N/A"},"","","","",null,"",{"$f":"IF(I49=\"転記日付\",INDEX('バッチ反映用（非表示）'!$A$5:$O$100,MATCH($N50,'バッチ反映用（非表示）'!$R$5:$R$100,0),MATCH('次月仕訳（非表示）'!I$6,'バッチ反映用（非表示）'!$A$4:$G$4,0)),\"\")","v":{"$error":"#N/A"}},"",{"$f":"IF($P50=\"TRUE\",INDEX('バッチ反映用（非表示）'!$A$5:$O$100,MATCH($N50,'バッチ反映用（非表示）'!$R$5:$R$100,0),MATCH('次月仕訳（非表示）'!K$6,'バッチ反映用（非表示）'!$A$4:$G$4,0)),IF(AND(P50=\"FALSE\",Q50=\"end\"),\"NS-0100\",\"\"))","v":""},{"$f":"IF($P50=\"TRUE\",INDEX('バッチ反映用（非表示）'!$A$5:$O$100,MATCH($N50,'バッチ反映用（非表示）'!$R$5:$R$100,0),MATCH('次月仕訳（非表示）'!L$6,'バッチ反映用（非表示）'!$A$4:$G$4,0))*-1,IF($Q50=\"end\",SUM($L$7:L49)*-1,\"\"))","v":""},{"$f":"IF($P50=\"TRUE\",INDEX('バッチ反映用（非表示）'!$A$5:$O$100,MATCH($N50,'バッチ反映用（非表示）'!$R$5:$R$100,0),MATCH('次月仕訳（非表示）'!M$6,'バッチ反映用（非表示）'!$A$4:$G$4,0)),IF($Q50=\"end\",\"0\"&旅費振替依頼書!$I$3&旅費振替依頼書!$J$3&\"振替 \"&MONTH(SUBSTITUTE($B$7,\".\",\"/\"))&\"月旅費→\"&MONTH(EOMONTH(SUBSTITUTE($I$7,\".\",\"/\"),1))&\"月作業費 \"&N49&\"件\",\"\"))","v":""},44,"",{"$f":"IF(ISERROR(INDEX('バッチ反映用（非表示）'!$A$5:$O$100,MATCH($N50,'バッチ反映用（非表示）'!$R$5:$R$100,0),MATCH('次月仕訳（非表示）'!L$6,'バッチ反映用（非表示）'!$A$4:$G$4,0)))=FALSE,\"TRUE\",\"FALSE\")","v":"FALSE"},"",null,"",{"$f":"IF(I49=\"転記日付\",INDEX('バッチ反映用（非表示）'!$A$5:$O$100,MATCH($N50,'バッチ反映用（非表示）'!$R$5:$R$100,0),MATCH('次月仕訳（非表示）'!T$6,'バッチ反映用（非表示）'!$A$4:$G$4,0)),\"\")","v":{"$error":"#N/A"}},{"$f":"IF(J50<>\"\",IF(K50<>\"NS-0\"&旅費振替依頼書!$I$3,$C$4,$C$3),\"\")","v":""},"","",""]
["",{"$error":"#N/A"},"","","","",null,"",{"$f":"IF(I50=\"転記日付\",INDEX('バッチ反映用（非表示）'!$A$5:$O$100,MATCH($N51,'バッチ反映用（非表示）'!$R$5:$R$100,0),MATCH('次月仕訳（非表示）'!I$6,'バッチ反映用（非表示）'!$A$4:$G$4,0)),\"\")","v":{"$error":"#N/A"}},"",{"$f":"IF($P51=\"TRUE\",INDEX('バッチ反映用（非表示）'!$A$5:$O$100,MATCH($N51,'バッチ反映用（非表示）'!$R$5:$R$100,0),MATCH('次月仕訳（非表示）'!K$6,'バッチ反映用（非表示）'!$A$4:$G$4,0)),IF(AND(P51=\"FALSE\",Q51=\"end\"),\"NS-0100\",\"\"))","v":""},{"$f":"IF($P51=\"TRUE\",INDEX('バッチ反映用（非表示）'!$A$5:$O$100,MATCH($N51,'バッチ反映用（非表示）'!$R$5:$R$100,0),MATCH('次月仕訳（非表示）'!L$6,'バッチ反映用（非表示）'!$A$4:$G$4,0))*-1,IF($Q51=\"end\",SUM($L$7:L50)*-1,\"\"))","v":""},{"$f":"IF($P51=\"TRUE\",INDEX('バッチ反映用（非表示）'!$A$5:$O$100,MATCH($N51,'バッチ反映用（非表示）'!$R$5:$R$100,0),MATCH('次月仕訳（非表示）'!M$6,'バッチ反映用（非表示）'!$A$4:$G$4,0)),IF($Q51=\"end\",\"0\"&旅費振替依頼書!$I$3&旅費振替依頼書!$J$3&\"振替 \"&MONTH(SUBSTITUTE($B$7,\".\",\"/\"))&\"月旅費→\"&MONTH(EOMONTH(SUBSTITUTE($I$7,\".\",\"/\"),1))&\"月作業費 \"&N50&\"件\",\"\"))","v":""},45,"",{"$f":"IF(ISERROR(INDEX('バッチ反映用（非表示）'!$A$5:$O$100,MATCH($N51,'バッチ反映用（非表示）'!$R$5:$R$100,0),MATCH('次月仕訳（非表示）'!L$6,'バッチ反映用（非表示）'!$A$4:$G$4,0)))=FALSE,\"TRUE\",\"FALSE\")","v":"FALSE"},"",null,"",{"$f":"IF(I50=\"転記日付\",INDEX('バッチ反映用（非表示）'!$A$5:$O$100,MATCH($N51,'バッチ反映用（非表示）'!$R$5:$R$100,0),MATCH('次月仕訳（非表示）'!T$6,'バッチ反映用（非表示）'!$A$4:$G$4,0)),\"\")","v":{"$error":"#N/A"}},{"$f":"IF(J51<>\"\",IF(K51<>\"NS-0\"&旅費振替依頼書!$I$3,$C$4,$C$3),\"\")","v":""},"","",""]
["",{"$error":"#N/A"},"","","","",null,"",{"$f":"IF(I51=\"転記日付\",INDEX('バッチ反映用（非表示）'!$A$5:$O$100,MATCH($N52,'バッチ反映用（非表示）'!$R$5:$R$100,0),MATCH('次月仕訳（非表示）'!I$6,'バッチ反映用（非表示）'!$A$4:$G$4,0)),\"\")","v":{"$error":"#N/A"}},"",{"$f":"IF($P52=\"TRUE\",INDEX('バッチ反映用（非表示）'!$A$5:$O$100,MATCH($N52,'バッチ反映用（非表示）'!$R$5:$R$100,0),MATCH('次月仕訳（非表示）'!K$6,'バッチ反映用（非表示）'!$A$4:$G$4,0)),IF(AND(P52=\"FALSE\",Q52=\"end\"),\"NS-0100\",\"\"))","v":""},{"$f":"IF($P52=\"TRUE\",INDEX('バッチ反映用（非表示）'!$A$5:$O$100,MATCH($N52,'バッチ反映用（非表示）'!$R$5:$R$100,0),MATCH('次月仕訳（非表示）'!L$6,'バッチ反映用（非表示）'!$A$4:$G$4,0))*-1,IF($Q52=\"end\",SUM($L$7:L51)*-1,\"\"))","v":""},{"$f":"IF($P52=\"TRUE\",INDEX('バッチ反映用（非表示）'!$A$5:$O$100,MATCH($N52,'バッチ反映用（非表示）'!$R$5:$R$100,0),MATCH('次月仕訳（非表示）'!M$6,'バッチ反映用（非表示）'!$A$4:$G$4,0)),IF($Q52=\"end\",\"0\"&旅費振替依頼書!$I$3&旅費振替依頼書!$J$3&\"振替 \"&MONTH(SUBSTITUTE($B$7,\".\",\"/\"))&\"月旅費→\"&MONTH(EOMONTH(SUBSTITUTE($I$7,\".\",\"/\"),1))&\"月作業費 \"&N51&\"件\",\"\"))","v":""},46,"",{"$f":"IF(ISERROR(INDEX('バッチ反映用（非表示）'!$A$5:$O$100,MATCH($N52,'バッチ反映用（非表示）'!$R$5:$R$100,0),MATCH('次月仕訳（非表示）'!L$6,'バッチ反映用（非表示）'!$A$4:$G$4,0)))=FALSE,\"TRUE\",\"FALSE\")","v":"FALSE"},"",null,"",{"$f":"IF(I51=\"転記日付\",INDEX('バッチ反映用（非表示）'!$A$5:$O$100,MATCH($N52,'バッチ反映用（非表示）'!$R$5:$R$100,0),MATCH('次月仕訳（非表示）'!T$6,'バッチ反映用（非表示）'!$A$4:$G$4,0)),\"\")","v":{"$error":"#N/A"}},{"$f":"IF(J52<>\"\",IF(K52<>\"NS-0\"&旅費振替依頼書!$I$3,$C$4,$C$3),\"\")","v":""},"","",""]
["",{"$error":"#N/A"},"","","","",null,"",{"$f":"IF(I52=\"転記日付\",INDEX('バッチ反映用（非表示）'!$A$5:$O$100,MATCH($N53,'バッチ反映用（非表示）'!$R$5:$R$100,0),MATCH('次月仕訳（非表示）'!I$6,'バッチ反映用（非表示）'!$A$4:$G$4,0)),\"\")","v":{"$error":"#N/A"}},"",{"$f":"IF($P53=\"TRUE\",INDEX('バッチ反映用（非表示）'!$A$5:$O$100,MATCH($N53,'バッチ反映用（非表示）'!$R$5:$R$100,0),MATCH('次月仕訳（非表示）'!K$6,'バッチ反映用（非表示）'!$A$4:$G$4,0)),IF(AND(P53=\"FALSE\",Q53=\"end\"),\"NS-0100\",\"\"))","v":""},{"$f":"IF($P53=\"TRUE\",INDEX('バッチ反映用（非表示）'!$A$5:$O$100,MATCH($N53,'バッチ反映用（非表示）'!$R$5:$R$100,0),MATCH('次月仕訳（非表示）'!L$6,'バッチ反映用（非表示）'!$A$4:$G$4,0))*-1,IF($Q53=\"end\",SUM($L$7:L52)*-1,\"\"))","v":""},{"$f":"IF($P53=\"TRUE\",INDEX('バッチ反映用（非表示）'!$A$5:$O$100,MATCH($N53,'バッチ反映用（非表示）'!$R$5:$R$100,0),MATCH('次月仕訳（非表示）'!M$6,'バッチ反映用（非表示）'!$A$4:$G$4,0)),IF($Q53=\"end\",\"0\"&旅費振替依頼書!$I$3&旅費振替依頼書!$J$3&\"振替 \"&MONTH(SUBSTITUTE($B$7,\".\",\"/\"))&\"月旅費→\"&MONTH(EOMONTH(SUBSTITUTE($I$7,\".\",\"/\"),1))&\"月作業費 \"&N52&\"件\",\"\"))","v":""},47,"",{"$f":"IF(ISERROR(INDEX('バッチ反映用（非表示）'!$A$5:$O$100,MATCH($N53,'バッチ反映用（非表示）'!$R$5:$R$100,0),MATCH('次月仕訳（非表示）'!L$6,'バッチ反映用（非表示）'!$A$4:$G$4,0)))=FALSE,\"TRUE\",\"FALSE\")","v":"FALSE"},"",null,"",{"$f":"IF(I52=\"転記日付\",INDEX('バッチ反映用（非表示）'!$A$5:$O$100,MATCH($N53,'バッチ反映用（非表示）'!$R$5:$R$100,0),MATCH('次月仕訳（非表示）'!T$6,'バッチ反映用（非表示）'!$A$4:$G$4,0)),\"\")","v":{"$error":"#N/A"}},{"$f":"IF(J53<>\"\",IF(K53<>\"NS-0\"&旅費振替依頼書!$I$3,$C$4,$C$3),\"\")","v":""},"","",""]
["",{"$error":"#N/A"},"","","","",null,"",{"$f":"IF(I53=\"転記日付\",INDEX('バッチ反映用（非表示）'!$A$5:$O$100,MATCH($N54,'バッチ反映用（非表示）'!$R$5:$R$100,0),MATCH('次月仕訳（非表示）'!I$6,'バッチ反映用（非表示）'!$A$4:$G$4,0)),\"\")","v":{"$error":"#N/A"}},"",{"$f":"IF($P54=\"TRUE\",INDEX('バッチ反映用（非表示）'!$A$5:$O$100,MATCH($N54,'バッチ反映用（非表示）'!$R$5:$R$100,0),MATCH('次月仕訳（非表示）'!K$6,'バッチ反映用（非表示）'!$A$4:$G$4,0)),IF(AND(P54=\"FALSE\",Q54=\"end\"),\"NS-0100\",\"\"))","v":""},{"$f":"IF($P54=\"TRUE\",INDEX('バッチ反映用（非表示）'!$A$5:$O$100,MATCH($N54,'バッチ反映用（非表示）'!$R$5:$R$100,0),MATCH('次月仕訳（非表示）'!L$6,'バッチ反映用（非表示）'!$A$4:$G$4,0))*-1,IF($Q54=\"end\",SUM($L$7:L53)*-1,\"\"))","v":""},{"$f":"IF($P54=\"TRUE\",INDEX('バッチ反映用（非表示）'!$A$5:$O$100,MATCH($N54,'バッチ反映用（非表示）'!$R$5:$R$100,0),MATCH('次月仕訳（非表示）'!M$6,'バッチ反映用（非表示）'!$A$4:$G$4,0)),IF($Q54=\"end\",\"0\"&旅費振替依頼書!$I$3&旅費振替依頼書!$J$3&\"振替 \"&MONTH(SUBSTITUTE($B$7,\".\",\"/\"))&\"月旅費→\"&MONTH(EOMONTH(SUBSTITUTE($I$7,\".\",\"/\"),1))&\"月作業費 \"&N53&\"件\",\"\"))","v":""},48,"",{"$f":"IF(ISERROR(INDEX('バッチ反映用（非表示）'!$A$5:$O$100,MATCH($N54,'バッチ反映用（非表示）'!$R$5:$R$100,0),MATCH('次月仕訳（非表示）'!L$6,'バッチ反映用（非表示）'!$A$4:$G$4,0)))=FALSE,\"TRUE\",\"FALSE\")","v":"FALSE"},"",null,"",{"$f":"IF(I53=\"転記日付\",INDEX('バッチ反映用（非表示）'!$A$5:$O$100,MATCH($N54,'バッチ反映用（非表示）'!$R$5:$R$100,0),MATCH('次月仕訳（非表示）'!T$6,'バッチ反映用（非表示）'!$A$4:$G$4,0)),\"\")","v":{"$error":"#N/A"}},{"$f":"IF(J54<>\"\",IF(K54<>\"NS-0\"&旅費振替依頼書!$I$3,$C$4,$C$3),\"\")","v":""},"","",""]
["",{"$error":"#N/A"},"","","","",null,"",{"$f":"IF(I54=\"転記日付\",INDEX('バッチ反映用（非表示）'!$A$5:$O$100,MATCH($N55,'バッチ反映用（非表示）'!$R$5:$R$100,0),MATCH('次月仕訳（非表示）'!I$6,'バッチ反映用（非表示）'!$A$4:$G$4,0)),\"\")","v":{"$error":"#N/A"}},"",{"$f":"IF($P55=\"TRUE\",INDEX('バッチ反映用（非表示）'!$A$5:$O$100,MATCH($N55,'バッチ反映用（非表示）'!$R$5:$R$100,0),MATCH('次月仕訳（非表示）'!K$6,'バッチ反映用（非表示）'!$A$4:$G$4,0)),IF(AND(P55=\"FALSE\",Q55=\"end\"),\"NS-0100\",\"\"))","v":""},{"$f":"IF($P55=\"TRUE\",INDEX('バッチ反映用（非表示）'!$A$5:$O$100,MATCH($N55,'バッチ反映用（非表示）'!$R$5:$R$100,0),MATCH('次月仕訳（非表示）'!L$6,'バッチ反映用（非表示）'!$A$4:$G$4,0))*-1,IF($Q55=\"end\",SUM($L$7:L54)*-1,\"\"))","v":""},{"$f":"IF($P55=\"TRUE\",INDEX('バッチ反映用（非表示）'!$A$5:$O$100,MATCH($N55,'バッチ反映用（非表示）'!$R$5:$R$100,0),MATCH('次月仕訳（非表示）'!M$6,'バッチ反映用（非表示）'!$A$4:$G$4,0)),IF($Q55=\"end\",\"0\"&旅費振替依頼書!$I$3&旅費振替依頼書!$J$3&\"振替 \"&MONTH(SUBSTITUTE($B$7,\".\",\"/\"))&\"月旅費→\"&MONTH(EOMONTH(SUBSTITUTE($I$7,\".\",\"/\"),1))&\"月作業費 \"&N54&\"件\",\"\"))","v":""},49,"",{"$f":"IF(ISERROR(INDEX('バッチ反映用（非表示）'!$A$5:$O$100,MATCH($N55,'バッチ反映用（非表示）'!$R$5:$R$100,0),MATCH('次月仕訳（非表示）'!L$6,'バッチ反映用（非表示）'!$A$4:$G$4,0)))=FALSE,\"TRUE\",\"FALSE\")","v":"FALSE"},"",null,"",{"$f":"IF(I54=\"転記日付\",INDEX('バッチ反映用（非表示）'!$A$5:$O$100,MATCH($N55,'バッチ反映用（非表示）'!$R$5:$R$100,0),MATCH('次月仕訳（非表示）'!T$6,'バッチ反映用（非表示）'!$A$4:$G$4,0)),\"\")","v":{"$error":"#N/A"}},{"$f":"IF(J55<>\"\",IF(K55<>\"NS-0\"&旅費振替依頼書!$I$3,$C$4,$C$3),\"\")","v":""},"","",""]
["",{"$error":"#N/A"},"","","","",null,"",{"$f":"IF(I55=\"転記日付\",INDEX('バッチ反映用（非表示）'!$A$5:$O$100,MATCH($N56,'バッチ反映用（非表示）'!$R$5:$R$100,0),MATCH('次月仕訳（非表示）'!I$6,'バッチ反映用（非表示）'!$A$4:$G$4,0)),\"\")","v":{"$error":"#N/A"}},"",{"$f":"IF($P56=\"TRUE\",INDEX('バッチ反映用（非表示）'!$A$5:$O$100,MATCH($N56,'バッチ反映用（非表示）'!$R$5:$R$100,0),MATCH('次月仕訳（非表示）'!K$6,'バッチ反映用（非表示）'!$A$4:$G$4,0)),IF(AND(P56=\"FALSE\",Q56=\"end\"),\"NS-0100\",\"\"))","v":""},{"$f":"IF($P56=\"TRUE\",INDEX('バッチ反映用（非表示）'!$A$5:$O$100,MATCH($N56,'バッチ反映用（非表示）'!$R$5:$R$100,0),MATCH('次月仕訳（非表示）'!L$6,'バッチ反映用（非表示）'!$A$4:$G$4,0))*-1,IF($Q56=\"end\",SUM($L$7:L55)*-1,\"\"))","v":""},{"$f":"IF($P56=\"TRUE\",INDEX('バッチ反映用（非表示）'!$A$5:$O$100,MATCH($N56,'バッチ反映用（非表示）'!$R$5:$R$100,0),MATCH('次月仕訳（非表示）'!M$6,'バッチ反映用（非表示）'!$A$4:$G$4,0)),IF($Q56=\"end\",\"0\"&旅費振替依頼書!$I$3&旅費振替依頼書!$J$3&\"振替 \"&MONTH(SUBSTITUTE($B$7,\".\",\"/\"))&\"月旅費→\"&MONTH(EOMONTH(SUBSTITUTE($I$7,\".\",\"/\"),1))&\"月作業費 \"&N55&\"件\",\"\"))","v":""},50,"",{"$f":"IF(ISERROR(INDEX('バッチ反映用（非表示）'!$A$5:$O$100,MATCH($N56,'バッチ反映用（非表示）'!$R$5:$R$100,0),MATCH('次月仕訳（非表示）'!L$6,'バッチ反映用（非表示）'!$A$4:$G$4,0)))=FALSE,\"TRUE\",\"FALSE\")","v":"FALSE"},"",null,"",{"$f":"IF(I55=\"転記日付\",INDEX('バッチ反映用（非表示）'!$A$5:$O$100,MATCH($N56,'バッチ反映用（非表示）'!$R$5:$R$100,0),MATCH('次月仕訳（非表示）'!T$6,'バッチ反映用（非表示）'!$A$4:$G$4,0)),\"\")","v":{"$error":"#N/A"}},{"$f":"IF(J56<>\"\",IF(K56<>\"NS-0\"&旅費振替依頼書!$I$3,$C$4,$C$3),\"\")","v":""},"","",""]
["",{"$error":"#N/A"},"","","","",null,"",{"$f":"IF(I56=\"転記日付\",INDEX('バッチ反映用（非表示）'!$A$5:$O$100,MATCH($N57,'バッチ反映用（非表示）'!$R$5:$R$100,0),MATCH('次月仕訳（非表示）'!I$6,'バッチ反映用（非表示）'!$A$4:$G$4,0)),\"\")","v":{"$error":"#N/A"}},"",{"$f":"IF($P57=\"TRUE\",INDEX('バッチ反映用（非表示）'!$A$5:$O$100,MATCH($N57,'バッチ反映用（非表示）'!$R$5:$R$100,0),MATCH('次月仕訳（非表示）'!K$6,'バッチ反映用（非表示）'!$A$4:$G$4,0)),IF(AND(P57=\"FALSE\",Q57=\"end\"),\"NS-0100\",\"\"))","v":""},{"$f":"IF($P57=\"TRUE\",INDEX('バッチ反映用（非表示）'!$A$5:$O$100,MATCH($N57,'バッチ反映用（非表示）'!$R$5:$R$100,0),MATCH('次月仕訳（非表示）'!L$6,'バッチ反映用（非表示）'!$A$4:$G$4,0))*-1,IF($Q57=\"end\",SUM($L$7:L56)*-1,\"\"))","v":""},{"$f":"IF($P57=\"TRUE\",INDEX('バッチ反映用（非表示）'!$A$5:$O$100,MATCH($N57,'バッチ反映用（非表示）'!$R$5:$R$100,0),MATCH('次月仕訳（非表示）'!M$6,'バッチ反映用（非表示）'!$A$4:$G$4,0)),IF($Q57=\"end\",\"0\"&旅費振替依頼書!$I$3&旅費振替依頼書!$J$3&\"振替 \"&MONTH(SUBSTITUTE($B$7,\".\",\"/\"))&\"月旅費→\"&MONTH(EOMONTH(SUBSTITUTE($I$7,\".\",\"/\"),1))&\"月作業費 \"&N56&\"件\",\"\"))","v":""},51,"",{"$f":"IF(ISERROR(INDEX('バッチ反映用（非表示）'!$A$5:$O$100,MATCH($N57,'バッチ反映用（非表示）'!$R$5:$R$100,0),MATCH('次月仕訳（非表示）'!L$6,'バッチ反映用（非表示）'!$A$4:$G$4,0)))=FALSE,\"TRUE\",\"FALSE\")","v":"FALSE"},"",null,"",{"$f":"IF(I56=\"転記日付\",INDEX('バッチ反映用（非表示）'!$A$5:$O$100,MATCH($N57,'バッチ反映用（非表示）'!$R$5:$R$100,0),MATCH('次月仕訳（非表示）'!T$6,'バッチ反映用（非表示）'!$A$4:$G$4,0)),\"\")","v":{"$error":"#N/A"}},{"$f":"IF(J57<>\"\",IF(K57<>\"NS-0\"&旅費振替依頼書!$I$3,$C$4,$C$3),\"\")","v":""},"","",""]
["",{"$error":"#N/A"},"","","","",null,"",{"$f":"IF(I57=\"転記日付\",INDEX('バッチ反映用（非表示）'!$A$5:$O$100,MATCH($N58,'バッチ反映用（非表示）'!$R$5:$R$100,0),MATCH('次月仕訳（非表示）'!I$6,'バッチ反映用（非表示）'!$A$4:$G$4,0)),\"\")","v":{"$error":"#N/A"}},"",{"$f":"IF($P58=\"TRUE\",INDEX('バッチ反映用（非表示）'!$A$5:$O$100,MATCH($N58,'バッチ反映用（非表示）'!$R$5:$R$100,0),MATCH('次月仕訳（非表示）'!K$6,'バッチ反映用（非表示）'!$A$4:$G$4,0)),IF(AND(P58=\"FALSE\",Q58=\"end\"),\"NS-0100\",\"\"))","v":""},{"$f":"IF($P58=\"TRUE\",INDEX('バッチ反映用（非表示）'!$A$5:$O$100,MATCH($N58,'バッチ反映用（非表示）'!$R$5:$R$100,0),MATCH('次月仕訳（非表示）'!L$6,'バッチ反映用（非表示）'!$A$4:$G$4,0))*-1,IF($Q58=\"end\",SUM($L$7:L57)*-1,\"\"))","v":""},{"$f":"IF($P58=\"TRUE\",INDEX('バッチ反映用（非表示）'!$A$5:$O$100,MATCH($N58,'バッチ反映用（非表示）'!$R$5:$R$100,0),MATCH('次月仕訳（非表示）'!M$6,'バッチ反映用（非表示）'!$A$4:$G$4,0)),IF($Q58=\"end\",\"0\"&旅費振替依頼書!$I$3&旅費振替依頼書!$J$3&\"振替 \"&MONTH(SUBSTITUTE($B$7,\".\",\"/\"))&\"月旅費→\"&MONTH(EOMONTH(SUBSTITUTE($I$7,\".\",\"/\"),1))&\"月作業費 \"&N57&\"件\",\"\"))","v":""},52,"",{"$f":"IF(ISERROR(INDEX('バッチ反映用（非表示）'!$A$5:$O$100,MATCH($N58,'バッチ反映用（非表示）'!$R$5:$R$100,0),MATCH('次月仕訳（非表示）'!L$6,'バッチ反映用（非表示）'!$A$4:$G$4,0)))=FALSE,\"TRUE\",\"FALSE\")","v":"FALSE"},"",null,"",{"$f":"IF(I57=\"転記日付\",INDEX('バッチ反映用（非表示）'!$A$5:$O$100,MATCH($N58,'バッチ反映用（非表示）'!$R$5:$R$100,0),MATCH('次月仕訳（非表示）'!T$6,'バッチ反映用（非表示）'!$A$4:$G$4,0)),\"\")","v":{"$error":"#N/A"}},{"$f":"IF(J58<>\"\",IF(K58<>\"NS-0\"&旅費振替依頼書!$I$3,$C$4,$C$3),\"\")","v":""},"","",""]
["",{"$error":"#N/A"},"","","","",null,"",{"$f":"IF(I58=\"転記日付\",INDEX('バッチ反映用（非表示）'!$A$5:$O$100,MATCH($N59,'バッチ反映用（非表示）'!$R$5:$R$100,0),MATCH('次月仕訳（非表示）'!I$6,'バッチ反映用（非表示）'!$A$4:$G$4,0)),\"\")","v":{"$error":"#N/A"}},"",{"$f":"IF($P59=\"TRUE\",INDEX('バッチ反映用（非表示）'!$A$5:$O$100,MATCH($N59,'バッチ反映用（非表示）'!$R$5:$R$100,0),MATCH('次月仕訳（非表示）'!K$6,'バッチ反映用（非表示）'!$A$4:$G$4,0)),IF(AND(P59=\"FALSE\",Q59=\"end\"),\"NS-0100\",\"\"))","v":""},{"$f":"IF($P59=\"TRUE\",INDEX('バッチ反映用（非表示）'!$A$5:$O$100,MATCH($N59,'バッチ反映用（非表示）'!$R$5:$R$100,0),MATCH('次月仕訳（非表示）'!L$6,'バッチ反映用（非表示）'!$A$4:$G$4,0))*-1,IF($Q59=\"end\",SUM($L$7:L58)*-1,\"\"))","v":""},{"$f":"IF($P59=\"TRUE\",INDEX('バッチ反映用（非表示）'!$A$5:$O$100,MATCH($N59,'バッチ反映用（非表示）'!$R$5:$R$100,0),MATCH('次月仕訳（非表示）'!M$6,'バッチ反映用（非表示）'!$A$4:$G$4,0)),IF($Q59=\"end\",\"0\"&旅費振替依頼書!$I$3&旅費振替依頼書!$J$3&\"振替 \"&MONTH(SUBSTITUTE($B$7,\".\",\"/\"))&\"月旅費→\"&MONTH(EOMONTH(SUBSTITUTE($I$7,\".\",\"/\"),1))&\"月作業費 \"&N58&\"件\",\"\"))","v":""},53,"",{"$f":"IF(ISERROR(INDEX('バッチ反映用（非表示）'!$A$5:$O$100,MATCH($N59,'バッチ反映用（非表示）'!$R$5:$R$100,0),MATCH('次月仕訳（非表示）'!L$6,'バッチ反映用（非表示）'!$A$4:$G$4,0)))=FALSE,\"TRUE\",\"FALSE\")","v":"FALSE"},"",null,"",{"$f":"IF(I58=\"転記日付\",INDEX('バッチ反映用（非表示）'!$A$5:$O$100,MATCH($N59,'バッチ反映用（非表示）'!$R$5:$R$100,0),MATCH('次月仕訳（非表示）'!T$6,'バッチ反映用（非表示）'!$A$4:$G$4,0)),\"\")","v":{"$error":"#N/A"}},{"$f":"IF(J59<>\"\",IF(K59<>\"NS-0\"&旅費振替依頼書!$I$3,$C$4,$C$3),\"\")","v":""},"","",""]
["",{"$error":"#N/A"},"","","","",null,"",{"$f":"IF(I59=\"転記日付\",INDEX('バッチ反映用（非表示）'!$A$5:$O$100,MATCH($N60,'バッチ反映用（非表示）'!$R$5:$R$100,0),MATCH('次月仕訳（非表示）'!I$6,'バッチ反映用（非表示）'!$A$4:$G$4,0)),\"\")","v":{"$error":"#N/A"}},"",{"$f":"IF($P60=\"TRUE\",INDEX('バッチ反映用（非表示）'!$A$5:$O$100,MATCH($N60,'バッチ反映用（非表示）'!$R$5:$R$100,0),MATCH('次月仕訳（非表示）'!K$6,'バッチ反映用（非表示）'!$A$4:$G$4,0)),IF(AND(P60=\"FALSE\",Q60=\"end\"),\"NS-0100\",\"\"))","v":""},{"$f":"IF($P60=\"TRUE\",INDEX('バッチ反映用（非表示）'!$A$5:$O$100,MATCH($N60,'バッチ反映用（非表示）'!$R$5:$R$100,0),MATCH('次月仕訳（非表示）'!L$6,'バッチ反映用（非表示）'!$A$4:$G$4,0))*-1,IF($Q60=\"end\",SUM($L$7:L59)*-1,\"\"))","v":""},{"$f":"IF($P60=\"TRUE\",INDEX('バッチ反映用（非表示）'!$A$5:$O$100,MATCH($N60,'バッチ反映用（非表示）'!$R$5:$R$100,0),MATCH('次月仕訳（非表示）'!M$6,'バッチ反映用（非表示）'!$A$4:$G$4,0)),IF($Q60=\"end\",\"0\"&旅費振替依頼書!$I$3&旅費振替依頼書!$J$3&\"振替 \"&MONTH(SUBSTITUTE($B$7,\".\",\"/\"))&\"月旅費→\"&MONTH(EOMONTH(SUBSTITUTE($I$7,\".\",\"/\"),1))&\"月作業費 \"&N59&\"件\",\"\"))","v":""},54,"",{"$f":"IF(ISERROR(INDEX('バッチ反映用（非表示）'!$A$5:$O$100,MATCH($N60,'バッチ反映用（非表示）'!$R$5:$R$100,0),MATCH('次月仕訳（非表示）'!L$6,'バッチ反映用（非表示）'!$A$4:$G$4,0)))=FALSE,\"TRUE\",\"FALSE\")","v":"FALSE"},"",null,"",{"$f":"IF(I59=\"転記日付\",INDEX('バッチ反映用（非表示）'!$A$5:$O$100,MATCH($N60,'バッチ反映用（非表示）'!$R$5:$R$100,0),MATCH('次月仕訳（非表示）'!T$6,'バッチ反映用（非表示）'!$A$4:$G$4,0)),\"\")","v":{"$error":"#N/A"}},{"$f":"IF(J60<>\"\",IF(K60<>\"NS-0\"&旅費振替依頼書!$I$3,$C$4,$C$3),\"\")","v":""},"","",""]
["",{"$error":"#N/A"},"","","","",null,"",{"$f":"IF(I60=\"転記日付\",INDEX('バッチ反映用（非表示）'!$A$5:$O$100,MATCH($N61,'バッチ反映用（非表示）'!$R$5:$R$100,0),MATCH('次月仕訳（非表示）'!I$6,'バッチ反映用（非表示）'!$A$4:$G$4,0)),\"\")","v":{"$error":"#N/A"}},"",{"$f":"IF($P61=\"TRUE\",INDEX('バッチ反映用（非表示）'!$A$5:$O$100,MATCH($N61,'バッチ反映用（非表示）'!$R$5:$R$100,0),MATCH('次月仕訳（非表示）'!K$6,'バッチ反映用（非表示）'!$A$4:$G$4,0)),IF(AND(P61=\"FALSE\",Q61=\"end\"),\"NS-0100\",\"\"))","v":""},{"$f":"IF($P61=\"TRUE\",INDEX('バッチ反映用（非表示）'!$A$5:$O$100,MATCH($N61,'バッチ反映用（非表示）'!$R$5:$R$100,0),MATCH('次月仕訳（非表示）'!L$6,'バッチ反映用（非表示）'!$A$4:$G$4,0))*-1,IF($Q61=\"end\",SUM($L$7:L60)*-1,\"\"))","v":""},{"$f":"IF($P61=\"TRUE\",INDEX('バッチ反映用（非表示）'!$A$5:$O$100,MATCH($N61,'バッチ反映用（非表示）'!$R$5:$R$100,0),MATCH('次月仕訳（非表示）'!M$6,'バッチ反映用（非表示）'!$A$4:$G$4,0)),IF($Q61=\"end\",\"0\"&旅費振替依頼書!$I$3&旅費振替依頼書!$J$3&\"振替 \"&MONTH(SUBSTITUTE($B$7,\".\",\"/\"))&\"月旅費→\"&MONTH(EOMONTH(SUBSTITUTE($I$7,\".\",\"/\"),1))&\"月作業費 \"&N60&\"件\",\"\"))","v":""},55,"",{"$f":"IF(ISERROR(INDEX('バッチ反映用（非表示）'!$A$5:$O$100,MATCH($N61,'バッチ反映用（非表示）'!$R$5:$R$100,0),MATCH('次月仕訳（非表示）'!L$6,'バッチ反映用（非表示）'!$A$4:$G$4,0)))=FALSE,\"TRUE\",\"FALSE\")","v":"FALSE"},"",null,"",{"$f":"IF(I60=\"転記日付\",INDEX('バッチ反映用（非表示）'!$A$5:$O$100,MATCH($N61,'バッチ反映用（非表示）'!$R$5:$R$100,0),MATCH('次月仕訳（非表示）'!T$6,'バッチ反映用（非表示）'!$A$4:$G$4,0)),\"\")","v":{"$error":"#N/A"}},{"$f":"IF(J61<>\"\",IF(K61<>\"NS-0\"&旅費振替依頼書!$I$3,$C$4,$C$3),\"\")","v":""},"","",""]
["",{"$error":"#N/A"},"","","","",null,"",{"$f":"IF(I61=\"転記日付\",INDEX('バッチ反映用（非表示）'!$A$5:$O$100,MATCH($N62,'バッチ反映用（非表示）'!$R$5:$R$100,0),MATCH('次月仕訳（非表示）'!I$6,'バッチ反映用（非表示）'!$A$4:$G$4,0)),\"\")","v":{"$error":"#N/A"}},"",{"$f":"IF($P62=\"TRUE\",INDEX('バッチ反映用（非表示）'!$A$5:$O$100,MATCH($N62,'バッチ反映用（非表示）'!$R$5:$R$100,0),MATCH('次月仕訳（非表示）'!K$6,'バッチ反映用（非表示）'!$A$4:$G$4,0)),IF(AND(P62=\"FALSE\",Q62=\"end\"),\"NS-0100\",\"\"))","v":""},{"$f":"IF($P62=\"TRUE\",INDEX('バッチ反映用（非表示）'!$A$5:$O$100,MATCH($N62,'バッチ反映用（非表示）'!$R$5:$R$100,0),MATCH('次月仕訳（非表示）'!L$6,'バッチ反映用（非表示）'!$A$4:$G$4,0))*-1,IF($Q62=\"end\",SUM($L$7:L61)*-1,\"\"))","v":""},{"$f":"IF($P62=\"TRUE\",INDEX('バッチ反映用（非表示）'!$A$5:$O$100,MATCH($N62,'バッチ反映用（非表示）'!$R$5:$R$100,0),MATCH('次月仕訳（非表示）'!M$6,'バッチ反映用（非表示）'!$A$4:$G$4,0)),IF($Q62=\"end\",\"0\"&旅費振替依頼書!$I$3&旅費振替依頼書!$J$3&\"振替 \"&MONTH(SUBSTITUTE($B$7,\".\",\"/\"))&\"月旅費→\"&MONTH(EOMONTH(SUBSTITUTE($I$7,\".\",\"/\"),1))&\"月作業費 \"&N61&\"件\",\"\"))","v":""},56,"",{"$f":"IF(ISERROR(INDEX('バッチ反映用（非表示）'!$A$5:$O$100,MATCH($N62,'バッチ反映用（非表示）'!$R$5:$R$100,0),MATCH('次月仕訳（非表示）'!L$6,'バッチ反映用（非表示）'!$A$4:$G$4,0)))=FALSE,\"TRUE\",\"FALSE\")","v":"FALSE"},"",null,"",{"$f":"IF(I61=\"転記日付\",INDEX('バッチ反映用（非表示）'!$A$5:$O$100,MATCH($N62,'バッチ反映用（非表示）'!$R$5:$R$100,0),MATCH('次月仕訳（非表示）'!T$6,'バッチ反映用（非表示）'!$A$4:$G$4,0)),\"\")","v":{"$error":"#N/A"}},{"$f":"IF(J62<>\"\",IF(K62<>\"NS-0\"&旅費振替依頼書!$I$3,$C$4,$C$3),\"\")","v":""},"","",""]
["",{"$error":"#N/A"},"","","","",null,"",{"$f":"IF(I62=\"転記日付\",INDEX('バッチ反映用（非表示）'!$A$5:$O$100,MATCH($N63,'バッチ反映用（非表示）'!$R$5:$R$100,0),MATCH('次月仕訳（非表示）'!I$6,'バッチ反映用（非表示）'!$A$4:$G$4,0)),\"\")","v":{"$error":"#N/A"}},"",{"$f":"IF($P63=\"TRUE\",INDEX('バッチ反映用（非表示）'!$A$5:$O$100,MATCH($N63,'バッチ反映用（非表示）'!$R$5:$R$100,0),MATCH('次月仕訳（非表示）'!K$6,'バッチ反映用（非表示）'!$A$4:$G$4,0)),IF(AND(P63=\"FALSE\",Q63=\"end\"),\"NS-0100\",\"\"))","v":""},{"$f":"IF($P63=\"TRUE\",INDEX('バッチ反映用（非表示）'!$A$5:$O$100,MATCH($N63,'バッチ反映用（非表示）'!$R$5:$R$100,0),MATCH('次月仕訳（非表示）'!L$6,'バッチ反映用（非表示）'!$A$4:$G$4,0))*-1,IF($Q63=\"end\",SUM($L$7:L62)*-1,\"\"))","v":""},{"$f":"IF($P63=\"TRUE\",INDEX('バッチ反映用（非表示）'!$A$5:$O$100,MATCH($N63,'バッチ反映用（非表示）'!$R$5:$R$100,0),MATCH('次月仕訳（非表示）'!M$6,'バッチ反映用（非表示）'!$A$4:$G$4,0)),IF($Q63=\"end\",\"0\"&旅費振替依頼書!$I$3&旅費振替依頼書!$J$3&\"振替 \"&MONTH(SUBSTITUTE($B$7,\".\",\"/\"))&\"月旅費→\"&MONTH(EOMONTH(SUBSTITUTE($I$7,\".\",\"/\"),1))&\"月作業費 \"&N62&\"件\",\"\"))","v":""},57,"",{"$f":"IF(ISERROR(INDEX('バッチ反映用（非表示）'!$A$5:$O$100,MATCH($N63,'バッチ反映用（非表示）'!$R$5:$R$100,0),MATCH('次月仕訳（非表示）'!L$6,'バッチ反映用（非表示）'!$A$4:$G$4,0)))=FALSE,\"TRUE\",\"FALSE\")","v":"FALSE"},"",null,"",{"$f":"IF(I62=\"転記日付\",INDEX('バッチ反映用（非表示）'!$A$5:$O$100,MATCH($N63,'バッチ反映用（非表示）'!$R$5:$R$100,0),MATCH('次月仕訳（非表示）'!T$6,'バッチ反映用（非表示）'!$A$4:$G$4,0)),\"\")","v":{"$error":"#N/A"}},{"$f":"IF(J63<>\"\",IF(K63<>\"NS-0\"&旅費振替依頼書!$I$3,$C$4,$C$3),\"\")","v":""},"","",""]
["",{"$error":"#N/A"},"","","","",null,"",{"$f":"IF(I63=\"転記日付\",INDEX('バッチ反映用（非表示）'!$A$5:$O$100,MATCH($N64,'バッチ反映用（非表示）'!$R$5:$R$100,0),MATCH('次月仕訳（非表示）'!I$6,'バッチ反映用（非表示）'!$A$4:$G$4,0)),\"\")","v":{"$error":"#N/A"}},"",{"$f":"IF($P64=\"TRUE\",INDEX('バッチ反映用（非表示）'!$A$5:$O$100,MATCH($N64,'バッチ反映用（非表示）'!$R$5:$R$100,0),MATCH('次月仕訳（非表示）'!K$6,'バッチ反映用（非表示）'!$A$4:$G$4,0)),IF(AND(P64=\"FALSE\",Q64=\"end\"),\"NS-0100\",\"\"))","v":""},{"$f":"IF($P64=\"TRUE\",INDEX('バッチ反映用（非表示）'!$A$5:$O$100,MATCH($N64,'バッチ反映用（非表示）'!$R$5:$R$100,0),MATCH('次月仕訳（非表示）'!L$6,'バッチ反映用（非表示）'!$A$4:$G$4,0))*-1,IF($Q64=\"end\",SUM($L$7:L63)*-1,\"\"))","v":""},{"$f":"IF($P64=\"TRUE\",INDEX('バッチ反映用（非表示）'!$A$5:$O$100,MATCH($N64,'バッチ反映用（非表示）'!$R$5:$R$100,0),MATCH('次月仕訳（非表示）'!M$6,'バッチ反映用（非表示）'!$A$4:$G$4,0)),IF($Q64=\"end\",\"0\"&旅費振替依頼書!$I$3&旅費振替依頼書!$J$3&\"振替 \"&MONTH(SUBSTITUTE($B$7,\".\",\"/\"))&\"月旅費→\"&MONTH(EOMONTH(SUBSTITUTE($I$7,\".\",\"/\"),1))&\"月作業費 \"&N63&\"件\",\"\"))","v":""},58,"",{"$f":"IF(ISERROR(INDEX('バッチ反映用（非表示）'!$A$5:$O$100,MATCH($N64,'バッチ反映用（非表示）'!$R$5:$R$100,0),MATCH('次月仕訳（非表示）'!L$6,'バッチ反映用（非表示）'!$A$4:$G$4,0)))=FALSE,\"TRUE\",\"FALSE\")","v":"FALSE"},"",null,"",{"$f":"IF(I63=\"転記日付\",INDEX('バッチ反映用（非表示）'!$A$5:$O$100,MATCH($N64,'バッチ反映用（非表示）'!$R$5:$R$100,0),MATCH('次月仕訳（非表示）'!T$6,'バッチ反映用（非表示）'!$A$4:$G$4,0)),\"\")","v":{"$error":"#N/A"}},{"$f":"IF(J64<>\"\",IF(K64<>\"NS-0\"&旅費振替依頼書!$I$3,$C$4,$C$3),\"\")","v":""},"","",""]
["",{"$error":"#N/A"},"","","","",null,"",{"$f":"IF(I64=\"転記日付\",INDEX('バッチ反映用（非表示）'!$A$5:$O$100,MATCH($N65,'バッチ反映用（非表示）'!$R$5:$R$100,0),MATCH('次月仕訳（非表示）'!I$6,'バッチ反映用（非表示）'!$A$4:$G$4,0)),\"\")","v":{"$error":"#N/A"}},"",{"$f":"IF($P65=\"TRUE\",INDEX('バッチ反映用（非表示）'!$A$5:$O$100,MATCH($N65,'バッチ反映用（非表示）'!$R$5:$R$100,0),MATCH('次月仕訳（非表示）'!K$6,'バッチ反映用（非表示）'!$A$4:$G$4,0)),IF(AND(P65=\"FALSE\",Q65=\"end\"),\"NS-0100\",\"\"))","v":""},{"$f":"IF($P65=\"TRUE\",INDEX('バッチ反映用（非表示）'!$A$5:$O$100,MATCH($N65,'バッチ反映用（非表示）'!$R$5:$R$100,0),MATCH('次月仕訳（非表示）'!L$6,'バッチ反映用（非表示）'!$A$4:$G$4,0))*-1,IF($Q65=\"end\",SUM($L$7:L64)*-1,\"\"))","v":""},{"$f":"IF($P65=\"TRUE\",INDEX('バッチ反映用（非表示）'!$A$5:$O$100,MATCH($N65,'バッチ反映用（非表示）'!$R$5:$R$100,0),MATCH('次月仕訳（非表示）'!M$6,'バッチ反映用（非表示）'!$A$4:$G$4,0)),IF($Q65=\"end\",\"0\"&旅費振替依頼書!$I$3&旅費振替依頼書!$J$3&\"振替 \"&MONTH(SUBSTITUTE($B$7,\".\",\"/\"))&\"月旅費→\"&MONTH(EOMONTH(SUBSTITUTE($I$7,\".\",\"/\"),1))&\"月作業費 \"&N64&\"件\",\"\"))","v":""},59,"",{"$f":"IF(ISERROR(INDEX('バッチ反映用（非表示）'!$A$5:$O$100,MATCH($N65,'バッチ反映用（非表示）'!$R$5:$R$100,0),MATCH('次月仕訳（非表示）'!L$6,'バッチ反映用（非表示）'!$A$4:$G$4,0)))=FALSE,\"TRUE\",\"FALSE\")","v":"FALSE"},"",null,"",{"$f":"IF(I64=\"転記日付\",INDEX('バッチ反映用（非表示）'!$A$5:$O$100,MATCH($N65,'バッチ反映用（非表示）'!$R$5:$R$100,0),MATCH('次月仕訳（非表示）'!T$6,'バッチ反映用（非表示）'!$A$4:$G$4,0)),\"\")","v":{"$error":"#N/A"}},{"$f":"IF(J65<>\"\",IF(K65<>\"NS-0\"&旅費振替依頼書!$I$3,$C$4,$C$3),\"\")","v":""},"","",""]
["",{"$error":"#N/A"},"","","","",null,"",{"$f":"IF(I65=\"転記日付\",INDEX('バッチ反映用（非表示）'!$A$5:$O$100,MATCH($N66,'バッチ反映用（非表示）'!$R$5:$R$100,0),MATCH('次月仕訳（非表示）'!I$6,'バッチ反映用（非表示）'!$A$4:$G$4,0)),\"\")","v":{"$error":"#N/A"}},"",{"$f":"IF($P66=\"TRUE\",INDEX('バッチ反映用（非表示）'!$A$5:$O$100,MATCH($N66,'バッチ反映用（非表示）'!$R$5:$R$100,0),MATCH('次月仕訳（非表示）'!K$6,'バッチ反映用（非表示）'!$A$4:$G$4,0)),IF(AND(P66=\"FALSE\",Q66=\"end\"),\"NS-0100\",\"\"))","v":""},{"$f":"IF($P66=\"TRUE\",INDEX('バッチ反映用（非表示）'!$A$5:$O$100,MATCH($N66,'バッチ反映用（非表示）'!$R$5:$R$100,0),MATCH('次月仕訳（非表示）'!L$6,'バッチ反映用（非表示）'!$A$4:$G$4,0))*-1,IF($Q66=\"end\",SUM($L$7:L65)*-1,\"\"))","v":""},{"$f":"IF($P66=\"TRUE\",INDEX('バッチ反映用（非表示）'!$A$5:$O$100,MATCH($N66,'バッチ反映用（非表示）'!$R$5:$R$100,0),MATCH('次月仕訳（非表示）'!M$6,'バッチ反映用（非表示）'!$A$4:$G$4,0)),IF($Q66=\"end\",\"0\"&旅費振替依頼書!$I$3&旅費振替依頼書!$J$3&\"振替 \"&MONTH(SUBSTITUTE($B$7,\".\",\"/\"))&\"月旅費→\"&MONTH(EOMONTH(SUBSTITUTE($I$7,\".\",\"/\"),1))&\"月作業費 \"&N65&\"件\",\"\"))","v":""},60,"",{"$f":"IF(ISERROR(INDEX('バッチ反映用（非表示）'!$A$5:$O$100,MATCH($N66,'バッチ反映用（非表示）'!$R$5:$R$100,0),MATCH('次月仕訳（非表示）'!L$6,'バッチ反映用（非表示）'!$A$4:$G$4,0)))=FALSE,\"TRUE\",\"FALSE\")","v":"FALSE"},"",null,"",{"$f":"IF(I65=\"転記日付\",INDEX('バッチ反映用（非表示）'!$A$5:$O$100,MATCH($N66,'バッチ反映用（非表示）'!$R$5:$R$100,0),MATCH('次月仕訳（非表示）'!T$6,'バッチ反映用（非表示）'!$A$4:$G$4,0)),\"\")","v":{"$error":"#N/A"}},{"$f":"IF(J66<>\"\",IF(K66<>\"NS-0\"&旅費振替依頼書!$I$3,$C$4,$C$3),\"\")","v":""},"","",""]
["",{"$error":"#N/A"},"","","","",null,"",{"$f":"IF(I66=\"転記日付\",INDEX('バッチ反映用（非表示）'!$A$5:$O$100,MATCH($N67,'バッチ反映用（非表示）'!$R$5:$R$100,0),MATCH('次月仕訳（非表示）'!I$6,'バッチ反映用（非表示）'!$A$4:$G$4,0)),\"\")","v":{"$error":"#N/A"}},"",{"$f":"IF($P67=\"TRUE\",INDEX('バッチ反映用（非表示）'!$A$5:$O$100,MATCH($N67,'バッチ反映用（非表示）'!$R$5:$R$100,0),MATCH('次月仕訳（非表示）'!K$6,'バッチ反映用（非表示）'!$A$4:$G$4,0)),IF(AND(P67=\"FALSE\",Q67=\"end\"),\"NS-0100\",\"\"))","v":""},{"$f":"IF($P67=\"TRUE\",INDEX('バッチ反映用（非表示）'!$A$5:$O$100,MATCH($N67,'バッチ反映用（非表示）'!$R$5:$R$100,0),MATCH('次月仕訳（非表示）'!L$6,'バッチ反映用（非表示）'!$A$4:$G$4,0))*-1,IF($Q67=\"end\",SUM($L$7:L66)*-1,\"\"))","v":""},{"$f":"IF($P67=\"TRUE\",INDEX('バッチ反映用（非表示）'!$A$5:$O$100,MATCH($N67,'バッチ反映用（非表示）'!$R$5:$R$100,0),MATCH('次月仕訳（非表示）'!M$6,'バッチ反映用（非表示）'!$A$4:$G$4,0)),IF($Q67=\"end\",\"0\"&旅費振替依頼書!$I$3&旅費振替依頼書!$J$3&\"振替 \"&MONTH(SUBSTITUTE($B$7,\".\",\"/\"))&\"月旅費→\"&MONTH(EOMONTH(SUBSTITUTE($I$7,\".\",\"/\"),1))&\"月作業費 \"&N66&\"件\",\"\"))","v":""},61,"",{"$f":"IF(ISERROR(INDEX('バッチ反映用（非表示）'!$A$5:$O$100,MATCH($N67,'バッチ反映用（非表示）'!$R$5:$R$100,0),MATCH('次月仕訳（非表示）'!L$6,'バッチ反映用（非表示）'!$A$4:$G$4,0)))=FALSE,\"TRUE\",\"FALSE\")","v":"FALSE"},"",null,"",{"$f":"IF(I66=\"転記日付\",INDEX('バッチ反映用（非表示）'!$A$5:$O$100,MATCH($N67,'バッチ反映用（非表示）'!$R$5:$R$100,0),MATCH('次月仕訳（非表示）'!T$6,'バッチ反映用（非表示）'!$A$4:$G$4,0)),\"\")","v":{"$error":"#N/A"}},{"$f":"IF(J67<>\"\",IF(K67<>\"NS-0\"&旅費振替依頼書!$I$3,$C$4,$C$3),\"\")","v":""},"","",""]
["",{"$error":"#N/A"},"","","","",null,"",{"$f":"IF(I67=\"転記日付\",INDEX('バッチ反映用（非表示）'!$A$5:$O$100,MATCH($N68,'バッチ反映用（非表示）'!$R$5:$R$100,0),MATCH('次月仕訳（非表示）'!I$6,'バッチ反映用（非表示）'!$A$4:$G$4,0)),\"\")","v":{"$error":"#N/A"}},"",{"$f":"IF($P68=\"TRUE\",INDEX('バッチ反映用（非表示）'!$A$5:$O$100,MATCH($N68,'バッチ反映用（非表示）'!$R$5:$R$100,0),MATCH('次月仕訳（非表示）'!K$6,'バッチ反映用（非表示）'!$A$4:$G$4,0)),IF(AND(P68=\"FALSE\",Q68=\"end\"),\"NS-0100\",\"\"))","v":""},{"$f":"IF($P68=\"TRUE\",INDEX('バッチ反映用（非表示）'!$A$5:$O$100,MATCH($N68,'バッチ反映用（非表示）'!$R$5:$R$100,0),MATCH('次月仕訳（非表示）'!L$6,'バッチ反映用（非表示）'!$A$4:$G$4,0))*-1,IF($Q68=\"end\",SUM($L$7:L67)*-1,\"\"))","v":""},{"$f":"IF($P68=\"TRUE\",INDEX('バッチ反映用（非表示）'!$A$5:$O$100,MATCH($N68,'バッチ反映用（非表示）'!$R$5:$R$100,0),MATCH('次月仕訳（非表示）'!M$6,'バッチ反映用（非表示）'!$A$4:$G$4,0)),IF($Q68=\"end\",\"0\"&旅費振替依頼書!$I$3&旅費振替依頼書!$J$3&\"振替 \"&MONTH(SUBSTITUTE($B$7,\".\",\"/\"))&\"月旅費→\"&MONTH(EOMONTH(SUBSTITUTE($I$7,\".\",\"/\"),1))&\"月作業費 \"&N67&\"件\",\"\"))","v":""},62,"",{"$f":"IF(ISERROR(INDEX('バッチ反映用（非表示）'!$A$5:$O$100,MATCH($N68,'バッチ反映用（非表示）'!$R$5:$R$100,0),MATCH('次月仕訳（非表示）'!L$6,'バッチ反映用（非表示）'!$A$4:$G$4,0)))=FALSE,\"TRUE\",\"FALSE\")","v":"FALSE"},"",null,"",{"$f":"IF(I67=\"転記日付\",INDEX('バッチ反映用（非表示）'!$A$5:$O$100,MATCH($N68,'バッチ反映用（非表示）'!$R$5:$R$100,0),MATCH('次月仕訳（非表示）'!T$6,'バッチ反映用（非表示）'!$A$4:$G$4,0)),\"\")","v":{"$error":"#N/A"}},{"$f":"IF(J68<>\"\",IF(K68<>\"NS-0\"&旅費振替依頼書!$I$3,$C$4,$C$3),\"\")","v":""},"","",""]
["",{"$error":"#N/A"},"","","","",null,"",{"$f":"IF(I68=\"転記日付\",INDEX('バッチ反映用（非表示）'!$A$5:$O$100,MATCH($N69,'バッチ反映用（非表示）'!$R$5:$R$100,0),MATCH('次月仕訳（非表示）'!I$6,'バッチ反映用（非表示）'!$A$4:$G$4,0)),\"\")","v":{"$error":"#N/A"}},"",{"$f":"IF($P69=\"TRUE\",INDEX('バッチ反映用（非表示）'!$A$5:$O$100,MATCH($N69,'バッチ反映用（非表示）'!$R$5:$R$100,0),MATCH('次月仕訳（非表示）'!K$6,'バッチ反映用（非表示）'!$A$4:$G$4,0)),IF(AND(P69=\"FALSE\",Q69=\"end\"),\"NS-0100\",\"\"))","v":""},{"$f":"IF($P69=\"TRUE\",INDEX('バッチ反映用（非表示）'!$A$5:$O$100,MATCH($N69,'バッチ反映用（非表示）'!$R$5:$R$100,0),MATCH('次月仕訳（非表示）'!L$6,'バッチ反映用（非表示）'!$A$4:$G$4,0))*-1,IF($Q69=\"end\",SUM($L$7:L68)*-1,\"\"))","v":""},{"$f":"IF($P69=\"TRUE\",INDEX('バッチ反映用（非表示）'!$A$5:$O$100,MATCH($N69,'バッチ反映用（非表示）'!$R$5:$R$100,0),MATCH('次月仕訳（非表示）'!M$6,'バッチ反映用（非表示）'!$A$4:$G$4,0)),IF($Q69=\"end\",\"0\"&旅費振替依頼書!$I$3&旅費振替依頼書!$J$3&\"振替 \"&MONTH(SUBSTITUTE($B$7,\".\",\"/\"))&\"月旅費→\"&MONTH(EOMONTH(SUBSTITUTE($I$7,\".\",\"/\"),1))&\"月作業費 \"&N68&\"件\",\"\"))","v":""},63,"",{"$f":"IF(ISERROR(INDEX('バッチ反映用（非表示）'!$A$5:$O$100,MATCH($N69,'バッチ反映用（非表示）'!$R$5:$R$100,0),MATCH('次月仕訳（非表示）'!L$6,'バッチ反映用（非表示）'!$A$4:$G$4,0)))=FALSE,\"TRUE\",\"FALSE\")","v":"FALSE"},"",null,"",{"$f":"IF(I68=\"転記日付\",INDEX('バッチ反映用（非表示）'!$A$5:$O$100,MATCH($N69,'バッチ反映用（非表示）'!$R$5:$R$100,0),MATCH('次月仕訳（非表示）'!T$6,'バッチ反映用（非表示）'!$A$4:$G$4,0)),\"\")","v":{"$error":"#N/A"}},{"$f":"IF(J69<>\"\",IF(K69<>\"NS-0\"&旅費振替依頼書!$I$3,$C$4,$C$3),\"\")","v":""},"","",""]
["",{"$error":"#N/A"},"","","","",null,"",{"$f":"IF(I69=\"転記日付\",INDEX('バッチ反映用（非表示）'!$A$5:$O$100,MATCH($N70,'バッチ反映用（非表示）'!$R$5:$R$100,0),MATCH('次月仕訳（非表示）'!I$6,'バッチ反映用（非表示）'!$A$4:$G$4,0)),\"\")","v":{"$error":"#N/A"}},"",{"$f":"IF($P70=\"TRUE\",INDEX('バッチ反映用（非表示）'!$A$5:$O$100,MATCH($N70,'バッチ反映用（非表示）'!$R$5:$R$100,0),MATCH('次月仕訳（非表示）'!K$6,'バッチ反映用（非表示）'!$A$4:$G$4,0)),IF(AND(P70=\"FALSE\",Q70=\"end\"),\"NS-0100\",\"\"))","v":""},{"$f":"IF($P70=\"TRUE\",INDEX('バッチ反映用（非表示）'!$A$5:$O$100,MATCH($N70,'バッチ反映用（非表示）'!$R$5:$R$100,0),MATCH('次月仕訳（非表示）'!L$6,'バッチ反映用（非表示）'!$A$4:$G$4,0))*-1,IF($Q70=\"end\",SUM($L$7:L69)*-1,\"\"))","v":""},{"$f":"IF($P70=\"TRUE\",INDEX('バッチ反映用（非表示）'!$A$5:$O$100,MATCH($N70,'バッチ反映用（非表示）'!$R$5:$R$100,0),MATCH('次月仕訳（非表示）'!M$6,'バッチ反映用（非表示）'!$A$4:$G$4,0)),IF($Q70=\"end\",\"0\"&旅費振替依頼書!$I$3&旅費振替依頼書!$J$3&\"振替 \"&MONTH(SUBSTITUTE($B$7,\".\",\"/\"))&\"月旅費→\"&MONTH(EOMONTH(SUBSTITUTE($I$7,\".\",\"/\"),1))&\"月作業費 \"&N69&\"件\",\"\"))","v":""},64,"",{"$f":"IF(ISERROR(INDEX('バッチ反映用（非表示）'!$A$5:$O$100,MATCH($N70,'バッチ反映用（非表示）'!$R$5:$R$100,0),MATCH('次月仕訳（非表示）'!L$6,'バッチ反映用（非表示）'!$A$4:$G$4,0)))=FALSE,\"TRUE\",\"FALSE\")","v":"FALSE"},"",null,"",{"$f":"IF(I69=\"転記日付\",INDEX('バッチ反映用（非表示）'!$A$5:$O$100,MATCH($N70,'バッチ反映用（非表示）'!$R$5:$R$100,0),MATCH('次月仕訳（非表示）'!T$6,'バッチ反映用（非表示）'!$A$4:$G$4,0)),\"\")","v":{"$error":"#N/A"}},{"$f":"IF(J70<>\"\",IF(K70<>\"NS-0\"&旅費振替依頼書!$I$3,$C$4,$C$3),\"\")","v":""},"","",""]
["",{"$error":"#N/A"},"","","","",null,"",{"$f":"IF(I70=\"転記日付\",INDEX('バッチ反映用（非表示）'!$A$5:$O$100,MATCH($N71,'バッチ反映用（非表示）'!$R$5:$R$100,0),MATCH('次月仕訳（非表示）'!I$6,'バッチ反映用（非表示）'!$A$4:$G$4,0)),\"\")","v":{"$error":"#N/A"}},"",{"$f":"IF($P71=\"TRUE\",INDEX('バッチ反映用（非表示）'!$A$5:$O$100,MATCH($N71,'バッチ反映用（非表示）'!$R$5:$R$100,0),MATCH('次月仕訳（非表示）'!K$6,'バッチ反映用（非表示）'!$A$4:$G$4,0)),IF(AND(P71=\"FALSE\",Q71=\"end\"),\"NS-0100\",\"\"))","v":""},{"$f":"IF($P71=\"TRUE\",INDEX('バッチ反映用（非表示）'!$A$5:$O$100,MATCH($N71,'バッチ反映用（非表示）'!$R$5:$R$100,0),MATCH('次月仕訳（非表示）'!L$6,'バッチ反映用（非表示）'!$A$4:$G$4,0))*-1,IF($Q71=\"end\",SUM($L$7:L70)*-1,\"\"))","v":""},{"$f":"IF($P71=\"TRUE\",INDEX('バッチ反映用（非表示）'!$A$5:$O$100,MATCH($N71,'バッチ反映用（非表示）'!$R$5:$R$100,0),MATCH('次月仕訳（非表示）'!M$6,'バッチ反映用（非表示）'!$A$4:$G$4,0)),IF($Q71=\"end\",\"0\"&旅費振替依頼書!$I$3&旅費振替依頼書!$J$3&\"振替 \"&MONTH(SUBSTITUTE($B$7,\".\",\"/\"))&\"月旅費→\"&MONTH(EOMONTH(SUBSTITUTE($I$7,\".\",\"/\"),1))&\"月作業費 \"&N70&\"件\",\"\"))","v":""},65,"",{"$f":"IF(ISERROR(INDEX('バッチ反映用（非表示）'!$A$5:$O$100,MATCH($N71,'バッチ反映用（非表示）'!$R$5:$R$100,0),MATCH('次月仕訳（非表示）'!L$6,'バッチ反映用（非表示）'!$A$4:$G$4,0)))=FALSE,\"TRUE\",\"FALSE\")","v":"FALSE"},"",null,"",{"$f":"IF(I70=\"転記日付\",INDEX('バッチ反映用（非表示）'!$A$5:$O$100,MATCH($N71,'バッチ反映用（非表示）'!$R$5:$R$100,0),MATCH('次月仕訳（非表示）'!T$6,'バッチ反映用（非表示）'!$A$4:$G$4,0)),\"\")","v":{"$error":"#N/A"}},{"$f":"IF(J71<>\"\",IF(K71<>\"NS-0\"&旅費振替依頼書!$I$3,$C$4,$C$3),\"\")","v":""},"","",""]
["",{"$error":"#N/A"},"","","","",null,"",{"$f":"IF(I71=\"転記日付\",INDEX('バッチ反映用（非表示）'!$A$5:$O$100,MATCH($N72,'バッチ反映用（非表示）'!$R$5:$R$100,0),MATCH('次月仕訳（非表示）'!I$6,'バッチ反映用（非表示）'!$A$4:$G$4,0)),\"\")","v":{"$error":"#N/A"}},"",{"$f":"IF($P72=\"TRUE\",INDEX('バッチ反映用（非表示）'!$A$5:$O$100,MATCH($N72,'バッチ反映用（非表示）'!$R$5:$R$100,0),MATCH('次月仕訳（非表示）'!K$6,'バッチ反映用（非表示）'!$A$4:$G$4,0)),IF(AND(P72=\"FALSE\",Q72=\"end\"),\"NS-0100\",\"\"))","v":""},{"$f":"IF($P72=\"TRUE\",INDEX('バッチ反映用（非表示）'!$A$5:$O$100,MATCH($N72,'バッチ反映用（非表示）'!$R$5:$R$100,0),MATCH('次月仕訳（非表示）'!L$6,'バッチ反映用（非表示）'!$A$4:$G$4,0))*-1,IF($Q72=\"end\",SUM($L$7:L71)*-1,\"\"))","v":""},{"$f":"IF($P72=\"TRUE\",INDEX('バッチ反映用（非表示）'!$A$5:$O$100,MATCH($N72,'バッチ反映用（非表示）'!$R$5:$R$100,0),MATCH('次月仕訳（非表示）'!M$6,'バッチ反映用（非表示）'!$A$4:$G$4,0)),IF($Q72=\"end\",\"0\"&旅費振替依頼書!$I$3&旅費振替依頼書!$J$3&\"振替 \"&MONTH(SUBSTITUTE($B$7,\".\",\"/\"))&\"月旅費→\"&MONTH(EOMONTH(SUBSTITUTE($I$7,\".\",\"/\"),1))&\"月作業費 \"&N71&\"件\",\"\"))","v":""},66,"",{"$f":"IF(ISERROR(INDEX('バッチ反映用（非表示）'!$A$5:$O$100,MATCH($N72,'バッチ反映用（非表示）'!$R$5:$R$100,0),MATCH('次月仕訳（非表示）'!L$6,'バッチ反映用（非表示）'!$A$4:$G$4,0)))=FALSE,\"TRUE\",\"FALSE\")","v":"FALSE"},"",null,"",{"$f":"IF(I71=\"転記日付\",INDEX('バッチ反映用（非表示）'!$A$5:$O$100,MATCH($N72,'バッチ反映用（非表示）'!$R$5:$R$100,0),MATCH('次月仕訳（非表示）'!T$6,'バッチ反映用（非表示）'!$A$4:$G$4,0)),\"\")","v":{"$error":"#N/A"}},{"$f":"IF(J72<>\"\",IF(K72<>\"NS-0\"&旅費振替依頼書!$I$3,$C$4,$C$3),\"\")","v":""},"","",""]
["",{"$error":"#N/A"},"","","","",null,"",{"$f":"IF(I72=\"転記日付\",INDEX('バッチ反映用（非表示）'!$A$5:$O$100,MATCH($N73,'バッチ反映用（非表示）'!$R$5:$R$100,0),MATCH('次月仕訳（非表示）'!I$6,'バッチ反映用（非表示）'!$A$4:$G$4,0)),\"\")","v":{"$error":"#N/A"}},"",{"$f":"IF($P73=\"TRUE\",INDEX('バッチ反映用（非表示）'!$A$5:$O$100,MATCH($N73,'バッチ反映用（非表示）'!$R$5:$R$100,0),MATCH('次月仕訳（非表示）'!K$6,'バッチ反映用（非表示）'!$A$4:$G$4,0)),IF(AND(P73=\"FALSE\",Q73=\"end\"),\"NS-0100\",\"\"))","v":""},{"$f":"IF($P73=\"TRUE\",INDEX('バッチ反映用（非表示）'!$A$5:$O$100,MATCH($N73,'バッチ反映用（非表示）'!$R$5:$R$100,0),MATCH('次月仕訳（非表示）'!L$6,'バッチ反映用（非表示）'!$A$4:$G$4,0))*-1,IF($Q73=\"end\",SUM($L$7:L72)*-1,\"\"))","v":""},{"$f":"IF($P73=\"TRUE\",INDEX('バッチ反映用（非表示）'!$A$5:$O$100,MATCH($N73,'バッチ反映用（非表示）'!$R$5:$R$100,0),MATCH('次月仕訳（非表示）'!M$6,'バッチ反映用（非表示）'!$A$4:$G$4,0)),IF($Q73=\"end\",\"0\"&旅費振替依頼書!$I$3&旅費振替依頼書!$J$3&\"振替 \"&MONTH(SUBSTITUTE($B$7,\".\",\"/\"))&\"月旅費→\"&MONTH(EOMONTH(SUBSTITUTE($I$7,\".\",\"/\"),1))&\"月作業費 \"&N72&\"件\",\"\"))","v":""},67,"",{"$f":"IF(ISERROR(INDEX('バッチ反映用（非表示）'!$A$5:$O$100,MATCH($N73,'バッチ反映用（非表示）'!$R$5:$R$100,0),MATCH('次月仕訳（非表示）'!L$6,'バッチ反映用（非表示）'!$A$4:$G$4,0)))=FALSE,\"TRUE\",\"FALSE\")","v":"FALSE"},"",null,"",{"$f":"IF(I72=\"転記日付\",INDEX('バッチ反映用（非表示）'!$A$5:$O$100,MATCH($N73,'バッチ反映用（非表示）'!$R$5:$R$100,0),MATCH('次月仕訳（非表示）'!T$6,'バッチ反映用（非表示）'!$A$4:$G$4,0)),\"\")","v":{"$error":"#N/A"}},{"$f":"IF(J73<>\"\",IF(K73<>\"NS-0\"&旅費振替依頼書!$I$3,$C$4,$C$3),\"\")","v":""},"","",""]
["",{"$error":"#N/A"},"","","","",null,"",{"$f":"IF(I73=\"転記日付\",INDEX('バッチ反映用（非表示）'!$A$5:$O$100,MATCH($N74,'バッチ反映用（非表示）'!$R$5:$R$100,0),MATCH('次月仕訳（非表示）'!I$6,'バッチ反映用（非表示）'!$A$4:$G$4,0)),\"\")","v":{"$error":"#N/A"}},"",{"$f":"IF($P74=\"TRUE\",INDEX('バッチ反映用（非表示）'!$A$5:$O$100,MATCH($N74,'バッチ反映用（非表示）'!$R$5:$R$100,0),MATCH('次月仕訳（非表示）'!K$6,'バッチ反映用（非表示）'!$A$4:$G$4,0)),IF(AND(P74=\"FALSE\",Q74=\"end\"),\"NS-0100\",\"\"))","v":""},{"$f":"IF($P74=\"TRUE\",INDEX('バッチ反映用（非表示）'!$A$5:$O$100,MATCH($N74,'バッチ反映用（非表示）'!$R$5:$R$100,0),MATCH('次月仕訳（非表示）'!L$6,'バッチ反映用（非表示）'!$A$4:$G$4,0))*-1,IF($Q74=\"end\",SUM($L$7:L73)*-1,\"\"))","v":""},{"$f":"IF($P74=\"TRUE\",INDEX('バッチ反映用（非表示）'!$A$5:$O$100,MATCH($N74,'バッチ反映用（非表示）'!$R$5:$R$100,0),MATCH('次月仕訳（非表示）'!M$6,'バッチ反映用（非表示）'!$A$4:$G$4,0)),IF($Q74=\"end\",\"0\"&旅費振替依頼書!$I$3&旅費振替依頼書!$J$3&\"振替 \"&MONTH(SUBSTITUTE($B$7,\".\",\"/\"))&\"月旅費→\"&MONTH(EOMONTH(SUBSTITUTE($I$7,\".\",\"/\"),1))&\"月作業費 \"&N73&\"件\",\"\"))","v":""},68,"",{"$f":"IF(ISERROR(INDEX('バッチ反映用（非表示）'!$A$5:$O$100,MATCH($N74,'バッチ反映用（非表示）'!$R$5:$R$100,0),MATCH('次月仕訳（非表示）'!L$6,'バッチ反映用（非表示）'!$A$4:$G$4,0)))=FALSE,\"TRUE\",\"FALSE\")","v":"FALSE"},"",null,"",{"$f":"IF(I73=\"転記日付\",INDEX('バッチ反映用（非表示）'!$A$5:$O$100,MATCH($N74,'バッチ反映用（非表示）'!$R$5:$R$100,0),MATCH('次月仕訳（非表示）'!T$6,'バッチ反映用（非表示）'!$A$4:$G$4,0)),\"\")","v":{"$error":"#N/A"}},{"$f":"IF(J74<>\"\",IF(K74<>\"NS-0\"&旅費振替依頼書!$I$3,$C$4,$C$3),\"\")","v":""},"","",""]
["",{"$error":"#N/A"},"","","","",null,"",{"$f":"IF(I74=\"転記日付\",INDEX('バッチ反映用（非表示）'!$A$5:$O$100,MATCH($N75,'バッチ反映用（非表示）'!$R$5:$R$100,0),MATCH('次月仕訳（非表示）'!I$6,'バッチ反映用（非表示）'!$A$4:$G$4,0)),\"\")","v":{"$error":"#N/A"}},"",{"$f":"IF($P75=\"TRUE\",INDEX('バッチ反映用（非表示）'!$A$5:$O$100,MATCH($N75,'バッチ反映用（非表示）'!$R$5:$R$100,0),MATCH('次月仕訳（非表示）'!K$6,'バッチ反映用（非表示）'!$A$4:$G$4,0)),IF(AND(P75=\"FALSE\",Q75=\"end\"),\"NS-0100\",\"\"))","v":""},{"$f":"IF($P75=\"TRUE\",INDEX('バッチ反映用（非表示）'!$A$5:$O$100,MATCH($N75,'バッチ反映用（非表示）'!$R$5:$R$100,0),MATCH('次月仕訳（非表示）'!L$6,'バッチ反映用（非表示）'!$A$4:$G$4,0))*-1,IF($Q75=\"end\",SUM($L$7:L74)*-1,\"\"))","v":""},{"$f":"IF($P75=\"TRUE\",INDEX('バッチ反映用（非表示）'!$A$5:$O$100,MATCH($N75,'バッチ反映用（非表示）'!$R$5:$R$100,0),MATCH('次月仕訳（非表示）'!M$6,'バッチ反映用（非表示）'!$A$4:$G$4,0)),IF($Q75=\"end\",\"0\"&旅費振替依頼書!$I$3&旅費振替依頼書!$J$3&\"振替 \"&MONTH(SUBSTITUTE($B$7,\".\",\"/\"))&\"月旅費→\"&MONTH(EOMONTH(SUBSTITUTE($I$7,\".\",\"/\"),1))&\"月作業費 \"&N74&\"件\",\"\"))","v":""},69,"",{"$f":"IF(ISERROR(INDEX('バッチ反映用（非表示）'!$A$5:$O$100,MATCH($N75,'バッチ反映用（非表示）'!$R$5:$R$100,0),MATCH('次月仕訳（非表示）'!L$6,'バッチ反映用（非表示）'!$A$4:$G$4,0)))=FALSE,\"TRUE\",\"FALSE\")","v":"FALSE"},"",null,"",{"$f":"IF(I74=\"転記日付\",INDEX('バッチ反映用（非表示）'!$A$5:$O$100,MATCH($N75,'バッチ反映用（非表示）'!$R$5:$R$100,0),MATCH('次月仕訳（非表示）'!T$6,'バッチ反映用（非表示）'!$A$4:$G$4,0)),\"\")","v":{"$error":"#N/A"}},{"$f":"IF(J75<>\"\",IF(K75<>\"NS-0\"&旅費振替依頼書!$I$3,$C$4,$C$3),\"\")","v":""},"","",""]
[{"$f":"IF(L76<>\"\",H76,INDIRECT(\"S\"&ROW(H76)-MAX($O$7:$O$100)))","v":""},{"$f":"IF(L76<>\"\",I76,INDIRECT(\"T\"&ROW(H76)-MAX($O$7:$O$100)))","v":{"$error":"#N/A"}},{"$f":"IF(L76<>\"\",J76,INDIRECT(\"U\"&ROW(H76)-MAX($O$7:$O$100)))","v":""},{"$f":"IF(L76<>\"\",K76,INDIRECT(\"V\"&ROW(H76)-MAX($O$7:$O$100)))","v":""},{"$f":"IF(L76<>\"\",L76,INDIRECT(\"W\"&ROW(H76)-MAX($O$7:$O$100)))","v":""},{"$f":"IF(L76<>\"\",M76,INDIRECT(\"X\"&ROW(H76)-MAX($O$7:$O$100)))","v":""},null,{"$f":"IF(H75=\"会社コード\",\"NS\",IF(Q75=\"end\",\"\",\"\"))","v":""},{"$f":"IF(I75=\"転記日付\",INDEX('バッチ反映用（非表示）'!$A$5:$O$100,MATCH($N76,'バッチ反映用（非表示）'!$R$5:$R$100,0),MATCH('次月仕訳（非表示）'!I$6,'バッチ反映用（非表示）'!$A$4:$G$4,0)),\"\")","v":{"$error":"#N/A"}},{"$f":"IF(K76<>\"\",$C$4,\"\")","v":""},{"$f":"IF($P76=\"TRUE\",INDEX('バッチ反映用（非表示）'!$A$5:$O$100,MATCH($N76,'バッチ反映用（非表示）'!$R$5:$R$100,0),MATCH('次月仕訳（非表示）'!K$6,'バッチ反映用（非表示）'!$A$4:$G$4,0)),IF(AND(P76=\"FALSE\",Q76=\"end\"),\"NS-0100\",\"\"))","v":""},{"$f":"IF($P76=\"TRUE\",INDEX('バッチ反映用（非表示）'!$A$5:$O$100,MATCH($N76,'バッチ反映用（非表示）'!$R$5:$R$100,0),MATCH('次月仕訳（非表示）'!L$6,'バッチ反映用（非表示）'!$A$4:$G$4,0))*-1,IF($Q76=\"end\",SUM($L$7:L75)*-1,\"\"))","v":""},{"$f":"IF($P76=\"TRUE\",INDEX('バッチ反映用（非表示）'!$A$5:$O$100,MATCH($N76,'バッチ反映用（非表示）'!$R$5:$R$100,0),MATCH('次月仕訳（非表示）'!M$6,'バッチ反映用（非表示）'!$A$4:$G$4,0)),IF($Q76=\"end\",\"0\"&旅費振替依頼書!$I$3&旅費振替依頼書!$J$3&\"振替 \"&MONTH(SUBSTITUTE($B$7,\".\",\"/\"))&\"月旅費→\"&MONTH(EOMONTH(SUBSTITUTE($I$7,\".\",\"/\"),1))&\"月作業費 \"&N75&\"件\",\"\"))","v":""},70,{"$f":"IF(M76<>\"\",N76,\"\")","v":""},{"$f":"IF(ISERROR(INDEX('バッチ反映用（非表示）'!$A$5:$O$100,MATCH($N76,'バッチ反映用（非表示）'!$R$5:$R$100,0),MATCH('次月仕訳（非表示）'!L$6,'バッチ反映用（非表示）'!$A$4:$G$4,0)))=FALSE,\"TRUE\",\"FALSE\")","v":"FALSE"},{"$f":"IF(AND(P75=\"TRUE\",P76=\"FALSE\"),\"end\",\"\")","v":""},null,{"$f":"IF(H75=\"会社コード\",\"NS\",IF(Q75=\"end\",\"eof\",\"\"))","v":""},{"$f":"IF(I75=\"転記日付\",INDEX('バッチ反映用（非表示）'!$A$5:$O$100,MATCH($N76,'バッチ反映用（非表示）'!$R$5:$R$100,0),MATCH('次月仕訳（非表示）'!T$6,'バッチ反映用（非表示）'!$A$4:$G$4,0)),\"\")","v":{"$error":"#N/A"}},{"$f":"IF(J76<>\"\",IF(K76<>\"NS-0\"&旅費振替依頼書!$I$3,$C$4,$C$3),\"\")","v":""},{"$f":"IF(K76<>\"\",K76,\"\")","v":""},{"$f":"IF(L76<>\"\",L76*-1,\"\")","v":""},{"$f":"IF(M76<>\"\",M76,\"\")","v":""}]
["",{"$error":"#N/A"},"","","","",null,"",{"$f":"IF(I76=\"転記日付\",INDEX('バッチ反映用（非表示）'!$A$5:$O$100,MATCH($N77,'バッチ反映用（非表示）'!$R$5:$R$100,0),MATCH('次月仕訳（非表示）'!I$6,'バッチ反映用（非表示）'!$A$4:$G$4,0)),\"\")","v":{"$error":"#N/A"}},"",{"$f":"IF($P77=\"TRUE\",INDEX('バッチ反映用（非表示）'!$A$5:$O$100,MATCH($N77,'バッチ反映用（非表示）'!$R$5:$R$100,0),MATCH('次月仕訳（非表示）'!K$6,'バッチ反映用（非表示）'!$A$4:$G$4,0)),IF(AND(P77=\"FALSE\",Q77=\"end\"),\"NS-0100\",\"\"))","v":""},{"$f":"IF($P77=\"TRUE\",INDEX('バッチ反映用（非表示）'!$A$5:$O$100,MATCH($N77,'バッチ反映用（非表示）'!$R$5:$R$100,0),MATCH('次月仕訳（非表示）'!L$6,'バッチ反映用（非表示）'!$A$4:$G$4,0))*-1,IF($Q77=\"end\",SUM($L$7:L76)*-1,\"\"))","v":""},{"$f":"IF($P77=\"TRUE\",INDEX('バッチ反映用（非表示）'!$A$5:$O$100,MATCH($N77,'バッチ反映用（非表示）'!$R$5:$R$100,0),MATCH('次月仕訳（非表示）'!M$6,'バッチ反映用（非表示）'!$A$4:$G$4,0)),IF($Q77=\"end\",\"0\"&旅費振替依頼書!$I$3&旅費振替依頼書!$J$3&\"振替 \"&MONTH(SUBSTITUTE($B$7,\".\",\"/\"))&\"月旅費→\"&MONTH(EOMONTH(SUBSTITUTE($I$7,\".\",\"/\"),1))&\"月作業費 \"&N76&\"件\",\"\"))","v":""},71,"",{"$f":"IF(ISERROR(INDEX('バッチ反映用（非表示）'!$A$5:$O$100,MATCH($N77,'バッチ反映用（非表示）'!$R$5:$R$100,0),MATCH('次月仕訳（非表示）'!L$6,'バッチ反映用（非表示）'!$A$4:$G$4,0)))=FALSE,\"TRUE\",\"FALSE\")","v":"FALSE"},"",null,"",{"$f":"IF(I76=\"転記日付\",INDEX('バッチ反映用（非表示）'!$A$5:$O$100,MATCH($N77,'バッチ反映用（非表示）'!$R$5:$R$100,0),MATCH('次月仕訳（非表示）'!T$6,'バッチ反映用（非表示）'!$A$4:$G$4,0)),\"\")","v":{"$error":"#N/A"}},{"$f":"IF(J77<>\"\",IF(K77<>\"NS-0\"&旅費振替依頼書!$I$3,$C$4,$C$3),\"\")","v":""},"","",""]
["",{"$error":"#N/A"},"","","","",null,"",{"$f":"IF(I77=\"転記日付\",INDEX('バッチ反映用（非表示）'!$A$5:$O$100,MATCH($N78,'バッチ反映用（非表示）'!$R$5:$R$100,0),MATCH('次月仕訳（非表示）'!I$6,'バッチ反映用（非表示）'!$A$4:$G$4,0)),\"\")","v":{"$error":"#N/A"}},"",{"$f":"IF($P78=\"TRUE\",INDEX('バッチ反映用（非表示）'!$A$5:$O$100,MATCH($N78,'バッチ反映用（非表示）'!$R$5:$R$100,0),MATCH('次月仕訳（非表示）'!K$6,'バッチ反映用（非表示）'!$A$4:$G$4,0)),IF(AND(P78=\"FALSE\",Q78=\"end\"),\"NS-0100\",\"\"))","v":""},{"$f":"IF($P78=\"TRUE\",INDEX('バッチ反映用（非表示）'!$A$5:$O$100,MATCH($N78,'バッチ反映用（非表示）'!$R$5:$R$100,0),MATCH('次月仕訳（非表示）'!L$6,'バッチ反映用（非表示）'!$A$4:$G$4,0))*-1,IF($Q78=\"end\",SUM($L$7:L77)*-1,\"\"))","v":""},{"$f":"IF($P78=\"TRUE\",INDEX('バッチ反映用（非表示）'!$A$5:$O$100,MATCH($N78,'バッチ反映用（非表示）'!$R$5:$R$100,0),MATCH('次月仕訳（非表示）'!M$6,'バッチ反映用（非表示）'!$A$4:$G$4,0)),IF($Q78=\"end\",\"0\"&旅費振替依頼書!$I$3&旅費振替依頼書!$J$3&\"振替 \"&MONTH(SUBSTITUTE($B$7,\".\",\"/\"))&\"月旅費→\"&MONTH(EOMONTH(SUBSTITUTE($I$7,\".\",\"/\"),1))&\"月作業費 \"&N77&\"件\",\"\"))","v":""},72,"",{"$f":"IF(ISERROR(INDEX('バッチ反映用（非表示）'!$A$5:$O$100,MATCH($N78,'バッチ反映用（非表示）'!$R$5:$R$100,0),MATCH('次月仕訳（非表示）'!L$6,'バッチ反映用（非表示）'!$A$4:$G$4,0)))=FALSE,\"TRUE\",\"FALSE\")","v":"FALSE"},"",null,"",{"$f":"IF(I77=\"転記日付\",INDEX('バッチ反映用（非表示）'!$A$5:$O$100,MATCH($N78,'バッチ反映用（非表示）'!$R$5:$R$100,0),MATCH('次月仕訳（非表示）'!T$6,'バッチ反映用（非表示）'!$A$4:$G$4,0)),\"\")","v":{"$error":"#N/A"}},{"$f":"IF(J78<>\"\",IF(K78<>\"NS-0\"&旅費振替依頼書!$I$3,$C$4,$C$3),\"\")","v":""},"","",""]
["",{"$error":"#N/A"},"","","","",null,"",{"$f":"IF(I78=\"転記日付\",INDEX('バッチ反映用（非表示）'!$A$5:$O$100,MATCH($N79,'バッチ反映用（非表示）'!$R$5:$R$100,0),MATCH('次月仕訳（非表示）'!I$6,'バッチ反映用（非表示）'!$A$4:$G$4,0)),\"\")","v":{"$error":"#N/A"}},"",{"$f":"IF($P79=\"TRUE\",INDEX('バッチ反映用（非表示）'!$A$5:$O$100,MATCH($N79,'バッチ反映用（非表示）'!$R$5:$R$100,0),MATCH('次月仕訳（非表示）'!K$6,'バッチ反映用（非表示）'!$A$4:$G$4,0)),IF(AND(P79=\"FALSE\",Q79=\"end\"),\"NS-0100\",\"\"))","v":""},{"$f":"IF($P79=\"TRUE\",INDEX('バッチ反映用（非表示）'!$A$5:$O$100,MATCH($N79,'バッチ反映用（非表示）'!$R$5:$R$100,0),MATCH('次月仕訳（非表示）'!L$6,'バッチ反映用（非表示）'!$A$4:$G$4,0))*-1,IF($Q79=\"end\",SUM($L$7:L78)*-1,\"\"))","v":""},{"$f":"IF($P79=\"TRUE\",INDEX('バッチ反映用（非表示）'!$A$5:$O$100,MATCH($N79,'バッチ反映用（非表示）'!$R$5:$R$100,0),MATCH('次月仕訳（非表示）'!M$6,'バッチ反映用（非表示）'!$A$4:$G$4,0)),IF($Q79=\"end\",\"0\"&旅費振替依頼書!$I$3&旅費振替依頼書!$J$3&\"振替 \"&MONTH(SUBSTITUTE($B$7,\".\",\"/\"))&\"月旅費→\"&MONTH(EOMONTH(SUBSTITUTE($I$7,\".\",\"/\"),1))&\"月作業費 \"&N78&\"件\",\"\"))","v":""},73,"",{"$f":"IF(ISERROR(INDEX('バッチ反映用（非表示）'!$A$5:$O$100,MATCH($N79,'バッチ反映用（非表示）'!$R$5:$R$100,0),MATCH('次月仕訳（非表示）'!L$6,'バッチ反映用（非表示）'!$A$4:$G$4,0)))=FALSE,\"TRUE\",\"FALSE\")","v":"FALSE"},"",null,"",{"$f":"IF(I78=\"転記日付\",INDEX('バッチ反映用（非表示）'!$A$5:$O$100,MATCH($N79,'バッチ反映用（非表示）'!$R$5:$R$100,0),MATCH('次月仕訳（非表示）'!T$6,'バッチ反映用（非表示）'!$A$4:$G$4,0)),\"\")","v":{"$error":"#N/A"}},{"$f":"IF(J79<>\"\",IF(K79<>\"NS-0\"&旅費振替依頼書!$I$3,$C$4,$C$3),\"\")","v":""},"","",""]
["",{"$error":"#N/A"},"","","","",null,"",{"$f":"IF(I79=\"転記日付\",INDEX('バッチ反映用（非表示）'!$A$5:$O$100,MATCH($N80,'バッチ反映用（非表示）'!$R$5:$R$100,0),MATCH('次月仕訳（非表示）'!I$6,'バッチ反映用（非表示）'!$A$4:$G$4,0)),\"\")","v":{"$error":"#N/A"}},"",{"$f":"IF($P80=\"TRUE\",INDEX('バッチ反映用（非表示）'!$A$5:$O$100,MATCH($N80,'バッチ反映用（非表示）'!$R$5:$R$100,0),MATCH('次月仕訳（非表示）'!K$6,'バッチ反映用（非表示）'!$A$4:$G$4,0)),IF(AND(P80=\"FALSE\",Q80=\"end\"),\"NS-0100\",\"\"))","v":""},{"$f":"IF($P80=\"TRUE\",INDEX('バッチ反映用（非表示）'!$A$5:$O$100,MATCH($N80,'バッチ反映用（非表示）'!$R$5:$R$100,0),MATCH('次月仕訳（非表示）'!L$6,'バッチ反映用（非表示）'!$A$4:$G$4,0))*-1,IF($Q80=\"end\",SUM($L$7:L79)*-1,\"\"))","v":""},{"$f":"IF($P80=\"TRUE\",INDEX('バッチ反映用（非表示）'!$A$5:$O$100,MATCH($N80,'バッチ反映用（非表示）'!$R$5:$R$100,0),MATCH('次月仕訳（非表示）'!M$6,'バッチ反映用（非表示）'!$A$4:$G$4,0)),IF($Q80=\"end\",\"0\"&旅費振替依頼書!$I$3&旅費振替依頼書!$J$3&\"振替 \"&MONTH(SUBSTITUTE($B$7,\".\",\"/\"))&\"月旅費→\"&MONTH(EOMONTH(SUBSTITUTE($I$7,\".\",\"/\"),1))&\"月作業費 \"&N79&\"件\",\"\"))","v":""},74,"",{"$f":"IF(ISERROR(INDEX('バッチ反映用（非表示）'!$A$5:$O$100,MATCH($N80,'バッチ反映用（非表示）'!$R$5:$R$100,0),MATCH('次月仕訳（非表示）'!L$6,'バッチ反映用（非表示）'!$A$4:$G$4,0)))=FALSE,\"TRUE\",\"FALSE\")","v":"FALSE"},"",null,"",{"$f":"IF(I79=\"転記日付\",INDEX('バッチ反映用（非表示）'!$A$5:$O$100,MATCH($N80,'バッチ反映用（非表示）'!$R$5:$R$100,0),MATCH('次月仕訳（非表示）'!T$6,'バッチ反映用（非表示）'!$A$4:$G$4,0)),\"\")","v":{"$error":"#N/A"}},{"$f":"IF(J80<>\"\",IF(K80<>\"NS-0\"&旅費振替依頼書!$I$3,$C$4,$C$3),\"\")","v":""},"","",""]
["",{"$error":"#N/A"},"","","","",null,"",{"$f":"IF(I80=\"転記日付\",INDEX('バッチ反映用（非表示）'!$A$5:$O$100,MATCH($N81,'バッチ反映用（非表示）'!$R$5:$R$100,0),MATCH('次月仕訳（非表示）'!I$6,'バッチ反映用（非表示）'!$A$4:$G$4,0)),\"\")","v":{"$error":"#N/A"}},"",{"$f":"IF($P81=\"TRUE\",INDEX('バッチ反映用（非表示）'!$A$5:$O$100,MATCH($N81,'バッチ反映用（非表示）'!$R$5:$R$100,0),MATCH('次月仕訳（非表示）'!K$6,'バッチ反映用（非表示）'!$A$4:$G$4,0)),IF(AND(P81=\"FALSE\",Q81=\"end\"),\"NS-0100\",\"\"))","v":""},{"$f":"IF($P81=\"TRUE\",INDEX('バッチ反映用（非表示）'!$A$5:$O$100,MATCH($N81,'バッチ反映用（非表示）'!$R$5:$R$100,0),MATCH('次月仕訳（非表示）'!L$6,'バッチ反映用（非表示）'!$A$4:$G$4,0))*-1,IF($Q81=\"end\",SUM($L$7:L80)*-1,\"\"))","v":""},{"$f":"IF($P81=\"TRUE\",INDEX('バッチ反映用（非表示）'!$A$5:$O$100,MATCH($N81,'バッチ反映用（非表示）'!$R$5:$R$100,0),MATCH('次月仕訳（非表示）'!M$6,'バッチ反映用（非表示）'!$A$4:$G$4,0)),IF($Q81=\"end\",\"0\"&旅費振替依頼書!$I$3&旅費振替依頼書!$J$3&\"振替 \"&MONTH(SUBSTITUTE($B$7,\".\",\"/\"))&\"月旅費→\"&MONTH(EOMONTH(SUBSTITUTE($I$7,\".\",\"/\"),1))&\"月作業費 \"&N80&\"件\",\"\"))","v":""},75,"",{"$f":"IF(ISERROR(INDEX('バッチ反映用（非表示）'!$A$5:$O$100,MATCH($N81,'バッチ反映用（非表示）'!$R$5:$R$100,0),MATCH('次月仕訳（非表示）'!L$6,'バッチ反映用（非表示）'!$A$4:$G$4,0)))=FALSE,\"TRUE\",\"FALSE\")","v":"FALSE"},"",null,"",{"$f":"IF(I80=\"転記日付\",INDEX('バッチ反映用（非表示）'!$A$5:$O$100,MATCH($N81,'バッチ反映用（非表示）'!$R$5:$R$100,0),MATCH('次月仕訳（非表示）'!T$6,'バッチ反映用（非表示）'!$A$4:$G$4,0)),\"\")","v":{"$error":"#N/A"}},{"$f":"IF(J81<>\"\",IF(K81<>\"NS-0\"&旅費振替依頼書!$I$3,$C$4,$C$3),\"\")","v":""},"","",""]
["",{"$error":"#N/A"},"","","","",null,"",{"$f":"IF(I81=\"転記日付\",INDEX('バッチ反映用（非表示）'!$A$5:$O$100,MATCH($N82,'バッチ反映用（非表示）'!$R$5:$R$100,0),MATCH('次月仕訳（非表示）'!I$6,'バッチ反映用（非表示）'!$A$4:$G$4,0)),\"\")","v":{"$error":"#N/A"}},"",{"$f":"IF($P82=\"TRUE\",INDEX('バッチ反映用（非表示）'!$A$5:$O$100,MATCH($N82,'バッチ反映用（非表示）'!$R$5:$R$100,0),MATCH('次月仕訳（非表示）'!K$6,'バッチ反映用（非表示）'!$A$4:$G$4,0)),IF(AND(P82=\"FALSE\",Q82=\"end\"),\"NS-0100\",\"\"))","v":""},{"$f":"IF($P82=\"TRUE\",INDEX('バッチ反映用（非表示）'!$A$5:$O$100,MATCH($N82,'バッチ反映用（非表示）'!$R$5:$R$100,0),MATCH('次月仕訳（非表示）'!L$6,'バッチ反映用（非表示）'!$A$4:$G$4,0))*-1,IF($Q82=\"end\",SUM($L$7:L81)*-1,\"\"))","v":""},{"$f":"IF($P82=\"TRUE\",INDEX('バッチ反映用（非表示）'!$A$5:$O$100,MATCH($N82,'バッチ反映用（非表示）'!$R$5:$R$100,0),MATCH('次月仕訳（非表示）'!M$6,'バッチ反映用（非表示）'!$A$4:$G$4,0)),IF($Q82=\"end\",\"0\"&旅費振替依頼書!$I$3&旅費振替依頼書!$J$3&\"振替 \"&MONTH(SUBSTITUTE($B$7,\".\",\"/\"))&\"月旅費→\"&MONTH(EOMONTH(SUBSTITUTE($I$7,\".\",\"/\"),1))&\"月作業費 \"&N81&\"件\",\"\"))","v":""},76,"",{"$f":"IF(ISERROR(INDEX('バッチ反映用（非表示）'!$A$5:$O$100,MATCH($N82,'バッチ反映用（非表示）'!$R$5:$R$100,0),MATCH('次月仕訳（非表示）'!L$6,'バッチ反映用（非表示）'!$A$4:$G$4,0)))=FALSE,\"TRUE\",\"FALSE\")","v":"FALSE"},"",null,"",{"$f":"IF(I81=\"転記日付\",INDEX('バッチ反映用（非表示）'!$A$5:$O$100,MATCH($N82,'バッチ反映用（非表示）'!$R$5:$R$100,0),MATCH('次月仕訳（非表示）'!T$6,'バッチ反映用（非表示）'!$A$4:$G$4,0)),\"\")","v":{"$error":"#N/A"}},{"$f":"IF(J82<>\"\",IF(K82<>\"NS-0\"&旅費振替依頼書!$I$3,$C$4,$C$3),\"\")","v":""},"","",""]
["",{"$error":"#N/A"},"","","","",null,"",{"$f":"IF(I82=\"転記日付\",INDEX('バッチ反映用（非表示）'!$A$5:$O$100,MATCH($N83,'バッチ反映用（非表示）'!$R$5:$R$100,0),MATCH('次月仕訳（非表示）'!I$6,'バッチ反映用（非表示）'!$A$4:$G$4,0)),\"\")","v":{"$error":"#N/A"}},"",{"$f":"IF($P83=\"TRUE\",INDEX('バッチ反映用（非表示）'!$A$5:$O$100,MATCH($N83,'バッチ反映用（非表示）'!$R$5:$R$100,0),MATCH('次月仕訳（非表示）'!K$6,'バッチ反映用（非表示）'!$A$4:$G$4,0)),IF(AND(P83=\"FALSE\",Q83=\"end\"),\"NS-0100\",\"\"))","v":""},{"$f":"IF($P83=\"TRUE\",INDEX('バッチ反映用（非表示）'!$A$5:$O$100,MATCH($N83,'バッチ反映用（非表示）'!$R$5:$R$100,0),MATCH('次月仕訳（非表示）'!L$6,'バッチ反映用（非表示）'!$A$4:$G$4,0))*-1,IF($Q83=\"end\",SUM($L$7:L82)*-1,\"\"))","v":""},{"$f":"IF($P83=\"TRUE\",INDEX('バッチ反映用（非表示）'!$A$5:$O$100,MATCH($N83,'バッチ反映用（非表示）'!$R$5:$R$100,0),MATCH('次月仕訳（非表示）'!M$6,'バッチ反映用（非表示）'!$A$4:$G$4,0)),IF($Q83=\"end\",\"0\"&旅費振替依頼書!$I$3&旅費振替依頼書!$J$3&\"振替 \"&MONTH(SUBSTITUTE($B$7,\".\",\"/\"))&\"月旅費→\"&MONTH(EOMONTH(SUBSTITUTE($I$7,\".\",\"/\"),1))&\"月作業費 \"&N82&\"件\",\"\"))","v":""},77,"",{"$f":"IF(ISERROR(INDEX('バッチ反映用（非表示）'!$A$5:$O$100,MATCH($N83,'バッチ反映用（非表示）'!$R$5:$R$100,0),MATCH('次月仕訳（非表示）'!L$6,'バッチ反映用（非表示）'!$A$4:$G$4,0)))=FALSE,\"TRUE\",\"FALSE\")","v":"FALSE"},"",null,"",{"$f":"IF(I82=\"転記日付\",INDEX('バッチ反映用（非表示）'!$A$5:$O$100,MATCH($N83,'バッチ反映用（非表示）'!$R$5:$R$100,0),MATCH('次月仕訳（非表示）'!T$6,'バッチ反映用（非表示）'!$A$4:$G$4,0)),\"\")","v":{"$error":"#N/A"}},{"$f":"IF(J83<>\"\",IF(K83<>\"NS-0\"&旅費振替依頼書!$I$3,$C$4,$C$3),\"\")","v":""},"","",""]
["",{"$error":"#N/A"},"","","","",null,"",{"$f":"IF(I83=\"転記日付\",INDEX('バッチ反映用（非表示）'!$A$5:$O$100,MATCH($N84,'バッチ反映用（非表示）'!$R$5:$R$100,0),MATCH('次月仕訳（非表示）'!I$6,'バッチ反映用（非表示）'!$A$4:$G$4,0)),\"\")","v":{"$error":"#N/A"}},"",{"$f":"IF($P84=\"TRUE\",INDEX('バッチ反映用（非表示）'!$A$5:$O$100,MATCH($N84,'バッチ反映用（非表示）'!$R$5:$R$100,0),MATCH('次月仕訳（非表示）'!K$6,'バッチ反映用（非表示）'!$A$4:$G$4,0)),IF(AND(P84=\"FALSE\",Q84=\"end\"),\"NS-0100\",\"\"))","v":""},{"$f":"IF($P84=\"TRUE\",INDEX('バッチ反映用（非表示）'!$A$5:$O$100,MATCH($N84,'バッチ反映用（非表示）'!$R$5:$R$100,0),MATCH('次月仕訳（非表示）'!L$6,'バッチ反映用（非表示）'!$A$4:$G$4,0))*-1,IF($Q84=\"end\",SUM($L$7:L83)*-1,\"\"))","v":""},{"$f":"IF($P84=\"TRUE\",INDEX('バッチ反映用（非表示）'!$A$5:$O$100,MATCH($N84,'バッチ反映用（非表示）'!$R$5:$R$100,0),MATCH('次月仕訳（非表示）'!M$6,'バッチ反映用（非表示）'!$A$4:$G$4,0)),IF($Q84=\"end\",\"0\"&旅費振替依頼書!$I$3&旅費振替依頼書!$J$3&\"振替 \"&MONTH(SUBSTITUTE($B$7,\".\",\"/\"))&\"月旅費→\"&MONTH(EOMONTH(SUBSTITUTE($I$7,\".\",\"/\"),1))&\"月作業費 \"&N83&\"件\",\"\"))","v":""},78,"",{"$f":"IF(ISERROR(INDEX('バッチ反映用（非表示）'!$A$5:$O$100,MATCH($N84,'バッチ反映用（非表示）'!$R$5:$R$100,0),MATCH('次月仕訳（非表示）'!L$6,'バッチ反映用（非表示）'!$A$4:$G$4,0)))=FALSE,\"TRUE\",\"FALSE\")","v":"FALSE"},"",null,"",{"$f":"IF(I83=\"転記日付\",INDEX('バッチ反映用（非表示）'!$A$5:$O$100,MATCH($N84,'バッチ反映用（非表示）'!$R$5:$R$100,0),MATCH('次月仕訳（非表示）'!T$6,'バッチ反映用（非表示）'!$A$4:$G$4,0)),\"\")","v":{"$error":"#N/A"}},{"$f":"IF(J84<>\"\",IF(K84<>\"NS-0\"&旅費振替依頼書!$I$3,$C$4,$C$3),\"\")","v":""},"","",""]
["",{"$error":"#N/A"},"","","","",null,"",{"$f":"IF(I84=\"転記日付\",INDEX('バッチ反映用（非表示）'!$A$5:$O$100,MATCH($N85,'バッチ反映用（非表示）'!$R$5:$R$100,0),MATCH('次月仕訳（非表示）'!I$6,'バッチ反映用（非表示）'!$A$4:$G$4,0)),\"\")","v":{"$error":"#N/A"}},"",{"$f":"IF($P85=\"TRUE\",INDEX('バッチ反映用（非表示）'!$A$5:$O$100,MATCH($N85,'バッチ反映用（非表示）'!$R$5:$R$100,0),MATCH('次月仕訳（非表示）'!K$6,'バッチ反映用（非表示）'!$A$4:$G$4,0)),IF(AND(P85=\"FALSE\",Q85=\"end\"),\"NS-0100\",\"\"))","v":""},{"$f":"IF($P85=\"TRUE\",INDEX('バッチ反映用（非表示）'!$A$5:$O$100,MATCH($N85,'バッチ反映用（非表示）'!$R$5:$R$100,0),MATCH('次月仕訳（非表示）'!L$6,'バッチ反映用（非表示）'!$A$4:$G$4,0))*-1,IF($Q85=\"end\",SUM($L$7:L84)*-1,\"\"))","v":""},{"$f":"IF($P85=\"TRUE\",INDEX('バッチ反映用（非表示）'!$A$5:$O$100,MATCH($N85,'バッチ反映用（非表示）'!$R$5:$R$100,0),MATCH('次月仕訳（非表示）'!M$6,'バッチ反映用（非表示）'!$A$4:$G$4,0)),IF($Q85=\"end\",\"0\"&旅費振替依頼書!$I$3&旅費振替依頼書!$J$3&\"振替 \"&MONTH(SUBSTITUTE($B$7,\".\",\"/\"))&\"月旅費→\"&MONTH(EOMONTH(SUBSTITUTE($I$7,\".\",\"/\"),1))&\"月作業費 \"&N84&\"件\",\"\"))","v":""},79,"",{"$f":"IF(ISERROR(INDEX('バッチ反映用（非表示）'!$A$5:$O$100,MATCH($N85,'バッチ反映用（非表示）'!$R$5:$R$100,0),MATCH('次月仕訳（非表示）'!L$6,'バッチ反映用（非表示）'!$A$4:$G$4,0)))=FALSE,\"TRUE\",\"FALSE\")","v":"FALSE"},"",null,"",{"$f":"IF(I84=\"転記日付\",INDEX('バッチ反映用（非表示）'!$A$5:$O$100,MATCH($N85,'バッチ反映用（非表示）'!$R$5:$R$100,0),MATCH('次月仕訳（非表示）'!T$6,'バッチ反映用（非表示）'!$A$4:$G$4,0)),\"\")","v":{"$error":"#N/A"}},{"$f":"IF(J85<>\"\",IF(K85<>\"NS-0\"&旅費振替依頼書!$I$3,$C$4,$C$3),\"\")","v":""},"","",""]
["",{"$error":"#N/A"},"","","","",null,"",{"$f":"IF(I85=\"転記日付\",INDEX('バッチ反映用（非表示）'!$A$5:$O$100,MATCH($N86,'バッチ反映用（非表示）'!$R$5:$R$100,0),MATCH('次月仕訳（非表示）'!I$6,'バッチ反映用（非表示）'!$A$4:$G$4,0)),\"\")","v":{"$error":"#N/A"}},"",{"$f":"IF($P86=\"TRUE\",INDEX('バッチ反映用（非表示）'!$A$5:$O$100,MATCH($N86,'バッチ反映用（非表示）'!$R$5:$R$100,0),MATCH('次月仕訳（非表示）'!K$6,'バッチ反映用（非表示）'!$A$4:$G$4,0)),IF(AND(P86=\"FALSE\",Q86=\"end\"),\"NS-0100\",\"\"))","v":""},{"$f":"IF($P86=\"TRUE\",INDEX('バッチ反映用（非表示）'!$A$5:$O$100,MATCH($N86,'バッチ反映用（非表示）'!$R$5:$R$100,0),MATCH('次月仕訳（非表示）'!L$6,'バッチ反映用（非表示）'!$A$4:$G$4,0))*-1,IF($Q86=\"end\",SUM($L$7:L85)*-1,\"\"))","v":""},{"$f":"IF($P86=\"TRUE\",INDEX('バッチ反映用（非表示）'!$A$5:$O$100,MATCH($N86,'バッチ反映用（非表示）'!$R$5:$R$100,0),MATCH('次月仕訳（非表示）'!M$6,'バッチ反映用（非表示）'!$A$4:$G$4,0)),IF($Q86=\"end\",\"0\"&旅費振替依頼書!$I$3&旅費振替依頼書!$J$3&\"振替 \"&MONTH(SUBSTITUTE($B$7,\".\",\"/\"))&\"月旅費→\"&MONTH(EOMONTH(SUBSTITUTE($I$7,\".\",\"/\"),1))&\"月作業費 \"&N85&\"件\",\"\"))","v":""},80,"",{"$f":"IF(ISERROR(INDEX('バッチ反映用（非表示）'!$A$5:$O$100,MATCH($N86,'バッチ反映用（非表示）'!$R$5:$R$100,0),MATCH('次月仕訳（非表示）'!L$6,'バッチ反映用（非表示）'!$A$4:$G$4,0)))=FALSE,\"TRUE\",\"FALSE\")","v":"FALSE"},"",null,"",{"$f":"IF(I85=\"転記日付\",INDEX('バッチ反映用（非表示）'!$A$5:$O$100,MATCH($N86,'バッチ反映用（非表示）'!$R$5:$R$100,0),MATCH('次月仕訳（非表示）'!T$6,'バッチ反映用（非表示）'!$A$4:$G$4,0)),\"\")","v":{"$error":"#N/A"}},{"$f":"IF(J86<>\"\",IF(K86<>\"NS-0\"&旅費振替依頼書!$I$3,$C$4,$C$3),\"\")","v":""},"","",""]
["",{"$error":"#N/A"},"","","","",null,"",{"$f":"IF(I86=\"転記日付\",INDEX('バッチ反映用（非表示）'!$A$5:$O$100,MATCH($N87,'バッチ反映用（非表示）'!$R$5:$R$100,0),MATCH('次月仕訳（非表示）'!I$6,'バッチ反映用（非表示）'!$A$4:$G$4,0)),\"\")","v":{"$error":"#N/A"}},"",{"$f":"IF($P87=\"TRUE\",INDEX('バッチ反映用（非表示）'!$A$5:$O$100,MATCH($N87,'バッチ反映用（非表示）'!$R$5:$R$100,0),MATCH('次月仕訳（非表示）'!K$6,'バッチ反映用（非表示）'!$A$4:$G$4,0)),IF(AND(P87=\"FALSE\",Q87=\"end\"),\"NS-0100\",\"\"))","v":""},{"$f":"IF($P87=\"TRUE\",INDEX('バッチ反映用（非表示）'!$A$5:$O$100,MATCH($N87,'バッチ反映用（非表示）'!$R$5:$R$100,0),MATCH('次月仕訳（非表示）'!L$6,'バッチ反映用（非表示）'!$A$4:$G$4,0))*-1,IF($Q87=\"end\",SUM($L$7:L86)*-1,\"\"))","v":""},{"$f":"IF($P87=\"TRUE\",INDEX('バッチ反映用（非表示）'!$A$5:$O$100,MATCH($N87,'バッチ反映用（非表示）'!$R$5:$R$100,0),MATCH('次月仕訳（非表示）'!M$6,'バッチ反映用（非表示）'!$A$4:$G$4,0)),IF($Q87=\"end\",\"0\"&旅費振替依頼書!$I$3&旅費振替依頼書!$J$3&\"振替 \"&MONTH(SUBSTITUTE($B$7,\".\",\"/\"))&\"月旅費→\"&MONTH(EOMONTH(SUBSTITUTE($I$7,\".\",\"/\"),1))&\"月作業費 \"&N86&\"件\",\"\"))","v":""},81,"",{"$f":"IF(ISERROR(INDEX('バッチ反映用（非表示）'!$A$5:$O$100,MATCH($N87,'バッチ反映用（非表示）'!$R$5:$R$100,0),MATCH('次月仕訳（非表示）'!L$6,'バッチ反映用（非表示）'!$A$4:$G$4,0)))=FALSE,\"TRUE\",\"FALSE\")","v":"FALSE"},"",null,"",{"$f":"IF(I86=\"転記日付\",INDEX('バッチ反映用（非表示）'!$A$5:$O$100,MATCH($N87,'バッチ反映用（非表示）'!$R$5:$R$100,0),MATCH('次月仕訳（非表示）'!T$6,'バッチ反映用（非表示）'!$A$4:$G$4,0)),\"\")","v":{"$error":"#N/A"}},{"$f":"IF(J87<>\"\",IF(K87<>\"NS-0\"&旅費振替依頼書!$I$3,$C$4,$C$3),\"\")","v":""},"","",""]
["",{"$error":"#N/A"},"","","","",null,"",{"$f":"IF(I87=\"転記日付\",INDEX('バッチ反映用（非表示）'!$A$5:$O$100,MATCH($N88,'バッチ反映用（非表示）'!$R$5:$R$100,0),MATCH('次月仕訳（非表示）'!I$6,'バッチ反映用（非表示）'!$A$4:$G$4,0)),\"\")","v":{"$error":"#N/A"}},"",{"$f":"IF($P88=\"TRUE\",INDEX('バッチ反映用（非表示）'!$A$5:$O$100,MATCH($N88,'バッチ反映用（非表示）'!$R$5:$R$100,0),MATCH('次月仕訳（非表示）'!K$6,'バッチ反映用（非表示）'!$A$4:$G$4,0)),IF(AND(P88=\"FALSE\",Q88=\"end\"),\"NS-0100\",\"\"))","v":""},{"$f":"IF($P88=\"TRUE\",INDEX('バッチ反映用（非表示）'!$A$5:$O$100,MATCH($N88,'バッチ反映用（非表示）'!$R$5:$R$100,0),MATCH('次月仕訳（非表示）'!L$6,'バッチ反映用（非表示）'!$A$4:$G$4,0))*-1,IF($Q88=\"end\",SUM($L$7:L87)*-1,\"\"))","v":""},{"$f":"IF($P88=\"TRUE\",INDEX('バッチ反映用（非表示）'!$A$5:$O$100,MATCH($N88,'バッチ反映用（非表示）'!$R$5:$R$100,0),MATCH('次月仕訳（非表示）'!M$6,'バッチ反映用（非表示）'!$A$4:$G$4,0)),IF($Q88=\"end\",\"0\"&旅費振替依頼書!$I$3&旅費振替依頼書!$J$3&\"振替 \"&MONTH(SUBSTITUTE($B$7,\".\",\"/\"))&\"月旅費→\"&MONTH(EOMONTH(SUBSTITUTE($I$7,\".\",\"/\"),1))&\"月作業費 \"&N87&\"件\",\"\"))","v":""},82,"",{"$f":"IF(ISERROR(INDEX('バッチ反映用（非表示）'!$A$5:$O$100,MATCH($N88,'バッチ反映用（非表示）'!$R$5:$R$100,0),MATCH('次月仕訳（非表示）'!L$6,'バッチ反映用（非表示）'!$A$4:$G$4,0)))=FALSE,\"TRUE\",\"FALSE\")","v":"FALSE"},"",null,"",{"$f":"IF(I87=\"転記日付\",INDEX('バッチ反映用（非表示）'!$A$5:$O$100,MATCH($N88,'バッチ反映用（非表示）'!$R$5:$R$100,0),MATCH('次月仕訳（非表示）'!T$6,'バッチ反映用（非表示）'!$A$4:$G$4,0)),\"\")","v":{"$error":"#N/A"}},{"$f":"IF(J88<>\"\",IF(K88<>\"NS-0\"&旅費振替依頼書!$I$3,$C$4,$C$3),\"\")","v":""},"","",""]
["",{"$error":"#N/A"},"","","","",null,"",{"$f":"IF(I88=\"転記日付\",INDEX('バッチ反映用（非表示）'!$A$5:$O$100,MATCH($N89,'バッチ反映用（非表示）'!$R$5:$R$100,0),MATCH('次月仕訳（非表示）'!I$6,'バッチ反映用（非表示）'!$A$4:$G$4,0)),\"\")","v":{"$error":"#N/A"}},"",{"$f":"IF($P89=\"TRUE\",INDEX('バッチ反映用（非表示）'!$A$5:$O$100,MATCH($N89,'バッチ反映用（非表示）'!$R$5:$R$100,0),MATCH('次月仕訳（非表示）'!K$6,'バッチ反映用（非表示）'!$A$4:$G$4,0)),IF(AND(P89=\"FALSE\",Q89=\"end\"),\"NS-0100\",\"\"))","v":""},{"$f":"IF($P89=\"TRUE\",INDEX('バッチ反映用（非表示）'!$A$5:$O$100,MATCH($N89,'バッチ反映用（非表示）'!$R$5:$R$100,0),MATCH('次月仕訳（非表示）'!L$6,'バッチ反映用（非表示）'!$A$4:$G$4,0))*-1,IF($Q89=\"end\",SUM($L$7:L88)*-1,\"\"))","v":""},{"$f":"IF($P89=\"TRUE\",INDEX('バッチ反映用（非表示）'!$A$5:$O$100,MATCH($N89,'バッチ反映用（非表示）'!$R$5:$R$100,0),MATCH('次月仕訳（非表示）'!M$6,'バッチ反映用（非表示）'!$A$4:$G$4,0)),IF($Q89=\"end\",\"0\"&旅費振替依頼書!$I$3&旅費振替依頼書!$J$3&\"振替 \"&MONTH(SUBSTITUTE($B$7,\".\",\"/\"))&\"月旅費→\"&MONTH(EOMONTH(SUBSTITUTE($I$7,\".\",\"/\"),1))&\"月作業費 \"&N88&\"件\",\"\"))","v":""},83,"",{"$f":"IF(ISERROR(INDEX('バッチ反映用（非表示）'!$A$5:$O$100,MATCH($N89,'バッチ反映用（非表示）'!$R$5:$R$100,0),MATCH('次月仕訳（非表示）'!L$6,'バッチ反映用（非表示）'!$A$4:$G$4,0)))=FALSE,\"TRUE\",\"FALSE\")","v":"FALSE"},"",null,"",{"$f":"IF(I88=\"転記日付\",INDEX('バッチ反映用（非表示）'!$A$5:$O$100,MATCH($N89,'バッチ反映用（非表示）'!$R$5:$R$100,0),MATCH('次月仕訳（非表示）'!T$6,'バッチ反映用（非表示）'!$A$4:$G$4,0)),\"\")","v":{"$error":"#N/A"}},{"$f":"IF(J89<>\"\",IF(K89<>\"NS-0\"&旅費振替依頼書!$I$3,$C$4,$C$3),\"\")","v":""},"","",""]
["",{"$error":"#N/A"},"","","","",null,"",{"$f":"IF(I89=\"転記日付\",INDEX('バッチ反映用（非表示）'!$A$5:$O$100,MATCH($N90,'バッチ反映用（非表示）'!$R$5:$R$100,0),MATCH('次月仕訳（非表示）'!I$6,'バッチ反映用（非表示）'!$A$4:$G$4,0)),\"\")","v":{"$error":"#N/A"}},"",{"$f":"IF($P90=\"TRUE\",INDEX('バッチ反映用（非表示）'!$A$5:$O$100,MATCH($N90,'バッチ反映用（非表示）'!$R$5:$R$100,0),MATCH('次月仕訳（非表示）'!K$6,'バッチ反映用（非表示）'!$A$4:$G$4,0)),IF(AND(P90=\"FALSE\",Q90=\"end\"),\"NS-0100\",\"\"))","v":""},{"$f":"IF($P90=\"TRUE\",INDEX('バッチ反映用（非表示）'!$A$5:$O$100,MATCH($N90,'バッチ反映用（非表示）'!$R$5:$R$100,0),MATCH('次月仕訳（非表示）'!L$6,'バッチ反映用（非表示）'!$A$4:$G$4,0))*-1,IF($Q90=\"end\",SUM($L$7:L89)*-1,\"\"))","v":""},{"$f":"IF($P90=\"TRUE\",INDEX('バッチ反映用（非表示）'!$A$5:$O$100,MATCH($N90,'バッチ反映用（非表示）'!$R$5:$R$100,0),MATCH('次月仕訳（非表示）'!M$6,'バッチ反映用（非表示）'!$A$4:$G$4,0)),IF($Q90=\"end\",\"0\"&旅費振替依頼書!$I$3&旅費振替依頼書!$J$3&\"振替 \"&MONTH(SUBSTITUTE($B$7,\".\",\"/\"))&\"月旅費→\"&MONTH(EOMONTH(SUBSTITUTE($I$7,\".\",\"/\"),1))&\"月作業費 \"&N89&\"件\",\"\"))","v":""},84,"",{"$f":"IF(ISERROR(INDEX('バッチ反映用（非表示）'!$A$5:$O$100,MATCH($N90,'バッチ反映用（非表示）'!$R$5:$R$100,0),MATCH('次月仕訳（非表示）'!L$6,'バッチ反映用（非表示）'!$A$4:$G$4,0)))=FALSE,\"TRUE\",\"FALSE\")","v":"FALSE"},"",null,"",{"$f":"IF(I89=\"転記日付\",INDEX('バッチ反映用（非表示）'!$A$5:$O$100,MATCH($N90,'バッチ反映用（非表示）'!$R$5:$R$100,0),MATCH('次月仕訳（非表示）'!T$6,'バッチ反映用（非表示）'!$A$4:$G$4,0)),\"\")","v":{"$error":"#N/A"}},{"$f":"IF(J90<>\"\",IF(K90<>\"NS-0\"&旅費振替依頼書!$I$3,$C$4,$C$3),\"\")","v":""},"","",""]
["",{"$error":"#N/A"},"","","","",null,"",{"$f":"IF(I90=\"転記日付\",INDEX('バッチ反映用（非表示）'!$A$5:$O$100,MATCH($N91,'バッチ反映用（非表示）'!$R$5:$R$100,0),MATCH('次月仕訳（非表示）'!I$6,'バッチ反映用（非表示）'!$A$4:$G$4,0)),\"\")","v":{"$error":"#N/A"}},"",{"$f":"IF($P91=\"TRUE\",INDEX('バッチ反映用（非表示）'!$A$5:$O$100,MATCH($N91,'バッチ反映用（非表示）'!$R$5:$R$100,0),MATCH('次月仕訳（非表示）'!K$6,'バッチ反映用（非表示）'!$A$4:$G$4,0)),IF(AND(P91=\"FALSE\",Q91=\"end\"),\"NS-0100\",\"\"))","v":""},{"$f":"IF($P91=\"TRUE\",INDEX('バッチ反映用（非表示）'!$A$5:$O$100,MATCH($N91,'バッチ反映用（非表示）'!$R$5:$R$100,0),MATCH('次月仕訳（非表示）'!L$6,'バッチ反映用（非表示）'!$A$4:$G$4,0))*-1,IF($Q91=\"end\",SUM($L$7:L90)*-1,\"\"))","v":""},{"$f":"IF($P91=\"TRUE\",INDEX('バッチ反映用（非表示）'!$A$5:$O$100,MATCH($N91,'バッチ反映用（非表示）'!$R$5:$R$100,0),MATCH('次月仕訳（非表示）'!M$6,'バッチ反映用（非表示）'!$A$4:$G$4,0)),IF($Q91=\"end\",\"0\"&旅費振替依頼書!$I$3&旅費振替依頼書!$J$3&\"振替 \"&MONTH(SUBSTITUTE($B$7,\".\",\"/\"))&\"月旅費→\"&MONTH(EOMONTH(SUBSTITUTE($I$7,\".\",\"/\"),1))&\"月作業費 \"&N90&\"件\",\"\"))","v":""},85,"",{"$f":"IF(ISERROR(INDEX('バッチ反映用（非表示）'!$A$5:$O$100,MATCH($N91,'バッチ反映用（非表示）'!$R$5:$R$100,0),MATCH('次月仕訳（非表示）'!L$6,'バッチ反映用（非表示）'!$A$4:$G$4,0)))=FALSE,\"TRUE\",\"FALSE\")","v":"FALSE"},"",null,"",{"$f":"IF(I90=\"転記日付\",INDEX('バッチ反映用（非表示）'!$A$5:$O$100,MATCH($N91,'バッチ反映用（非表示）'!$R$5:$R$100,0),MATCH('次月仕訳（非表示）'!T$6,'バッチ反映用（非表示）'!$A$4:$G$4,0)),\"\")","v":{"$error":"#N/A"}},{"$f":"IF(J91<>\"\",IF(K91<>\"NS-0\"&旅費振替依頼書!$I$3,$C$4,$C$3),\"\")","v":""},"","",""]
["",{"$error":"#N/A"},"","","","",null,"",{"$f":"IF(I91=\"転記日付\",INDEX('バッチ反映用（非表示）'!$A$5:$O$100,MATCH($N92,'バッチ反映用（非表示）'!$R$5:$R$100,0),MATCH('次月仕訳（非表示）'!I$6,'バッチ反映用（非表示）'!$A$4:$G$4,0)),\"\")","v":{"$error":"#N/A"}},"",{"$f":"IF($P92=\"TRUE\",INDEX('バッチ反映用（非表示）'!$A$5:$O$100,MATCH($N92,'バッチ反映用（非表示）'!$R$5:$R$100,0),MATCH('次月仕訳（非表示）'!K$6,'バッチ反映用（非表示）'!$A$4:$G$4,0)),IF(AND(P92=\"FALSE\",Q92=\"end\"),\"NS-0100\",\"\"))","v":""},{"$f":"IF($P92=\"TRUE\",INDEX('バッチ反映用（非表示）'!$A$5:$O$100,MATCH($N92,'バッチ反映用（非表示）'!$R$5:$R$100,0),MATCH('次月仕訳（非表示）'!L$6,'バッチ反映用（非表示）'!$A$4:$G$4,0))*-1,IF($Q92=\"end\",SUM($L$7:L91)*-1,\"\"))","v":""},{"$f":"IF($P92=\"TRUE\",INDEX('バッチ反映用（非表示）'!$A$5:$O$100,MATCH($N92,'バッチ反映用（非表示）'!$R$5:$R$100,0),MATCH('次月仕訳（非表示）'!M$6,'バッチ反映用（非表示）'!$A$4:$G$4,0)),IF($Q92=\"end\",\"0\"&旅費振替依頼書!$I$3&旅費振替依頼書!$J$3&\"振替 \"&MONTH(SUBSTITUTE($B$7,\".\",\"/\"))&\"月旅費→\"&MONTH(EOMONTH(SUBSTITUTE($I$7,\".\",\"/\"),1))&\"月作業費 \"&N91&\"件\",\"\"))","v":""},86,"",{"$f":"IF(ISERROR(INDEX('バッチ反映用（非表示）'!$A$5:$O$100,MATCH($N92,'バッチ反映用（非表示）'!$R$5:$R$100,0),MATCH('次月仕訳（非表示）'!L$6,'バッチ反映用（非表示）'!$A$4:$G$4,0)))=FALSE,\"TRUE\",\"FALSE\")","v":"FALSE"},"",null,"",{"$f":"IF(I91=\"転記日付\",INDEX('バッチ反映用（非表示）'!$A$5:$O$100,MATCH($N92,'バッチ反映用（非表示）'!$R$5:$R$100,0),MATCH('次月仕訳（非表示）'!T$6,'バッチ反映用（非表示）'!$A$4:$G$4,0)),\"\")","v":{"$error":"#N/A"}},{"$f":"IF(J92<>\"\",IF(K92<>\"NS-0\"&旅費振替依頼書!$I$3,$C$4,$C$3),\"\")","v":""},"","",""]
["",{"$error":"#N/A"},"","","","",null,"",{"$f":"IF(I92=\"転記日付\",INDEX('バッチ反映用（非表示）'!$A$5:$O$100,MATCH($N93,'バッチ反映用（非表示）'!$R$5:$R$100,0),MATCH('次月仕訳（非表示）'!I$6,'バッチ反映用（非表示）'!$A$4:$G$4,0)),\"\")","v":{"$error":"#N/A"}},"",{"$f":"IF($P93=\"TRUE\",INDEX('バッチ反映用（非表示）'!$A$5:$O$100,MATCH($N93,'バッチ反映用（非表示）'!$R$5:$R$100,0),MATCH('次月仕訳（非表示）'!K$6,'バッチ反映用（非表示）'!$A$4:$G$4,0)),IF(AND(P93=\"FALSE\",Q93=\"end\"),\"NS-0100\",\"\"))","v":""},{"$f":"IF($P93=\"TRUE\",INDEX('バッチ反映用（非表示）'!$A$5:$O$100,MATCH($N93,'バッチ反映用（非表示）'!$R$5:$R$100,0),MATCH('次月仕訳（非表示）'!L$6,'バッチ反映用（非表示）'!$A$4:$G$4,0))*-1,IF($Q93=\"end\",SUM($L$7:L92)*-1,\"\"))","v":""},{"$f":"IF($P93=\"TRUE\",INDEX('バッチ反映用（非表示）'!$A$5:$O$100,MATCH($N93,'バッチ反映用（非表示）'!$R$5:$R$100,0),MATCH('次月仕訳（非表示）'!M$6,'バッチ反映用（非表示）'!$A$4:$G$4,0)),IF($Q93=\"end\",\"0\"&旅費振替依頼書!$I$3&旅費振替依頼書!$J$3&\"振替 \"&MONTH(SUBSTITUTE($B$7,\".\",\"/\"))&\"月旅費→\"&MONTH(EOMONTH(SUBSTITUTE($I$7,\".\",\"/\"),1))&\"月作業費 \"&N92&\"件\",\"\"))","v":""},87,"",{"$f":"IF(ISERROR(INDEX('バッチ反映用（非表示）'!$A$5:$O$100,MATCH($N93,'バッチ反映用（非表示）'!$R$5:$R$100,0),MATCH('次月仕訳（非表示）'!L$6,'バッチ反映用（非表示）'!$A$4:$G$4,0)))=FALSE,\"TRUE\",\"FALSE\")","v":"FALSE"},"",null,"",{"$f":"IF(I92=\"転記日付\",INDEX('バッチ反映用（非表示）'!$A$5:$O$100,MATCH($N93,'バッチ反映用（非表示）'!$R$5:$R$100,0),MATCH('次月仕訳（非表示）'!T$6,'バッチ反映用（非表示）'!$A$4:$G$4,0)),\"\")","v":{"$error":"#N/A"}},{"$f":"IF(J93<>\"\",IF(K93<>\"NS-0\"&旅費振替依頼書!$I$3,$C$4,$C$3),\"\")","v":""},"","",""]
["",{"$error":"#N/A"},"","","","",null,"",{"$f":"IF(I93=\"転記日付\",INDEX('バッチ反映用（非表示）'!$A$5:$O$100,MATCH($N94,'バッチ反映用（非表示）'!$R$5:$R$100,0),MATCH('次月仕訳（非表示）'!I$6,'バッチ反映用（非表示）'!$A$4:$G$4,0)),\"\")","v":{"$error":"#N/A"}},"",{"$f":"IF($P94=\"TRUE\",INDEX('バッチ反映用（非表示）'!$A$5:$O$100,MATCH($N94,'バッチ反映用（非表示）'!$R$5:$R$100,0),MATCH('次月仕訳（非表示）'!K$6,'バッチ反映用（非表示）'!$A$4:$G$4,0)),IF(AND(P94=\"FALSE\",Q94=\"end\"),\"NS-0100\",\"\"))","v":""},{"$f":"IF($P94=\"TRUE\",INDEX('バッチ反映用（非表示）'!$A$5:$O$100,MATCH($N94,'バッチ反映用（非表示）'!$R$5:$R$100,0),MATCH('次月仕訳（非表示）'!L$6,'バッチ反映用（非表示）'!$A$4:$G$4,0))*-1,IF($Q94=\"end\",SUM($L$7:L93)*-1,\"\"))","v":""},{"$f":"IF($P94=\"TRUE\",INDEX('バッチ反映用（非表示）'!$A$5:$O$100,MATCH($N94,'バッチ反映用（非表示）'!$R$5:$R$100,0),MATCH('次月仕訳（非表示）'!M$6,'バッチ反映用（非表示）'!$A$4:$G$4,0)),IF($Q94=\"end\",\"0\"&旅費振替依頼書!$I$3&旅費振替依頼書!$J$3&\"振替 \"&MONTH(SUBSTITUTE($B$7,\".\",\"/\"))&\"月旅費→\"&MONTH(EOMONTH(SUBSTITUTE($I$7,\".\",\"/\"),1))&\"月作業費 \"&N93&\"件\",\"\"))","v":""},88,"",{"$f":"IF(ISERROR(INDEX('バッチ反映用（非表示）'!$A$5:$O$100,MATCH($N94,'バッチ反映用（非表示）'!$R$5:$R$100,0),MATCH('次月仕訳（非表示）'!L$6,'バッチ反映用（非表示）'!$A$4:$G$4,0)))=FALSE,\"TRUE\",\"FALSE\")","v":"FALSE"},"",null,"",{"$f":"IF(I93=\"転記日付\",INDEX('バッチ反映用（非表示）'!$A$5:$O$100,MATCH($N94,'バッチ反映用（非表示）'!$R$5:$R$100,0),MATCH('次月仕訳（非表示）'!T$6,'バッチ反映用（非表示）'!$A$4:$G$4,0)),\"\")","v":{"$error":"#N/A"}},{"$f":"IF(J94<>\"\",IF(K94<>\"NS-0\"&旅費振替依頼書!$I$3,$C$4,$C$3),\"\")","v":""},"","",""]
["",{"$error":"#N/A"},"","","","",null,"",{"$f":"IF(I94=\"転記日付\",INDEX('バッチ反映用（非表示）'!$A$5:$O$100,MATCH($N95,'バッチ反映用（非表示）'!$R$5:$R$100,0),MATCH('次月仕訳（非表示）'!I$6,'バッチ反映用（非表示）'!$A$4:$G$4,0)),\"\")","v":{"$error":"#N/A"}},"",{"$f":"IF($P95=\"TRUE\",INDEX('バッチ反映用（非表示）'!$A$5:$O$100,MATCH($N95,'バッチ反映用（非表示）'!$R$5:$R$100,0),MATCH('次月仕訳（非表示）'!K$6,'バッチ反映用（非表示）'!$A$4:$G$4,0)),IF(AND(P95=\"FALSE\",Q95=\"end\"),\"NS-0100\",\"\"))","v":""},{"$f":"IF($P95=\"TRUE\",INDEX('バッチ反映用（非表示）'!$A$5:$O$100,MATCH($N95,'バッチ反映用（非表示）'!$R$5:$R$100,0),MATCH('次月仕訳（非表示）'!L$6,'バッチ反映用（非表示）'!$A$4:$G$4,0))*-1,IF($Q95=\"end\",SUM($L$7:L94)*-1,\"\"))","v":""},{"$f":"IF($P95=\"TRUE\",INDEX('バッチ反映用（非表示）'!$A$5:$O$100,MATCH($N95,'バッチ反映用（非表示）'!$R$5:$R$100,0),MATCH('次月仕訳（非表示）'!M$6,'バッチ反映用（非表示）'!$A$4:$G$4,0)),IF($Q95=\"end\",\"0\"&旅費振替依頼書!$I$3&旅費振替依頼書!$J$3&\"振替 \"&MONTH(SUBSTITUTE($B$7,\".\",\"/\"))&\"月旅費→\"&MONTH(EOMONTH(SUBSTITUTE($I$7,\".\",\"/\"),1))&\"月作業費 \"&N94&\"件\",\"\"))","v":""},89,"",{"$f":"IF(ISERROR(INDEX('バッチ反映用（非表示）'!$A$5:$O$100,MATCH($N95,'バッチ反映用（非表示）'!$R$5:$R$100,0),MATCH('次月仕訳（非表示）'!L$6,'バッチ反映用（非表示）'!$A$4:$G$4,0)))=FALSE,\"TRUE\",\"FALSE\")","v":"FALSE"},"",null,"",{"$f":"IF(I94=\"転記日付\",INDEX('バッチ反映用（非表示）'!$A$5:$O$100,MATCH($N95,'バッチ反映用（非表示）'!$R$5:$R$100,0),MATCH('次月仕訳（非表示）'!T$6,'バッチ反映用（非表示）'!$A$4:$G$4,0)),\"\")","v":{"$error":"#N/A"}},{"$f":"IF(J95<>\"\",IF(K95<>\"NS-0\"&旅費振替依頼書!$I$3,$C$4,$C$3),\"\")","v":""},"","",""]
["",{"$error":"#N/A"},"","","","",null,"",{"$f":"IF(I95=\"転記日付\",INDEX('バッチ反映用（非表示）'!$A$5:$O$100,MATCH($N96,'バッチ反映用（非表示）'!$R$5:$R$100,0),MATCH('次月仕訳（非表示）'!I$6,'バッチ反映用（非表示）'!$A$4:$G$4,0)),\"\")","v":{"$error":"#N/A"}},"",{"$f":"IF($P96=\"TRUE\",INDEX('バッチ反映用（非表示）'!$A$5:$O$100,MATCH($N96,'バッチ反映用（非表示）'!$R$5:$R$100,0),MATCH('次月仕訳（非表示）'!K$6,'バッチ反映用（非表示）'!$A$4:$G$4,0)),IF(AND(P96=\"FALSE\",Q96=\"end\"),\"NS-0100\",\"\"))","v":""},{"$f":"IF($P96=\"TRUE\",INDEX('バッチ反映用（非表示）'!$A$5:$O$100,MATCH($N96,'バッチ反映用（非表示）'!$R$5:$R$100,0),MATCH('次月仕訳（非表示）'!L$6,'バッチ反映用（非表示）'!$A$4:$G$4,0))*-1,IF($Q96=\"end\",SUM($L$7:L95)*-1,\"\"))","v":""},{"$f":"IF($P96=\"TRUE\",INDEX('バッチ反映用（非表示）'!$A$5:$O$100,MATCH($N96,'バッチ反映用（非表示）'!$R$5:$R$100,0),MATCH('次月仕訳（非表示）'!M$6,'バッチ反映用（非表示）'!$A$4:$G$4,0)),IF($Q96=\"end\",\"0\"&旅費振替依頼書!$I$3&旅費振替依頼書!$J$3&\"振替 \"&MONTH(SUBSTITUTE($B$7,\".\",\"/\"))&\"月旅費→\"&MONTH(EOMONTH(SUBSTITUTE($I$7,\".\",\"/\"),1))&\"月作業費 \"&N95&\"件\",\"\"))","v":""},90,"",{"$f":"IF(ISERROR(INDEX('バッチ反映用（非表示）'!$A$5:$O$100,MATCH($N96,'バッチ反映用（非表示）'!$R$5:$R$100,0),MATCH('次月仕訳（非表示）'!L$6,'バッチ反映用（非表示）'!$A$4:$G$4,0)))=FALSE,\"TRUE\",\"FALSE\")","v":"FALSE"},"",null,"",{"$f":"IF(I95=\"転記日付\",INDEX('バッチ反映用（非表示）'!$A$5:$O$100,MATCH($N96,'バッチ反映用（非表示）'!$R$5:$R$100,0),MATCH('次月仕訳（非表示）'!T$6,'バッチ反映用（非表示）'!$A$4:$G$4,0)),\"\")","v":{"$error":"#N/A"}},{"$f":"IF(J96<>\"\",IF(K96<>\"NS-0\"&旅費振替依頼書!$I$3,$C$4,$C$3),\"\")","v":""},"","",""]
["",{"$error":"#N/A"},"","","","",null,"",{"$f":"IF(I96=\"転記日付\",INDEX('バッチ反映用（非表示）'!$A$5:$O$100,MATCH($N97,'バッチ反映用（非表示）'!$R$5:$R$100,0),MATCH('次月仕訳（非表示）'!I$6,'バッチ反映用（非表示）'!$A$4:$G$4,0)),\"\")","v":{"$error":"#N/A"}},"",{"$f":"IF($P97=\"TRUE\",INDEX('バッチ反映用（非表示）'!$A$5:$O$100,MATCH($N97,'バッチ反映用（非表示）'!$R$5:$R$100,0),MATCH('次月仕訳（非表示）'!K$6,'バッチ反映用（非表示）'!$A$4:$G$4,0)),IF(AND(P97=\"FALSE\",Q97=\"end\"),\"NS-0100\",\"\"))","v":""},{"$f":"IF($P97=\"TRUE\",INDEX('バッチ反映用（非表示）'!$A$5:$O$100,MATCH($N97,'バッチ反映用（非表示）'!$R$5:$R$100,0),MATCH('次月仕訳（非表示）'!L$6,'バッチ反映用（非表示）'!$A$4:$G$4,0))*-1,IF($Q97=\"end\",SUM($L$7:L96)*-1,\"\"))","v":""},{"$f":"IF($P97=\"TRUE\",INDEX('バッチ反映用（非表示）'!$A$5:$O$100,MATCH($N97,'バッチ反映用（非表示）'!$R$5:$R$100,0),MATCH('次月仕訳（非表示）'!M$6,'バッチ反映用（非表示）'!$A$4:$G$4,0)),IF($Q97=\"end\",\"0\"&旅費振替依頼書!$I$3&旅費振替依頼書!$J$3&\"振替 \"&MONTH(SUBSTITUTE($B$7,\".\",\"/\"))&\"月旅費→\"&MONTH(EOMONTH(SUBSTITUTE($I$7,\".\",\"/\"),1))&\"月作業費 \"&N96&\"件\",\"\"))","v":""},91,"",{"$f":"IF(ISERROR(INDEX('バッチ反映用（非表示）'!$A$5:$O$100,MATCH($N97,'バッチ反映用（非表示）'!$R$5:$R$100,0),MATCH('次月仕訳（非表示）'!L$6,'バッチ反映用（非表示）'!$A$4:$G$4,0)))=FALSE,\"TRUE\",\"FALSE\")","v":"FALSE"},"",null,"",{"$f":"IF(I96=\"転記日付\",INDEX('バッチ反映用（非表示）'!$A$5:$O$100,MATCH($N97,'バッチ反映用（非表示）'!$R$5:$R$100,0),MATCH('次月仕訳（非表示）'!T$6,'バッチ反映用（非表示）'!$A$4:$G$4,0)),\"\")","v":{"$error":"#N/A"}},{"$f":"IF(J97<>\"\",IF(K97<>\"NS-0\"&旅費振替依頼書!$I$3,$C$4,$C$3),\"\")","v":""},"","",""]
["",{"$error":"#N/A"},"","","","",null,"",{"$f":"IF(I97=\"転記日付\",INDEX('バッチ反映用（非表示）'!$A$5:$O$100,MATCH($N98,'バッチ反映用（非表示）'!$R$5:$R$100,0),MATCH('次月仕訳（非表示）'!I$6,'バッチ反映用（非表示）'!$A$4:$G$4,0)),\"\")","v":{"$error":"#N/A"}},"",{"$f":"IF($P98=\"TRUE\",INDEX('バッチ反映用（非表示）'!$A$5:$O$100,MATCH($N98,'バッチ反映用（非表示）'!$R$5:$R$100,0),MATCH('次月仕訳（非表示）'!K$6,'バッチ反映用（非表示）'!$A$4:$G$4,0)),IF(AND(P98=\"FALSE\",Q98=\"end\"),\"NS-0100\",\"\"))","v":""},{"$f":"IF($P98=\"TRUE\",INDEX('バッチ反映用（非表示）'!$A$5:$O$100,MATCH($N98,'バッチ反映用（非表示）'!$R$5:$R$100,0),MATCH('次月仕訳（非表示）'!L$6,'バッチ反映用（非表示）'!$A$4:$G$4,0))*-1,IF($Q98=\"end\",SUM($L$7:L97)*-1,\"\"))","v":""},{"$f":"IF($P98=\"TRUE\",INDEX('バッチ反映用（非表示）'!$A$5:$O$100,MATCH($N98,'バッチ反映用（非表示）'!$R$5:$R$100,0),MATCH('次月仕訳（非表示）'!M$6,'バッチ反映用（非表示）'!$A$4:$G$4,0)),IF($Q98=\"end\",\"0\"&旅費振替依頼書!$I$3&旅費振替依頼書!$J$3&\"振替 \"&MONTH(SUBSTITUTE($B$7,\".\",\"/\"))&\"月旅費→\"&MONTH(EOMONTH(SUBSTITUTE($I$7,\".\",\"/\"),1))&\"月作業費 \"&N97&\"件\",\"\"))","v":""},92,"",{"$f":"IF(ISERROR(INDEX('バッチ反映用（非表示）'!$A$5:$O$100,MATCH($N98,'バッチ反映用（非表示）'!$R$5:$R$100,0),MATCH('次月仕訳（非表示）'!L$6,'バッチ反映用（非表示）'!$A$4:$G$4,0)))=FALSE,\"TRUE\",\"FALSE\")","v":"FALSE"},"",null,"",{"$f":"IF(I97=\"転記日付\",INDEX('バッチ反映用（非表示）'!$A$5:$O$100,MATCH($N98,'バッチ反映用（非表示）'!$R$5:$R$100,0),MATCH('次月仕訳（非表示）'!T$6,'バッチ反映用（非表示）'!$A$4:$G$4,0)),\"\")","v":{"$error":"#N/A"}},{"$f":"IF(J98<>\"\",IF(K98<>\"NS-0\"&旅費振替依頼書!$I$3,$C$4,$C$3),\"\")","v":""},"","",""]
["",{"$error":"#N/A"},"","","","",null,"",{"$f":"IF(I98=\"転記日付\",INDEX('バッチ反映用（非表示）'!$A$5:$O$100,MATCH($N99,'バッチ反映用（非表示）'!$R$5:$R$100,0),MATCH('次月仕訳（非表示）'!I$6,'バッチ反映用（非表示）'!$A$4:$G$4,0)),\"\")","v":{"$error":"#N/A"}},"",{"$f":"IF($P99=\"TRUE\",INDEX('バッチ反映用（非表示）'!$A$5:$O$100,MATCH($N99,'バッチ反映用（非表示）'!$R$5:$R$100,0),MATCH('次月仕訳（非表示）'!K$6,'バッチ反映用（非表示）'!$A$4:$G$4,0)),IF(AND(P99=\"FALSE\",Q99=\"end\"),\"NS-0100\",\"\"))","v":""},{"$f":"IF($P99=\"TRUE\",INDEX('バッチ反映用（非表示）'!$A$5:$O$100,MATCH($N99,'バッチ反映用（非表示）'!$R$5:$R$100,0),MATCH('次月仕訳（非表示）'!L$6,'バッチ反映用（非表示）'!$A$4:$G$4,0))*-1,IF($Q99=\"end\",SUM($L$7:L98)*-1,\"\"))","v":""},{"$f":"IF($P99=\"TRUE\",INDEX('バッチ反映用（非表示）'!$A$5:$O$100,MATCH($N99,'バッチ反映用（非表示）'!$R$5:$R$100,0),MATCH('次月仕訳（非表示）'!M$6,'バッチ反映用（非表示）'!$A$4:$G$4,0)),IF($Q99=\"end\",\"0\"&旅費振替依頼書!$I$3&旅費振替依頼書!$J$3&\"振替 \"&MONTH(SUBSTITUTE($B$7,\".\",\"/\"))&\"月旅費→\"&MONTH(EOMONTH(SUBSTITUTE($I$7,\".\",\"/\"),1))&\"月作業費 \"&N98&\"件\",\"\"))","v":""},93,"",{"$f":"IF(ISERROR(INDEX('バッチ反映用（非表示）'!$A$5:$O$100,MATCH($N99,'バッチ反映用（非表示）'!$R$5:$R$100,0),MATCH('次月仕訳（非表示）'!L$6,'バッチ反映用（非表示）'!$A$4:$G$4,0)))=FALSE,\"TRUE\",\"FALSE\")","v":"FALSE"},"",null,"",{"$f":"IF(I98=\"転記日付\",INDEX('バッチ反映用（非表示）'!$A$5:$O$100,MATCH($N99,'バッチ反映用（非表示）'!$R$5:$R$100,0),MATCH('次月仕訳（非表示）'!T$6,'バッチ反映用（非表示）'!$A$4:$G$4,0)),\"\")","v":{"$error":"#N/A"}},{"$f":"IF(J99<>\"\",IF(K99<>\"NS-0\"&旅費振替依頼書!$I$3,$C$4,$C$3),\"\")","v":""},"","",""]
["",{"$error":"#N/A"},"","","","",null,"",{"$f":"IF(I99=\"転記日付\",INDEX('バッチ反映用（非表示）'!$A$5:$O$100,MATCH($N100,'バッチ反映用（非表示）'!$R$5:$R$100,0),MATCH('次月仕訳（非表示）'!I$6,'バッチ反映用（非表示）'!$A$4:$G$4,0)),\"\")","v":{"$error":"#N/A"}},"",{"$f":"IF($P100=\"TRUE\",INDEX('バッチ反映用（非表示）'!$A$5:$O$100,MATCH($N100,'バッチ反映用（非表示）'!$R$5:$R$100,0),MATCH('次月仕訳（非表示）'!K$6,'バッチ反映用（非表示）'!$A$4:$G$4,0)),IF(AND(P100=\"FALSE\",Q100=\"end\"),\"NS-0100\",\"\"))","v":""},{"$f":"IF($P100=\"TRUE\",INDEX('バッチ反映用（非表示）'!$A$5:$O$100,MATCH($N100,'バッチ反映用（非表示）'!$R$5:$R$100,0),MATCH('次月仕訳（非表示）'!L$6,'バッチ反映用（非表示）'!$A$4:$G$4,0))*-1,IF($Q100=\"end\",SUM($L$7:L99)*-1,\"\"))","v":""},{"$f":"IF($P100=\"TRUE\",INDEX('バッチ反映用（非表示）'!$A$5:$O$100,MATCH($N100,'バッチ反映用（非表示）'!$R$5:$R$100,0),MATCH('次月仕訳（非表示）'!M$6,'バッチ反映用（非表示）'!$A$4:$G$4,0)),IF($Q100=\"end\",\"0\"&旅費振替依頼書!$I$3&旅費振替依頼書!$J$3&\"振替 \"&MONTH(SUBSTITUTE($B$7,\".\",\"/\"))&\"月旅費→\"&MONTH(EOMONTH(SUBSTITUTE($I$7,\".\",\"/\"),1))&\"月作業費 \"&N99&\"件\",\"\"))","v":""},94,"",{"$f":"IF(ISERROR(INDEX('バッチ反映用（非表示）'!$A$5:$O$100,MATCH($N100,'バッチ反映用（非表示）'!$R$5:$R$100,0),MATCH('次月仕訳（非表示）'!L$6,'バッチ反映用（非表示）'!$A$4:$G$4,0)))=FALSE,\"TRUE\",\"FALSE\")","v":"FALSE"},"",null,"",{"$f":"IF(I99=\"転記日付\",INDEX('バッチ反映用（非表示）'!$A$5:$O$100,MATCH($N100,'バッチ反映用（非表示）'!$R$5:$R$100,0),MATCH('次月仕訳（非表示）'!T$6,'バッチ反映用（非表示）'!$A$4:$G$4,0)),\"\")","v":{"$error":"#N/A"}},{"$f":"IF(J100<>\"\",IF(K100<>\"NS-0\"&旅費振替依頼書!$I$3,$C$4,$C$3),\"\")","v":""},"","",""]

{"sheet":"次月以降仕訳（非表示）","index":5,"n_rows":100,"n_cols":24,"rows_kept":100,"cut":false,"hidden":true,"merged":[[4,7,4,8],[4,18,4,19]]}
["次月以降仕訳"]
["※シート保護（パス無）訂正後、要保護"]
[null,null,7700200,"作業費",null,"仕訳有無"]
[null,null,7700403,"旅費",null,{"$f":"IF(COUNTIF($A$7:$A$100,\"eof\")=0,\"N\",\"Y\")","v":"N"}]
[null,null,null,null,null,null,null,"本社付け替え",null,null,null,null,null,null,null,null,null,null,"戻しの仕訳"]
["会社コード","転記日付\n（次月以降）","勘定コード","利益センタ","明細額","テキスト",null,"会社コード","転記日付","勘定コード","利益センタ","明細額","テキスト",null,null,null,null,null,"会社コード","転記日付\n（次月以降）","勘定コード","利益センタ","明細額","テキスト"]
[{"$f":"IF(L7<>\"\",H7,INDIRECT(\"S\"&ROW(H7)-MAX($O$7:$O$100)))","v":"NS"},{"$f":"IF(L7<>\"\",I7,INDIRECT(\"T\"&ROW(H7)-MAX($O$7:$O$100)))","v":{"$error":"#N/A"}},{"$f":"IF(L7<>\"\",J7,INDIRECT(\"U\"&ROW(H7)-MAX($O$7:$O$100)))","v":""},{"$f":"IF(L7<>\"\",K7,INDIRECT(\"V\"&ROW(H7)-MAX($O$7:$O$100)))","v":""},{"$f":"IF(L7<>\"\",L7,INDIRECT(\"W\"&ROW(H7)-MAX($O$7:$O$100)))","v":""},{"$f":"IF(L7<>\"\",M7,INDIRECT(\"X\"&ROW(H7)-MAX($O$7:$O$100)))","v":""},null,{"$f":"IF(H6=\"会社コード\",\"NS\",IF(Q6=\"end\",\"\",\"\"))","v":"NS"},{"$f":"IF(I6=\"転記日付\",INDEX('バッチ反映用（非表示）'!$A$5:$O$100,MATCH($N7,'バッチ反映用（非表示）'!$S$5:$S$100,0),MATCH('次月以降仕訳（非表示）'!I$6,'バッチ反映用（非表示）'!$A$4:$G$4,0)),\"\")","v":{"$error":"#N/A"}},{"$f":"IF(K7<>\"\",$C$4,\"\")","v":""},{"$f":"IF($P7=\"TRUE\",INDEX('バッチ反映用（非表示）'!$A$5:$O$100,MATCH($N7,'バッチ反映用（非表示）'!$S$5:$S$100,0),MATCH('次月以降仕訳（非表示）'!K$6,'バッチ反映用（非表示）'!$A$4:$G$4,0)),IF(AND(P7=\"FALSE\",Q7=\"end\"),\"NS-0100\",\"\"))","v":""},{"$f":"IF($P7=\"TRUE\",INDEX('バッチ反映用（非表示）'!$A$5:$O$100,MATCH($N7,'バッチ反映用（非表示）'!$S$5:$S$100,0),MATCH('次月以降仕訳（非表示）'!L$6,'バッチ反映用（非表示）'!$A$4:$G$4,0))*-1,IF($Q7=\"end\",SUM($L6:L$7)*-1,\"\"))","v":""},{"$f":"IF($P7=\"TRUE\",INDEX('バッチ反映用（非表示）'!$A$5:$O$100,MATCH($N7,'バッチ反映用（非表示）'!$S$5:$S$100,0),MATCH('次月以降仕訳（非表示）'!M$6,'バッチ反映用（非表示）'!$A$4:$G$4,0)),IF($Q7=\"end\",\"0\"&旅費振替依頼書!$I$3&旅費振替依頼書!$J$3&\"振替 \"&MONTH(SUBSTITUTE($B$7,\".\",\"/\"))&\"月旅費→\"&MONTH(EOMONTH(SUBSTITUTE($I$7,\".\",\"/\"),2))&\"月作業費 \"&N6&\"件\",\"\"))","v":""},1,{"$f":"IF(L7<>\"\",N7,\"\")","v":""},{"$f":"IF(ISERROR(INDEX('バッチ反映用（非表示）'!$A$5:$O$100,MATCH($N7,'バッチ反映用（非表示）'!$S$5:$S$100,0),MATCH('次月以降仕訳（非表示）'!L$6,'バッチ反映用（非表示）'!$A$4:$G$4,0)))=FALSE,\"TRUE\",\"FALSE\")","v":"FALSE"},{"$f":"IF(AND(P6=\"TRUE\",P7=\"FALSE\"),\"end\",\"\")","v":""},null,{"$f":"IF(H6=\"会社コード\",\"NS\",IF(Q6=\"end\",\"eof\",\"\"))","v":"NS"},{"$f":"IF(I6=\"転記日付\",INDEX('バッチ反映用（非表示）'!$A$5:$O$100,MATCH($N7,'バッチ反映用（非表示）'!$S$5:$S$100,0),MATCH('次月以降仕訳（非表示）'!T$6,'バッチ反映用（非表示）'!$A$4:$G$4,0)),\"\")","v":{"$error":"#N/A"}},{"$f":"IF(J7<>\"\",IF(K7<>\"NS-0\"&旅費振替依頼書!$I$3,$C$4,$C$3),\"\")","v":""},{"$f":"IF(K7<>\"\",K7,\"\")","v":""},{"$f":"IF(L7<>\"\",L7*-1,\"\")","v":""},{"$f":"IF(M7<>\"\",SUBSTITUTE(M7,\"月収支\",\"月戻し\"),\"\")","v":""}]
["",{"$error":"#N/A"},"","","","",null,"",{"$f":"IF(I7=\"転記日付\",INDEX('バッチ反映用（非表示）'!$A$5:$O$100,MATCH($N8,'バッチ反映用（非表示）'!$S$5:$S$100,0),MATCH('次月以降仕訳（非表示）'!I$6,'バッチ反映用（非表示）'!$A$4:$G$4,0)),\"\")","v":{"$error":"#N/A"}},{"$f":"IF(K8<>\"\",$C$4,\"\")","v":""},{"$f":"IF($P8=\"TRUE\",INDEX('バッチ反映用（非表示）'!$A$5:$O$100,MATCH($N8,'バッチ反映用（非表示）'!$S$5:$S$100,0),MATCH('次月以降仕訳（非表示）'!K$6,'バッチ反映用（非表示）'!$A$4:$G$4,0)),IF(AND(P8=\"FALSE\",Q8=\"end\"),\"NS-0100\",\"\"))","v":""},{"$f":"IF($P8=\"TRUE\",INDEX('バッチ反映用（非表示）'!$A$5:$O$100,MATCH($N8,'バッチ反映用（非表示）'!$S$5:$S$100,0),MATCH('次月以降仕訳（非表示）'!L$6,'バッチ反映用（非表示）'!$A$4:$G$4,0))*-1,IF($Q8=\"end\",SUM($L7:L$7)*-1,\"\"))","v":""},{"$f":"IF($P8=\"TRUE\",INDEX('バッチ反映用（非表示）'!$A$5:$O$100,MATCH($N8,'バッチ反映用（非表示）'!$S$5:$S$100,0),MATCH('次月以降仕訳（非表示）'!M$6,'バッチ反映用（非表示）'!$A$4:$G$4,0)),IF($Q8=\"end\",\"0\"&旅費振替依頼書!$I$3&旅費振替依頼書!$J$3&\"振替 \"&MONTH(SUBSTITUTE($B$7,\".\",\"/\"))&\"月旅費→\"&MONTH(EOMONTH(SUBSTITUTE($I$7,\".\",\"/\"),2))&\"月作業費 \"&N7&\"件\",\"\"))","v":""},2,{"$f":"IF(L8<>\"\",N8,\"\")","v":""},{"$f":"IF(ISERROR(INDEX('バッチ反映用（非表示）'!$A$5:$O$100,MATCH($N8,'バッチ反映用（非表示）'!$S$5:$S$100,0),MATCH('次月以降仕訳（非表示）'!L$6,'バッチ反映用（非表示）'!$A$4:$G$4,0)))=FALSE,\"TRUE\",\"FALSE\")","v":"FALSE"},{"$f":"IF(AND(P7=\"TRUE\",P8=\"FALSE\"),\"end\",\"\")","v":""},null,{"$f":"IF(H7=\"会社コード\",\"NS\",IF(Q7=\"end\",\"eof\",\"\"))","v":""},{"$f":"IF(I7=\"転記日付\",INDEX('バッチ反映用（非表示）'!$A$5:$O$100,MATCH($N8,'バッチ反映用（非表示）'!$S$5:$S$100,0),MATCH('次月以降仕訳（非表示）'!T$6,'バッチ反映用（非表示）'!$A$4:$G$4,0)),\"\")","v":{"$error":"#N/A"}},{"$f":"IF(J8<>\"\",IF(K8<>\"NS-0\"&旅費振替依頼書!$I$3,$C$4,$C$3),\"\")","v":""},"",{"$f":"IF(L8<>\"\",L8*-1,\"\")","v":""},""]
["",{"$error":"#N/A"},"","","","",null,"",{"$f":"IF(I8=\"転記日付\",INDEX('バッチ反映用（非表示）'!$A$5:$O$100,MATCH($N9,'バッチ反映用（非表示）'!$S$5:$S$100,0),MATCH('次月以降仕訳（非表示）'!I$6,'バッチ反映用（非表示）'!$A$4:$G$4,0)),\"\")","v":{"$error":"#N/A"}},"",{"$f":"IF($P9=\"TRUE\",INDEX('バッチ反映用（非表示）'!$A$5:$O$100,MATCH($N9,'バッチ反映用（非表示）'!$S$5:$S$100,0),MATCH('次月以降仕訳（非表示）'!K$6,'バッチ反映用（非表示）'!$A$4:$G$4,0)),IF(AND(P9=\"FALSE\",Q9=\"end\"),\"NS-0100\",\"\"))","v":""},{"$f":"IF($P9=\"TRUE\",INDEX('バッチ反映用（非表示）'!$A$5:$O$100,MATCH($N9,'バッチ反映用（非表示）'!$S$5:$S$100,0),MATCH('次月以降仕訳（非表示）'!L$6,'バッチ反映用（非表示）'!$A$4:$G$4,0))*-1,IF($Q9=\"end\",SUM($L$7:L8)*-1,\"\"))","v":""},{"$f":"IF($P9=\"TRUE\",INDEX('バッチ反映用（非表示）'!$A$5:$O$100,MATCH($N9,'バッチ反映用（非表示）'!$S$5:$S$100,0),MATCH('次月以降仕訳（非表示）'!M$6,'バッチ反映用（非表示）'!$A$4:$G$4,0)),IF($Q9=\"end\",\"0\"&旅費振替依頼書!$I$3&旅費振替依頼書!$J$3&\"振替 \"&MONTH(SUBSTITUTE($B$7,\".\",\"/\"))&\"月旅費→\"&MONTH(EOMONTH(SUBSTITUTE($I$7,\".\",\"/\"),2))&\"月作業費 \"&N8&\"件\",\"\"))","v":""},3,"",{"$f":"IF(ISERROR(INDEX('バッチ反映用（非表示）'!$A$5:$O$100,MATCH($N9,'バッチ反映用（非表示）'!$S$5:$S$100,0),MATCH('次月以降仕訳（非表示）'!L$6,'バッチ反映用（非表示）'!$A$4:$G$4,0)))=FALSE,\"TRUE\",\"FALSE\")","v":"FALSE"},"",null,"",{"$f":"IF(I8=\"転記日付\",INDEX('バッチ反映用（非表示）'!$A$5:$O$100,MATCH($N9,'バッチ反映用（非表示）'!$S$5:$S$100,0),MATCH('次月以降仕訳（非表示）'!T$6,'バッチ反映用（非表示）'!$A$4:$G$4,0)),\"\")","v":{"$error":"#N/A"}},{"$f":"IF(J9<>\"\",IF(K9<>\"NS-0\"&旅費振替依頼書!$I$3,$C$4,$C$3),\"\")","v":""},"","",""]
["",{"$error":"#N/A"},"","","","",null,"",{"$f":"IF(I9=\"転記日付\",INDEX('バッチ反映用（非表示）'!$A$5:$O$100,MATCH($N10,'バッチ反映用（非表示）'!$S$5:$S$100,0),MATCH('次月以降仕訳（非表示）'!I$6,'バッチ反映用（非表示）'!$A$4:$G$4,0)),\"\")","v":{"$error":"#N/A"}},"",{"$f":"IF($P10=\"TRUE\",INDEX('バッチ反映用（非表示）'!$A$5:$O$100,MATCH($N10,'バッチ反映用（非表示）'!$S$5:$S$100,0),MATCH('次月以降仕訳（非表示）'!K$6,'バッチ反映用（非表示）'!$A$4:$G$4,0)),IF(AND(P10=\"FALSE\",Q10=\"end\"),\"NS-0100\",\"\"))","v":""},{"$f":"IF($P10=\"TRUE\",INDEX('バッチ反映用（非表示）'!$A$5:$O$100,MATCH($N10,'バッチ反映用（非表示）'!$S$5:$S$100,0),MATCH('次月以降仕訳（非表示）'!L$6,'バッチ反映用（非表示）'!$A$4:$G$4,0))*-1,IF($Q10=\"end\",SUM($L$7:L9)*-1,\"\"))","v":""},{"$f":"IF($P10=\"TRUE\",INDEX('バッチ反映用（非表示）'!$A$5:$O$100,MATCH($N10,'バッチ反映用（非表示）'!$S$5:$S$100,0),MATCH('次月以降仕訳（非表示）'!M$6,'バッチ反映用（非表示）'!$A$4:$G$4,0)),IF($Q10=\"end\",\"0\"&旅費振替依頼書!$I$3&旅費振替依頼書!$J$3&\"振替 \"&MONTH(SUBSTITUTE($B$7,\".\",\"/\"))&\"月旅費→\"&MONTH(EOMONTH(SUBSTITUTE($I$7,\".\",\"/\"),2))&\"月作業費 \"&N9&\"件\",\"\"))","v":""},4,"",{"$f":"IF(ISERROR(INDEX('バッチ反映用（非表示）'!$A$5:$O$100,MATCH($N10,'バッチ反映用（非表示）'!$S$5:$S$100,0),MATCH('次月以降仕訳（非表示）'!L$6,'バッチ反映用（非表示）'!$A$4:$G$4,0)))=FALSE,\"TRUE\",\"FALSE\")","v":"FALSE"},"",null,"",{"$f":"IF(I9=\"転記日付\",INDEX('バッチ反映用（非表示）'!$A$5:$O$100,MATCH($N10,'バッチ反映用（非表示）'!$S$5:$S$100,0),MATCH('次月以降仕訳（非表示）'!T$6,'バッチ反映用（非表示）'!$A$4:$G$4,0)),\"\")","v":{"$error":"#N/A"}},{"$f":"IF(J10<>\"\",IF(K10<>\"NS-0\"&旅費振替依頼書!$I$3,$C$4,$C$3),\"\")","v":""},"","",""]
["",{"$error":"#N/A"},"","","","",null,"",{"$f":"IF(I10=\"転記日付\",INDEX('バッチ反映用（非表示）'!$A$5:$O$100,MATCH($N11,'バッチ反映用（非表示）'!$S$5:$S$100,0),MATCH('次月以降仕訳（非表示）'!I$6,'バッチ反映用（非表示）'!$A$4:$G$4,0)),\"\")","v":{"$error":"#N/A"}},"",{"$f":"IF($P11=\"TRUE\",INDEX('バッチ反映用（非表示）'!$A$5:$O$100,MATCH($N11,'バッチ反映用（非表示）'!$S$5:$S$100,0),MATCH('次月以降仕訳（非表示）'!K$6,'バッチ反映用（非表示）'!$A$4:$G$4,0)),IF(AND(P11=\"FALSE\",Q11=\"end\"),\"NS-0100\",\"\"))","v":""},{"$f":"IF($P11=\"TRUE\",INDEX('バッチ反映用（非表示）'!$A$5:$O$100,MATCH($N11,'バッチ反映用（非表示）'!$S$5:$S$100,0),MATCH('次月以降仕訳（非表示）'!L$6,'バッチ反映用（非表示）'!$A$4:$G$4,0))*-1,IF($Q11=\"end\",SUM($L$7:L10)*-1,\"\"))","v":""},{"$f":"IF($P11=\"TRUE\",INDEX('バッチ反映用（非表示）'!$A$5:$O$100,MATCH($N11,'バッチ反映用（非表示）'!$S$5:$S$100,0),MATCH('次月以降仕訳（非表示）'!M$6,'バッチ反映用（非表示）'!$A$4:$G$4,0)),IF($Q11=\"end\",\"0\"&旅費振替依頼書!$I$3&旅費振替依頼書!$J$3&\"振替 \"&MONTH(SUBSTITUTE($B$7,\".\",\"/\"))&\"月旅費→\"&MONTH(EOMONTH(SUBSTITUTE($I$7,\".\",\"/\"),2))&\"月作業費 \"&N10&\"件\",\"\"))","v":""},5,"",{"$f":"IF(ISERROR(INDEX('バッチ反映用（非表示）'!$A$5:$O$100,MATCH($N11,'バッチ反映用（非表示）'!$S$5:$S$100,0),MATCH('次月以降仕訳（非表示）'!L$6,'バッチ反映用（非表示）'!$A$4:$G$4,0)))=FALSE,\"TRUE\",\"FALSE\")","v":"FALSE"},"",null,"",{"$f":"IF(I10=\"転記日付\",INDEX('バッチ反映用（非表示）'!$A$5:$O$100,MATCH($N11,'バッチ反映用（非表示）'!$S$5:$S$100,0),MATCH('次月以降仕訳（非表示）'!T$6,'バッチ反映用（非表示）'!$A$4:$G$4,0)),\"\")","v":{"$error":"#N/A"}},{"$f":"IF(J11<>\"\",IF(K11<>\"NS-0\"&旅費振替依頼書!$I$3,$C$4,$C$3),\"\")","v":""},"","",""]
["",{"$error":"#N/A"},"","","","",null,"",{"$f":"IF(I11=\"転記日付\",INDEX('バッチ反映用（非表示）'!$A$5:$O$100,MATCH($N12,'バッチ反映用（非表示）'!$S$5:$S$100,0),MATCH('次月以降仕訳（非表示）'!I$6,'バッチ反映用（非表示）'!$A$4:$G$4,0)),\"\")","v":{"$error":"#N/A"}},"",{"$f":"IF($P12=\"TRUE\",INDEX('バッチ反映用（非表示）'!$A$5:$O$100,MATCH($N12,'バッチ反映用（非表示）'!$S$5:$S$100,0),MATCH('次月以降仕訳（非表示）'!K$6,'バッチ反映用（非表示）'!$A$4:$G$4,0)),IF(AND(P12=\"FALSE\",Q12=\"end\"),\"NS-0100\",\"\"))","v":""},{"$f":"IF($P12=\"TRUE\",INDEX('バッチ反映用（非表示）'!$A$5:$O$100,MATCH($N12,'バッチ反映用（非表示）'!$S$5:$S$100,0),MATCH('次月以降仕訳（非表示）'!L$6,'バッチ反映用（非表示）'!$A$4:$G$4,0))*-1,IF($Q12=\"end\",SUM($L$7:L11)*-1,\"\"))","v":""},{"$f":"IF($P12=\"TRUE\",INDEX('バッチ反映用（非表示）'!$A$5:$O$100,MATCH($N12,'バッチ反映用（非表示）'!$S$5:$S$100,0),MATCH('次月以降仕訳（非表示）'!M$6,'バッチ反映用（非表示）'!$A$4:$G$4,0)),IF($Q12=\"end\",\"0\"&旅費振替依頼書!$I$3&旅費振替依頼書!$J$3&\"振替 \"&MONTH(SUBSTITUTE($B$7,\".\",\"/\"))&\"月旅費→\"&MONTH(EOMONTH(SUBSTITUTE($I$7,\".\",\"/\"),2))&\"月作業費 \"&N11&\"件\",\"\"))","v":""},6,"",{"$f":"IF(ISERROR(INDEX('バッチ反映用（非表示）'!$A$5:$O$100,MATCH($N12,'バッチ反映用（非表示）'!$S$5:$S$100,0),MATCH('次月以降仕訳（非表示）'!L$6,'バッチ反映用（非表示）'!$A$4:$G$4,0)))=FALSE,\"TRUE\",\"FALSE\")","v":"FALSE"},"",null,"",{"$f":"IF(I11=\"転記日付\",INDEX('バッチ反映用（非表示）'!$A$5:$O$100,MATCH($N12,'バッチ反映用（非表示）'!$S$5:$S$100,0),MATCH('次月以降仕訳（非表示）'!T$6,'バッチ反映用（非表示）'!$A$4:$G$4,0)),\"\")","v":{"$error":"#N/A"}},{"$f":"IF(J12<>\"\",IF(K12<>\"NS-0\"&旅費振替依頼書!$I$3,$C$4,$C$3),\"\")","v":""},"","",""]
["",{"$error":"#N/A"},"","","","",null,"",{"$f":"IF(I12=\"転記日付\",INDEX('バッチ反映用（非表示）'!$A$5:$O$100,MATCH($N13,'バッチ反映用（非表示）'!$S$5:$S$100,0),MATCH('次月以降仕訳（非表示）'!I$6,'バッチ反映用（非表示）'!$A$4:$G$4,0)),\"\")","v":{"$error":"#N/A"}},"",{"$f":"IF($P13=\"TRUE\",INDEX('バッチ反映用（非表示）'!$A$5:$O$100,MATCH($N13,'バッチ反映用（非表示）'!$S$5:$S$100,0),MATCH('次月以降仕訳（非表示）'!K$6,'バッチ反映用（非表示）'!$A$4:$G$4,0)),IF(AND(P13=\"FALSE\",Q13=\"end\"),\"NS-0100\",\"\"))","v":""},{"$f":"IF($P13=\"TRUE\",INDEX('バッチ反映用（非表示）'!$A$5:$O$100,MATCH($N13,'バッチ反映用（非表示）'!$S$5:$S$100,0),MATCH('次月以降仕訳（非表示）'!L$6,'バッチ反映用（非表示）'!$A$4:$G$4,0))*-1,IF($Q13=\"end\",SUM($L$7:L12)*-1,\"\"))","v":""},{"$f":"IF($P13=\"TRUE\",INDEX('バッチ反映用（非表示）'!$A$5:$O$100,MATCH($N13,'バッチ反映用（非表示）'!$S$5:$S$100,0),MATCH('次月以降仕訳（非表示）'!M$6,'バッチ反映用（非表示）'!$A$4:$G$4,0)),IF($Q13=\"end\",\"0\"&旅費振替依頼書!$I$3&旅費振替依頼書!$J$3&\"振替 \"&MONTH(SUBSTITUTE($B$7,\".\",\"/\"))&\"月旅費→\"&MONTH(EOMONTH(SUBSTITUTE($I$7,\".\",\"/\"),2))&\"月作業費 \"&N12&\"件\",\"\"))","v":""},7,"",{"$f":"IF(ISERROR(INDEX('バッチ反映用（非表示）'!$A$5:$O$100,MATCH($N13,'バッチ反映用（非表示）'!$S$5:$S$100,0),MATCH('次月以降仕訳（非表示）'!L$6,'バッチ反映用（非表示）'!$A$4:$G$4,0)))=FALSE,\"TRUE\",\"FALSE\")","v":"FALSE"},"",null,"",{"$f":"IF(I12=\"転記日付\",INDEX('バッチ反映用（非表示）'!$A$5:$O$100,MATCH($N13,'バッチ反映用（非表示）'!$S$5:$S$100,0),MATCH('次月以降仕訳（非表示）'!T$6,'バッチ反映用（非表示）'!$A$4:$G$4,0)),\"\")","v":{"$error":"#N/A"}},{"$f":"IF(J13<>\"\",IF(K13<>\"NS-0\"&旅費振替依頼書!$I$3,$C$4,$C$3),\"\")","v":""},"","",""]
["",{"$error":"#N/A"},"","","","",null,"",{"$f":"IF(I13=\"転記日付\",INDEX('バッチ反映用（非表示）'!$A$5:$O$100,MATCH($N14,'バッチ反映用（非表示）'!$S$5:$S$100,0),MATCH('次月以降仕訳（非表示）'!I$6,'バッチ反映用（非表示）'!$A$4:$G$4,0)),\"\")","v":{"$error":"#N/A"}},"",{"$f":"IF($P14=\"TRUE\",INDEX('バッチ反映用（非表示）'!$A$5:$O$100,MATCH($N14,'バッチ反映用（非表示）'!$S$5:$S$100,0),MATCH('次月以降仕訳（非表示）'!K$6,'バッチ反映用（非表示）'!$A$4:$G$4,0)),IF(AND(P14=\"FALSE\",Q14=\"end\"),\"NS-0100\",\"\"))","v":""},{"$f":"IF($P14=\"TRUE\",INDEX('バッチ反映用（非表示）'!$A$5:$O$100,MATCH($N14,'バッチ反映用（非表示）'!$S$5:$S$100,0),MATCH('次月以降仕訳（非表示）'!L$6,'バッチ反映用（非表示）'!$A$4:$G$4,0))*-1,IF($Q14=\"end\",SUM($L$7:L13)*-1,\"\"))","v":""},{"$f":"IF($P14=\"TRUE\",INDEX('バッチ反映用（非表示）'!$A$5:$O$100,MATCH($N14,'バッチ反映用（非表示）'!$S$5:$S$100,0),MATCH('次月以降仕訳（非表示）'!M$6,'バッチ反映用（非表示）'!$A$4:$G$4,0)),IF($Q14=\"end\",\"0\"&旅費振替依頼書!$I$3&旅費振替依頼書!$J$3&\"振替 \"&MONTH(SUBSTITUTE($B$7,\".\",\"/\"))&\"月旅費→\"&MONTH(EOMONTH(SUBSTITUTE($I$7,\".\",\"/\"),2))&\"月作業費 \"&N13&\"件\",\"\"))","v":""},8,"",{"$f":"IF(ISERROR(INDEX('バッチ反映用（非表示）'!$A$5:$O$100,MATCH($N14,'バッチ反映用（非表示）'!$S$5:$S$100,0),MATCH('次月以降仕訳（非表示）'!L$6,'バッチ反映用（非表示）'!$A$4:$G$4,0)))=FALSE,\"TRUE\",\"FALSE\")","v":"FALSE"},"",null,"",{"$f":"IF(I13=\"転記日付\",INDEX('バッチ反映用（非表示）'!$A$5:$O$100,MATCH($N14,'バッチ反映用（非表示）'!$S$5:$S$100,0),MATCH('次月以降仕訳（非表示）'!T$6,'バッチ反映用（非表示）'!$A$4:$G$4,0)),\"\")","v":{"$error":"#N/A"}},{"$f":"IF(J14<>\"\",IF(K14<>\"NS-0\"&旅費振替依頼書!$I$3,$C$4,$C$3),\"\")","v":""},"","",""]
["",{"$error":"#N/A"},"","","","",null,"",{"$f":"IF(I14=\"転記日付\",INDEX('バッチ反映用（非表示）'!$A$5:$O$100,MATCH($N15,'バッチ反映用（非表示）'!$S$5:$S$100,0),MATCH('次月以降仕訳（非表示）'!I$6,'バッチ反映用（非表示）'!$A$4:$G$4,0)),\"\")","v":{"$error":"#N/A"}},"",{"$f":"IF($P15=\"TRUE\",INDEX('バッチ反映用（非表示）'!$A$5:$O$100,MATCH($N15,'バッチ反映用（非表示）'!$S$5:$S$100,0),MATCH('次月以降仕訳（非表示）'!K$6,'バッチ反映用（非表示）'!$A$4:$G$4,0)),IF(AND(P15=\"FALSE\",Q15=\"end\"),\"NS-0100\",\"\"))","v":""},{"$f":"IF($P15=\"TRUE\",INDEX('バッチ反映用（非表示）'!$A$5:$O$100,MATCH($N15,'バッチ反映用（非表示）'!$S$5:$S$100,0),MATCH('次月以降仕訳（非表示）'!L$6,'バッチ反映用（非表示）'!$A$4:$G$4,0))*-1,IF($Q15=\"end\",SUM($L$7:L14)*-1,\"\"))","v":""},{"$f":"IF($P15=\"TRUE\",INDEX('バッチ反映用（非表示）'!$A$5:$O$100,MATCH($N15,'バッチ反映用（非表示）'!$S$5:$S$100,0),MATCH('次月以降仕訳（非表示）'!M$6,'バッチ反映用（非表示）'!$A$4:$G$4,0)),IF($Q15=\"end\",\"0\"&旅費振替依頼書!$I$3&旅費振替依頼書!$J$3&\"振替 \"&MONTH(SUBSTITUTE($B$7,\".\",\"/\"))&\"月旅費→\"&MONTH(EOMONTH(SUBSTITUTE($I$7,\".\",\"/\"),2))&\"月作業費 \"&N14&\"件\",\"\"))","v":""},9,"",{"$f":"IF(ISERROR(INDEX('バッチ反映用（非表示）'!$A$5:$O$100,MATCH($N15,'バッチ反映用（非表示）'!$S$5:$S$100,0),MATCH('次月以降仕訳（非表示）'!L$6,'バッチ反映用（非表示）'!$A$4:$G$4,0)))=FALSE,\"TRUE\",\"FALSE\")","v":"FALSE"},"",null,"",{"$f":"IF(I14=\"転記日付\",INDEX('バッチ反映用（非表示）'!$A$5:$O$100,MATCH($N15,'バッチ反映用（非表示）'!$S$5:$S$100,0),MATCH('次月以降仕訳（非表示）'!T$6,'バッチ反映用（非表示）'!$A$4:$G$4,0)),\"\")","v":{"$error":"#N/A"}},{"$f":"IF(J15<>\"\",IF(K15<>\"NS-0\"&旅費振替依頼書!$I$3,$C$4,$C$3),\"\")","v":""},"","",""]
["",{"$error":"#N/A"},"","","","",null,"",{"$f":"IF(I15=\"転記日付\",INDEX('バッチ反映用（非表示）'!$A$5:$O$100,MATCH($N16,'バッチ反映用（非表示）'!$S$5:$S$100,0),MATCH('次月以降仕訳（非表示）'!I$6,'バッチ反映用（非表示）'!$A$4:$G$4,0)),\"\")","v":{"$error":"#N/A"}},"",{"$f":"IF($P16=\"TRUE\",INDEX('バッチ反映用（非表示）'!$A$5:$O$100,MATCH($N16,'バッチ反映用（非表示）'!$S$5:$S$100,0),MATCH('次月以降仕訳（非表示）'!K$6,'バッチ反映用（非表示）'!$A$4:$G$4,0)),IF(AND(P16=\"FALSE\",Q16=\"end\"),\"NS-0100\",\"\"))","v":""},{"$f":"IF($P16=\"TRUE\",INDEX('バッチ反映用（非表示）'!$A$5:$O$100,MATCH($N16,'バッチ反映用（非表示）'!$S$5:$S$100,0),MATCH('次月以降仕訳（非表示）'!L$6,'バッチ反映用（非表示）'!$A$4:$G$4,0))*-1,IF($Q16=\"end\",SUM($L$7:L15)*-1,\"\"))","v":""},{"$f":"IF($P16=\"TRUE\",INDEX('バッチ反映用（非表示）'!$A$5:$O$100,MATCH($N16,'バッチ反映用（非表示）'!$S$5:$S$100,0),MATCH('次月以降仕訳（非表示）'!M$6,'バッチ反映用（非表示）'!$A$4:$G$4,0)),IF($Q16=\"end\",\"0\"&旅費振替依頼書!$I$3&旅費振替依頼書!$J$3&\"振替 \"&MONTH(SUBSTITUTE($B$7,\".\",\"/\"))&\"月旅費→\"&MONTH(EOMONTH(SUBSTITUTE($I$7,\".\",\"/\"),2))&\"月作業費 \"&N15&\"件\",\"\"))","v":""},10,"",{"$f":"IF(ISERROR(INDEX('バッチ反映用（非表示）'!$A$5:$O$100,MATCH($N16,'バッチ反映用（非表示）'!$S$5:$S$100,0),MATCH('次月以降仕訳（非表示）'!L$6,'バッチ反映用（非表示）'!$A$4:$G$4,0)))=FALSE,\"TRUE\",\"FALSE\")","v":"FALSE"},"",null,"",{"$f":"IF(I15=\"転記日付\",INDEX('バッチ反映用（非表示）'!$A$5:$O$100,MATCH($N16,'バッチ反映用（非表示）'!$S$5:$S$100,0),MATCH('次月以降仕訳（非表示）'!T$6,'バッチ反映用（非表示）'!$A$4:$G$4,0)),\"\")","v":{"$error":"#N/A"}},{"$f":"IF(J16<>\"\",IF(K16<>\"NS-0\"&旅費振替依頼書!$I$3,$C$4,$C$3),\"\")","v":""},"","",""]
["",{"$error":"#N/A"},"","","","",null,"",{"$f":"IF(I16=\"転記日付\",INDEX('バッチ反映用（非表示）'!$A$5:$O$100,MATCH($N17,'バッチ反映用（非表示）'!$S$5:$S$100,0),MATCH('次月以降仕訳（非表示）'!I$6,'バッチ反映用（非表示）'!$A$4:$G$4,0)),\"\")","v":{"$error":"#N/A"}},"",{"$f":"IF($P17=\"TRUE\",INDEX('バッチ反映用（非表示）'!$A$5:$O$100,MATCH($N17,'バッチ反映用（非表示）'!$S$5:$S$100,0),MATCH('次月以降仕訳（非表示）'!K$6,'バッチ反映用（非表示）'!$A$4:$G$4,0)),IF(AND(P17=\"FALSE\",Q17=\"end\"),\"NS-0100\",\"\"))","v":""},{"$f":"IF($P17=\"TRUE\",INDEX('バッチ反映用（非表示）'!$A$5:$O$100,MATCH($N17,'バッチ反映用（非表示）'!$S$5:$S$100,0),MATCH('次月以降仕訳（非表示）'!L$6,'バッチ反映用（非表示）'!$A$4:$G$4,0))*-1,IF($Q17=\"end\",SUM($L$7:L16)*-1,\"\"))","v":""},{"$f":"IF($P17=\"TRUE\",INDEX('バッチ反映用（非表示）'!$A$5:$O$100,MATCH($N17,'バッチ反映用（非表示）'!$S$5:$S$100,0),MATCH('次月以降仕訳（非表示）'!M$6,'バッチ反映用（非表示）'!$A$4:$G$4,0)),IF($Q17=\"end\",\"0\"&旅費振替依頼書!$I$3&旅費振替依頼書!$J$3&\"振替 \"&MONTH(SUBSTITUTE($B$7,\".\",\"/\"))&\"月旅費→\"&MONTH(EOMONTH(SUBSTITUTE($I$7,\".\",\"/\"),2))&\"月作業費 \"&N16&\"件\",\"\"))","v":""},11,"",{"$f":"IF(ISERROR(INDEX('バッチ反映用（非表示）'!$A$5:$O$100,MATCH($N17,'バッチ反映用（非表示）'!$S$5:$S$100,0),MATCH('次月以降仕訳（非表示）'!L$6,'バッチ反映用（非表示）'!$A$4:$G$4,0)))=FALSE,\"TRUE\",\"FALSE\")","v":"FALSE"},"",null,"",{"$f":"IF(I16=\"転記日付\",INDEX('バッチ反映用（非表示）'!$A$5:$O$100,MATCH($N17,'バッチ反映用（非表示）'!$S$5:$S$100,0),MATCH('次月以降仕訳（非表示）'!T$6,'バッチ反映用（非表示）'!$A$4:$G$4,0)),\"\")","v":{"$error":"#N/A"}},{"$f":"IF(J17<>\"\",IF(K17<>\"NS-0\"&旅費振替依頼書!$I$3,$C$4,$C$3),\"\")","v":""},"","",""]
["",{"$error":"#N/A"},"","","","",null,"",{"$f":"IF(I17=\"転記日付\",INDEX('バッチ反映用（非表示）'!$A$5:$O$100,MATCH($N18,'バッチ反映用（非表示）'!$S$5:$S$100,0),MATCH('次月以降仕訳（非表示）'!I$6,'バッチ反映用（非表示）'!$A$4:$G$4,0)),\"\")","v":{"$error":"#N/A"}},"",{"$f":"IF($P18=\"TRUE\",INDEX('バッチ反映用（非表示）'!$A$5:$O$100,MATCH($N18,'バッチ反映用（非表示）'!$S$5:$S$100,0),MATCH('次月以降仕訳（非表示）'!K$6,'バッチ反映用（非表示）'!$A$4:$G$4,0)),IF(AND(P18=\"FALSE\",Q18=\"end\"),\"NS-0100\",\"\"))","v":""},{"$f":"IF($P18=\"TRUE\",INDEX('バッチ反映用（非表示）'!$A$5:$O$100,MATCH($N18,'バッチ反映用（非表示）'!$S$5:$S$100,0),MATCH('次月以降仕訳（非表示）'!L$6,'バッチ反映用（非表示）'!$A$4:$G$4,0))*-1,IF($Q18=\"end\",SUM($L$7:L17)*-1,\"\"))","v":""},{"$f":"IF($P18=\"TRUE\",INDEX('バッチ反映用（非表示）'!$A$5:$O$100,MATCH($N18,'バッチ反映用（非表示）'!$S$5:$S$100,0),MATCH('次月以降仕訳（非表示）'!M$6,'バッチ反映用（非表示）'!$A$4:$G$4,0)),IF($Q18=\"end\",\"0\"&旅費振替依頼書!$I$3&旅費振替依頼書!$J$3&\"振替 \"&MONTH(SUBSTITUTE($B$7,\".\",\"/\"))&\"月旅費→\"&MONTH(EOMONTH(SUBSTITUTE($I$7,\".\",\"/\"),2))&\"月作業費 \"&N17&\"件\",\"\"))","v":""},12,"",{"$f":"IF(ISERROR(INDEX('バッチ反映用（非表示）'!$A$5:$O$100,MATCH($N18,'バッチ反映用（非表示）'!$S$5:$S$100,0),MATCH('次月以降仕訳（非表示）'!L$6,'バッチ反映用（非表示）'!$A$4:$G$4,0)))=FALSE,\"TRUE\",\"FALSE\")","v":"FALSE"},"",null,"",{"$f":"IF(I17=\"転記日付\",INDEX('バッチ反映用（非表示）'!$A$5:$O$100,MATCH($N18,'バッチ反映用（非表示）'!$S$5:$S$100,0),MATCH('次月以降仕訳（非表示）'!T$6,'バッチ反映用（非表示）'!$A$4:$G$4,0)),\"\")","v":{"$error":"#N/A"}},{"$f":"IF(J18<>\"\",IF(K18<>\"NS-0\"&旅費振替依頼書!$I$3,$C$4,$C$3),\"\")","v":""},"","",""]
["",{"$error":"#N/A"},"","","","",null,"",{"$f":"IF(I18=\"転記日付\",INDEX('バッチ反映用（非表示）'!$A$5:$O$100,MATCH($N19,'バッチ反映用（非表示）'!$S$5:$S$100,0),MATCH('次月以降仕訳（非表示）'!I$6,'バッチ反映用（非表示）'!$A$4:$G$4,0)),\"\")","v":{"$error":"#N/A"}},"",{"$f":"IF($P19=\"TRUE\",INDEX('バッチ反映用（非表示）'!$A$5:$O$100,MATCH($N19,'バッチ反映用（非表示）'!$S$5:$S$100,0),MATCH('次月以降仕訳（非表示）'!K$6,'バッチ反映用（非表示）'!$A$4:$G$4,0)),IF(AND(P19=\"FALSE\",Q19=\"end\"),\"NS-0100\",\"\"))","v":""},{"$f":"IF($P19=\"TRUE\",INDEX('バッチ反映用（非表示）'!$A$5:$O$100,MATCH($N19,'バッチ反映用（非表示）'!$S$5:$S$100,0),MATCH('次月以降仕訳（非表示）'!L$6,'バッチ反映用（非表示）'!$A$4:$G$4,0))*-1,IF($Q19=\"end\",SUM($L$7:L18)*-1,\"\"))","v":""},{"$f":"IF($P19=\"TRUE\",INDEX('バッチ反映用（非表示）'!$A$5:$O$100,MATCH($N19,'バッチ反映用（非表示）'!$S$5:$S$100,0),MATCH('次月以降仕訳（非表示）'!M$6,'バッチ反映用（非表示）'!$A$4:$G$4,0)),IF($Q19=\"end\",\"0\"&旅費振替依頼書!$I$3&旅費振替依頼書!$J$3&\"振替 \"&MONTH(SUBSTITUTE($B$7,\".\",\"/\"))&\"月旅費→\"&MONTH(EOMONTH(SUBSTITUTE($I$7,\".\",\"/\"),2))&\"月作業費 \"&N18&\"件\",\"\"))","v":""},13,"",{"$f":"IF(ISERROR(INDEX('バッチ反映用（非表示）'!$A$5:$O$100,MATCH($N19,'バッチ反映用（非表示）'!$S$5:$S$100,0),MATCH('次月以降仕訳（非表示）'!L$6,'バッチ反映用（非表示）'!$A$4:$G$4,0)))=FALSE,\"TRUE\",\"FALSE\")","v":"FALSE"},"",null,"",{"$f":"IF(I18=\"転記日付\",INDEX('バッチ反映用（非表示）'!$A$5:$O$100,MATCH($N19,'バッチ反映用（非表示）'!$S$5:$S$100,0),MATCH('次月以降仕訳（非表示）'!T$6,'バッチ反映用（非表示）'!$A$4:$G$4,0)),\"\")","v":{"$error":"#N/A"}},{"$f":"IF(J19<>\"\",IF(K19<>\"NS-0\"&旅費振替依頼書!$I$3,$C$4,$C$3),\"\")","v":""},"","",""]
["",{"$error":"#N/A"},"","","","",null,"",{"$f":"IF(I19=\"転記日付\",INDEX('バッチ反映用（非表示）'!$A$5:$O$100,MATCH($N20,'バッチ反映用（非表示）'!$S$5:$S$100,0),MATCH('次月以降仕訳（非表示）'!I$6,'バッチ反映用（非表示）'!$A$4:$G$4,0)),\"\")","v":{"$error":"#N/A"}},"",{"$f":"IF($P20=\"TRUE\",INDEX('バッチ反映用（非表示）'!$A$5:$O$100,MATCH($N20,'バッチ反映用（非表示）'!$S$5:$S$100,0),MATCH('次月以降仕訳（非表示）'!K$6,'バッチ反映用（非表示）'!$A$4:$G$4,0)),IF(AND(P20=\"FALSE\",Q20=\"end\"),\"NS-0100\",\"\"))","v":""},{"$f":"IF($P20=\"TRUE\",INDEX('バッチ反映用（非表示）'!$A$5:$O$100,MATCH($N20,'バッチ反映用（非表示）'!$S$5:$S$100,0),MATCH('次月以降仕訳（非表示）'!L$6,'バッチ反映用（非表示）'!$A$4:$G$4,0))*-1,IF($Q20=\"end\",SUM($L$7:L19)*-1,\"\"))","v":""},{"$f":"IF($P20=\"TRUE\",INDEX('バッチ反映用（非表示）'!$A$5:$O$100,MATCH($N20,'バッチ反映用（非表示）'!$S$5:$S$100,0),MATCH('次月以降仕訳（非表示）'!M$6,'バッチ反映用（非表示）'!$A$4:$G$4,0)),IF($Q20=\"end\",\"0\"&旅費振替依頼書!$I$3&旅費振替依頼書!$J$3&\"振替 \"&MONTH(SUBSTITUTE($B$7,\".\",\"/\"))&\"月旅費→\"&MONTH(EOMONTH(SUBSTITUTE($I$7,\".\",\"/\"),2))&\"月作業費 \"&N19&\"件\",\"\"))","v":""},14,"",{"$f":"IF(ISERROR(INDEX('バッチ反映用（非表示）'!$A$5:$O$100,MATCH($N20,'バッチ反映用（非表示）'!$S$5:$S$100,0),MATCH('次月以降仕訳（非表示）'!L$6,'バッチ反映用（非表示）'!$A$4:$G$4,0)))=FALSE,\"TRUE\",\"FALSE\")","v":"FALSE"},"",null,"",{"$f":"IF(I19=\"転記日付\",INDEX('バッチ反映用（非表示）'!$A$5:$O$100,MATCH($N20,'バッチ反映用（非表示）'!$S$5:$S$100,0),MATCH('次月以降仕訳（非表示）'!T$6,'バッチ反映用（非表示）'!$A$4:$G$4,0)),\"\")","v":{"$error":"#N/A"}},{"$f":"IF(J20<>\"\",IF(K20<>\"NS-0\"&旅費振替依頼書!$I$3,$C$4,$C$3),\"\")","v":""},"","",""]
["",{"$error":"#N/A"},"","","","",null,"",{"$f":"IF(I20=\"転記日付\",INDEX('バッチ反映用（非表示）'!$A$5:$O$100,MATCH($N21,'バッチ反映用（非表示）'!$S$5:$S$100,0),MATCH('次月以降仕訳（非表示）'!I$6,'バッチ反映用（非表示）'!$A$4:$G$4,0)),\"\")","v":{"$error":"#N/A"}},"",{"$f":"IF($P21=\"TRUE\",INDEX('バッチ反映用（非表示）'!$A$5:$O$100,MATCH($N21,'バッチ反映用（非表示）'!$S$5:$S$100,0),MATCH('次月以降仕訳（非表示）'!K$6,'バッチ反映用（非表示）'!$A$4:$G$4,0)),IF(AND(P21=\"FALSE\",Q21=\"end\"),\"NS-0100\",\"\"))","v":""},{"$f":"IF($P21=\"TRUE\",INDEX('バッチ反映用（非表示）'!$A$5:$O$100,MATCH($N21,'バッチ反映用（非表示）'!$S$5:$S$100,0),MATCH('次月以降仕訳（非表示）'!L$6,'バッチ反映用（非表示）'!$A$4:$G$4,0))*-1,IF($Q21=\"end\",SUM($L$7:L20)*-1,\"\"))","v":""},{"$f":"IF($P21=\"TRUE\",INDEX('バッチ反映用（非表示）'!$A$5:$O$100,MATCH($N21,'バッチ反映用（非表示）'!$S$5:$S$100,0),MATCH('次月以降仕訳（非表示）'!M$6,'バッチ反映用（非表示）'!$A$4:$G$4,0)),IF($Q21=\"end\",\"0\"&旅費振替依頼書!$I$3&旅費振替依頼書!$J$3&\"振替 \"&MONTH(SUBSTITUTE($B$7,\".\",\"/\"))&\"月旅費→\"&MONTH(EOMONTH(SUBSTITUTE($I$7,\".\",\"/\"),2))&\"月作業費 \"&N20&\"件\",\"\"))","v":""},15,"",{"$f":"IF(ISERROR(INDEX('バッチ反映用（非表示）'!$A$5:$O$100,MATCH($N21,'バッチ反映用（非表示）'!$S$5:$S$100,0),MATCH('次月以降仕訳（非表示）'!L$6,'バッチ反映用（非表示）'!$A$4:$G$4,0)))=FALSE,\"TRUE\",\"FALSE\")","v":"FALSE"},"",null,"",{"$f":"IF(I20=\"転記日付\",INDEX('バッチ反映用（非表示）'!$A$5:$O$100,MATCH($N21,'バッチ反映用（非表示）'!$S$5:$S$100,0),MATCH('次月以降仕訳（非表示）'!T$6,'バッチ反映用（非表示）'!$A$4:$G$4,0)),\"\")","v":{"$error":"#N/A"}},{"$f":"IF(J21<>\"\",IF(K21<>\"NS-0\"&旅費振替依頼書!$I$3,$C$4,$C$3),\"\")","v":""},"","",""]
["",{"$error":"#N/A"},"","","","",null,"",{"$f":"IF(I21=\"転記日付\",INDEX('バッチ反映用（非表示）'!$A$5:$O$100,MATCH($N22,'バッチ反映用（非表示）'!$S$5:$S$100,0),MATCH('次月以降仕訳（非表示）'!I$6,'バッチ反映用（非表示）'!$A$4:$G$4,0)),\"\")","v":{"$error":"#N/A"}},"",{"$f":"IF($P22=\"TRUE\",INDEX('バッチ反映用（非表示）'!$A$5:$O$100,MATCH($N22,'バッチ反映用（非表示）'!$S$5:$S$100,0),MATCH('次月以降仕訳（非表示）'!K$6,'バッチ反映用（非表示）'!$A$4:$G$4,0)),IF(AND(P22=\"FALSE\",Q22=\"end\"),\"NS-0100\",\"\"))","v":""},{"$f":"IF($P22=\"TRUE\",INDEX('バッチ反映用（非表示）'!$A$5:$O$100,MATCH($N22,'バッチ反映用（非表示）'!$S$5:$S$100,0),MATCH('次月以降仕訳（非表示）'!L$6,'バッチ反映用（非表示）'!$A$4:$G$4,0))*-1,IF($Q22=\"end\",SUM($L$7:L21)*-1,\"\"))","v":""},{"$f":"IF($P22=\"TRUE\",INDEX('バッチ反映用（非表示）'!$A$5:$O$100,MATCH($N22,'バッチ反映用（非表示）'!$S$5:$S$100,0),MATCH('次月以降仕訳（非表示）'!M$6,'バッチ反映用（非表示）'!$A$4:$G$4,0)),IF($Q22=\"end\",\"0\"&旅費振替依頼書!$I$3&旅費振替依頼書!$J$3&\"振替 \"&MONTH(SUBSTITUTE($B$7,\".\",\"/\"))&\"月旅費→\"&MONTH(EOMONTH(SUBSTITUTE($I$7,\".\",\"/\"),2))&\"月作業費 \"&N21&\"件\",\"\"))","v":""},16,"",{"$f":"IF(ISERROR(INDEX('バッチ反映用（非表示）'!$A$5:$O$100,MATCH($N22,'バッチ反映用（非表示）'!$S$5:$S$100,0),MATCH('次月以降仕訳（非表示）'!L$6,'バッチ反映用（非表示）'!$A$4:$G$4,0)))=FALSE,\"TRUE\",\"FALSE\")","v":"FALSE"},"",null,"",{"$f":"IF(I21=\"転記日付\",INDEX('バッチ反映用（非表示）'!$A$5:$O$100,MATCH($N22,'バッチ反映用（非表示）'!$S$5:$S$100,0),MATCH('次月以降仕訳（非表示）'!T$6,'バッチ反映用（非表示）'!$A$4:$G$4,0)),\"\")","v":{"$error":"#N/A"}},{"$f":"IF(J22<>\"\",IF(K22<>\"NS-0\"&旅費振替依頼書!$I$3,$C$4,$C$3),\"\")","v":""},"","",""]
["",{"$error":"#N/A"},"","","","",null,"",{"$f":"IF(I22=\"転記日付\",INDEX('バッチ反映用（非表示）'!$A$5:$O$100,MATCH($N23,'バッチ反映用（非表示）'!$S$5:$S$100,0),MATCH('次月以降仕訳（非表示）'!I$6,'バッチ反映用（非表示）'!$A$4:$G$4,0)),\"\")","v":{"$error":"#N/A"}},"",{"$f":"IF($P23=\"TRUE\",INDEX('バッチ反映用（非表示）'!$A$5:$O$100,MATCH($N23,'バッチ反映用（非表示）'!$S$5:$S$100,0),MATCH('次月以降仕訳（非表示）'!K$6,'バッチ反映用（非表示）'!$A$4:$G$4,0)),IF(AND(P23=\"FALSE\",Q23=\"end\"),\"NS-0100\",\"\"))","v":""},{"$f":"IF($P23=\"TRUE\",INDEX('バッチ反映用（非表示）'!$A$5:$O$100,MATCH($N23,'バッチ反映用（非表示）'!$S$5:$S$100,0),MATCH('次月以降仕訳（非表示）'!L$6,'バッチ反映用（非表示）'!$A$4:$G$4,0))*-1,IF($Q23=\"end\",SUM($L$7:L22)*-1,\"\"))","v":""},{"$f":"IF($P23=\"TRUE\",INDEX('バッチ反映用（非表示）'!$A$5:$O$100,MATCH($N23,'バッチ反映用（非表示）'!$S$5:$S$100,0),MATCH('次月以降仕訳（非表示）'!M$6,'バッチ反映用（非表示）'!$A$4:$G$4,0)),IF($Q23=\"end\",\"0\"&旅費振替依頼書!$I$3&旅費振替依頼書!$J$3&\"振替 \"&MONTH(SUBSTITUTE($B$7,\".\",\"/\"))&\"月旅費→\"&MONTH(EOMONTH(SUBSTITUTE($I$7,\".\",\"/\"),2))&\"月作業費 \"&N22&\"件\",\"\"))","v":""},17,"",{"$f":"IF(ISERROR(INDEX('バッチ反映用（非表示）'!$A$5:$O$100,MATCH($N23,'バッチ反映用（非表示）'!$S$5:$S$100,0),MATCH('次月以降仕訳（非表示）'!L$6,'バッチ反映用（非表示）'!$A$4:$G$4,0)))=FALSE,\"TRUE\",\"FALSE\")","v":"FALSE"},"",null,"",{"$f":"IF(I22=\"転記日付\",INDEX('バッチ反映用（非表示）'!$A$5:$O$100,MATCH($N23,'バッチ反映用（非表示）'!$S$5:$S$100,0),MATCH('次月以降仕訳（非表示）'!T$6,'バッチ反映用（非表示）'!$A$4:$G$4,0)),\"\")","v":{"$error":"#N/A"}},{"$f":"IF(J23<>\"\",IF(K23<>\"NS-0\"&旅費振替依頼書!$I$3,$C$4,$C$3),\"\")","v":""},{"$f":"IF(K23<>\"\",K23,\"\")","v":""},"",""]
["",{"$error":"#N/A"},"","","","",null,"",{"$f":"IF(I23=\"転記日付\",INDEX('バッチ反映用（非表示）'!$A$5:$O$100,MATCH($N24,'バッチ反映用（非表示）'!$S$5:$S$100,0),MATCH('次月以降仕訳（非表示）'!I$6,'バッチ反映用（非表示）'!$A$4:$G$4,0)),\"\")","v":{"$error":"#N/A"}},"",{"$f":"IF($P24=\"TRUE\",INDEX('バッチ反映用（非表示）'!$A$5:$O$100,MATCH($N24,'バッチ反映用（非表示）'!$S$5:$S$100,0),MATCH('次月以降仕訳（非表示）'!K$6,'バッチ反映用（非表示）'!$A$4:$G$4,0)),IF(AND(P24=\"FALSE\",Q24=\"end\"),\"NS-0100\",\"\"))","v":""},{"$f":"IF($P24=\"TRUE\",INDEX('バッチ反映用（非表示）'!$A$5:$O$100,MATCH($N24,'バッチ反映用（非表示）'!$S$5:$S$100,0),MATCH('次月以降仕訳（非表示）'!L$6,'バッチ反映用（非表示）'!$A$4:$G$4,0))*-1,IF($Q24=\"end\",SUM($L$7:L23)*-1,\"\"))","v":""},{"$f":"IF($P24=\"TRUE\",INDEX('バッチ反映用（非表示）'!$A$5:$O$100,MATCH($N24,'バッチ反映用（非表示）'!$S$5:$S$100,0),MATCH('次月以降仕訳（非表示）'!M$6,'バッチ反映用（非表示）'!$A$4:$G$4,0)),IF($Q24=\"end\",\"0\"&旅費振替依頼書!$I$3&旅費振替依頼書!$J$3&\"振替 \"&MONTH(SUBSTITUTE($B$7,\".\",\"/\"))&\"月旅費→\"&MONTH(EOMONTH(SUBSTITUTE($I$7,\".\",\"/\"),2))&\"月作業費 \"&N23&\"件\",\"\"))","v":""},18,"",{"$f":"IF(ISERROR(INDEX('バッチ反映用（非表示）'!$A$5:$O$100,MATCH($N24,'バッチ反映用（非表示）'!$S$5:$S$100,0),MATCH('次月以降仕訳（非表示）'!L$6,'バッチ反映用（非表示）'!$A$4:$G$4,0)))=FALSE,\"TRUE\",\"FALSE\")","v":"FALSE"},"",null,"",{"$f":"IF(I23=\"転記日付\",INDEX('バッチ反映用（非表示）'!$A$5:$O$100,MATCH($N24,'バッチ反映用（非表示）'!$S$5:$S$100,0),MATCH('次月以降仕訳（非表示）'!T$6,'バッチ反映用（非表示）'!$A$4:$G$4,0)),\"\")","v":{"$error":"#N/A"}},{"$f":"IF(J24<>\"\",IF(K24<>\"NS-0\"&旅費振替依頼書!$I$3,$C$4,$C$3),\"\")","v":""},"","",""]
[{"$f":"IF(L25<>\"\",H25,INDIRECT(\"S\"&ROW(H25)-MAX($O$7:$O$100)))","v":""},{"$f":"IF(L25<>\"\",I25,INDIRECT(\"T\"&ROW(H25)-MAX($O$7:$O$100)))","v":{"$error":"#N/A"}},{"$f":"IF(L25<>\"\",J25,INDIRECT(\"U\"&ROW(H25)-MAX($O$7:$O$100)))","v":""},{"$f":"IF(L25<>\"\",K25,INDIRECT(\"V\"&ROW(H25)-MAX($O$7:$O$100)))","v":""},{"$f":"IF(L25<>\"\",L25,INDIRECT(\"W\"&ROW(H25)-MAX($O$7:$O$100)))","v":""},"",null,{"$f":"IF(H24=\"会社コード\",\"NS\",IF(Q24=\"end\",\"\",\"\"))","v":""},{"$f":"IF(I24=\"転記日付\",INDEX('バッチ反映用（非表示）'!$A$5:$O$100,MATCH($N25,'バッチ反映用（非表示）'!$S$5:$S$100,0),MATCH('次月以降仕訳（非表示）'!I$6,'バッチ反映用（非表示）'!$A$4:$G$4,0)),\"\")","v":{"$error":"#N/A"}},{"$f":"IF(K25<>\"\",$C$4,\"\")","v":""},{"$f":"IF($P25=\"TRUE\",INDEX('バッチ反映用（非表示）'!$A$5:$O$100,MATCH($N25,'バッチ反映用（非表示）'!$S$5:$S$100,0),MATCH('次月以降仕訳（非表示）'!K$6,'バッチ反映用（非表示）'!$A$4:$G$4,0)),IF(AND(P25=\"FALSE\",Q25=\"end\"),\"NS-0100\",\"\"))","v":""},{"$f":"IF($P25=\"TRUE\",INDEX('バッチ反映用（非表示）'!$A$5:$O$100,MATCH($N25,'バッチ反映用（非表示）'!$S$5:$S$100,0),MATCH('次月以降仕訳（非表示）'!L$6,'バッチ反映用（非表示）'!$A$4:$G$4,0))*-1,IF($Q25=\"end\",SUM($L$7:L24)*-1,\"\"))","v":""},{"$f":"IF($P25=\"TRUE\",INDEX('バッチ反映用（非表示）'!$A$5:$O$100,MATCH($N25,'バッチ反映用（非表示）'!$S$5:$S$100,0),MATCH('次月以降仕訳（非表示）'!M$6,'バッチ反映用（非表示）'!$A$4:$G$4,0)),IF($Q25=\"end\",\"0\"&旅費振替依頼書!$I$3&旅費振替依頼書!$J$3&\"振替 \"&MONTH(SUBSTITUTE($B$7,\".\",\"/\"))&\"月旅費→\"&MONTH(EOMONTH(SUBSTITUTE($I$7,\".\",\"/\"),2))&\"月作業費 \"&N24&\"件\",\"\"))","v":""},19,{"$f":"IF(L25<>\"\",N25,\"\")","v":""},{"$f":"IF(ISERROR(INDEX('バッチ反映用（非表示）'!$A$5:$O$100,MATCH($N25,'バッチ反映用（非表示）'!$S$5:$S$100,0),MATCH('次月以降仕訳（非表示）'!L$6,'バッチ反映用（非表示）'!$A$4:$G$4,0)))=FALSE,\"TRUE\",\"FALSE\")","v":"FALSE"},{"$f":"IF(AND(P24=\"TRUE\",P25=\"FALSE\"),\"end\",\"\")","v":""},null,{"$f":"IF(H24=\"会社コード\",\"NS\",IF(Q24=\"end\",\"eof\",\"\"))","v":""},{"$f":"IF(I24=\"転記日付\",INDEX('バッチ反映用（非表示）'!$A$5:$O$100,MATCH($N25,'バッチ反映用（非表示）'!$S$5:$S$100,0),MATCH('次月以降仕訳（非表示）'!T$6,'バッチ反映用（非表示）'!$A$4:$G$4,0)),\"\")","v":{"$error":"#N/A"}},{"$f":"IF(J25<>\"\",IF(K25<>\"NS-0\"&旅費振替依頼書!$I$3,$C$4,$C$3),\"\")","v":""},{"$f":"IF(K25<>\"\",K25,\"\")","v":""},{"$f":"IF(L25<>\"\",L25*-1,\"\")","v":""},""]
["",{"$error":"#N/A"},"","","","",null,"",{"$f":"IF(I25=\"転記日付\",INDEX('バッチ反映用（非表示）'!$A$5:$O$100,MATCH($N26,'バッチ反映用（非表示）'!$S$5:$S$100,0),MATCH('次月以降仕訳（非表示）'!I$6,'バッチ反映用（非表示）'!$A$4:$G$4,0)),\"\")","v":{"$error":"#N/A"}},"",{"$f":"IF($P26=\"TRUE\",INDEX('バッチ反映用（非表示）'!$A$5:$O$100,MATCH($N26,'バッチ反映用（非表示）'!$S$5:$S$100,0),MATCH('次月以降仕訳（非表示）'!K$6,'バッチ反映用（非表示）'!$A$4:$G$4,0)),IF(AND(P26=\"FALSE\",Q26=\"end\"),\"NS-0100\",\"\"))","v":""},{"$f":"IF($P26=\"TRUE\",INDEX('バッチ反映用（非表示）'!$A$5:$O$100,MATCH($N26,'バッチ反映用（非表示）'!$S$5:$S$100,0),MATCH('次月以降仕訳（非表示）'!L$6,'バッチ反映用（非表示）'!$A$4:$G$4,0))*-1,IF($Q26=\"end\",SUM($L$7:L25)*-1,\"\"))","v":""},{"$f":"IF($P26=\"TRUE\",INDEX('バッチ反映用（非表示）'!$A$5:$O$100,MATCH($N26,'バッチ反映用（非表示）'!$S$5:$S$100,0),MATCH('次月以降仕訳（非表示）'!M$6,'バッチ反映用（非表示）'!$A$4:$G$4,0)),IF($Q26=\"end\",\"0\"&旅費振替依頼書!$I$3&旅費振替依頼書!$J$3&\"振替 \"&MONTH(SUBSTITUTE($B$7,\".\",\"/\"))&\"月旅費→\"&MONTH(EOMONTH(SUBSTITUTE($I$7,\".\",\"/\"),2))&\"月作業費 \"&N25&\"件\",\"\"))","v":""},20,"",{"$f":"IF(ISERROR(INDEX('バッチ反映用（非表示）'!$A$5:$O$100,MATCH($N26,'バッチ反映用（非表示）'!$S$5:$S$100,0),MATCH('次月以降仕訳（非表示）'!L$6,'バッチ反映用（非表示）'!$A$4:$G$4,0)))=FALSE,\"TRUE\",\"FALSE\")","v":"FALSE"},"",null,"",{"$f":"IF(I25=\"転記日付\",INDEX('バッチ反映用（非表示）'!$A$5:$O$100,MATCH($N26,'バッチ反映用（非表示）'!$S$5:$S$100,0),MATCH('次月以降仕訳（非表示）'!T$6,'バッチ反映用（非表示）'!$A$4:$G$4,0)),\"\")","v":{"$error":"#N/A"}},{"$f":"IF(J26<>\"\",IF(K26<>\"NS-0\"&旅費振替依頼書!$I$3,$C$4,$C$3),\"\")","v":""},"","",""]
["",{"$error":"#N/A"},"","","","",null,"",{"$f":"IF(I26=\"転記日付\",INDEX('バッチ反映用（非表示）'!$A$5:$O$100,MATCH($N27,'バッチ反映用（非表示）'!$S$5:$S$100,0),MATCH('次月以降仕訳（非表示）'!I$6,'バッチ反映用（非表示）'!$A$4:$G$4,0)),\"\")","v":{"$error":"#N/A"}},"",{"$f":"IF($P27=\"TRUE\",INDEX('バッチ反映用（非表示）'!$A$5:$O$100,MATCH($N27,'バッチ反映用（非表示）'!$S$5:$S$100,0),MATCH('次月以降仕訳（非表示）'!K$6,'バッチ反映用（非表示）'!$A$4:$G$4,0)),IF(AND(P27=\"FALSE\",Q27=\"end\"),\"NS-0100\",\"\"))","v":""},{"$f":"IF($P27=\"TRUE\",INDEX('バッチ反映用（非表示）'!$A$5:$O$100,MATCH($N27,'バッチ反映用（非表示）'!$S$5:$S$100,0),MATCH('次月以降仕訳（非表示）'!L$6,'バッチ反映用（非表示）'!$A$4:$G$4,0))*-1,IF($Q27=\"end\",SUM($L$7:L26)*-1,\"\"))","v":""},{"$f":"IF($P27=\"TRUE\",INDEX('バッチ反映用（非表示）'!$A$5:$O$100,MATCH($N27,'バッチ反映用（非表示）'!$S$5:$S$100,0),MATCH('次月以降仕訳（非表示）'!M$6,'バッチ反映用（非表示）'!$A$4:$G$4,0)),IF($Q27=\"end\",\"0\"&旅費振替依頼書!$I$3&旅費振替依頼書!$J$3&\"振替 \"&MONTH(SUBSTITUTE($B$7,\".\",\"/\"))&\"月旅費→\"&MONTH(EOMONTH(SUBSTITUTE($I$7,\".\",\"/\"),2))&\"月作業費 \"&N26&\"件\",\"\"))","v":""},21,"",{"$f":"IF(ISERROR(INDEX('バッチ反映用（非表示）'!$A$5:$O$100,MATCH($N27,'バッチ反映用（非表示）'!$S$5:$S$100,0),MATCH('次月以降仕訳（非表示）'!L$6,'バッチ反映用（非表示）'!$A$4:$G$4,0)))=FALSE,\"TRUE\",\"FALSE\")","v":"FALSE"},"",null,"",{"$f":"IF(I26=\"転記日付\",INDEX('バッチ反映用（非表示）'!$A$5:$O$100,MATCH($N27,'バッチ反映用（非表示）'!$S$5:$S$100,0),MATCH('次月以降仕訳（非表示）'!T$6,'バッチ反映用（非表示）'!$A$4:$G$4,0)),\"\")","v":{"$error":"#N/A"}},{"$f":"IF(J27<>\"\",IF(K27<>\"NS-0\"&旅費振替依頼書!$I$3,$C$4,$C$3),\"\")","v":""},"","",""]
["",{"$error":"#N/A"},"","","","",null,"",{"$f":"IF(I27=\"転記日付\",INDEX('バッチ反映用（非表示）'!$A$5:$O$100,MATCH($N28,'バッチ反映用（非表示）'!$S$5:$S$100,0),MATCH('次月以降仕訳（非表示）'!I$6,'バッチ反映用（非表示）'!$A$4:$G$4,0)),\"\")","v":{"$error":"#N/A"}},"",{"$f":"IF($P28=\"TRUE\",INDEX('バッチ反映用（非表示）'!$A$5:$O$100,MATCH($N28,'バッチ反映用（非表示）'!$S$5:$S$100,0),MATCH('次月以降仕訳（非表示）'!K$6,'バッチ反映用（非表示）'!$A$4:$G$4,0)),IF(AND(P28=\"FALSE\",Q28=\"end\"),\"NS-0100\",\"\"))","v":""},{"$f":"IF($P28=\"TRUE\",INDEX('バッチ反映用（非表示）'!$A$5:$O$100,MATCH($N28,'バッチ反映用（非表示）'!$S$5:$S$100,0),MATCH('次月以降仕訳（非表示）'!L$6,'バッチ反映用（非表示）'!$A$4:$G$4,0))*-1,IF($Q28=\"end\",SUM($L$7:L27)*-1,\"\"))","v":""},{"$f":"IF($P28=\"TRUE\",INDEX('バッチ反映用（非表示）'!$A$5:$O$100,MATCH($N28,'バッチ反映用（非表示）'!$S$5:$S$100,0),MATCH('次月以降仕訳（非表示）'!M$6,'バッチ反映用（非表示）'!$A$4:$G$4,0)),IF($Q28=\"end\",\"0\"&旅費振替依頼書!$I$3&旅費振替依頼書!$J$3&\"振替 \"&MONTH(SUBSTITUTE($B$7,\".\",\"/\"))&\"月旅費→\"&MONTH(EOMONTH(SUBSTITUTE($I$7,\".\",\"/\"),2))&\"月作業費 \"&N27&\"件\",\"\"))","v":""},22,"",{"$f":"IF(ISERROR(INDEX('バッチ反映用（非表示）'!$A$5:$O$100,MATCH($N28,'バッチ反映用（非表示）'!$S$5:$S$100,0),MATCH('次月以降仕訳（非表示）'!L$6,'バッチ反映用（非表示）'!$A$4:$G$4,0)))=FALSE,\"TRUE\",\"FALSE\")","v":"FALSE"},"",null,"",{"$f":"IF(I27=\"転記日付\",INDEX('バッチ反映用（非表示）'!$A$5:$O$100,MATCH($N28,'バッチ反映用（非表示）'!$S$5:$S$100,0),MATCH('次月以降仕訳（非表示）'!T$6,'バッチ反映用（非表示）'!$A$4:$G$4,0)),\"\")","v":{"$error":"#N/A"}},{"$f":"IF(J28<>\"\",IF(K28<>\"NS-0\"&旅費振替依頼書!$I$3,$C$4,$C$3),\"\")","v":""},"","",""]
["",{"$error":"#N/A"},"","","","",null,"",{"$f":"IF(I28=\"転記日付\",INDEX('バッチ反映用（非表示）'!$A$5:$O$100,MATCH($N29,'バッチ反映用（非表示）'!$S$5:$S$100,0),MATCH('次月以降仕訳（非表示）'!I$6,'バッチ反映用（非表示）'!$A$4:$G$4,0)),\"\")","v":{"$error":"#N/A"}},"",{"$f":"IF($P29=\"TRUE\",INDEX('バッチ反映用（非表示）'!$A$5:$O$100,MATCH($N29,'バッチ反映用（非表示）'!$S$5:$S$100,0),MATCH('次月以降仕訳（非表示）'!K$6,'バッチ反映用（非表示）'!$A$4:$G$4,0)),IF(AND(P29=\"FALSE\",Q29=\"end\"),\"NS-0100\",\"\"))","v":""},{"$f":"IF($P29=\"TRUE\",INDEX('バッチ反映用（非表示）'!$A$5:$O$100,MATCH($N29,'バッチ反映用（非表示）'!$S$5:$S$100,0),MATCH('次月以降仕訳（非表示）'!L$6,'バッチ反映用（非表示）'!$A$4:$G$4,0))*-1,IF($Q29=\"end\",SUM($L$7:L28)*-1,\"\"))","v":""},{"$f":"IF($P29=\"TRUE\",INDEX('バッチ反映用（非表示）'!$A$5:$O$100,MATCH($N29,'バッチ反映用（非表示）'!$S$5:$S$100,0),MATCH('次月以降仕訳（非表示）'!M$6,'バッチ反映用（非表示）'!$A$4:$G$4,0)),IF($Q29=\"end\",\"0\"&旅費振替依頼書!$I$3&旅費振替依頼書!$J$3&\"振替 \"&MONTH(SUBSTITUTE($B$7,\".\",\"/\"))&\"月旅費→\"&MONTH(EOMONTH(SUBSTITUTE($I$7,\".\",\"/\"),2))&\"月作業費 \"&N28&\"件\",\"\"))","v":""},23,"",{"$f":"IF(ISERROR(INDEX('バッチ反映用（非表示）'!$A$5:$O$100,MATCH($N29,'バッチ反映用（非表示）'!$S$5:$S$100,0),MATCH('次月以降仕訳（非表示）'!L$6,'バッチ反映用（非表示）'!$A$4:$G$4,0)))=FALSE,\"TRUE\",\"FALSE\")","v":"FALSE"},"",null,"",{"$f":"IF(I28=\"転記日付\",INDEX('バッチ反映用（非表示）'!$A$5:$O$100,MATCH($N29,'バッチ反映用（非表示）'!$S$5:$S$100,0),MATCH('次月以降仕訳（非表示）'!T$6,'バッチ反映用（非表示）'!$A$4:$G$4,0)),\"\")","v":{"$error":"#N/A"}},{"$f":"IF(J29<>\"\",IF(K29<>\"NS-0\"&旅費振替依頼書!$I$3,$C$4,$C$3),\"\")","v":""},"","",""]
["",{"$error":"#N/A"},"","","","",null,"",{"$f":"IF(I29=\"転記日付\",INDEX('バッチ反映用（非表示）'!$A$5:$O$100,MATCH($N30,'バッチ反映用（非表示）'!$S$5:$S$100,0),MATCH('次月以降仕訳（非表示）'!I$6,'バッチ反映用（非表示）'!$A$4:$G$4,0)),\"\")","v":{"$error":"#N/A"}},"",{"$f":"IF($P30=\"TRUE\",INDEX('バッチ反映用（非表示）'!$A$5:$O$100,MATCH($N30,'バッチ反映用（非表示）'!$S$5:$S$100,0),MATCH('次月以降仕訳（非表示）'!K$6,'バッチ反映用（非表示）'!$A$4:$G$4,0)),IF(AND(P30=\"FALSE\",Q30=\"end\"),\"NS-0100\",\"\"))","v":""},{"$f":"IF($P30=\"TRUE\",INDEX('バッチ反映用（非表示）'!$A$5:$O$100,MATCH($N30,'バッチ反映用（非表示）'!$S$5:$S$100,0),MATCH('次月以降仕訳（非表示）'!L$6,'バッチ反映用（非表示）'!$A$4:$G$4,0))*-1,IF($Q30=\"end\",SUM($L$7:L29)*-1,\"\"))","v":""},{"$f":"IF($P30=\"TRUE\",INDEX('バッチ反映用（非表示）'!$A$5:$O$100,MATCH($N30,'バッチ反映用（非表示）'!$S$5:$S$100,0),MATCH('次月以降仕訳（非表示）'!M$6,'バッチ反映用（非表示）'!$A$4:$G$4,0)),IF($Q30=\"end\",\"0\"&旅費振替依頼書!$I$3&旅費振替依頼書!$J$3&\"振替 \"&MONTH(SUBSTITUTE($B$7,\".\",\"/\"))&\"月旅費→\"&MONTH(EOMONTH(SUBSTITUTE($I$7,\".\",\"/\"),2))&\"月作業費 \"&N29&\"件\",\"\"))","v":""},24,"",{"$f":"IF(ISERROR(INDEX('バッチ反映用（非表示）'!$A$5:$O$100,MATCH($N30,'バッチ反映用（非表示）'!$S$5:$S$100,0),MATCH('次月以降仕訳（非表示）'!L$6,'バッチ反映用（非表示）'!$A$4:$G$4,0)))=FALSE,\"TRUE\",\"FALSE\")","v":"FALSE"},"",null,"",{"$f":"IF(I29=\"転記日付\",INDEX('バッチ反映用（非表示）'!$A$5:$O$100,MATCH($N30,'バッチ反映用（非表示）'!$S$5:$S$100,0),MATCH('次月以降仕訳（非表示）'!T$6,'バッチ反映用（非表示）'!$A$4:$G$4,0)),\"\")","v":{"$error":"#N/A"}},{"$f":"IF(J30<>\"\",IF(K30<>\"NS-0\"&旅費振替依頼書!$I$3,$C$4,$C$3),\"\")","v":""},"","",""]
["",{"$error":"#N/A"},"","","","",null,"",{"$f":"IF(I30=\"転記日付\",INDEX('バッチ反映用（非表示）'!$A$5:$O$100,MATCH($N31,'バッチ反映用（非表示）'!$S$5:$S$100,0),MATCH('次月以降仕訳（非表示）'!I$6,'バッチ反映用（非表示）'!$A$4:$G$4,0)),\"\")","v":{"$error":"#N/A"}},"",{"$f":"IF($P31=\"TRUE\",INDEX('バッチ反映用（非表示）'!$A$5:$O$100,MATCH($N31,'バッチ反映用（非表示）'!$S$5:$S$100,0),MATCH('次月以降仕訳（非表示）'!K$6,'バッチ反映用（非表示）'!$A$4:$G$4,0)),IF(AND(P31=\"FALSE\",Q31=\"end\"),\"NS-0100\",\"\"))","v":""},{"$f":"IF($P31=\"TRUE\",INDEX('バッチ反映用（非表示）'!$A$5:$O$100,MATCH($N31,'バッチ反映用（非表示）'!$S$5:$S$100,0),MATCH('次月以降仕訳（非表示）'!L$6,'バッチ反映用（非表示）'!$A$4:$G$4,0))*-1,IF($Q31=\"end\",SUM($L$7:L30)*-1,\"\"))","v":""},{"$f":"IF($P31=\"TRUE\",INDEX('バッチ反映用（非表示）'!$A$5:$O$100,MATCH($N31,'バッチ反映用（非表示）'!$S$5:$S$100,0),MATCH('次月以降仕訳（非表示）'!M$6,'バッチ反映用（非表示）'!$A$4:$G$4,0)),IF($Q31=\"end\",\"0\"&旅費振替依頼書!$I$3&旅費振替依頼書!$J$3&\"振替 \"&MONTH(SUBSTITUTE($B$7,\".\",\"/\"))&\"月旅費→\"&MONTH(EOMONTH(SUBSTITUTE($I$7,\".\",\"/\"),2))&\"月作業費 \"&N30&\"件\",\"\"))","v":""},25,"",{"$f":"IF(ISERROR(INDEX('バッチ反映用（非表示）'!$A$5:$O$100,MATCH($N31,'バッチ反映用（非表示）'!$S$5:$S$100,0),MATCH('次月以降仕訳（非表示）'!L$6,'バッチ反映用（非表示）'!$A$4:$G$4,0)))=FALSE,\"TRUE\",\"FALSE\")","v":"FALSE"},"",null,"",{"$f":"IF(I30=\"転記日付\",INDEX('バッチ反映用（非表示）'!$A$5:$O$100,MATCH($N31,'バッチ反映用（非表示）'!$S$5:$S$100,0),MATCH('次月以降仕訳（非表示）'!T$6,'バッチ反映用（非表示）'!$A$4:$G$4,0)),\"\")","v":{"$error":"#N/A"}},{"$f":"IF(J31<>\"\",IF(K31<>\"NS-0\"&旅費振替依頼書!$I$3,$C$4,$C$3),\"\")","v":""},"","",""]
["",{"$error":"#N/A"},"","","","",null,"",{"$f":"IF(I31=\"転記日付\",INDEX('バッチ反映用（非表示）'!$A$5:$O$100,MATCH($N32,'バッチ反映用（非表示）'!$S$5:$S$100,0),MATCH('次月以降仕訳（非表示）'!I$6,'バッチ反映用（非表示）'!$A$4:$G$4,0)),\"\")","v":{"$error":"#N/A"}},"",{"$f":"IF($P32=\"TRUE\",INDEX('バッチ反映用（非表示）'!$A$5:$O$100,MATCH($N32,'バッチ反映用（非表示）'!$S$5:$S$100,0),MATCH('次月以降仕訳（非表示）'!K$6,'バッチ反映用（非表示）'!$A$4:$G$4,0)),IF(AND(P32=\"FALSE\",Q32=\"end\"),\"NS-0100\",\"\"))","v":""},{"$f":"IF($P32=\"TRUE\",INDEX('バッチ反映用（非表示）'!$A$5:$O$100,MATCH($N32,'バッチ反映用（非表示）'!$S$5:$S$100,0),MATCH('次月以降仕訳（非表示）'!L$6,'バッチ反映用（非表示）'!$A$4:$G$4,0))*-1,IF($Q32=\"end\",SUM($L$7:L31)*-1,\"\"))","v":""},{"$f":"IF($P32=\"TRUE\",INDEX('バッチ反映用（非表示）'!$A$5:$O$100,MATCH($N32,'バッチ反映用（非表示）'!$S$5:$S$100,0),MATCH('次月以降仕訳（非表示）'!M$6,'バッチ反映用（非表示）'!$A$4:$G$4,0)),IF($Q32=\"end\",\"0\"&旅費振替依頼書!$I$3&旅費振替依頼書!$J$3&\"振替 \"&MONTH(SUBSTITUTE($B$7,\".\",\"/\"))&\"月旅費→\"&MONTH(EOMONTH(SUBSTITUTE($I$7,\".\",\"/\"),2))&\"月作業費 \"&N31&\"件\",\"\"))","v":""},26,"",{"$f":"IF(ISERROR(INDEX('バッチ反映用（非表示）'!$A$5:$O$100,MATCH($N32,'バッチ反映用（非表示）'!$S$5:$S$100,0),MATCH('次月以降仕訳（非表示）'!L$6,'バッチ反映用（非表示）'!$A$4:$G$4,0)))=FALSE,\"TRUE\",\"FALSE\")","v":"FALSE"},"",null,"",{"$f":"IF(I31=\"転記日付\",INDEX('バッチ反映用（非表示）'!$A$5:$O$100,MATCH($N32,'バッチ反映用（非表示）'!$S$5:$S$100,0),MATCH('次月以降仕訳（非表示）'!T$6,'バッチ反映用（非表示）'!$A$4:$G$4,0)),\"\")","v":{"$error":"#N/A"}},{"$f":"IF(J32<>\"\",IF(K32<>\"NS-0\"&旅費振替依頼書!$I$3,$C$4,$C$3),\"\")","v":""},"","",""]
["",{"$error":"#N/A"},"","","","",null,"",{"$f":"IF(I32=\"転記日付\",INDEX('バッチ反映用（非表示）'!$A$5:$O$100,MATCH($N33,'バッチ反映用（非表示）'!$S$5:$S$100,0),MATCH('次月以降仕訳（非表示）'!I$6,'バッチ反映用（非表示）'!$A$4:$G$4,0)),\"\")","v":{"$error":"#N/A"}},"",{"$f":"IF($P33=\"TRUE\",INDEX('バッチ反映用（非表示）'!$A$5:$O$100,MATCH($N33,'バッチ反映用（非表示）'!$S$5:$S$100,0),MATCH('次月以降仕訳（非表示）'!K$6,'バッチ反映用（非表示）'!$A$4:$G$4,0)),IF(AND(P33=\"FALSE\",Q33=\"end\"),\"NS-0100\",\"\"))","v":""},{"$f":"IF($P33=\"TRUE\",INDEX('バッチ反映用（非表示）'!$A$5:$O$100,MATCH($N33,'バッチ反映用（非表示）'!$S$5:$S$100,0),MATCH('次月以降仕訳（非表示）'!L$6,'バッチ反映用（非表示）'!$A$4:$G$4,0))*-1,IF($Q33=\"end\",SUM($L$7:L32)*-1,\"\"))","v":""},{"$f":"IF($P33=\"TRUE\",INDEX('バッチ反映用（非表示）'!$A$5:$O$100,MATCH($N33,'バッチ反映用（非表示）'!$S$5:$S$100,0),MATCH('次月以降仕訳（非表示）'!M$6,'バッチ反映用（非表示）'!$A$4:$G$4,0)),IF($Q33=\"end\",\"0\"&旅費振替依頼書!$I$3&旅費振替依頼書!$J$3&\"振替 \"&MONTH(SUBSTITUTE($B$7,\".\",\"/\"))&\"月旅費→\"&MONTH(EOMONTH(SUBSTITUTE($I$7,\".\",\"/\"),2))&\"月作業費 \"&N32&\"件\",\"\"))","v":""},27,"",{"$f":"IF(ISERROR(INDEX('バッチ反映用（非表示）'!$A$5:$O$100,MATCH($N33,'バッチ反映用（非表示）'!$S$5:$S$100,0),MATCH('次月以降仕訳（非表示）'!L$6,'バッチ反映用（非表示）'!$A$4:$G$4,0)))=FALSE,\"TRUE\",\"FALSE\")","v":"FALSE"},"",null,"",{"$f":"IF(I32=\"転記日付\",INDEX('バッチ反映用（非表示）'!$A$5:$O$100,MATCH($N33,'バッチ反映用（非表示）'!$S$5:$S$100,0),MATCH('次月以降仕訳（非表示）'!T$6,'バッチ反映用（非表示）'!$A$4:$G$4,0)),\"\")","v":{"$error":"#N/A"}},{"$f":"IF(J33<>\"\",IF(K33<>\"NS-0\"&旅費振替依頼書!$I$3,$C$4,$C$3),\"\")","v":""},"","",""]
["",{"$error":"#N/A"},"","","","",null,"",{"$f":"IF(I33=\"転記日付\",INDEX('バッチ反映用（非表示）'!$A$5:$O$100,MATCH($N34,'バッチ反映用（非表示）'!$S$5:$S$100,0),MATCH('次月以降仕訳（非表示）'!I$6,'バッチ反映用（非表示）'!$A$4:$G$4,0)),\"\")","v":{"$error":"#N/A"}},"",{"$f":"IF($P34=\"TRUE\",INDEX('バッチ反映用（非表示）'!$A$5:$O$100,MATCH($N34,'バッチ反映用（非表示）'!$S$5:$S$100,0),MATCH('次月以降仕訳（非表示）'!K$6,'バッチ反映用（非表示）'!$A$4:$G$4,0)),IF(AND(P34=\"FALSE\",Q34=\"end\"),\"NS-0100\",\"\"))","v":""},{"$f":"IF($P34=\"TRUE\",INDEX('バッチ反映用（非表示）'!$A$5:$O$100,MATCH($N34,'バッチ反映用（非表示）'!$S$5:$S$100,0),MATCH('次月以降仕訳（非表示）'!L$6,'バッチ反映用（非表示）'!$A$4:$G$4,0))*-1,IF($Q34=\"end\",SUM($L$7:L33)*-1,\"\"))","v":""},{"$f":"IF($P34=\"TRUE\",INDEX('バッチ反映用（非表示）'!$A$5:$O$100,MATCH($N34,'バッチ反映用（非表示）'!$S$5:$S$100,0),MATCH('次月以降仕訳（非表示）'!M$6,'バッチ反映用（非表示）'!$A$4:$G$4,0)),IF($Q34=\"end\",\"0\"&旅費振替依頼書!$I$3&旅費振替依頼書!$J$3&\"振替 \"&MONTH(SUBSTITUTE($B$7,\".\",\"/\"))&\"月旅費→\"&MONTH(EOMONTH(SUBSTITUTE($I$7,\".\",\"/\"),2))&\"月作業費 \"&N33&\"件\",\"\"))","v":""},28,"",{"$f":"IF(ISERROR(INDEX('バッチ反映用（非表示）'!$A$5:$O$100,MATCH($N34,'バッチ反映用（非表示）'!$S$5:$S$100,0),MATCH('次月以降仕訳（非表示）'!L$6,'バッチ反映用（非表示）'!$A$4:$G$4,0)))=FALSE,\"TRUE\",\"FALSE\")","v":"FALSE"},"",null,"",{"$f":"IF(I33=\"転記日付\",INDEX('バッチ反映用（非表示）'!$A$5:$O$100,MATCH($N34,'バッチ反映用（非表示）'!$S$5:$S$100,0),MATCH('次月以降仕訳（非表示）'!T$6,'バッチ反映用（非表示）'!$A$4:$G$4,0)),\"\")","v":{"$error":"#N/A"}},{"$f":"IF(J34<>\"\",IF(K34<>\"NS-0\"&旅費振替依頼書!$I$3,$C$4,$C$3),\"\")","v":""},"","",""]
["",{"$error":"#N/A"},"","","","",null,"",{"$f":"IF(I34=\"転記日付\",INDEX('バッチ反映用（非表示）'!$A$5:$O$100,MATCH($N35,'バッチ反映用（非表示）'!$S$5:$S$100,0),MATCH('次月以降仕訳（非表示）'!I$6,'バッチ反映用（非表示）'!$A$4:$G$4,0)),\"\")","v":{"$error":"#N/A"}},"",{"$f":"IF($P35=\"TRUE\",INDEX('バッチ反映用（非表示）'!$A$5:$O$100,MATCH($N35,'バッチ反映用（非表示）'!$S$5:$S$100,0),MATCH('次月以降仕訳（非表示）'!K$6,'バッチ反映用（非表示）'!$A$4:$G$4,0)),IF(AND(P35=\"FALSE\",Q35=\"end\"),\"NS-0100\",\"\"))","v":""},{"$f":"IF($P35=\"TRUE\",INDEX('バッチ反映用（非表示）'!$A$5:$O$100,MATCH($N35,'バッチ反映用（非表示）'!$S$5:$S$100,0),MATCH('次月以降仕訳（非表示）'!L$6,'バッチ反映用（非表示）'!$A$4:$G$4,0))*-1,IF($Q35=\"end\",SUM($L$7:L34)*-1,\"\"))","v":""},{"$f":"IF($P35=\"TRUE\",INDEX('バッチ反映用（非表示）'!$A$5:$O$100,MATCH($N35,'バッチ反映用（非表示）'!$S$5:$S$100,0),MATCH('次月以降仕訳（非表示）'!M$6,'バッチ反映用（非表示）'!$A$4:$G$4,0)),IF($Q35=\"end\",\"0\"&旅費振替依頼書!$I$3&旅費振替依頼書!$J$3&\"振替 \"&MONTH(SUBSTITUTE($B$7,\".\",\"/\"))&\"月旅費→\"&MONTH(EOMONTH(SUBSTITUTE($I$7,\".\",\"/\"),2))&\"月作業費 \"&N34&\"件\",\"\"))","v":""},29,"",{"$f":"IF(ISERROR(INDEX('バッチ反映用（非表示）'!$A$5:$O$100,MATCH($N35,'バッチ反映用（非表示）'!$S$5:$S$100,0),MATCH('次月以降仕訳（非表示）'!L$6,'バッチ反映用（非表示）'!$A$4:$G$4,0)))=FALSE,\"TRUE\",\"FALSE\")","v":"FALSE"},"",null,"",{"$f":"IF(I34=\"転記日付\",INDEX('バッチ反映用（非表示）'!$A$5:$O$100,MATCH($N35,'バッチ反映用（非表示）'!$S$5:$S$100,0),MATCH('次月以降仕訳（非表示）'!T$6,'バッチ反映用（非表示）'!$A$4:$G$4,0)),\"\")","v":{"$error":"#N/A"}},{"$f":"IF(J35<>\"\",IF(K35<>\"NS-0\"&旅費振替依頼書!$I$3,$C$4,$C$3),\"\")","v":""},"","",""]
["",{"$error":"#N/A"},"","","","",null,"",{"$f":"IF(I35=\"転記日付\",INDEX('バッチ反映用（非表示）'!$A$5:$O$100,MATCH($N36,'バッチ反映用（非表示）'!$S$5:$S$100,0),MATCH('次月以降仕訳（非表示）'!I$6,'バッチ反映用（非表示）'!$A$4:$G$4,0)),\"\")","v":{"$error":"#N/A"}},"",{"$f":"IF($P36=\"TRUE\",INDEX('バッチ反映用（非表示）'!$A$5:$O$100,MATCH($N36,'バッチ反映用（非表示）'!$S$5:$S$100,0),MATCH('次月以降仕訳（非表示）'!K$6,'バッチ反映用（非表示）'!$A$4:$G$4,0)),IF(AND(P36=\"FALSE\",Q36=\"end\"),\"NS-0100\",\"\"))","v":""},{"$f":"IF($P36=\"TRUE\",INDEX('バッチ反映用（非表示）'!$A$5:$O$100,MATCH($N36,'バッチ反映用（非表示）'!$S$5:$S$100,0),MATCH('次月以降仕訳（非表示）'!L$6,'バッチ反映用（非表示）'!$A$4:$G$4,0))*-1,IF($Q36=\"end\",SUM($L$7:L35)*-1,\"\"))","v":""},{"$f":"IF($P36=\"TRUE\",INDEX('バッチ反映用（非表示）'!$A$5:$O$100,MATCH($N36,'バッチ反映用（非表示）'!$S$5:$S$100,0),MATCH('次月以降仕訳（非表示）'!M$6,'バッチ反映用（非表示）'!$A$4:$G$4,0)),IF($Q36=\"end\",\"0\"&旅費振替依頼書!$I$3&旅費振替依頼書!$J$3&\"振替 \"&MONTH(SUBSTITUTE($B$7,\".\",\"/\"))&\"月旅費→\"&MONTH(EOMONTH(SUBSTITUTE($I$7,\".\",\"/\"),2))&\"月作業費 \"&N35&\"件\",\"\"))","v":""},30,"",{"$f":"IF(ISERROR(INDEX('バッチ反映用（非表示）'!$A$5:$O$100,MATCH($N36,'バッチ反映用（非表示）'!$S$5:$S$100,0),MATCH('次月以降仕訳（非表示）'!L$6,'バッチ反映用（非表示）'!$A$4:$G$4,0)))=FALSE,\"TRUE\",\"FALSE\")","v":"FALSE"},"",null,"",{"$f":"IF(I35=\"転記日付\",INDEX('バッチ反映用（非表示）'!$A$5:$O$100,MATCH($N36,'バッチ反映用（非表示）'!$S$5:$S$100,0),MATCH('次月以降仕訳（非表示）'!T$6,'バッチ反映用（非表示）'!$A$4:$G$4,0)),\"\")","v":{"$error":"#N/A"}},{"$f":"IF(J36<>\"\",IF(K36<>\"NS-0\"&旅費振替依頼書!$I$3,$C$4,$C$3),\"\")","v":""},"","",""]
["",{"$error":"#N/A"},"","","","",null,"",{"$f":"IF(I36=\"転記日付\",INDEX('バッチ反映用（非表示）'!$A$5:$O$100,MATCH($N37,'バッチ反映用（非表示）'!$S$5:$S$100,0),MATCH('次月以降仕訳（非表示）'!I$6,'バッチ反映用（非表示）'!$A$4:$G$4,0)),\"\")","v":{"$error":"#N/A"}},"",{"$f":"IF($P37=\"TRUE\",INDEX('バッチ反映用（非表示）'!$A$5:$O$100,MATCH($N37,'バッチ反映用（非表示）'!$S$5:$S$100,0),MATCH('次月以降仕訳（非表示）'!K$6,'バッチ反映用（非表示）'!$A$4:$G$4,0)),IF(AND(P37=\"FALSE\",Q37=\"end\"),\"NS-0100\",\"\"))","v":""},{"$f":"IF($P37=\"TRUE\",INDEX('バッチ反映用（非表示）'!$A$5:$O$100,MATCH($N37,'バッチ反映用（非表示）'!$S$5:$S$100,0),MATCH('次月以降仕訳（非表示）'!L$6,'バッチ反映用（非表示）'!$A$4:$G$4,0))*-1,IF($Q37=\"end\",SUM($L$7:L36)*-1,\"\"))","v":""},{"$f":"IF($P37=\"TRUE\",INDEX('バッチ反映用（非表示）'!$A$5:$O$100,MATCH($N37,'バッチ反映用（非表示）'!$S$5:$S$100,0),MATCH('次月以降仕訳（非表示）'!M$6,'バッチ反映用（非表示）'!$A$4:$G$4,0)),IF($Q37=\"end\",\"0\"&旅費振替依頼書!$I$3&旅費振替依頼書!$J$3&\"振替 \"&MONTH(SUBSTITUTE($B$7,\".\",\"/\"))&\"月旅費→\"&MONTH(EOMONTH(SUBSTITUTE($I$7,\".\",\"/\"),2))&\"月作業費 \"&N36&\"件\",\"\"))","v":""},31,"",{"$f":"IF(ISERROR(INDEX('バッチ反映用（非表示）'!$A$5:$O$100,MATCH($N37,'バッチ反映用（非表示）'!$S$5:$S$100,0),MATCH('次月以降仕訳（非表示）'!L$6,'バッチ反映用（非表示）'!$A$4:$G$4,0)))=FALSE,\"TRUE\",\"FALSE\")","v":"FALSE"},"",null,"",{"$f":"IF(I36=\"転記日付\",INDEX('バッチ反映用（非表示）'!$A$5:$O$100,MATCH($N37,'バッチ反映用（非表示）'!$S$5:$S$100,0),MATCH('次月以降仕訳（非表示）'!T$6,'バッチ反映用（非表示）'!$A$4:$G$4,0)),\"\")","v":{"$error":"#N/A"}},{"$f":"IF(J37<>\"\",IF(K37<>\"NS-0\"&旅費振替依頼書!$I$3,$C$4,$C$3),\"\")","v":""},"","",""]
["",{"$error":"#N/A"},"","","","",null,"",{"$f":"IF(I37=\"転記日付\",INDEX('バッチ反映用（非表示）'!$A$5:$O$100,MATCH($N38,'バッチ反映用（非表示）'!$S$5:$S$100,0),MATCH('次月以降仕訳（非表示）'!I$6,'バッチ反映用（非表示）'!$A$4:$G$4,0)),\"\")","v":{"$error":"#N/A"}},"",{"$f":"IF($P38=\"TRUE\",INDEX('バッチ反映用（非表示）'!$A$5:$O$100,MATCH($N38,'バッチ反映用（非表示）'!$S$5:$S$100,0),MATCH('次月以降仕訳（非表示）'!K$6,'バッチ反映用（非表示）'!$A$4:$G$4,0)),IF(AND(P38=\"FALSE\",Q38=\"end\"),\"NS-0100\",\"\"))","v":""},{"$f":"IF($P38=\"TRUE\",INDEX('バッチ反映用（非表示）'!$A$5:$O$100,MATCH($N38,'バッチ反映用（非表示）'!$S$5:$S$100,0),MATCH('次月以降仕訳（非表示）'!L$6,'バッチ反映用（非表示）'!$A$4:$G$4,0))*-1,IF($Q38=\"end\",SUM($L$7:L37)*-1,\"\"))","v":""},{"$f":"IF($P38=\"TRUE\",INDEX('バッチ反映用（非表示）'!$A$5:$O$100,MATCH($N38,'バッチ反映用（非表示）'!$S$5:$S$100,0),MATCH('次月以降仕訳（非表示）'!M$6,'バッチ反映用（非表示）'!$A$4:$G$4,0)),IF($Q38=\"end\",\"0\"&旅費振替依頼書!$I$3&旅費振替依頼書!$J$3&\"振替 \"&MONTH(SUBSTITUTE($B$7,\".\",\"/\"))&\"月旅費→\"&MONTH(EOMONTH(SUBSTITUTE($I$7,\".\",\"/\"),2))&\"月作業費 \"&N37&\"件\",\"\"))","v":""},32,"",{"$f":"IF(ISERROR(INDEX('バッチ反映用（非表示）'!$A$5:$O$100,MATCH($N38,'バッチ反映用（非表示）'!$S$5:$S$100,0),MATCH('次月以降仕訳（非表示）'!L$6,'バッチ反映用（非表示）'!$A$4:$G$4,0)))=FALSE,\"TRUE\",\"FALSE\")","v":"FALSE"},"",null,"",{"$f":"IF(I37=\"転記日付\",INDEX('バッチ反映用（非表示）'!$A$5:$O$100,MATCH($N38,'バッチ反映用（非表示）'!$S$5:$S$100,0),MATCH('次月以降仕訳（非表示）'!T$6,'バッチ反映用（非表示）'!$A$4:$G$4,0)),\"\")","v":{"$error":"#N/A"}},{"$f":"IF(J38<>\"\",IF(K38<>\"NS-0\"&旅費振替依頼書!$I$3,$C$4,$C$3),\"\")","v":""},"","",""]
["",{"$error":"#N/A"},"","","","",null,"",{"$f":"IF(I38=\"転記日付\",INDEX('バッチ反映用（非表示）'!$A$5:$O$100,MATCH($N39,'バッチ反映用（非表示）'!$S$5:$S$100,0),MATCH('次月以降仕訳（非表示）'!I$6,'バッチ反映用（非表示）'!$A$4:$G$4,0)),\"\")","v":{"$error":"#N/A"}},"",{"$f":"IF($P39=\"TRUE\",INDEX('バッチ反映用（非表示）'!$A$5:$O$100,MATCH($N39,'バッチ反映用（非表示）'!$S$5:$S$100,0),MATCH('次月以降仕訳（非表示）'!K$6,'バッチ反映用（非表示）'!$A$4:$G$4,0)),IF(AND(P39=\"FALSE\",Q39=\"end\"),\"NS-0100\",\"\"))","v":""},{"$f":"IF($P39=\"TRUE\",INDEX('バッチ反映用（非表示）'!$A$5:$O$100,MATCH($N39,'バッチ反映用（非表示）'!$S$5:$S$100,0),MATCH('次月以降仕訳（非表示）'!L$6,'バッチ反映用（非表示）'!$A$4:$G$4,0))*-1,IF($Q39=\"end\",SUM($L$7:L38)*-1,\"\"))","v":""},{"$f":"IF($P39=\"TRUE\",INDEX('バッチ反映用（非表示）'!$A$5:$O$100,MATCH($N39,'バッチ反映用（非表示）'!$S$5:$S$100,0),MATCH('次月以降仕訳（非表示）'!M$6,'バッチ反映用（非表示）'!$A$4:$G$4,0)),IF($Q39=\"end\",\"0\"&旅費振替依頼書!$I$3&旅費振替依頼書!$J$3&\"振替 \"&MONTH(SUBSTITUTE($B$7,\".\",\"/\"))&\"月旅費→\"&MONTH(EOMONTH(SUBSTITUTE($I$7,\".\",\"/\"),2))&\"月作業費 \"&N38&\"件\",\"\"))","v":""},33,"",{"$f":"IF(ISERROR(INDEX('バッチ反映用（非表示）'!$A$5:$O$100,MATCH($N39,'バッチ反映用（非表示）'!$S$5:$S$100,0),MATCH('次月以降仕訳（非表示）'!L$6,'バッチ反映用（非表示）'!$A$4:$G$4,0)))=FALSE,\"TRUE\",\"FALSE\")","v":"FALSE"},"",null,"",{"$f":"IF(I38=\"転記日付\",INDEX('バッチ反映用（非表示）'!$A$5:$O$100,MATCH($N39,'バッチ反映用（非表示）'!$S$5:$S$100,0),MATCH('次月以降仕訳（非表示）'!T$6,'バッチ反映用（非表示）'!$A$4:$G$4,0)),\"\")","v":{"$error":"#N/A"}},{"$f":"IF(J39<>\"\",IF(K39<>\"NS-0\"&旅費振替依頼書!$I$3,$C$4,$C$3),\"\")","v":""},"","",""]
["",{"$error":"#N/A"},"","","","",null,"",{"$f":"IF(I39=\"転記日付\",INDEX('バッチ反映用（非表示）'!$A$5:$O$100,MATCH($N40,'バッチ反映用（非表示）'!$S$5:$S$100,0),MATCH('次月以降仕訳（非表示）'!I$6,'バッチ反映用（非表示）'!$A$4:$G$4,0)),\"\")","v":{"$error":"#N/A"}},"",{"$f":"IF($P40=\"TRUE\",INDEX('バッチ反映用（非表示）'!$A$5:$O$100,MATCH($N40,'バッチ反映用（非表示）'!$S$5:$S$100,0),MATCH('次月以降仕訳（非表示）'!K$6,'バッチ反映用（非表示）'!$A$4:$G$4,0)),IF(AND(P40=\"FALSE\",Q40=\"end\"),\"NS-0100\",\"\"))","v":""},{"$f":"IF($P40=\"TRUE\",INDEX('バッチ反映用（非表示）'!$A$5:$O$100,MATCH($N40,'バッチ反映用（非表示）'!$S$5:$S$100,0),MATCH('次月以降仕訳（非表示）'!L$6,'バッチ反映用（非表示）'!$A$4:$G$4,0))*-1,IF($Q40=\"end\",SUM($L$7:L39)*-1,\"\"))","v":""},{"$f":"IF($P40=\"TRUE\",INDEX('バッチ反映用（非表示）'!$A$5:$O$100,MATCH($N40,'バッチ反映用（非表示）'!$S$5:$S$100,0),MATCH('次月以降仕訳（非表示）'!M$6,'バッチ反映用（非表示）'!$A$4:$G$4,0)),IF($Q40=\"end\",\"0\"&旅費振替依頼書!$I$3&旅費振替依頼書!$J$3&\"振替 \"&MONTH(SUBSTITUTE($B$7,\".\",\"/\"))&\"月旅費→\"&MONTH(EOMONTH(SUBSTITUTE($I$7,\".\",\"/\"),2))&\"月作業費 \"&N39&\"件\",\"\"))","v":""},34,"",{"$f":"IF(ISERROR(INDEX('バッチ反映用（非表示）'!$A$5:$O$100,MATCH($N40,'バッチ反映用（非表示）'!$S$5:$S$100,0),MATCH('次月以降仕訳（非表示）'!L$6,'バッチ反映用（非表示）'!$A$4:$G$4,0)))=FALSE,\"TRUE\",\"FALSE\")","v":"FALSE"},"",null,"",{"$f":"IF(I39=\"転記日付\",INDEX('バッチ反映用（非表示）'!$A$5:$O$100,MATCH($N40,'バッチ反映用（非表示）'!$S$5:$S$100,0),MATCH('次月以降仕訳（非表示）'!T$6,'バッチ反映用（非表示）'!$A$4:$G$4,0)),\"\")","v":{"$error":"#N/A"}},{"$f":"IF(J40<>\"\",IF(K40<>\"NS-0\"&旅費振替依頼書!$I$3,$C$4,$C$3),\"\")","v":""},"","",""]
["",{"$error":"#N/A"},"","","","",null,"",{"$f":"IF(I40=\"転記日付\",INDEX('バッチ反映用（非表示）'!$A$5:$O$100,MATCH($N41,'バッチ反映用（非表示）'!$S$5:$S$100,0),MATCH('次月以降仕訳（非表示）'!I$6,'バッチ反映用（非表示）'!$A$4:$G$4,0)),\"\")","v":{"$error":"#N/A"}},"",{"$f":"IF($P41=\"TRUE\",INDEX('バッチ反映用（非表示）'!$A$5:$O$100,MATCH($N41,'バッチ反映用（非表示）'!$S$5:$S$100,0),MATCH('次月以降仕訳（非表示）'!K$6,'バッチ反映用（非表示）'!$A$4:$G$4,0)),IF(AND(P41=\"FALSE\",Q41=\"end\"),\"NS-0100\",\"\"))","v":""},{"$f":"IF($P41=\"TRUE\",INDEX('バッチ反映用（非表示）'!$A$5:$O$100,MATCH($N41,'バッチ反映用（非表示）'!$S$5:$S$100,0),MATCH('次月以降仕訳（非表示）'!L$6,'バッチ反映用（非表示）'!$A$4:$G$4,0))*-1,IF($Q41=\"end\",SUM($L$7:L40)*-1,\"\"))","v":""},{"$f":"IF($P41=\"TRUE\",INDEX('バッチ反映用（非表示）'!$A$5:$O$100,MATCH($N41,'バッチ反映用（非表示）'!$S$5:$S$100,0),MATCH('次月以降仕訳（非表示）'!M$6,'バッチ反映用（非表示）'!$A$4:$G$4,0)),IF($Q41=\"end\",\"0\"&旅費振替依頼書!$I$3&旅費振替依頼書!$J$3&\"振替 \"&MONTH(SUBSTITUTE($B$7,\".\",\"/\"))&\"月旅費→\"&MONTH(EOMONTH(SUBSTITUTE($I$7,\".\",\"/\"),2))&\"月作業費 \"&N40&\"件\",\"\"))","v":""},35,"",{"$f":"IF(ISERROR(INDEX('バッチ反映用（非表示）'!$A$5:$O$100,MATCH($N41,'バッチ反映用（非表示）'!$S$5:$S$100,0),MATCH('次月以降仕訳（非表示）'!L$6,'バッチ反映用（非表示）'!$A$4:$G$4,0)))=FALSE,\"TRUE\",\"FALSE\")","v":"FALSE"},"",null,"",{"$f":"IF(I40=\"転記日付\",INDEX('バッチ反映用（非表示）'!$A$5:$O$100,MATCH($N41,'バッチ反映用（非表示）'!$S$5:$S$100,0),MATCH('次月以降仕訳（非表示）'!T$6,'バッチ反映用（非表示）'!$A$4:$G$4,0)),\"\")","v":{"$error":"#N/A"}},{"$f":"IF(J41<>\"\",IF(K41<>\"NS-0\"&旅費振替依頼書!$I$3,$C$4,$C$3),\"\")","v":""},"","",""]
["",{"$error":"#N/A"},"","","","",null,"",{"$f":"IF(I41=\"転記日付\",INDEX('バッチ反映用（非表示）'!$A$5:$O$100,MATCH($N42,'バッチ反映用（非表示）'!$S$5:$S$100,0),MATCH('次月以降仕訳（非表示）'!I$6,'バッチ反映用（非表示）'!$A$4:$G$4,0)),\"\")","v":{"$error":"#N/A"}},"",{"$f":"IF($P42=\"TRUE\",INDEX('バッチ反映用（非表示）'!$A$5:$O$100,MATCH($N42,'バッチ反映用（非表示）'!$S$5:$S$100,0),MATCH('次月以降仕訳（非表示）'!K$6,'バッチ反映用（非表示）'!$A$4:$G$4,0)),IF(AND(P42=\"FALSE\",Q42=\"end\"),\"NS-0100\",\"\"))","v":""},{"$f":"IF($P42=\"TRUE\",INDEX('バッチ反映用（非表示）'!$A$5:$O$100,MATCH($N42,'バッチ反映用（非表示）'!$S$5:$S$100,0),MATCH('次月以降仕訳（非表示）'!L$6,'バッチ反映用（非表示）'!$A$4:$G$4,0))*-1,IF($Q42=\"end\",SUM($L$7:L41)*-1,\"\"))","v":""},{"$f":"IF($P42=\"TRUE\",INDEX('バッチ反映用（非表示）'!$A$5:$O$100,MATCH($N42,'バッチ反映用（非表示）'!$S$5:$S$100,0),MATCH('次月以降仕訳（非表示）'!M$6,'バッチ反映用（非表示）'!$A$4:$G$4,0)),IF($Q42=\"end\",\"0\"&旅費振替依頼書!$I$3&旅費振替依頼書!$J$3&\"振替 \"&MONTH(SUBSTITUTE($B$7,\".\",\"/\"))&\"月旅費→\"&MONTH(EOMONTH(SUBSTITUTE($I$7,\".\",\"/\"),2))&\"月作業費 \"&N41&\"件\",\"\"))","v":""},36,"",{"$f":"IF(ISERROR(INDEX('バッチ反映用（非表示）'!$A$5:$O$100,MATCH($N42,'バッチ反映用（非表示）'!$S$5:$S$100,0),MATCH('次月以降仕訳（非表示）'!L$6,'バッチ反映用（非表示）'!$A$4:$G$4,0)))=FALSE,\"TRUE\",\"FALSE\")","v":"FALSE"},"",null,"",{"$f":"IF(I41=\"転記日付\",INDEX('バッチ反映用（非表示）'!$A$5:$O$100,MATCH($N42,'バッチ反映用（非表示）'!$S$5:$S$100,0),MATCH('次月以降仕訳（非表示）'!T$6,'バッチ反映用（非表示）'!$A$4:$G$4,0)),\"\")","v":{"$error":"#N/A"}},{"$f":"IF(J42<>\"\",IF(K42<>\"NS-0\"&旅費振替依頼書!$I$3,$C$4,$C$3),\"\")","v":""},"","",""]
["",{"$error":"#N/A"},"","","","",null,"",{"$f":"IF(I42=\"転記日付\",INDEX('バッチ反映用（非表示）'!$A$5:$O$100,MATCH($N43,'バッチ反映用（非表示）'!$S$5:$S$100,0),MATCH('次月以降仕訳（非表示）'!I$6,'バッチ反映用（非表示）'!$A$4:$G$4,0)),\"\")","v":{"$error":"#N/A"}},"",{"$f":"IF($P43=\"TRUE\",INDEX('バッチ反映用（非表示）'!$A$5:$O$100,MATCH($N43,'バッチ反映用（非表示）'!$S$5:$S$100,0),MATCH('次月以降仕訳（非表示）'!K$6,'バッチ反映用（非表示）'!$A$4:$G$4,0)),IF(AND(P43=\"FALSE\",Q43=\"end\"),\"NS-0100\",\"\"))","v":""},{"$f":"IF($P43=\"TRUE\",INDEX('バッチ反映用（非表示）'!$A$5:$O$100,MATCH($N43,'バッチ反映用（非表示）'!$S$5:$S$100,0),MATCH('次月以降仕訳（非表示）'!L$6,'バッチ反映用（非表示）'!$A$4:$G$4,0))*-1,IF($Q43=\"end\",SUM($L$7:L42)*-1,\"\"))","v":""},{"$f":"IF($P43=\"TRUE\",INDEX('バッチ反映用（非表示）'!$A$5:$O$100,MATCH($N43,'バッチ反映用（非表示）'!$S$5:$S$100,0),MATCH('次月以降仕訳（非表示）'!M$6,'バッチ反映用（非表示）'!$A$4:$G$4,0)),IF($Q43=\"end\",\"0\"&旅費振替依頼書!$I$3&旅費振替依頼書!$J$3&\"振替 \"&MONTH(SUBSTITUTE($B$7,\".\",\"/\"))&\"月旅費→\"&MONTH(EOMONTH(SUBSTITUTE($I$7,\".\",\"/\"),2))&\"月作業費 \"&N42&\"件\",\"\"))","v":""},37,"",{"$f":"IF(ISERROR(INDEX('バッチ反映用（非表示）'!$A$5:$O$100,MATCH($N43,'バッチ反映用（非表示）'!$S$5:$S$100,0),MATCH('次月以降仕訳（非表示）'!L$6,'バッチ反映用（非表示）'!$A$4:$G$4,0)))=FALSE,\"TRUE\",\"FALSE\")","v":"FALSE"},"",null,"",{"$f":"IF(I42=\"転記日付\",INDEX('バッチ反映用（非表示）'!$A$5:$O$100,MATCH($N43,'バッチ反映用（非表示）'!$S$5:$S$100,0),MATCH('次月以降仕訳（非表示）'!T$6,'バッチ反映用（非表示）'!$A$4:$G$4,0)),\"\")","v":{"$error":"#N/A"}},{"$f":"IF(J43<>\"\",IF(K43<>\"NS-0\"&旅費振替依頼書!$I$3,$C$4,$C$3),\"\")","v":""},"","",""]
["",{"$error":"#N/A"},"","","","",null,"",{"$f":"IF(I43=\"転記日付\",INDEX('バッチ反映用（非表示）'!$A$5:$O$100,MATCH($N44,'バッチ反映用（非表示）'!$S$5:$S$100,0),MATCH('次月以降仕訳（非表示）'!I$6,'バッチ反映用（非表示）'!$A$4:$G$4,0)),\"\")","v":{"$error":"#N/A"}},"",{"$f":"IF($P44=\"TRUE\",INDEX('バッチ反映用（非表示）'!$A$5:$O$100,MATCH($N44,'バッチ反映用（非表示）'!$S$5:$S$100,0),MATCH('次月以降仕訳（非表示）'!K$6,'バッチ反映用（非表示）'!$A$4:$G$4,0)),IF(AND(P44=\"FALSE\",Q44=\"end\"),\"NS-0100\",\"\"))","v":""},{"$f":"IF($P44=\"TRUE\",INDEX('バッチ反映用（非表示）'!$A$5:$O$100,MATCH($N44,'バッチ反映用（非表示）'!$S$5:$S$100,0),MATCH('次月以降仕訳（非表示）'!L$6,'バッチ反映用（非表示）'!$A$4:$G$4,0))*-1,IF($Q44=\"end\",SUM($L$7:L43)*-1,\"\"))","v":""},{"$f":"IF($P44=\"TRUE\",INDEX('バッチ反映用（非表示）'!$A$5:$O$100,MATCH($N44,'バッチ反映用（非表示）'!$S$5:$S$100,0),MATCH('次月以降仕訳（非表示）'!M$6,'バッチ反映用（非表示）'!$A$4:$G$4,0)),IF($Q44=\"end\",\"0\"&旅費振替依頼書!$I$3&旅費振替依頼書!$J$3&\"振替 \"&MONTH(SUBSTITUTE($B$7,\".\",\"/\"))&\"月旅費→\"&MONTH(EOMONTH(SUBSTITUTE($I$7,\".\",\"/\"),2))&\"月作業費 \"&N43&\"件\",\"\"))","v":""},38,"",{"$f":"IF(ISERROR(INDEX('バッチ反映用（非表示）'!$A$5:$O$100,MATCH($N44,'バッチ反映用（非表示）'!$S$5:$S$100,0),MATCH('次月以降仕訳（非表示）'!L$6,'バッチ反映用（非表示）'!$A$4:$G$4,0)))=FALSE,\"TRUE\",\"FALSE\")","v":"FALSE"},"",null,"",{"$f":"IF(I43=\"転記日付\",INDEX('バッチ反映用（非表示）'!$A$5:$O$100,MATCH($N44,'バッチ反映用（非表示）'!$S$5:$S$100,0),MATCH('次月以降仕訳（非表示）'!T$6,'バッチ反映用（非表示）'!$A$4:$G$4,0)),\"\")","v":{"$error":"#N/A"}},{"$f":"IF(J44<>\"\",IF(K44<>\"NS-0\"&旅費振替依頼書!$I$3,$C$4,$C$3),\"\")","v":""},"","",""]
["",{"$error":"#N/A"},"","","","",null,"",{"$f":"IF(I44=\"転記日付\",INDEX('バッチ反映用（非表示）'!$A$5:$O$100,MATCH($N45,'バッチ反映用（非表示）'!$S$5:$S$100,0),MATCH('次月以降仕訳（非表示）'!I$6,'バッチ反映用（非表示）'!$A$4:$G$4,0)),\"\")","v":{"$error":"#N/A"}},"",{"$f":"IF($P45=\"TRUE\",INDEX('バッチ反映用（非表示）'!$A$5:$O$100,MATCH($N45,'バッチ反映用（非表示）'!$S$5:$S$100,0),MATCH('次月以降仕訳（非表示）'!K$6,'バッチ反映用（非表示）'!$A$4:$G$4,0)),IF(AND(P45=\"FALSE\",Q45=\"end\"),\"NS-0100\",\"\"))","v":""},{"$f":"IF($P45=\"TRUE\",INDEX('バッチ反映用（非表示）'!$A$5:$O$100,MATCH($N45,'バッチ反映用（非表示）'!$S$5:$S$100,0),MATCH('次月以降仕訳（非表示）'!L$6,'バッチ反映用（非表示）'!$A$4:$G$4,0))*-1,IF($Q45=\"end\",SUM($L$7:L44)*-1,\"\"))","v":""},{"$f":"IF($P45=\"TRUE\",INDEX('バッチ反映用（非表示）'!$A$5:$O$100,MATCH($N45,'バッチ反映用（非表示）'!$S$5:$S$100,0),MATCH('次月以降仕訳（非表示）'!M$6,'バッチ反映用（非表示）'!$A$4:$G$4,0)),IF($Q45=\"end\",\"0\"&旅費振替依頼書!$I$3&旅費振替依頼書!$J$3&\"振替 \"&MONTH(SUBSTITUTE($B$7,\".\",\"/\"))&\"月旅費→\"&MONTH(EOMONTH(SUBSTITUTE($I$7,\".\",\"/\"),2))&\"月作業費 \"&N44&\"件\",\"\"))","v":""},39,"",{"$f":"IF(ISERROR(INDEX('バッチ反映用（非表示）'!$A$5:$O$100,MATCH($N45,'バッチ反映用（非表示）'!$S$5:$S$100,0),MATCH('次月以降仕訳（非表示）'!L$6,'バッチ反映用（非表示）'!$A$4:$G$4,0)))=FALSE,\"TRUE\",\"FALSE\")","v":"FALSE"},"",null,"",{"$f":"IF(I44=\"転記日付\",INDEX('バッチ反映用（非表示）'!$A$5:$O$100,MATCH($N45,'バッチ反映用（非表示）'!$S$5:$S$100,0),MATCH('次月以降仕訳（非表示）'!T$6,'バッチ反映用（非表示）'!$A$4:$G$4,0)),\"\")","v":{"$error":"#N/A"}},{"$f":"IF(J45<>\"\",IF(K45<>\"NS-0\"&旅費振替依頼書!$I$3,$C$4,$C$3),\"\")","v":""},"","",""]
["",{"$error":"#N/A"},"","","","",null,"",{"$f":"IF(I45=\"転記日付\",INDEX('バッチ反映用（非表示）'!$A$5:$O$100,MATCH($N46,'バッチ反映用（非表示）'!$S$5:$S$100,0),MATCH('次月以降仕訳（非表示）'!I$6,'バッチ反映用（非表示）'!$A$4:$G$4,0)),\"\")","v":{"$error":"#N/A"}},"",{"$f":"IF($P46=\"TRUE\",INDEX('バッチ反映用（非表示）'!$A$5:$O$100,MATCH($N46,'バッチ反映用（非表示）'!$S$5:$S$100,0),MATCH('次月以降仕訳（非表示）'!K$6,'バッチ反映用（非表示）'!$A$4:$G$4,0)),IF(AND(P46=\"FALSE\",Q46=\"end\"),\"NS-0100\",\"\"))","v":""},{"$f":"IF($P46=\"TRUE\",INDEX('バッチ反映用（非表示）'!$A$5:$O$100,MATCH($N46,'バッチ反映用（非表示）'!$S$5:$S$100,0),MATCH('次月以降仕訳（非表示）'!L$6,'バッチ反映用（非表示）'!$A$4:$G$4,0))*-1,IF($Q46=\"end\",SUM($L$7:L45)*-1,\"\"))","v":""},{"$f":"IF($P46=\"TRUE\",INDEX('バッチ反映用（非表示）'!$A$5:$O$100,MATCH($N46,'バッチ反映用（非表示）'!$S$5:$S$100,0),MATCH('次月以降仕訳（非表示）'!M$6,'バッチ反映用（非表示）'!$A$4:$G$4,0)),IF($Q46=\"end\",\"0\"&旅費振替依頼書!$I$3&旅費振替依頼書!$J$3&\"振替 \"&MONTH(SUBSTITUTE($B$7,\".\",\"/\"))&\"月旅費→\"&MONTH(EOMONTH(SUBSTITUTE($I$7,\".\",\"/\"),2))&\"月作業費 \"&N45&\"件\",\"\"))","v":""},40,"",{"$f":"IF(ISERROR(INDEX('バッチ反映用（非表示）'!$A$5:$O$100,MATCH($N46,'バッチ反映用（非表示）'!$S$5:$S$100,0),MATCH('次月以降仕訳（非表示）'!L$6,'バッチ反映用（非表示）'!$A$4:$G$4,0)))=FALSE,\"TRUE\",\"FALSE\")","v":"FALSE"},"",null,"",{"$f":"IF(I45=\"転記日付\",INDEX('バッチ反映用（非表示）'!$A$5:$O$100,MATCH($N46,'バッチ反映用（非表示）'!$S$5:$S$100,0),MATCH('次月以降仕訳（非表示）'!T$6,'バッチ反映用（非表示）'!$A$4:$G$4,0)),\"\")","v":{"$error":"#N/A"}},{"$f":"IF(J46<>\"\",IF(K46<>\"NS-0\"&旅費振替依頼書!$I$3,$C$4,$C$3),\"\")","v":""},"","",""]
["",{"$error":"#N/A"},"","","","",null,"",{"$f":"IF(I46=\"転記日付\",INDEX('バッチ反映用（非表示）'!$A$5:$O$100,MATCH($N47,'バッチ反映用（非表示）'!$S$5:$S$100,0),MATCH('次月以降仕訳（非表示）'!I$6,'バッチ反映用（非表示）'!$A$4:$G$4,0)),\"\")","v":{"$error":"#N/A"}},"",{"$f":"IF($P47=\"TRUE\",INDEX('バッチ反映用（非表示）'!$A$5:$O$100,MATCH($N47,'バッチ反映用（非表示）'!$S$5:$S$100,0),MATCH('次月以降仕訳（非表示）'!K$6,'バッチ反映用（非表示）'!$A$4:$G$4,0)),IF(AND(P47=\"FALSE\",Q47=\"end\"),\"NS-0100\",\"\"))","v":""},{"$f":"IF($P47=\"TRUE\",INDEX('バッチ反映用（非表示）'!$A$5:$O$100,MATCH($N47,'バッチ反映用（非表示）'!$S$5:$S$100,0),MATCH('次月以降仕訳（非表示）'!L$6,'バッチ反映用（非表示）'!$A$4:$G$4,0))*-1,IF($Q47=\"end\",SUM($L$7:L46)*-1,\"\"))","v":""},{"$f":"IF($P47=\"TRUE\",INDEX('バッチ反映用（非表示）'!$A$5:$O$100,MATCH($N47,'バッチ反映用（非表示）'!$S$5:$S$100,0),MATCH('次月以降仕訳（非表示）'!M$6,'バッチ反映用（非表示）'!$A$4:$G$4,0)),IF($Q47=\"end\",\"0\"&旅費振替依頼書!$I$3&旅費振替依頼書!$J$3&\"振替 \"&MONTH(SUBSTITUTE($B$7,\".\",\"/\"))&\"月旅費→\"&MONTH(EOMONTH(SUBSTITUTE($I$7,\".\",\"/\"),2))&\"月作業費 \"&N46&\"件\",\"\"))","v":""},41,"",{"$f":"IF(ISERROR(INDEX('バッチ反映用（非表示）'!$A$5:$O$100,MATCH($N47,'バッチ反映用（非表示）'!$S$5:$S$100,0),MATCH('次月以降仕訳（非表示）'!L$6,'バッチ反映用（非表示）'!$A$4:$G$4,0)))=FALSE,\"TRUE\",\"FALSE\")","v":"FALSE"},"",null,"",{"$f":"IF(I46=\"転記日付\",INDEX('バッチ反映用（非表示）'!$A$5:$O$100,MATCH($N47,'バッチ反映用（非表示）'!$S$5:$S$100,0),MATCH('次月以降仕訳（非表示）'!T$6,'バッチ反映用（非表示）'!$A$4:$G$4,0)),\"\")","v":{"$error":"#N/A"}},{"$f":"IF(J47<>\"\",IF(K47<>\"NS-0\"&旅費振替依頼書!$I$3,$C$4,$C$3),\"\")","v":""},"","",""]
["",{"$error":"#N/A"},"","","","",null,"",{"$f":"IF(I47=\"転記日付\",INDEX('バッチ反映用（非表示）'!$A$5:$O$100,MATCH($N48,'バッチ反映用（非表示）'!$S$5:$S$100,0),MATCH('次月以降仕訳（非表示）'!I$6,'バッチ反映用（非表示）'!$A$4:$G$4,0)),\"\")","v":{"$error":"#N/A"}},"",{"$f":"IF($P48=\"TRUE\",INDEX('バッチ反映用（非表示）'!$A$5:$O$100,MATCH($N48,'バッチ反映用（非表示）'!$S$5:$S$100,0),MATCH('次月以降仕訳（非表示）'!K$6,'バッチ反映用（非表示）'!$A$4:$G$4,0)),IF(AND(P48=\"FALSE\",Q48=\"end\"),\"NS-0100\",\"\"))","v":""},{"$f":"IF($P48=\"TRUE\",INDEX('バッチ反映用（非表示）'!$A$5:$O$100,MATCH($N48,'バッチ反映用（非表示）'!$S$5:$S$100,0),MATCH('次月以降仕訳（非表示）'!L$6,'バッチ反映用（非表示）'!$A$4:$G$4,0))*-1,IF($Q48=\"end\",SUM($L$7:L47)*-1,\"\"))","v":""},{"$f":"IF($P48=\"TRUE\",INDEX('バッチ反映用（非表示）'!$A$5:$O$100,MATCH($N48,'バッチ反映用（非表示）'!$S$5:$S$100,0),MATCH('次月以降仕訳（非表示）'!M$6,'バッチ反映用（非表示）'!$A$4:$G$4,0)),IF($Q48=\"end\",\"0\"&旅費振替依頼書!$I$3&旅費振替依頼書!$J$3&\"振替 \"&MONTH(SUBSTITUTE($B$7,\".\",\"/\"))&\"月旅費→\"&MONTH(EOMONTH(SUBSTITUTE($I$7,\".\",\"/\"),2))&\"月作業費 \"&N47&\"件\",\"\"))","v":""},42,"",{"$f":"IF(ISERROR(INDEX('バッチ反映用（非表示）'!$A$5:$O$100,MATCH($N48,'バッチ反映用（非表示）'!$S$5:$S$100,0),MATCH('次月以降仕訳（非表示）'!L$6,'バッチ反映用（非表示）'!$A$4:$G$4,0)))=FALSE,\"TRUE\",\"FALSE\")","v":"FALSE"},"",null,"",{"$f":"IF(I47=\"転記日付\",INDEX('バッチ反映用（非表示）'!$A$5:$O$100,MATCH($N48,'バッチ反映用（非表示）'!$S$5:$S$100,0),MATCH('次月以降仕訳（非表示）'!T$6,'バッチ反映用（非表示）'!$A$4:$G$4,0)),\"\")","v":{"$error":"#N/A"}},{"$f":"IF(J48<>\"\",IF(K48<>\"NS-0\"&旅費振替依頼書!$I$3,$C$4,$C$3),\"\")","v":""},"","",""]
["",{"$error":"#N/A"},"","","","",null,"",{"$f":"IF(I48=\"転記日付\",INDEX('バッチ反映用（非表示）'!$A$5:$O$100,MATCH($N49,'バッチ反映用（非表示）'!$S$5:$S$100,0),MATCH('次月以降仕訳（非表示）'!I$6,'バッチ反映用（非表示）'!$A$4:$G$4,0)),\"\")","v":{"$error":"#N/A"}},"",{"$f":"IF($P49=\"TRUE\",INDEX('バッチ反映用（非表示）'!$A$5:$O$100,MATCH($N49,'バッチ反映用（非表示）'!$S$5:$S$100,0),MATCH('次月以降仕訳（非表示）'!K$6,'バッチ反映用（非表示）'!$A$4:$G$4,0)),IF(AND(P49=\"FALSE\",Q49=\"end\"),\"NS-0100\",\"\"))","v":""},{"$f":"IF($P49=\"TRUE\",INDEX('バッチ反映用（非表示）'!$A$5:$O$100,MATCH($N49,'バッチ反映用（非表示）'!$S$5:$S$100,0),MATCH('次月以降仕訳（非表示）'!L$6,'バッチ反映用（非表示）'!$A$4:$G$4,0))*-1,IF($Q49=\"end\",SUM($L$7:L48)*-1,\"\"))","v":""},{"$f":"IF($P49=\"TRUE\",INDEX('バッチ反映用（非表示）'!$A$5:$O$100,MATCH($N49,'バッチ反映用（非表示）'!$S$5:$S$100,0),MATCH('次月以降仕訳（非表示）'!M$6,'バッチ反映用（非表示）'!$A$4:$G$4,0)),IF($Q49=\"end\",\"0\"&旅費振替依頼書!$I$3&旅費振替依頼書!$J$3&\"振替 \"&MONTH(SUBSTITUTE($B$7,\".\",\"/\"))&\"月旅費→\"&MONTH(EOMONTH(SUBSTITUTE($I$7,\".\",\"/\"),2))&\"月作業費 \"&N48&\"件\",\"\"))","v":""},43,"",{"$f":"IF(ISERROR(INDEX('バッチ反映用（非表示）'!$A$5:$O$100,MATCH($N49,'バッチ反映用（非表示）'!$S$5:$S$100,0),MATCH('次月以降仕訳（非表示）'!L$6,'バッチ反映用（非表示）'!$A$4:$G$4,0)))=FALSE,\"TRUE\",\"FALSE\")","v":"FALSE"},"",null,"",{"$f":"IF(I48=\"転記日付\",INDEX('バッチ反映用（非表示）'!$A$5:$O$100,MATCH($N49,'バッチ反映用（非表示）'!$S$5:$S$100,0),MATCH('次月以降仕訳（非表示）'!T$6,'バッチ反映用（非表示）'!$A$4:$G$4,0)),\"\")","v":{"$error":"#N/A"}},{"$f":"IF(J49<>\"\",IF(K49<>\"NS-0\"&旅費振替依頼書!$I$3,$C$4,$C$3),\"\")","v":""},"","",""]
["",{"$error":"#N/A"},"","","","",null,"",{"$f":"IF(I49=\"転記日付\",INDEX('バッチ反映用（非表示）'!$A$5:$O$100,MATCH($N50,'バッチ反映用（非表示）'!$S$5:$S$100,0),MATCH('次月以降仕訳（非表示）'!I$6,'バッチ反映用（非表示）'!$A$4:$G$4,0)),\"\")","v":{"$error":"#N/A"}},"",{"$f":"IF($P50=\"TRUE\",INDEX('バッチ反映用（非表示）'!$A$5:$O$100,MATCH($N50,'バッチ反映用（非表示）'!$S$5:$S$100,0),MATCH('次月以降仕訳（非表示）'!K$6,'バッチ反映用（非表示）'!$A$4:$G$4,0)),IF(AND(P50=\"FALSE\",Q50=\"end\"),\"NS-0100\",\"\"))","v":""},{"$f":"IF($P50=\"TRUE\",INDEX('バッチ反映用（非表示）'!$A$5:$O$100,MATCH($N50,'バッチ反映用（非表示）'!$S$5:$S$100,0),MATCH('次月以降仕訳（非表示）'!L$6,'バッチ反映用（非表示）'!$A$4:$G$4,0))*-1,IF($Q50=\"end\",SUM($L$7:L49)*-1,\"\"))","v":""},{"$f":"IF($P50=\"TRUE\",INDEX('バッチ反映用（非表示）'!$A$5:$O$100,MATCH($N50,'バッチ反映用（非表示）'!$S$5:$S$100,0),MATCH('次月以降仕訳（非表示）'!M$6,'バッチ反映用（非表示）'!$A$4:$G$4,0)),IF($Q50=\"end\",\"0\"&旅費振替依頼書!$I$3&旅費振替依頼書!$J$3&\"振替 \"&MONTH(SUBSTITUTE($B$7,\".\",\"/\"))&\"月旅費→\"&MONTH(EOMONTH(SUBSTITUTE($I$7,\".\",\"/\"),2))&\"月作業費 \"&N49&\"件\",\"\"))","v":""},44,"",{"$f":"IF(ISERROR(INDEX('バッチ反映用（非表示）'!$A$5:$O$100,MATCH($N50,'バッチ反映用（非表示）'!$S$5:$S$100,0),MATCH('次月以降仕訳（非表示）'!L$6,'バッチ反映用（非表示）'!$A$4:$G$4,0)))=FALSE,\"TRUE\",\"FALSE\")","v":"FALSE"},"",null,"",{"$f":"IF(I49=\"転記日付\",INDEX('バッチ反映用（非表示）'!$A$5:$O$100,MATCH($N50,'バッチ反映用（非表示）'!$S$5:$S$100,0),MATCH('次月以降仕訳（非表示）'!T$6,'バッチ反映用（非表示）'!$A$4:$G$4,0)),\"\")","v":{"$error":"#N/A"}},{"$f":"IF(J50<>\"\",IF(K50<>\"NS-0\"&旅費振替依頼書!$I$3,$C$4,$C$3),\"\")","v":""},"","",""]
["",{"$error":"#N/A"},"","","","",null,"",{"$f":"IF(I50=\"転記日付\",INDEX('バッチ反映用（非表示）'!$A$5:$O$100,MATCH($N51,'バッチ反映用（非表示）'!$S$5:$S$100,0),MATCH('次月以降仕訳（非表示）'!I$6,'バッチ反映用（非表示）'!$A$4:$G$4,0)),\"\")","v":{"$error":"#N/A"}},"",{"$f":"IF($P51=\"TRUE\",INDEX('バッチ反映用（非表示）'!$A$5:$O$100,MATCH($N51,'バッチ反映用（非表示）'!$S$5:$S$100,0),MATCH('次月以降仕訳（非表示）'!K$6,'バッチ反映用（非表示）'!$A$4:$G$4,0)),IF(AND(P51=\"FALSE\",Q51=\"end\"),\"NS-0100\",\"\"))","v":""},{"$f":"IF($P51=\"TRUE\",INDEX('バッチ反映用（非表示）'!$A$5:$O$100,MATCH($N51,'バッチ反映用（非表示）'!$S$5:$S$100,0),MATCH('次月以降仕訳（非表示）'!L$6,'バッチ反映用（非表示）'!$A$4:$G$4,0))*-1,IF($Q51=\"end\",SUM($L$7:L50)*-1,\"\"))","v":""},{"$f":"IF($P51=\"TRUE\",INDEX('バッチ反映用（非表示）'!$A$5:$O$100,MATCH($N51,'バッチ反映用（非表示）'!$S$5:$S$100,0),MATCH('次月以降仕訳（非表示）'!M$6,'バッチ反映用（非表示）'!$A$4:$G$4,0)),IF($Q51=\"end\",\"0\"&旅費振替依頼書!$I$3&旅費振替依頼書!$J$3&\"振替 \"&MONTH(SUBSTITUTE($B$7,\".\",\"/\"))&\"月旅費→\"&MONTH(EOMONTH(SUBSTITUTE($I$7,\".\",\"/\"),2))&\"月作業費 \"&N50&\"件\",\"\"))","v":""},45,"",{"$f":"IF(ISERROR(INDEX('バッチ反映用（非表示）'!$A$5:$O$100,MATCH($N51,'バッチ反映用（非表示）'!$S$5:$S$100,0),MATCH('次月以降仕訳（非表示）'!L$6,'バッチ反映用（非表示）'!$A$4:$G$4,0)))=FALSE,\"TRUE\",\"FALSE\")","v":"FALSE"},"",null,"",{"$f":"IF(I50=\"転記日付\",INDEX('バッチ反映用（非表示）'!$A$5:$O$100,MATCH($N51,'バッチ反映用（非表示）'!$S$5:$S$100,0),MATCH('次月以降仕訳（非表示）'!T$6,'バッチ反映用（非表示）'!$A$4:$G$4,0)),\"\")","v":{"$error":"#N/A"}},{"$f":"IF(J51<>\"\",IF(K51<>\"NS-0\"&旅費振替依頼書!$I$3,$C$4,$C$3),\"\")","v":""},"","",""]
["",{"$error":"#N/A"},"","","","",null,"",{"$f":"IF(I51=\"転記日付\",INDEX('バッチ反映用（非表示）'!$A$5:$O$100,MATCH($N52,'バッチ反映用（非表示）'!$S$5:$S$100,0),MATCH('次月以降仕訳（非表示）'!I$6,'バッチ反映用（非表示）'!$A$4:$G$4,0)),\"\")","v":{"$error":"#N/A"}},"",{"$f":"IF($P52=\"TRUE\",INDEX('バッチ反映用（非表示）'!$A$5:$O$100,MATCH($N52,'バッチ反映用（非表示）'!$S$5:$S$100,0),MATCH('次月以降仕訳（非表示）'!K$6,'バッチ反映用（非表示）'!$A$4:$G$4,0)),IF(AND(P52=\"FALSE\",Q52=\"end\"),\"NS-0100\",\"\"))","v":""},{"$f":"IF($P52=\"TRUE\",INDEX('バッチ反映用（非表示）'!$A$5:$O$100,MATCH($N52,'バッチ反映用（非表示）'!$S$5:$S$100,0),MATCH('次月以降仕訳（非表示）'!L$6,'バッチ反映用（非表示）'!$A$4:$G$4,0))*-1,IF($Q52=\"end\",SUM($L$7:L51)*-1,\"\"))","v":""},{"$f":"IF($P52=\"TRUE\",INDEX('バッチ反映用（非表示）'!$A$5:$O$100,MATCH($N52,'バッチ反映用（非表示）'!$S$5:$S$100,0),MATCH('次月以降仕訳（非表示）'!M$6,'バッチ反映用（非表示）'!$A$4:$G$4,0)),IF($Q52=\"end\",\"0\"&旅費振替依頼書!$I$3&旅費振替依頼書!$J$3&\"振替 \"&MONTH(SUBSTITUTE($B$7,\".\",\"/\"))&\"月旅費→\"&MONTH(EOMONTH(SUBSTITUTE($I$7,\".\",\"/\"),2))&\"月作業費 \"&N51&\"件\",\"\"))","v":""},46,"",{"$f":"IF(ISERROR(INDEX('バッチ反映用（非表示）'!$A$5:$O$100,MATCH($N52,'バッチ反映用（非表示）'!$S$5:$S$100,0),MATCH('次月以降仕訳（非表示）'!L$6,'バッチ反映用（非表示）'!$A$4:$G$4,0)))=FALSE,\"TRUE\",\"FALSE\")","v":"FALSE"},"",null,"",{"$f":"IF(I51=\"転記日付\",INDEX('バッチ反映用（非表示）'!$A$5:$O$100,MATCH($N52,'バッチ反映用（非表示）'!$S$5:$S$100,0),MATCH('次月以降仕訳（非表示）'!T$6,'バッチ反映用（非表示）'!$A$4:$G$4,0)),\"\")","v":{"$error":"#N/A"}},{"$f":"IF(J52<>\"\",IF(K52<>\"NS-0\"&旅費振替依頼書!$I$3,$C$4,$C$3),\"\")","v":""},"","",""]
["",{"$error":"#N/A"},"","","","",null,"",{"$f":"IF(I52=\"転記日付\",INDEX('バッチ反映用（非表示）'!$A$5:$O$100,MATCH($N53,'バッチ反映用（非表示）'!$S$5:$S$100,0),MATCH('次月以降仕訳（非表示）'!I$6,'バッチ反映用（非表示）'!$A$4:$G$4,0)),\"\")","v":{"$error":"#N/A"}},"",{"$f":"IF($P53=\"TRUE\",INDEX('バッチ反映用（非表示）'!$A$5:$O$100,MATCH($N53,'バッチ反映用（非表示）'!$S$5:$S$100,0),MATCH('次月以降仕訳（非表示）'!K$6,'バッチ反映用（非表示）'!$A$4:$G$4,0)),IF(AND(P53=\"FALSE\",Q53=\"end\"),\"NS-0100\",\"\"))","v":""},{"$f":"IF($P53=\"TRUE\",INDEX('バッチ反映用（非表示）'!$A$5:$O$100,MATCH($N53,'バッチ反映用（非表示）'!$S$5:$S$100,0),MATCH('次月以降仕訳（非表示）'!L$6,'バッチ反映用（非表示）'!$A$4:$G$4,0))*-1,IF($Q53=\"end\",SUM($L$7:L52)*-1,\"\"))","v":""},{"$f":"IF($P53=\"TRUE\",INDEX('バッチ反映用（非表示）'!$A$5:$O$100,MATCH($N53,'バッチ反映用（非表示）'!$S$5:$S$100,0),MATCH('次月以降仕訳（非表示）'!M$6,'バッチ反映用（非表示）'!$A$4:$G$4,0)),IF($Q53=\"end\",\"0\"&旅費振替依頼書!$I$3&旅費振替依頼書!$J$3&\"振替 \"&MONTH(SUBSTITUTE($B$7,\".\",\"/\"))&\"月旅費→\"&MONTH(EOMONTH(SUBSTITUTE($I$7,\".\",\"/\"),2))&\"月作業費 \"&N52&\"件\",\"\"))","v":""},47,"",{"$f":"IF(ISERROR(INDEX('バッチ反映用（非表示）'!$A$5:$O$100,MATCH($N53,'バッチ反映用（非表示）'!$S$5:$S$100,0),MATCH('次月以降仕訳（非表示）'!L$6,'バッチ反映用（非表示）'!$A$4:$G$4,0)))=FALSE,\"TRUE\",\"FALSE\")","v":"FALSE"},"",null,"",{"$f":"IF(I52=\"転記日付\",INDEX('バッチ反映用（非表示）'!$A$5:$O$100,MATCH($N53,'バッチ反映用（非表示）'!$S$5:$S$100,0),MATCH('次月以降仕訳（非表示）'!T$6,'バッチ反映用（非表示）'!$A$4:$G$4,0)),\"\")","v":{"$error":"#N/A"}},{"$f":"IF(J53<>\"\",IF(K53<>\"NS-0\"&旅費振替依頼書!$I$3,$C$4,$C$3),\"\")","v":""},"","",""]
["",{"$error":"#N/A"},"","","","",null,"",{"$f":"IF(I53=\"転記日付\",INDEX('バッチ反映用（非表示）'!$A$5:$O$100,MATCH($N54,'バッチ反映用（非表示）'!$S$5:$S$100,0),MATCH('次月以降仕訳（非表示）'!I$6,'バッチ反映用（非表示）'!$A$4:$G$4,0)),\"\")","v":{"$error":"#N/A"}},"",{"$f":"IF($P54=\"TRUE\",INDEX('バッチ反映用（非表示）'!$A$5:$O$100,MATCH($N54,'バッチ反映用（非表示）'!$S$5:$S$100,0),MATCH('次月以降仕訳（非表示）'!K$6,'バッチ反映用（非表示）'!$A$4:$G$4,0)),IF(AND(P54=\"FALSE\",Q54=\"end\"),\"NS-0100\",\"\"))","v":""},{"$f":"IF($P54=\"TRUE\",INDEX('バッチ反映用（非表示）'!$A$5:$O$100,MATCH($N54,'バッチ反映用（非表示）'!$S$5:$S$100,0),MATCH('次月以降仕訳（非表示）'!L$6,'バッチ反映用（非表示）'!$A$4:$G$4,0))*-1,IF($Q54=\"end\",SUM($L$7:L53)*-1,\"\"))","v":""},{"$f":"IF($P54=\"TRUE\",INDEX('バッチ反映用（非表示）'!$A$5:$O$100,MATCH($N54,'バッチ反映用（非表示）'!$S$5:$S$100,0),MATCH('次月以降仕訳（非表示）'!M$6,'バッチ反映用（非表示）'!$A$4:$G$4,0)),IF($Q54=\"end\",\"0\"&旅費振替依頼書!$I$3&旅費振替依頼書!$J$3&\"振替 \"&MONTH(SUBSTITUTE($B$7,\".\",\"/\"))&\"月旅費→\"&MONTH(EOMONTH(SUBSTITUTE($I$7,\".\",\"/\"),2))&\"月作業費 \"&N53&\"件\",\"\"))","v":""},48,"",{"$f":"IF(ISERROR(INDEX('バッチ反映用（非表示）'!$A$5:$O$100,MATCH($N54,'バッチ反映用（非表示）'!$S$5:$S$100,0),MATCH('次月以降仕訳（非表示）'!L$6,'バッチ反映用（非表示）'!$A$4:$G$4,0)))=FALSE,\"TRUE\",\"FALSE\")","v":"FALSE"},"",null,"",{"$f":"IF(I53=\"転記日付\",INDEX('バッチ反映用（非表示）'!$A$5:$O$100,MATCH($N54,'バッチ反映用（非表示）'!$S$5:$S$100,0),MATCH('次月以降仕訳（非表示）'!T$6,'バッチ反映用（非表示）'!$A$4:$G$4,0)),\"\")","v":{"$error":"#N/A"}},{"$f":"IF(J54<>\"\",IF(K54<>\"NS-0\"&旅費振替依頼書!$I$3,$C$4,$C$3),\"\")","v":""},"","",""]
["",{"$error":"#N/A"},"","","","",null,"",{"$f":"IF(I54=\"転記日付\",INDEX('バッチ反映用（非表示）'!$A$5:$O$100,MATCH($N55,'バッチ反映用（非表示）'!$S$5:$S$100,0),MATCH('次月以降仕訳（非表示）'!I$6,'バッチ反映用（非表示）'!$A$4:$G$4,0)),\"\")","v":{"$error":"#N/A"}},"",{"$f":"IF($P55=\"TRUE\",INDEX('バッチ反映用（非表示）'!$A$5:$O$100,MATCH($N55,'バッチ反映用（非表示）'!$S$5:$S$100,0),MATCH('次月以降仕訳（非表示）'!K$6,'バッチ反映用（非表示）'!$A$4:$G$4,0)),IF(AND(P55=\"FALSE\",Q55=\"end\"),\"NS-0100\",\"\"))","v":""},{"$f":"IF($P55=\"TRUE\",INDEX('バッチ反映用（非表示）'!$A$5:$O$100,MATCH($N55,'バッチ反映用（非表示）'!$S$5:$S$100,0),MATCH('次月以降仕訳（非表示）'!L$6,'バッチ反映用（非表示）'!$A$4:$G$4,0))*-1,IF($Q55=\"end\",SUM($L$7:L54)*-1,\"\"))","v":""},{"$f":"IF($P55=\"TRUE\",INDEX('バッチ反映用（非表示）'!$A$5:$O$100,MATCH($N55,'バッチ反映用（非表示）'!$S$5:$S$100,0),MATCH('次月以降仕訳（非表示）'!M$6,'バッチ反映用（非表示）'!$A$4:$G$4,0)),IF($Q55=\"end\",\"0\"&旅費振替依頼書!$I$3&旅費振替依頼書!$J$3&\"振替 \"&MONTH(SUBSTITUTE($B$7,\".\",\"/\"))&\"月旅費→\"&MONTH(EOMONTH(SUBSTITUTE($I$7,\".\",\"/\"),2))&\"月作業費 \"&N54&\"件\",\"\"))","v":""},49,"",{"$f":"IF(ISERROR(INDEX('バッチ反映用（非表示）'!$A$5:$O$100,MATCH($N55,'バッチ反映用（非表示）'!$S$5:$S$100,0),MATCH('次月以降仕訳（非表示）'!L$6,'バッチ反映用（非表示）'!$A$4:$G$4,0)))=FALSE,\"TRUE\",\"FALSE\")","v":"FALSE"},"",null,"",{"$f":"IF(I54=\"転記日付\",INDEX('バッチ反映用（非表示）'!$A$5:$O$100,MATCH($N55,'バッチ反映用（非表示）'!$S$5:$S$100,0),MATCH('次月以降仕訳（非表示）'!T$6,'バッチ反映用（非表示）'!$A$4:$G$4,0)),\"\")","v":{"$error":"#N/A"}},{"$f":"IF(J55<>\"\",IF(K55<>\"NS-0\"&旅費振替依頼書!$I$3,$C$4,$C$3),\"\")","v":""},"","",""]
["",{"$error":"#N/A"},"","","","",null,"",{"$f":"IF(I55=\"転記日付\",INDEX('バッチ反映用（非表示）'!$A$5:$O$100,MATCH($N56,'バッチ反映用（非表示）'!$S$5:$S$100,0),MATCH('次月以降仕訳（非表示）'!I$6,'バッチ反映用（非表示）'!$A$4:$G$4,0)),\"\")","v":{"$error":"#N/A"}},"",{"$f":"IF($P56=\"TRUE\",INDEX('バッチ反映用（非表示）'!$A$5:$O$100,MATCH($N56,'バッチ反映用（非表示）'!$S$5:$S$100,0),MATCH('次月以降仕訳（非表示）'!K$6,'バッチ反映用（非表示）'!$A$4:$G$4,0)),IF(AND(P56=\"FALSE\",Q56=\"end\"),\"NS-0100\",\"\"))","v":""},{"$f":"IF($P56=\"TRUE\",INDEX('バッチ反映用（非表示）'!$A$5:$O$100,MATCH($N56,'バッチ反映用（非表示）'!$S$5:$S$100,0),MATCH('次月以降仕訳（非表示）'!L$6,'バッチ反映用（非表示）'!$A$4:$G$4,0))*-1,IF($Q56=\"end\",SUM($L$7:L55)*-1,\"\"))","v":""},{"$f":"IF($P56=\"TRUE\",INDEX('バッチ反映用（非表示）'!$A$5:$O$100,MATCH($N56,'バッチ反映用（非表示）'!$S$5:$S$100,0),MATCH('次月以降仕訳（非表示）'!M$6,'バッチ反映用（非表示）'!$A$4:$G$4,0)),IF($Q56=\"end\",\"0\"&旅費振替依頼書!$I$3&旅費振替依頼書!$J$3&\"振替 \"&MONTH(SUBSTITUTE($B$7,\".\",\"/\"))&\"月旅費→\"&MONTH(EOMONTH(SUBSTITUTE($I$7,\".\",\"/\"),2))&\"月作業費 \"&N55&\"件\",\"\"))","v":""},50,"",{"$f":"IF(ISERROR(INDEX('バッチ反映用（非表示）'!$A$5:$O$100,MATCH($N56,'バッチ反映用（非表示）'!$S$5:$S$100,0),MATCH('次月以降仕訳（非表示）'!L$6,'バッチ反映用（非表示）'!$A$4:$G$4,0)))=FALSE,\"TRUE\",\"FALSE\")","v":"FALSE"},"",null,"",{"$f":"IF(I55=\"転記日付\",INDEX('バッチ反映用（非表示）'!$A$5:$O$100,MATCH($N56,'バッチ反映用（非表示）'!$S$5:$S$100,0),MATCH('次月以降仕訳（非表示）'!T$6,'バッチ反映用（非表示）'!$A$4:$G$4,0)),\"\")","v":{"$error":"#N/A"}},{"$f":"IF(J56<>\"\",IF(K56<>\"NS-0\"&旅費振替依頼書!$I$3,$C$4,$C$3),\"\")","v":""},"","",""]
["",{"$error":"#N/A"},"","","","",null,"",{"$f":"IF(I56=\"転記日付\",INDEX('バッチ反映用（非表示）'!$A$5:$O$100,MATCH($N57,'バッチ反映用（非表示）'!$S$5:$S$100,0),MATCH('次月以降仕訳（非表示）'!I$6,'バッチ反映用（非表示）'!$A$4:$G$4,0)),\"\")","v":{"$error":"#N/A"}},"",{"$f":"IF($P57=\"TRUE\",INDEX('バッチ反映用（非表示）'!$A$5:$O$100,MATCH($N57,'バッチ反映用（非表示）'!$S$5:$S$100,0),MATCH('次月以降仕訳（非表示）'!K$6,'バッチ反映用（非表示）'!$A$4:$G$4,0)),IF(AND(P57=\"FALSE\",Q57=\"end\"),\"NS-0100\",\"\"))","v":""},{"$f":"IF($P57=\"TRUE\",INDEX('バッチ反映用（非表示）'!$A$5:$O$100,MATCH($N57,'バッチ反映用（非表示）'!$S$5:$S$100,0),MATCH('次月以降仕訳（非表示）'!L$6,'バッチ反映用（非表示）'!$A$4:$G$4,0))*-1,IF($Q57=\"end\",SUM($L$7:L56)*-1,\"\"))","v":""},{"$f":"IF($P57=\"TRUE\",INDEX('バッチ反映用（非表示）'!$A$5:$O$100,MATCH($N57,'バッチ反映用（非表示）'!$S$5:$S$100,0),MATCH('次月以降仕訳（非表示）'!M$6,'バッチ反映用（非表示）'!$A$4:$G$4,0)),IF($Q57=\"end\",\"0\"&旅費振替依頼書!$I$3&旅費振替依頼書!$J$3&\"振替 \"&MONTH(SUBSTITUTE($B$7,\".\",\"/\"))&\"月旅費→\"&MONTH(EOMONTH(SUBSTITUTE($I$7,\".\",\"/\"),2))&\"月作業費 \"&N56&\"件\",\"\"))","v":""},51,"",{"$f":"IF(ISERROR(INDEX('バッチ反映用（非表示）'!$A$5:$O$100,MATCH($N57,'バッチ反映用（非表示）'!$S$5:$S$100,0),MATCH('次月以降仕訳（非表示）'!L$6,'バッチ反映用（非表示）'!$A$4:$G$4,0)))=FALSE,\"TRUE\",\"FALSE\")","v":"FALSE"},"",null,"",{"$f":"IF(I56=\"転記日付\",INDEX('バッチ反映用（非表示）'!$A$5:$O$100,MATCH($N57,'バッチ反映用（非表示）'!$S$5:$S$100,0),MATCH('次月以降仕訳（非表示）'!T$6,'バッチ反映用（非表示）'!$A$4:$G$4,0)),\"\")","v":{"$error":"#N/A"}},{"$f":"IF(J57<>\"\",IF(K57<>\"NS-0\"&旅費振替依頼書!$I$3,$C$4,$C$3),\"\")","v":""},"","",""]
["",{"$error":"#N/A"},"","","","",null,"",{"$f":"IF(I57=\"転記日付\",INDEX('バッチ反映用（非表示）'!$A$5:$O$100,MATCH($N58,'バッチ反映用（非表示）'!$S$5:$S$100,0),MATCH('次月以降仕訳（非表示）'!I$6,'バッチ反映用（非表示）'!$A$4:$G$4,0)),\"\")","v":{"$error":"#N/A"}},"",{"$f":"IF($P58=\"TRUE\",INDEX('バッチ反映用（非表示）'!$A$5:$O$100,MATCH($N58,'バッチ反映用（非表示）'!$S$5:$S$100,0),MATCH('次月以降仕訳（非表示）'!K$6,'バッチ反映用（非表示）'!$A$4:$G$4,0)),IF(AND(P58=\"FALSE\",Q58=\"end\"),\"NS-0100\",\"\"))","v":""},{"$f":"IF($P58=\"TRUE\",INDEX('バッチ反映用（非表示）'!$A$5:$O$100,MATCH($N58,'バッチ反映用（非表示）'!$S$5:$S$100,0),MATCH('次月以降仕訳（非表示）'!L$6,'バッチ反映用（非表示）'!$A$4:$G$4,0))*-1,IF($Q58=\"end\",SUM($L$7:L57)*-1,\"\"))","v":""},{"$f":"IF($P58=\"TRUE\",INDEX('バッチ反映用（非表示）'!$A$5:$O$100,MATCH($N58,'バッチ反映用（非表示）'!$S$5:$S$100,0),MATCH('次月以降仕訳（非表示）'!M$6,'バッチ反映用（非表示）'!$A$4:$G$4,0)),IF($Q58=\"end\",\"0\"&旅費振替依頼書!$I$3&旅費振替依頼書!$J$3&\"振替 \"&MONTH(SUBSTITUTE($B$7,\".\",\"/\"))&\"月旅費→\"&MONTH(EOMONTH(SUBSTITUTE($I$7,\".\",\"/\"),2))&\"月作業費 \"&N57&\"件\",\"\"))","v":""},52,"",{"$f":"IF(ISERROR(INDEX('バッチ反映用（非表示）'!$A$5:$O$100,MATCH($N58,'バッチ反映用（非表示）'!$S$5:$S$100,0),MATCH('次月以降仕訳（非表示）'!L$6,'バッチ反映用（非表示）'!$A$4:$G$4,0)))=FALSE,\"TRUE\",\"FALSE\")","v":"FALSE"},"",null,"",{"$f":"IF(I57=\"転記日付\",INDEX('バッチ反映用（非表示）'!$A$5:$O$100,MATCH($N58,'バッチ反映用（非表示）'!$S$5:$S$100,0),MATCH('次月以降仕訳（非表示）'!T$6,'バッチ反映用（非表示）'!$A$4:$G$4,0)),\"\")","v":{"$error":"#N/A"}},{"$f":"IF(J58<>\"\",IF(K58<>\"NS-0\"&旅費振替依頼書!$I$3,$C$4,$C$3),\"\")","v":""},"","",""]
["",{"$error":"#N/A"},"","","","",null,"",{"$f":"IF(I58=\"転記日付\",INDEX('バッチ反映用（非表示）'!$A$5:$O$100,MATCH($N59,'バッチ反映用（非表示）'!$S$5:$S$100,0),MATCH('次月以降仕訳（非表示）'!I$6,'バッチ反映用（非表示）'!$A$4:$G$4,0)),\"\")","v":{"$error":"#N/A"}},"",{"$f":"IF($P59=\"TRUE\",INDEX('バッチ反映用（非表示）'!$A$5:$O$100,MATCH($N59,'バッチ反映用（非表示）'!$S$5:$S$100,0),MATCH('次月以降仕訳（非表示）'!K$6,'バッチ反映用（非表示）'!$A$4:$G$4,0)),IF(AND(P59=\"FALSE\",Q59=\"end\"),\"NS-0100\",\"\"))","v":""},{"$f":"IF($P59=\"TRUE\",INDEX('バッチ反映用（非表示）'!$A$5:$O$100,MATCH($N59,'バッチ反映用（非表示）'!$S$5:$S$100,0),MATCH('次月以降仕訳（非表示）'!L$6,'バッチ反映用（非表示）'!$A$4:$G$4,0))*-1,IF($Q59=\"end\",SUM($L$7:L58)*-1,\"\"))","v":""},{"$f":"IF($P59=\"TRUE\",INDEX('バッチ反映用（非表示）'!$A$5:$O$100,MATCH($N59,'バッチ反映用（非表示）'!$S$5:$S$100,0),MATCH('次月以降仕訳（非表示）'!M$6,'バッチ反映用（非表示）'!$A$4:$G$4,0)),IF($Q59=\"end\",\"0\"&旅費振替依頼書!$I$3&旅費振替依頼書!$J$3&\"振替 \"&MONTH(SUBSTITUTE($B$7,\".\",\"/\"))&\"月旅費→\"&MONTH(EOMONTH(SUBSTITUTE($I$7,\".\",\"/\"),2))&\"月作業費 \"&N58&\"件\",\"\"))","v":""},53,"",{"$f":"IF(ISERROR(INDEX('バッチ反映用（非表示）'!$A$5:$O$100,MATCH($N59,'バッチ反映用（非表示）'!$S$5:$S$100,0),MATCH('次月以降仕訳（非表示）'!L$6,'バッチ反映用（非表示）'!$A$4:$G$4,0)))=FALSE,\"TRUE\",\"FALSE\")","v":"FALSE"},"",null,"",{"$f":"IF(I58=\"転記日付\",INDEX('バッチ反映用（非表示）'!$A$5:$O$100,MATCH($N59,'バッチ反映用（非表示）'!$S$5:$S$100,0),MATCH('次月以降仕訳（非表示）'!T$6,'バッチ反映用（非表示）'!$A$4:$G$4,0)),\"\")","v":{"$error":"#N/A"}},{"$f":"IF(J59<>\"\",IF(K59<>\"NS-0\"&旅費振替依頼書!$I$3,$C$4,$C$3),\"\")","v":""},"","",""]
["",{"$error":"#N/A"},"","","","",null,"",{"$f":"IF(I59=\"転記日付\",INDEX('バッチ反映用（非表示）'!$A$5:$O$100,MATCH($N60,'バッチ反映用（非表示）'!$S$5:$S$100,0),MATCH('次月以降仕訳（非表示）'!I$6,'バッチ反映用（非表示）'!$A$4:$G$4,0)),\"\")","v":{"$error":"#N/A"}},"",{"$f":"IF($P60=\"TRUE\",INDEX('バッチ反映用（非表示）'!$A$5:$O$100,MATCH($N60,'バッチ反映用（非表示）'!$S$5:$S$100,0),MATCH('次月以降仕訳（非表示）'!K$6,'バッチ反映用（非表示）'!$A$4:$G$4,0)),IF(AND(P60=\"FALSE\",Q60=\"end\"),\"NS-0100\",\"\"))","v":""},{"$f":"IF($P60=\"TRUE\",INDEX('バッチ反映用（非表示）'!$A$5:$O$100,MATCH($N60,'バッチ反映用（非表示）'!$S$5:$S$100,0),MATCH('次月以降仕訳（非表示）'!L$6,'バッチ反映用（非表示）'!$A$4:$G$4,0))*-1,IF($Q60=\"end\",SUM($L$7:L59)*-1,\"\"))","v":""},{"$f":"IF($P60=\"TRUE\",INDEX('バッチ反映用（非表示）'!$A$5:$O$100,MATCH($N60,'バッチ反映用（非表示）'!$S$5:$S$100,0),MATCH('次月以降仕訳（非表示）'!M$6,'バッチ反映用（非表示）'!$A$4:$G$4,0)),IF($Q60=\"end\",\"0\"&旅費振替依頼書!$I$3&旅費振替依頼書!$J$3&\"振替 \"&MONTH(SUBSTITUTE($B$7,\".\",\"/\"))&\"月旅費→\"&MONTH(EOMONTH(SUBSTITUTE($I$7,\".\",\"/\"),2))&\"月作業費 \"&N59&\"件\",\"\"))","v":""},54,"",{"$f":"IF(ISERROR(INDEX('バッチ反映用（非表示）'!$A$5:$O$100,MATCH($N60,'バッチ反映用（非表示）'!$S$5:$S$100,0),MATCH('次月以降仕訳（非表示）'!L$6,'バッチ反映用（非表示）'!$A$4:$G$4,0)))=FALSE,\"TRUE\",\"FALSE\")","v":"FALSE"},"",null,"",{"$f":"IF(I59=\"転記日付\",INDEX('バッチ反映用（非表示）'!$A$5:$O$100,MATCH($N60,'バッチ反映用（非表示）'!$S$5:$S$100,0),MATCH('次月以降仕訳（非表示）'!T$6,'バッチ反映用（非表示）'!$A$4:$G$4,0)),\"\")","v":{"$error":"#N/A"}},{"$f":"IF(J60<>\"\",IF(K60<>\"NS-0\"&旅費振替依頼書!$I$3,$C$4,$C$3),\"\")","v":""},"","",""]
["",{"$error":"#N/A"},"","","","",null,"",{"$f":"IF(I60=\"転記日付\",INDEX('バッチ反映用（非表示）'!$A$5:$O$100,MATCH($N61,'バッチ反映用（非表示）'!$S$5:$S$100,0),MATCH('次月以降仕訳（非表示）'!I$6,'バッチ反映用（非表示）'!$A$4:$G$4,0)),\"\")","v":{"$error":"#N/A"}},"",{"$f":"IF($P61=\"TRUE\",INDEX('バッチ反映用（非表示）'!$A$5:$O$100,MATCH($N61,'バッチ反映用（非表示）'!$S$5:$S$100,0),MATCH('次月以降仕訳（非表示）'!K$6,'バッチ反映用（非表示）'!$A$4:$G$4,0)),IF(AND(P61=\"FALSE\",Q61=\"end\"),\"NS-0100\",\"\"))","v":""},{"$f":"IF($P61=\"TRUE\",INDEX('バッチ反映用（非表示）'!$A$5:$O$100,MATCH($N61,'バッチ反映用（非表示）'!$S$5:$S$100,0),MATCH('次月以降仕訳（非表示）'!L$6,'バッチ反映用（非表示）'!$A$4:$G$4,0))*-1,IF($Q61=\"end\",SUM($L$7:L60)*-1,\"\"))","v":""},{"$f":"IF($P61=\"TRUE\",INDEX('バッチ反映用（非表示）'!$A$5:$O$100,MATCH($N61,'バッチ反映用（非表示）'!$S$5:$S$100,0),MATCH('次月以降仕訳（非表示）'!M$6,'バッチ反映用（非表示）'!$A$4:$G$4,0)),IF($Q61=\"end\",\"0\"&旅費振替依頼書!$I$3&旅費振替依頼書!$J$3&\"振替 \"&MONTH(SUBSTITUTE($B$7,\".\",\"/\"))&\"月旅費→\"&MONTH(EOMONTH(SUBSTITUTE($I$7,\".\",\"/\"),2))&\"月作業費 \"&N60&\"件\",\"\"))","v":""},55,"",{"$f":"IF(ISERROR(INDEX('バッチ反映用（非表示）'!$A$5:$O$100,MATCH($N61,'バッチ反映用（非表示）'!$S$5:$S$100,0),MATCH('次月以降仕訳（非表示）'!L$6,'バッチ反映用（非表示）'!$A$4:$G$4,0)))=FALSE,\"TRUE\",\"FALSE\")","v":"FALSE"},"",null,"",{"$f":"IF(I60=\"転記日付\",INDEX('バッチ反映用（非表示）'!$A$5:$O$100,MATCH($N61,'バッチ反映用（非表示）'!$S$5:$S$100,0),MATCH('次月以降仕訳（非表示）'!T$6,'バッチ反映用（非表示）'!$A$4:$G$4,0)),\"\")","v":{"$error":"#N/A"}},{"$f":"IF(J61<>\"\",IF(K61<>\"NS-0\"&旅費振替依頼書!$I$3,$C$4,$C$3),\"\")","v":""},"","",""]
["",{"$error":"#N/A"},"","","","",null,"",{"$f":"IF(I61=\"転記日付\",INDEX('バッチ反映用（非表示）'!$A$5:$O$100,MATCH($N62,'バッチ反映用（非表示）'!$S$5:$S$100,0),MATCH('次月以降仕訳（非表示）'!I$6,'バッチ反映用（非表示）'!$A$4:$G$4,0)),\"\")","v":{"$error":"#N/A"}},"",{"$f":"IF($P62=\"TRUE\",INDEX('バッチ反映用（非表示）'!$A$5:$O$100,MATCH($N62,'バッチ反映用（非表示）'!$S$5:$S$100,0),MATCH('次月以降仕訳（非表示）'!K$6,'バッチ反映用（非表示）'!$A$4:$G$4,0)),IF(AND(P62=\"FALSE\",Q62=\"end\"),\"NS-0100\",\"\"))","v":""},{"$f":"IF($P62=\"TRUE\",INDEX('バッチ反映用（非表示）'!$A$5:$O$100,MATCH($N62,'バッチ反映用（非表示）'!$S$5:$S$100,0),MATCH('次月以降仕訳（非表示）'!L$6,'バッチ反映用（非表示）'!$A$4:$G$4,0))*-1,IF($Q62=\"end\",SUM($L$7:L61)*-1,\"\"))","v":""},{"$f":"IF($P62=\"TRUE\",INDEX('バッチ反映用（非表示）'!$A$5:$O$100,MATCH($N62,'バッチ反映用（非表示）'!$S$5:$S$100,0),MATCH('次月以降仕訳（非表示）'!M$6,'バッチ反映用（非表示）'!$A$4:$G$4,0)),IF($Q62=\"end\",\"0\"&旅費振替依頼書!$I$3&旅費振替依頼書!$J$3&\"振替 \"&MONTH(SUBSTITUTE($B$7,\".\",\"/\"))&\"月旅費→\"&MONTH(EOMONTH(SUBSTITUTE($I$7,\".\",\"/\"),2))&\"月作業費 \"&N61&\"件\",\"\"))","v":""},56,"",{"$f":"IF(ISERROR(INDEX('バッチ反映用（非表示）'!$A$5:$O$100,MATCH($N62,'バッチ反映用（非表示）'!$S$5:$S$100,0),MATCH('次月以降仕訳（非表示）'!L$6,'バッチ反映用（非表示）'!$A$4:$G$4,0)))=FALSE,\"TRUE\",\"FALSE\")","v":"FALSE"},"",null,"",{"$f":"IF(I61=\"転記日付\",INDEX('バッチ反映用（非表示）'!$A$5:$O$100,MATCH($N62,'バッチ反映用（非表示）'!$S$5:$S$100,0),MATCH('次月以降仕訳（非表示）'!T$6,'バッチ反映用（非表示）'!$A$4:$G$4,0)),\"\")","v":{"$error":"#N/A"}},{"$f":"IF(J62<>\"\",IF(K62<>\"NS-0\"&旅費振替依頼書!$I$3,$C$4,$C$3),\"\")","v":""},"","",""]
["",{"$error":"#N/A"},"","","","",null,"",{"$f":"IF(I62=\"転記日付\",INDEX('バッチ反映用（非表示）'!$A$5:$O$100,MATCH($N63,'バッチ反映用（非表示）'!$S$5:$S$100,0),MATCH('次月以降仕訳（非表示）'!I$6,'バッチ反映用（非表示）'!$A$4:$G$4,0)),\"\")","v":{"$error":"#N/A"}},"",{"$f":"IF($P63=\"TRUE\",INDEX('バッチ反映用（非表示）'!$A$5:$O$100,MATCH($N63,'バッチ反映用（非表示）'!$S$5:$S$100,0),MATCH('次月以降仕訳（非表示）'!K$6,'バッチ反映用（非表示）'!$A$4:$G$4,0)),IF(AND(P63=\"FALSE\",Q63=\"end\"),\"NS-0100\",\"\"))","v":""},{"$f":"IF($P63=\"TRUE\",INDEX('バッチ反映用（非表示）'!$A$5:$O$100,MATCH($N63,'バッチ反映用（非表示）'!$S$5:$S$100,0),MATCH('次月以降仕訳（非表示）'!L$6,'バッチ反映用（非表示）'!$A$4:$G$4,0))*-1,IF($Q63=\"end\",SUM($L$7:L62)*-1,\"\"))","v":""},{"$f":"IF($P63=\"TRUE\",INDEX('バッチ反映用（非表示）'!$A$5:$O$100,MATCH($N63,'バッチ反映用（非表示）'!$S$5:$S$100,0),MATCH('次月以降仕訳（非表示）'!M$6,'バッチ反映用（非表示）'!$A$4:$G$4,0)),IF($Q63=\"end\",\"0\"&旅費振替依頼書!$I$3&旅費振替依頼書!$J$3&\"振替 \"&MONTH(SUBSTITUTE($B$7,\".\",\"/\"))&\"月旅費→\"&MONTH(EOMONTH(SUBSTITUTE($I$7,\".\",\"/\"),2))&\"月作業費 \"&N62&\"件\",\"\"))","v":""},57,"",{"$f":"IF(ISERROR(INDEX('バッチ反映用（非表示）'!$A$5:$O$100,MATCH($N63,'バッチ反映用（非表示）'!$S$5:$S$100,0),MATCH('次月以降仕訳（非表示）'!L$6,'バッチ反映用（非表示）'!$A$4:$G$4,0)))=FALSE,\"TRUE\",\"FALSE\")","v":"FALSE"},"",null,"",{"$f":"IF(I62=\"転記日付\",INDEX('バッチ反映用（非表示）'!$A$5:$O$100,MATCH($N63,'バッチ反映用（非表示）'!$S$5:$S$100,0),MATCH('次月以降仕訳（非表示）'!T$6,'バッチ反映用（非表示）'!$A$4:$G$4,0)),\"\")","v":{"$error":"#N/A"}},{"$f":"IF(J63<>\"\",IF(K63<>\"NS-0\"&旅費振替依頼書!$I$3,$C$4,$C$3),\"\")","v":""},"","",""]
["",{"$error":"#N/A"},"","","","",null,"",{"$f":"IF(I63=\"転記日付\",INDEX('バッチ反映用（非表示）'!$A$5:$O$100,MATCH($N64,'バッチ反映用（非表示）'!$S$5:$S$100,0),MATCH('次月以降仕訳（非表示）'!I$6,'バッチ反映用（非表示）'!$A$4:$G$4,0)),\"\")","v":{"$error":"#N/A"}},"",{"$f":"IF($P64=\"TRUE\",INDEX('バッチ反映用（非表示）'!$A$5:$O$100,MATCH($N64,'バッチ反映用（非表示）'!$S$5:$S$100,0),MATCH('次月以降仕訳（非表示）'!K$6,'バッチ反映用（非表示）'!$A$4:$G$4,0)),IF(AND(P64=\"FALSE\",Q64=\"end\"),\"NS-0100\",\"\"))","v":""},{"$f":"IF($P64=\"TRUE\",INDEX('バッチ反映用（非表示）'!$A$5:$O$100,MATCH($N64,'バッチ反映用（非表示）'!$S$5:$S$100,0),MATCH('次月以降仕訳（非表示）'!L$6,'バッチ反映用（非表示）'!$A$4:$G$4,0))*-1,IF($Q64=\"end\",SUM($L$7:L63)*-1,\"\"))","v":""},{"$f":"IF($P64=\"TRUE\",INDEX('バッチ反映用（非表示）'!$A$5:$O$100,MATCH($N64,'バッチ反映用（非表示）'!$S$5:$S$100,0),MATCH('次月以降仕訳（非表示）'!M$6,'バッチ反映用（非表示）'!$A$4:$G$4,0)),IF($Q64=\"end\",\"0\"&旅費振替依頼書!$I$3&旅費振替依頼書!$J$3&\"振替 \"&MONTH(SUBSTITUTE($B$7,\".\",\"/\"))&\"月旅費→\"&MONTH(EOMONTH(SUBSTITUTE($I$7,\".\",\"/\"),2))&\"月作業費 \"&N63&\"件\",\"\"))","v":""},58,"",{"$f":"IF(ISERROR(INDEX('バッチ反映用（非表示）'!$A$5:$O$100,MATCH($N64,'バッチ反映用（非表示）'!$S$5:$S$100,0),MATCH('次月以降仕訳（非表示）'!L$6,'バッチ反映用（非表示）'!$A$4:$G$4,0)))=FALSE,\"TRUE\",\"FALSE\")","v":"FALSE"},"",null,"",{"$f":"IF(I63=\"転記日付\",INDEX('バッチ反映用（非表示）'!$A$5:$O$100,MATCH($N64,'バッチ反映用（非表示）'!$S$5:$S$100,0),MATCH('次月以降仕訳（非表示）'!T$6,'バッチ反映用（非表示）'!$A$4:$G$4,0)),\"\")","v":{"$error":"#N/A"}},{"$f":"IF(J64<>\"\",IF(K64<>\"NS-0\"&旅費振替依頼書!$I$3,$C$4,$C$3),\"\")","v":""},"","",""]
["",{"$error":"#N/A"},"","","","",null,"",{"$f":"IF(I64=\"転記日付\",INDEX('バッチ反映用（非表示）'!$A$5:$O$100,MATCH($N65,'バッチ反映用（非表示）'!$S$5:$S$100,0),MATCH('次月以降仕訳（非表示）'!I$6,'バッチ反映用（非表示）'!$A$4:$G$4,0)),\"\")","v":{"$error":"#N/A"}},"",{"$f":"IF($P65=\"TRUE\",INDEX('バッチ反映用（非表示）'!$A$5:$O$100,MATCH($N65,'バッチ反映用（非表示）'!$S$5:$S$100,0),MATCH('次月以降仕訳（非表示）'!K$6,'バッチ反映用（非表示）'!$A$4:$G$4,0)),IF(AND(P65=\"FALSE\",Q65=\"end\"),\"NS-0100\",\"\"))","v":""},{"$f":"IF($P65=\"TRUE\",INDEX('バッチ反映用（非表示）'!$A$5:$O$100,MATCH($N65,'バッチ反映用（非表示）'!$S$5:$S$100,0),MATCH('次月以降仕訳（非表示）'!L$6,'バッチ反映用（非表示）'!$A$4:$G$4,0))*-1,IF($Q65=\"end\",SUM($L$7:L64)*-1,\"\"))","v":""},{"$f":"IF($P65=\"TRUE\",INDEX('バッチ反映用（非表示）'!$A$5:$O$100,MATCH($N65,'バッチ反映用（非表示）'!$S$5:$S$100,0),MATCH('次月以降仕訳（非表示）'!M$6,'バッチ反映用（非表示）'!$A$4:$G$4,0)),IF($Q65=\"end\",\"0\"&旅費振替依頼書!$I$3&旅費振替依頼書!$J$3&\"振替 \"&MONTH(SUBSTITUTE($B$7,\".\",\"/\"))&\"月旅費→\"&MONTH(EOMONTH(SUBSTITUTE($I$7,\".\",\"/\"),2))&\"月作業費 \"&N64&\"件\",\"\"))","v":""},59,"",{"$f":"IF(ISERROR(INDEX('バッチ反映用（非表示）'!$A$5:$O$100,MATCH($N65,'バッチ反映用（非表示）'!$S$5:$S$100,0),MATCH('次月以降仕訳（非表示）'!L$6,'バッチ反映用（非表示）'!$A$4:$G$4,0)))=FALSE,\"TRUE\",\"FALSE\")","v":"FALSE"},"",null,"",{"$f":"IF(I64=\"転記日付\",INDEX('バッチ反映用（非表示）'!$A$5:$O$100,MATCH($N65,'バッチ反映用（非表示）'!$S$5:$S$100,0),MATCH('次月以降仕訳（非表示）'!T$6,'バッチ反映用（非表示）'!$A$4:$G$4,0)),\"\")","v":{"$error":"#N/A"}},{"$f":"IF(J65<>\"\",IF(K65<>\"NS-0\"&旅費振替依頼書!$I$3,$C$4,$C$3),\"\")","v":""},"","",""]
["",{"$error":"#N/A"},"","","","",null,"",{"$f":"IF(I65=\"転記日付\",INDEX('バッチ反映用（非表示）'!$A$5:$O$100,MATCH($N66,'バッチ反映用（非表示）'!$S$5:$S$100,0),MATCH('次月以降仕訳（非表示）'!I$6,'バッチ反映用（非表示）'!$A$4:$G$4,0)),\"\")","v":{"$error":"#N/A"}},"",{"$f":"IF($P66=\"TRUE\",INDEX('バッチ反映用（非表示）'!$A$5:$O$100,MATCH($N66,'バッチ反映用（非表示）'!$S$5:$S$100,0),MATCH('次月以降仕訳（非表示）'!K$6,'バッチ反映用（非表示）'!$A$4:$G$4,0)),IF(AND(P66=\"FALSE\",Q66=\"end\"),\"NS-0100\",\"\"))","v":""},{"$f":"IF($P66=\"TRUE\",INDEX('バッチ反映用（非表示）'!$A$5:$O$100,MATCH($N66,'バッチ反映用（非表示）'!$S$5:$S$100,0),MATCH('次月以降仕訳（非表示）'!L$6,'バッチ反映用（非表示）'!$A$4:$G$4,0))*-1,IF($Q66=\"end\",SUM($L$7:L65)*-1,\"\"))","v":""},{"$f":"IF($P66=\"TRUE\",INDEX('バッチ反映用（非表示）'!$A$5:$O$100,MATCH($N66,'バッチ反映用（非表示）'!$S$5:$S$100,0),MATCH('次月以降仕訳（非表示）'!M$6,'バッチ反映用（非表示）'!$A$4:$G$4,0)),IF($Q66=\"end\",\"0\"&旅費振替依頼書!$I$3&旅費振替依頼書!$J$3&\"振替 \"&MONTH(SUBSTITUTE($B$7,\".\",\"/\"))&\"月旅費→\"&MONTH(EOMONTH(SUBSTITUTE($I$7,\".\",\"/\"),2))&\"月作業費 \"&N65&\"件\",\"\"))","v":""},60,"",{"$f":"IF(ISERROR(INDEX('バッチ反映用（非表示）'!$A$5:$O$100,MATCH($N66,'バッチ反映用（非表示）'!$S$5:$S$100,0),MATCH('次月以降仕訳（非表示）'!L$6,'バッチ反映用（非表示）'!$A$4:$G$4,0)))=FALSE,\"TRUE\",\"FALSE\")","v":"FALSE"},"",null,"",{"$f":"IF(I65=\"転記日付\",INDEX('バッチ反映用（非表示）'!$A$5:$O$100,MATCH($N66,'バッチ反映用（非表示）'!$S$5:$S$100,0),MATCH('次月以降仕訳（非表示）'!T$6,'バッチ反映用（非表示）'!$A$4:$G$4,0)),\"\")","v":{"$error":"#N/A"}},{"$f":"IF(J66<>\"\",IF(K66<>\"NS-0\"&旅費振替依頼書!$I$3,$C$4,$C$3),\"\")","v":""},"","",""]
["",{"$error":"#N/A"},"","","","",null,"",{"$f":"IF(I66=\"転記日付\",INDEX('バッチ反映用（非表示）'!$A$5:$O$100,MATCH($N67,'バッチ反映用（非表示）'!$S$5:$S$100,0),MATCH('次月以降仕訳（非表示）'!I$6,'バッチ反映用（非表示）'!$A$4:$G$4,0)),\"\")","v":{"$error":"#N/A"}},"",{"$f":"IF($P67=\"TRUE\",INDEX('バッチ反映用（非表示）'!$A$5:$O$100,MATCH($N67,'バッチ反映用（非表示）'!$S$5:$S$100,0),MATCH('次月以降仕訳（非表示）'!K$6,'バッチ反映用（非表示）'!$A$4:$G$4,0)),IF(AND(P67=\"FALSE\",Q67=\"end\"),\"NS-0100\",\"\"))","v":""},{"$f":"IF($P67=\"TRUE\",INDEX('バッチ反映用（非表示）'!$A$5:$O$100,MATCH($N67,'バッチ反映用（非表示）'!$S$5:$S$100,0),MATCH('次月以降仕訳（非表示）'!L$6,'バッチ反映用（非表示）'!$A$4:$G$4,0))*-1,IF($Q67=\"end\",SUM($L$7:L66)*-1,\"\"))","v":""},{"$f":"IF($P67=\"TRUE\",INDEX('バッチ反映用（非表示）'!$A$5:$O$100,MATCH($N67,'バッチ反映用（非表示）'!$S$5:$S$100,0),MATCH('次月以降仕訳（非表示）'!M$6,'バッチ反映用（非表示）'!$A$4:$G$4,0)),IF($Q67=\"end\",\"0\"&旅費振替依頼書!$I$3&旅費振替依頼書!$J$3&\"振替 \"&MONTH(SUBSTITUTE($B$7,\".\",\"/\"))&\"月旅費→\"&MONTH(EOMONTH(SUBSTITUTE($I$7,\".\",\"/\"),2))&\"月作業費 \"&N66&\"件\",\"\"))","v":""},61,"",{"$f":"IF(ISERROR(INDEX('バッチ反映用（非表示）'!$A$5:$O$100,MATCH($N67,'バッチ反映用（非表示）'!$S$5:$S$100,0),MATCH('次月以降仕訳（非表示）'!L$6,'バッチ反映用（非表示）'!$A$4:$G$4,0)))=FALSE,\"TRUE\",\"FALSE\")","v":"FALSE"},"",null,"",{"$f":"IF(I66=\"転記日付\",INDEX('バッチ反映用（非表示）'!$A$5:$O$100,MATCH($N67,'バッチ反映用（非表示）'!$S$5:$S$100,0),MATCH('次月以降仕訳（非表示）'!T$6,'バッチ反映用（非表示）'!$A$4:$G$4,0)),\"\")","v":{"$error":"#N/A"}},{"$f":"IF(J67<>\"\",IF(K67<>\"NS-0\"&旅費振替依頼書!$I$3,$C$4,$C$3),\"\")","v":""},"","",""]
["",{"$error":"#N/A"},"","","","",null,"",{"$f":"IF(I67=\"転記日付\",INDEX('バッチ反映用（非表示）'!$A$5:$O$100,MATCH($N68,'バッチ反映用（非表示）'!$S$5:$S$100,0),MATCH('次月以降仕訳（非表示）'!I$6,'バッチ反映用（非表示）'!$A$4:$G$4,0)),\"\")","v":{"$error":"#N/A"}},"",{"$f":"IF($P68=\"TRUE\",INDEX('バッチ反映用（非表示）'!$A$5:$O$100,MATCH($N68,'バッチ反映用（非表示）'!$S$5:$S$100,0),MATCH('次月以降仕訳（非表示）'!K$6,'バッチ反映用（非表示）'!$A$4:$G$4,0)),IF(AND(P68=\"FALSE\",Q68=\"end\"),\"NS-0100\",\"\"))","v":""},{"$f":"IF($P68=\"TRUE\",INDEX('バッチ反映用（非表示）'!$A$5:$O$100,MATCH($N68,'バッチ反映用（非表示）'!$S$5:$S$100,0),MATCH('次月以降仕訳（非表示）'!L$6,'バッチ反映用（非表示）'!$A$4:$G$4,0))*-1,IF($Q68=\"end\",SUM($L$7:L67)*-1,\"\"))","v":""},{"$f":"IF($P68=\"TRUE\",INDEX('バッチ反映用（非表示）'!$A$5:$O$100,MATCH($N68,'バッチ反映用（非表示）'!$S$5:$S$100,0),MATCH('次月以降仕訳（非表示）'!M$6,'バッチ反映用（非表示）'!$A$4:$G$4,0)),IF($Q68=\"end\",\"0\"&旅費振替依頼書!$I$3&旅費振替依頼書!$J$3&\"振替 \"&MONTH(SUBSTITUTE($B$7,\".\",\"/\"))&\"月旅費→\"&MONTH(EOMONTH(SUBSTITUTE($I$7,\".\",\"/\"),2))&\"月作業費 \"&N67&\"件\",\"\"))","v":""},62,"",{"$f":"IF(ISERROR(INDEX('バッチ反映用（非表示）'!$A$5:$O$100,MATCH($N68,'バッチ反映用（非表示）'!$S$5:$S$100,0),MATCH('次月以降仕訳（非表示）'!L$6,'バッチ反映用（非表示）'!$A$4:$G$4,0)))=FALSE,\"TRUE\",\"FALSE\")","v":"FALSE"},"",null,"",{"$f":"IF(I67=\"転記日付\",INDEX('バッチ反映用（非表示）'!$A$5:$O$100,MATCH($N68,'バッチ反映用（非表示）'!$S$5:$S$100,0),MATCH('次月以降仕訳（非表示）'!T$6,'バッチ反映用（非表示）'!$A$4:$G$4,0)),\"\")","v":{"$error":"#N/A"}},{"$f":"IF(J68<>\"\",IF(K68<>\"NS-0\"&旅費振替依頼書!$I$3,$C$4,$C$3),\"\")","v":""},"","",""]
["",{"$error":"#N/A"},"","","","",null,"",{"$f":"IF(I68=\"転記日付\",INDEX('バッチ反映用（非表示）'!$A$5:$O$100,MATCH($N69,'バッチ反映用（非表示）'!$S$5:$S$100,0),MATCH('次月以降仕訳（非表示）'!I$6,'バッチ反映用（非表示）'!$A$4:$G$4,0)),\"\")","v":{"$error":"#N/A"}},"",{"$f":"IF($P69=\"TRUE\",INDEX('バッチ反映用（非表示）'!$A$5:$O$100,MATCH($N69,'バッチ反映用（非表示）'!$S$5:$S$100,0),MATCH('次月以降仕訳（非表示）'!K$6,'バッチ反映用（非表示）'!$A$4:$G$4,0)),IF(AND(P69=\"FALSE\",Q69=\"end\"),\"NS-0100\",\"\"))","v":""},{"$f":"IF($P69=\"TRUE\",INDEX('バッチ反映用（非表示）'!$A$5:$O$100,MATCH($N69,'バッチ反映用（非表示）'!$S$5:$S$100,0),MATCH('次月以降仕訳（非表示）'!L$6,'バッチ反映用（非表示）'!$A$4:$G$4,0))*-1,IF($Q69=\"end\",SUM($L$7:L68)*-1,\"\"))","v":""},{"$f":"IF($P69=\"TRUE\",INDEX('バッチ反映用（非表示）'!$A$5:$O$100,MATCH($N69,'バッチ反映用（非表示）'!$S$5:$S$100,0),MATCH('次月以降仕訳（非表示）'!M$6,'バッチ反映用（非表示）'!$A$4:$G$4,0)),IF($Q69=\"end\",\"0\"&旅費振替依頼書!$I$3&旅費振替依頼書!$J$3&\"振替 \"&MONTH(SUBSTITUTE($B$7,\".\",\"/\"))&\"月旅費→\"&MONTH(EOMONTH(SUBSTITUTE($I$7,\".\",\"/\"),2))&\"月作業費 \"&N68&\"件\",\"\"))","v":""},63,"",{"$f":"IF(ISERROR(INDEX('バッチ反映用（非表示）'!$A$5:$O$100,MATCH($N69,'バッチ反映用（非表示）'!$S$5:$S$100,0),MATCH('次月以降仕訳（非表示）'!L$6,'バッチ反映用（非表示）'!$A$4:$G$4,0)))=FALSE,\"TRUE\",\"FALSE\")","v":"FALSE"},"",null,"",{"$f":"IF(I68=\"転記日付\",INDEX('バッチ反映用（非表示）'!$A$5:$O$100,MATCH($N69,'バッチ反映用（非表示）'!$S$5:$S$100,0),MATCH('次月以降仕訳（非表示）'!T$6,'バッチ反映用（非表示）'!$A$4:$G$4,0)),\"\")","v":{"$error":"#N/A"}},{"$f":"IF(J69<>\"\",IF(K69<>\"NS-0\"&旅費振替依頼書!$I$3,$C$4,$C$3),\"\")","v":""},"","",""]
["",{"$error":"#N/A"},"","","","",null,"",{"$f":"IF(I69=\"転記日付\",INDEX('バッチ反映用（非表示）'!$A$5:$O$100,MATCH($N70,'バッチ反映用（非表示）'!$S$5:$S$100,0),MATCH('次月以降仕訳（非表示）'!I$6,'バッチ反映用（非表示）'!$A$4:$G$4,0)),\"\")","v":{"$error":"#N/A"}},"",{"$f":"IF($P70=\"TRUE\",INDEX('バッチ反映用（非表示）'!$A$5:$O$100,MATCH($N70,'バッチ反映用（非表示）'!$S$5:$S$100,0),MATCH('次月以降仕訳（非表示）'!K$6,'バッチ反映用（非表示）'!$A$4:$G$4,0)),IF(AND(P70=\"FALSE\",Q70=\"end\"),\"NS-0100\",\"\"))","v":""},{"$f":"IF($P70=\"TRUE\",INDEX('バッチ反映用（非表示）'!$A$5:$O$100,MATCH($N70,'バッチ反映用（非表示）'!$S$5:$S$100,0),MATCH('次月以降仕訳（非表示）'!L$6,'バッチ反映用（非表示）'!$A$4:$G$4,0))*-1,IF($Q70=\"end\",SUM($L$7:L69)*-1,\"\"))","v":""},{"$f":"IF($P70=\"TRUE\",INDEX('バッチ反映用（非表示）'!$A$5:$O$100,MATCH($N70,'バッチ反映用（非表示）'!$S$5:$S$100,0),MATCH('次月以降仕訳（非表示）'!M$6,'バッチ反映用（非表示）'!$A$4:$G$4,0)),IF($Q70=\"end\",\"0\"&旅費振替依頼書!$I$3&旅費振替依頼書!$J$3&\"振替 \"&MONTH(SUBSTITUTE($B$7,\".\",\"/\"))&\"月旅費→\"&MONTH(EOMONTH(SUBSTITUTE($I$7,\".\",\"/\"),2))&\"月作業費 \"&N69&\"件\",\"\"))","v":""},64,"",{"$f":"IF(ISERROR(INDEX('バッチ反映用（非表示）'!$A$5:$O$100,MATCH($N70,'バッチ反映用（非表示）'!$S$5:$S$100,0),MATCH('次月以降仕訳（非表示）'!L$6,'バッチ反映用（非表示）'!$A$4:$G$4,0)))=FALSE,\"TRUE\",\"FALSE\")","v":"FALSE"},"",null,"",{"$f":"IF(I69=\"転記日付\",INDEX('バッチ反映用（非表示）'!$A$5:$O$100,MATCH($N70,'バッチ反映用（非表示）'!$S$5:$S$100,0),MATCH('次月以降仕訳（非表示）'!T$6,'バッチ反映用（非表示）'!$A$4:$G$4,0)),\"\")","v":{"$error":"#N/A"}},{"$f":"IF(J70<>\"\",IF(K70<>\"NS-0\"&旅費振替依頼書!$I$3,$C$4,$C$3),\"\")","v":""},"","",""]
["",{"$error":"#N/A"},"","","",{"$f":"IF(L71<>\"\",M71,INDIRECT(\"X\"&ROW(H71)-MAX($O$7:$O$100)))","v":""},null,"",{"$f":"IF(I70=\"転記日付\",INDEX('バッチ反映用（非表示）'!$A$5:$O$100,MATCH($N71,'バッチ反映用（非表示）'!$S$5:$S$100,0),MATCH('次月以降仕訳（非表示）'!I$6,'バッチ反映用（非表示）'!$A$4:$G$4,0)),\"\")","v":{"$error":"#N/A"}},"",{"$f":"IF($P71=\"TRUE\",INDEX('バッチ反映用（非表示）'!$A$5:$O$100,MATCH($N71,'バッチ反映用（非表示）'!$S$5:$S$100,0),MATCH('次月以降仕訳（非表示）'!K$6,'バッチ反映用（非表示）'!$A$4:$G$4,0)),IF(AND(P71=\"FALSE\",Q71=\"end\"),\"NS-0100\",\"\"))","v":""},{"$f":"IF($P71=\"TRUE\",INDEX('バッチ反映用（非表示）'!$A$5:$O$100,MATCH($N71,'バッチ反映用（非表示）'!$S$5:$S$100,0),MATCH('次月以降仕訳（非表示）'!L$6,'バッチ反映用（非表示）'!$A$4:$G$4,0))*-1,IF($Q71=\"end\",SUM($L$7:L70)*-1,\"\"))","v":""},{"$f":"IF($P71=\"TRUE\",INDEX('バッチ反映用（非表示）'!$A$5:$O$100,MATCH($N71,'バッチ反映用（非表示）'!$S$5:$S$100,0),MATCH('次月以降仕訳（非表示）'!M$6,'バッチ反映用（非表示）'!$A$4:$G$4,0)),IF($Q71=\"end\",\"0\"&旅費振替依頼書!$I$3&旅費振替依頼書!$J$3&\"振替 \"&MONTH(SUBSTITUTE($B$7,\".\",\"/\"))&\"月旅費→\"&MONTH(EOMONTH(SUBSTITUTE($I$7,\".\",\"/\"),2))&\"月作業費 \"&N70&\"件\",\"\"))","v":""},65,"",{"$f":"IF(ISERROR(INDEX('バッチ反映用（非表示）'!$A$5:$O$100,MATCH($N71,'バッチ反映用（非表示）'!$S$5:$S$100,0),MATCH('次月以降仕訳（非表示）'!L$6,'バッチ反映用（非表示）'!$A$4:$G$4,0)))=FALSE,\"TRUE\",\"FALSE\")","v":"FALSE"},"",null,"",{"$f":"IF(I70=\"転記日付\",INDEX('バッチ反映用（非表示）'!$A$5:$O$100,MATCH($N71,'バッチ反映用（非表示）'!$S$5:$S$100,0),MATCH('次月以降仕訳（非表示）'!T$6,'バッチ反映用（非表示）'!$A$4:$G$4,0)),\"\")","v":{"$error":"#N/A"}},{"$f":"IF(J71<>\"\",IF(K71<>\"NS-0\"&旅費振替依頼書!$I$3,$C$4,$C$3),\"\")","v":""},"","",{"$f":"IF(M71<>\"\",SUBSTITUTE(M71,\"月収支\",\"月戻し\"),\"\")","v":""}]
["",{"$error":"#N/A"},"","","","",null,"",{"$f":"IF(I71=\"転記日付\",INDEX('バッチ反映用（非表示）'!$A$5:$O$100,MATCH($N72,'バッチ反映用（非表示）'!$S$5:$S$100,0),MATCH('次月以降仕訳（非表示）'!I$6,'バッチ反映用（非表示）'!$A$4:$G$4,0)),\"\")","v":{"$error":"#N/A"}},"",{"$f":"IF($P72=\"TRUE\",INDEX('バッチ反映用（非表示）'!$A$5:$O$100,MATCH($N72,'バッチ反映用（非表示）'!$S$5:$S$100,0),MATCH('次月以降仕訳（非表示）'!K$6,'バッチ反映用（非表示）'!$A$4:$G$4,0)),IF(AND(P72=\"FALSE\",Q72=\"end\"),\"NS-0100\",\"\"))","v":""},{"$f":"IF($P72=\"TRUE\",INDEX('バッチ反映用（非表示）'!$A$5:$O$100,MATCH($N72,'バッチ反映用（非表示）'!$S$5:$S$100,0),MATCH('次月以降仕訳（非表示）'!L$6,'バッチ反映用（非表示）'!$A$4:$G$4,0))*-1,IF($Q72=\"end\",SUM($L$7:L71)*-1,\"\"))","v":""},{"$f":"IF($P72=\"TRUE\",INDEX('バッチ反映用（非表示）'!$A$5:$O$100,MATCH($N72,'バッチ反映用（非表示）'!$S$5:$S$100,0),MATCH('次月以降仕訳（非表示）'!M$6,'バッチ反映用（非表示）'!$A$4:$G$4,0)),IF($Q72=\"end\",\"0\"&旅費振替依頼書!$I$3&旅費振替依頼書!$J$3&\"振替 \"&MONTH(SUBSTITUTE($B$7,\".\",\"/\"))&\"月旅費→\"&MONTH(EOMONTH(SUBSTITUTE($I$7,\".\",\"/\"),2))&\"月作業費 \"&N71&\"件\",\"\"))","v":""},66,"",{"$f":"IF(ISERROR(INDEX('バッチ反映用（非表示）'!$A$5:$O$100,MATCH($N72,'バッチ反映用（非表示）'!$S$5:$S$100,0),MATCH('次月以降仕訳（非表示）'!L$6,'バッチ反映用（非表示）'!$A$4:$G$4,0)))=FALSE,\"TRUE\",\"FALSE\")","v":"FALSE"},"",null,"",{"$f":"IF(I71=\"転記日付\",INDEX('バッチ反映用（非表示）'!$A$5:$O$100,MATCH($N72,'バッチ反映用（非表示）'!$S$5:$S$100,0),MATCH('次月以降仕訳（非表示）'!T$6,'バッチ反映用（非表示）'!$A$4:$G$4,0)),\"\")","v":{"$error":"#N/A"}},{"$f":"IF(J72<>\"\",IF(K72<>\"NS-0\"&旅費振替依頼書!$I$3,$C$4,$C$3),\"\")","v":""},"","",""]
["",{"$error":"#N/A"},"","","","",null,"",{"$f":"IF(I72=\"転記日付\",INDEX('バッチ反映用（非表示）'!$A$5:$O$100,MATCH($N73,'バッチ反映用（非表示）'!$S$5:$S$100,0),MATCH('次月以降仕訳（非表示）'!I$6,'バッチ反映用（非表示）'!$A$4:$G$4,0)),\"\")","v":{"$error":"#N/A"}},"",{"$f":"IF($P73=\"TRUE\",INDEX('バッチ反映用（非表示）'!$A$5:$O$100,MATCH($N73,'バッチ反映用（非表示）'!$S$5:$S$100,0),MATCH('次月以降仕訳（非表示）'!K$6,'バッチ反映用（非表示）'!$A$4:$G$4,0)),IF(AND(P73=\"FALSE\",Q73=\"end\"),\"NS-0100\",\"\"))","v":""},{"$f":"IF($P73=\"TRUE\",INDEX('バッチ反映用（非表示）'!$A$5:$O$100,MATCH($N73,'バッチ反映用（非表示）'!$S$5:$S$100,0),MATCH('次月以降仕訳（非表示）'!L$6,'バッチ反映用（非表示）'!$A$4:$G$4,0))*-1,IF($Q73=\"end\",SUM($L$7:L72)*-1,\"\"))","v":""},{"$f":"IF($P73=\"TRUE\",INDEX('バッチ反映用（非表示）'!$A$5:$O$100,MATCH($N73,'バッチ反映用（非表示）'!$S$5:$S$100,0),MATCH('次月以降仕訳（非表示）'!M$6,'バッチ反映用（非表示）'!$A$4:$G$4,0)),IF($Q73=\"end\",\"0\"&旅費振替依頼書!$I$3&旅費振替依頼書!$J$3&\"振替 \"&MONTH(SUBSTITUTE($B$7,\".\",\"/\"))&\"月旅費→\"&MONTH(EOMONTH(SUBSTITUTE($I$7,\".\",\"/\"),2))&\"月作業費 \"&N72&\"件\",\"\"))","v":""},67,"",{"$f":"IF(ISERROR(INDEX('バッチ反映用（非表示）'!$A$5:$O$100,MATCH($N73,'バッチ反映用（非表示）'!$S$5:$S$100,0),MATCH('次月以降仕訳（非表示）'!L$6,'バッチ反映用（非表示）'!$A$4:$G$4,0)))=FALSE,\"TRUE\",\"FALSE\")","v":"FALSE"},"",null,"",{"$f":"IF(I72=\"転記日付\",INDEX('バッチ反映用（非表示）'!$A$5:$O$100,MATCH($N73,'バッチ反映用（非表示）'!$S$5:$S$100,0),MATCH('次月以降仕訳（非表示）'!T$6,'バッチ反映用（非表示）'!$A$4:$G$4,0)),\"\")","v":{"$error":"#N/A"}},{"$f":"IF(J73<>\"\",IF(K73<>\"NS-0\"&旅費振替依頼書!$I$3,$C$4,$C$3),\"\")","v":""},"","",""]
["",{"$error":"#N/A"},"","","","",null,"",{"$f":"IF(I73=\"転記日付\",INDEX('バッチ反映用（非表示）'!$A$5:$O$100,MATCH($N74,'バッチ反映用（非表示）'!$S$5:$S$100,0),MATCH('次月以降仕訳（非表示）'!I$6,'バッチ反映用（非表示）'!$A$4:$G$4,0)),\"\")","v":{"$error":"#N/A"}},"",{"$f":"IF($P74=\"TRUE\",INDEX('バッチ反映用（非表示）'!$A$5:$O$100,MATCH($N74,'バッチ反映用（非表示）'!$S$5:$S$100,0),MATCH('次月以降仕訳（非表示）'!K$6,'バッチ反映用（非表示）'!$A$4:$G$4,0)),IF(AND(P74=\"FALSE\",Q74=\"end\"),\"NS-0100\",\"\"))","v":""},{"$f":"IF($P74=\"TRUE\",INDEX('バッチ反映用（非表示）'!$A$5:$O$100,MATCH($N74,'バッチ反映用（非表示）'!$S$5:$S$100,0),MATCH('次月以降仕訳（非表示）'!L$6,'バッチ反映用（非表示）'!$A$4:$G$4,0))*-1,IF($Q74=\"end\",SUM($L$7:L73)*-1,\"\"))","v":""},{"$f":"IF($P74=\"TRUE\",INDEX('バッチ反映用（非表示）'!$A$5:$O$100,MATCH($N74,'バッチ反映用（非表示）'!$S$5:$S$100,0),MATCH('次月以降仕訳（非表示）'!M$6,'バッチ反映用（非表示）'!$A$4:$G$4,0)),IF($Q74=\"end\",\"0\"&旅費振替依頼書!$I$3&旅費振替依頼書!$J$3&\"振替 \"&MONTH(SUBSTITUTE($B$7,\".\",\"/\"))&\"月旅費→\"&MONTH(EOMONTH(SUBSTITUTE($I$7,\".\",\"/\"),2))&\"月作業費 \"&N73&\"件\",\"\"))","v":""},68,"",{"$f":"IF(ISERROR(INDEX('バッチ反映用（非表示）'!$A$5:$O$100,MATCH($N74,'バッチ反映用（非表示）'!$S$5:$S$100,0),MATCH('次月以降仕訳（非表示）'!L$6,'バッチ反映用（非表示）'!$A$4:$G$4,0)))=FALSE,\"TRUE\",\"FALSE\")","v":"FALSE"},"",null,"",{"$f":"IF(I73=\"転記日付\",INDEX('バッチ反映用（非表示）'!$A$5:$O$100,MATCH($N74,'バッチ反映用（非表示）'!$S$5:$S$100,0),MATCH('次月以降仕訳（非表示）'!T$6,'バッチ反映用（非表示）'!$A$4:$G$4,0)),\"\")","v":{"$error":"#N/A"}},{"$f":"IF(J74<>\"\",IF(K74<>\"NS-0\"&旅費振替依頼書!$I$3,$C$4,$C$3),\"\")","v":""},"","",""]
["",{"$error":"#N/A"},"","","","",null,"",{"$f":"IF(I74=\"転記日付\",INDEX('バッチ反映用（非表示）'!$A$5:$O$100,MATCH($N75,'バッチ反映用（非表示）'!$S$5:$S$100,0),MATCH('次月以降仕訳（非表示）'!I$6,'バッチ反映用（非表示）'!$A$4:$G$4,0)),\"\")","v":{"$error":"#N/A"}},"",{"$f":"IF($P75=\"TRUE\",INDEX('バッチ反映用（非表示）'!$A$5:$O$100,MATCH($N75,'バッチ反映用（非表示）'!$S$5:$S$100,0),MATCH('次月以降仕訳（非表示）'!K$6,'バッチ反映用（非表示）'!$A$4:$G$4,0)),IF(AND(P75=\"FALSE\",Q75=\"end\"),\"NS-0100\",\"\"))","v":""},{"$f":"IF($P75=\"TRUE\",INDEX('バッチ反映用（非表示）'!$A$5:$O$100,MATCH($N75,'バッチ反映用（非表示）'!$S$5:$S$100,0),MATCH('次月以降仕訳（非表示）'!L$6,'バッチ反映用（非表示）'!$A$4:$G$4,0))*-1,IF($Q75=\"end\",SUM($L$7:L74)*-1,\"\"))","v":""},{"$f":"IF($P75=\"TRUE\",INDEX('バッチ反映用（非表示）'!$A$5:$O$100,MATCH($N75,'バッチ反映用（非表示）'!$S$5:$S$100,0),MATCH('次月以降仕訳（非表示）'!M$6,'バッチ反映用（非表示）'!$A$4:$G$4,0)),IF($Q75=\"end\",\"0\"&旅費振替依頼書!$I$3&旅費振替依頼書!$J$3&\"振替 \"&MONTH(SUBSTITUTE($B$7,\".\",\"/\"))&\"月旅費→\"&MONTH(EOMONTH(SUBSTITUTE($I$7,\".\",\"/\"),2))&\"月作業費 \"&N74&\"件\",\"\"))","v":""},69,"",{"$f":"IF(ISERROR(INDEX('バッチ反映用（非表示）'!$A$5:$O$100,MATCH($N75,'バッチ反映用（非表示）'!$S$5:$S$100,0),MATCH('次月以降仕訳（非表示）'!L$6,'バッチ反映用（非表示）'!$A$4:$G$4,0)))=FALSE,\"TRUE\",\"FALSE\")","v":"FALSE"},"",null,"",{"$f":"IF(I74=\"転記日付\",INDEX('バッチ反映用（非表示）'!$A$5:$O$100,MATCH($N75,'バッチ反映用（非表示）'!$S$5:$S$100,0),MATCH('次月以降仕訳（非表示）'!T$6,'バッチ反映用（非表示）'!$A$4:$G$4,0)),\"\")","v":{"$error":"#N/A"}},{"$f":"IF(J75<>\"\",IF(K75<>\"NS-0\"&旅費振替依頼書!$I$3,$C$4,$C$3),\"\")","v":""},"","",""]
["",{"$error":"#N/A"},"","","","",null,"",{"$f":"IF(I75=\"転記日付\",INDEX('バッチ反映用（非表示）'!$A$5:$O$100,MATCH($N76,'バッチ反映用（非表示）'!$S$5:$S$100,0),MATCH('次月以降仕訳（非表示）'!I$6,'バッチ反映用（非表示）'!$A$4:$G$4,0)),\"\")","v":{"$error":"#N/A"}},"",{"$f":"IF($P76=\"TRUE\",INDEX('バッチ反映用（非表示）'!$A$5:$O$100,MATCH($N76,'バッチ反映用（非表示）'!$S$5:$S$100,0),MATCH('次月以降仕訳（非表示）'!K$6,'バッチ反映用（非表示）'!$A$4:$G$4,0)),IF(AND(P76=\"FALSE\",Q76=\"end\"),\"NS-0100\",\"\"))","v":""},{"$f":"IF($P76=\"TRUE\",INDEX('バッチ反映用（非表示）'!$A$5:$O$100,MATCH($N76,'バッチ反映用（非表示）'!$S$5:$S$100,0),MATCH('次月以降仕訳（非表示）'!L$6,'バッチ反映用（非表示）'!$A$4:$G$4,0))*-1,IF($Q76=\"end\",SUM($L$7:L75)*-1,\"\"))","v":""},{"$f":"IF($P76=\"TRUE\",INDEX('バッチ反映用（非表示）'!$A$5:$O$100,MATCH($N76,'バッチ反映用（非表示）'!$S$5:$S$100,0),MATCH('次月以降仕訳（非表示）'!M$6,'バッチ反映用（非表示）'!$A$4:$G$4,0)),IF($Q76=\"end\",\"0\"&旅費振替依頼書!$I$3&旅費振替依頼書!$J$3&\"振替 \"&MONTH(SUBSTITUTE($B$7,\".\",\"/\"))&\"月旅費→\"&MONTH(EOMONTH(SUBSTITUTE($I$7,\".\",\"/\"),2))&\"月作業費 \"&N75&\"件\",\"\"))","v":""},70,"",{"$f":"IF(ISERROR(INDEX('バッチ反映用（非表示）'!$A$5:$O$100,MATCH($N76,'バッチ反映用（非表示）'!$S$5:$S$100,0),MATCH('次月以降仕訳（非表示）'!L$6,'バッチ反映用（非表示）'!$A$4:$G$4,0)))=FALSE,\"TRUE\",\"FALSE\")","v":"FALSE"},"",null,"",{"$f":"IF(I75=\"転記日付\",INDEX('バッチ反映用（非表示）'!$A$5:$O$100,MATCH($N76,'バッチ反映用（非表示）'!$S$5:$S$100,0),MATCH('次月以降仕訳（非表示）'!T$6,'バッチ反映用（非表示）'!$A$4:$G$4,0)),\"\")","v":{"$error":"#N/A"}},{"$f":"IF(J76<>\"\",IF(K76<>\"NS-0\"&旅費振替依頼書!$I$3,$C$4,$C$3),\"\")","v":""},"","",""]
["",{"$error":"#N/A"},"","","","",null,"",{"$f":"IF(I76=\"転記日付\",INDEX('バッチ反映用（非表示）'!$A$5:$O$100,MATCH($N77,'バッチ反映用（非表示）'!$S$5:$S$100,0),MATCH('次月以降仕訳（非表示）'!I$6,'バッチ反映用（非表示）'!$A$4:$G$4,0)),\"\")","v":{"$error":"#N/A"}},"",{"$f":"IF($P77=\"TRUE\",INDEX('バッチ反映用（非表示）'!$A$5:$O$100,MATCH($N77,'バッチ反映用（非表示）'!$S$5:$S$100,0),MATCH('次月以降仕訳（非表示）'!K$6,'バッチ反映用（非表示）'!$A$4:$G$4,0)),IF(AND(P77=\"FALSE\",Q77=\"end\"),\"NS-0100\",\"\"))","v":""},{"$f":"IF($P77=\"TRUE\",INDEX('バッチ反映用（非表示）'!$A$5:$O$100,MATCH($N77,'バッチ反映用（非表示）'!$S$5:$S$100,0),MATCH('次月以降仕訳（非表示）'!L$6,'バッチ反映用（非表示）'!$A$4:$G$4,0))*-1,IF($Q77=\"end\",SUM($L$7:L76)*-1,\"\"))","v":""},{"$f":"IF($P77=\"TRUE\",INDEX('バッチ反映用（非表示）'!$A$5:$O$100,MATCH($N77,'バッチ反映用（非表示）'!$S$5:$S$100,0),MATCH('次月以降仕訳（非表示）'!M$6,'バッチ反映用（非表示）'!$A$4:$G$4,0)),IF($Q77=\"end\",\"0\"&旅費振替依頼書!$I$3&旅費振替依頼書!$J$3&\"振替 \"&MONTH(SUBSTITUTE($B$7,\".\",\"/\"))&\"月旅費→\"&MONTH(EOMONTH(SUBSTITUTE($I$7,\".\",\"/\"),2))&\"月作業費 \"&N76&\"件\",\"\"))","v":""},71,"",{"$f":"IF(ISERROR(INDEX('バッチ反映用（非表示）'!$A$5:$O$100,MATCH($N77,'バッチ反映用（非表示）'!$S$5:$S$100,0),MATCH('次月以降仕訳（非表示）'!L$6,'バッチ反映用（非表示）'!$A$4:$G$4,0)))=FALSE,\"TRUE\",\"FALSE\")","v":"FALSE"},"",null,"",{"$f":"IF(I76=\"転記日付\",INDEX('バッチ反映用（非表示）'!$A$5:$O$100,MATCH($N77,'バッチ反映用（非表示）'!$S$5:$S$100,0),MATCH('次月以降仕訳（非表示）'!T$6,'バッチ反映用（非表示）'!$A$4:$G$4,0)),\"\")","v":{"$error":"#N/A"}},{"$f":"IF(J77<>\"\",IF(K77<>\"NS-0\"&旅費振替依頼書!$I$3,$C$4,$C$3),\"\")","v":""},"","",""]
["",{"$error":"#N/A"},"","","","",null,"",{"$f":"IF(I77=\"転記日付\",INDEX('バッチ反映用（非表示）'!$A$5:$O$100,MATCH($N78,'バッチ反映用（非表示）'!$S$5:$S$100,0),MATCH('次月以降仕訳（非表示）'!I$6,'バッチ反映用（非表示）'!$A$4:$G$4,0)),\"\")","v":{"$error":"#N/A"}},"",{"$f":"IF($P78=\"TRUE\",INDEX('バッチ反映用（非表示）'!$A$5:$O$100,MATCH($N78,'バッチ反映用（非表示）'!$S$5:$S$100,0),MATCH('次月以降仕訳（非表示）'!K$6,'バッチ反映用（非表示）'!$A$4:$G$4,0)),IF(AND(P78=\"FALSE\",Q78=\"end\"),\"NS-0100\",\"\"))","v":""},{"$f":"IF($P78=\"TRUE\",INDEX('バッチ反映用（非表示）'!$A$5:$O$100,MATCH($N78,'バッチ反映用（非表示）'!$S$5:$S$100,0),MATCH('次月以降仕訳（非表示）'!L$6,'バッチ反映用（非表示）'!$A$4:$G$4,0))*-1,IF($Q78=\"end\",SUM($L$7:L77)*-1,\"\"))","v":""},{"$f":"IF($P78=\"TRUE\",INDEX('バッチ反映用（非表示）'!$A$5:$O$100,MATCH($N78,'バッチ反映用（非表示）'!$S$5:$S$100,0),MATCH('次月以降仕訳（非表示）'!M$6,'バッチ反映用（非表示）'!$A$4:$G$4,0)),IF($Q78=\"end\",\"0\"&旅費振替依頼書!$I$3&旅費振替依頼書!$J$3&\"振替 \"&MONTH(SUBSTITUTE($B$7,\".\",\"/\"))&\"月旅費→\"&MONTH(EOMONTH(SUBSTITUTE($I$7,\".\",\"/\"),2))&\"月作業費 \"&N77&\"件\",\"\"))","v":""},72,"",{"$f":"IF(ISERROR(INDEX('バッチ反映用（非表示）'!$A$5:$O$100,MATCH($N78,'バッチ反映用（非表示）'!$S$5:$S$100,0),MATCH('次月以降仕訳（非表示）'!L$6,'バッチ反映用（非表示）'!$A$4:$G$4,0)))=FALSE,\"TRUE\",\"FALSE\")","v":"FALSE"},"",null,"",{"$f":"IF(I77=\"転記日付\",INDEX('バッチ反映用（非表示）'!$A$5:$O$100,MATCH($N78,'バッチ反映用（非表示）'!$S$5:$S$100,0),MATCH('次月以降仕訳（非表示）'!T$6,'バッチ反映用（非表示）'!$A$4:$G$4,0)),\"\")","v":{"$error":"#N/A"}},{"$f":"IF(J78<>\"\",IF(K78<>\"NS-0\"&旅費振替依頼書!$I$3,$C$4,$C$3),\"\")","v":""},"","",""]
["",{"$error":"#N/A"},"","","","",null,"",{"$f":"IF(I78=\"転記日付\",INDEX('バッチ反映用（非表示）'!$A$5:$O$100,MATCH($N79,'バッチ反映用（非表示）'!$S$5:$S$100,0),MATCH('次月以降仕訳（非表示）'!I$6,'バッチ反映用（非表示）'!$A$4:$G$4,0)),\"\")","v":{"$error":"#N/A"}},"",{"$f":"IF($P79=\"TRUE\",INDEX('バッチ反映用（非表示）'!$A$5:$O$100,MATCH($N79,'バッチ反映用（非表示）'!$S$5:$S$100,0),MATCH('次月以降仕訳（非表示）'!K$6,'バッチ反映用（非表示）'!$A$4:$G$4,0)),IF(AND(P79=\"FALSE\",Q79=\"end\"),\"NS-0100\",\"\"))","v":""},{"$f":"IF($P79=\"TRUE\",INDEX('バッチ反映用（非表示）'!$A$5:$O$100,MATCH($N79,'バッチ反映用（非表示）'!$S$5:$S$100,0),MATCH('次月以降仕訳（非表示）'!L$6,'バッチ反映用（非表示）'!$A$4:$G$4,0))*-1,IF($Q79=\"end\",SUM($L$7:L78)*-1,\"\"))","v":""},{"$f":"IF($P79=\"TRUE\",INDEX('バッチ反映用（非表示）'!$A$5:$O$100,MATCH($N79,'バッチ反映用（非表示）'!$S$5:$S$100,0),MATCH('次月以降仕訳（非表示）'!M$6,'バッチ反映用（非表示）'!$A$4:$G$4,0)),IF($Q79=\"end\",\"0\"&旅費振替依頼書!$I$3&旅費振替依頼書!$J$3&\"振替 \"&MONTH(SUBSTITUTE($B$7,\".\",\"/\"))&\"月旅費→\"&MONTH(EOMONTH(SUBSTITUTE($I$7,\".\",\"/\"),2))&\"月作業費 \"&N78&\"件\",\"\"))","v":""},73,"",{"$f":"IF(ISERROR(INDEX('バッチ反映用（非表示）'!$A$5:$O$100,MATCH($N79,'バッチ反映用（非表示）'!$S$5:$S$100,0),MATCH('次月以降仕訳（非表示）'!L$6,'バッチ反映用（非表示）'!$A$4:$G$4,0)))=FALSE,\"TRUE\",\"FALSE\")","v":"FALSE"},"",null,"",{"$f":"IF(I78=\"転記日付\",INDEX('バッチ反映用（非表示）'!$A$5:$O$100,MATCH($N79,'バッチ反映用（非表示）'!$S$5:$S$100,0),MATCH('次月以降仕訳（非表示）'!T$6,'バッチ反映用（非表示）'!$A$4:$G$4,0)),\"\")","v":{"$error":"#N/A"}},{"$f":"IF(J79<>\"\",IF(K79<>\"NS-0\"&旅費振替依頼書!$I$3,$C$4,$C$3),\"\")","v":""},"","",""]
["",{"$error":"#N/A"},"","","","",null,"",{"$f":"IF(I79=\"転記日付\",INDEX('バッチ反映用（非表示）'!$A$5:$O$100,MATCH($N80,'バッチ反映用（非表示）'!$S$5:$S$100,0),MATCH('次月以降仕訳（非表示）'!I$6,'バッチ反映用（非表示）'!$A$4:$G$4,0)),\"\")","v":{"$error":"#N/A"}},"",{"$f":"IF($P80=\"TRUE\",INDEX('バッチ反映用（非表示）'!$A$5:$O$100,MATCH($N80,'バッチ反映用（非表示）'!$S$5:$S$100,0),MATCH('次月以降仕訳（非表示）'!K$6,'バッチ反映用（非表示）'!$A$4:$G$4,0)),IF(AND(P80=\"FALSE\",Q80=\"end\"),\"NS-0100\",\"\"))","v":""},{"$f":"IF($P80=\"TRUE\",INDEX('バッチ反映用（非表示）'!$A$5:$O$100,MATCH($N80,'バッチ反映用（非表示）'!$S$5:$S$100,0),MATCH('次月以降仕訳（非表示）'!L$6,'バッチ反映用（非表示）'!$A$4:$G$4,0))*-1,IF($Q80=\"end\",SUM($L$7:L79)*-1,\"\"))","v":""},{"$f":"IF($P80=\"TRUE\",INDEX('バッチ反映用（非表示）'!$A$5:$O$100,MATCH($N80,'バッチ反映用（非表示）'!$S$5:$S$100,0),MATCH('次月以降仕訳（非表示）'!M$6,'バッチ反映用（非表示）'!$A$4:$G$4,0)),IF($Q80=\"end\",\"0\"&旅費振替依頼書!$I$3&旅費振替依頼書!$J$3&\"振替 \"&MONTH(SUBSTITUTE($B$7,\".\",\"/\"))&\"月旅費→\"&MONTH(EOMONTH(SUBSTITUTE($I$7,\".\",\"/\"),2))&\"月作業費 \"&N79&\"件\",\"\"))","v":""},74,"",{"$f":"IF(ISERROR(INDEX('バッチ反映用（非表示）'!$A$5:$O$100,MATCH($N80,'バッチ反映用（非表示）'!$S$5:$S$100,0),MATCH('次月以降仕訳（非表示）'!L$6,'バッチ反映用（非表示）'!$A$4:$G$4,0)))=FALSE,\"TRUE\",\"FALSE\")","v":"FALSE"},"",null,"",{"$f":"IF(I79=\"転記日付\",INDEX('バッチ反映用（非表示）'!$A$5:$O$100,MATCH($N80,'バッチ反映用（非表示）'!$S$5:$S$100,0),MATCH('次月以降仕訳（非表示）'!T$6,'バッチ反映用（非表示）'!$A$4:$G$4,0)),\"\")","v":{"$error":"#N/A"}},{"$f":"IF(J80<>\"\",IF(K80<>\"NS-0\"&旅費振替依頼書!$I$3,$C$4,$C$3),\"\")","v":""},"","",""]
["",{"$error":"#N/A"},"","","","",null,"",{"$f":"IF(I80=\"転記日付\",INDEX('バッチ反映用（非表示）'!$A$5:$O$100,MATCH($N81,'バッチ反映用（非表示）'!$S$5:$S$100,0),MATCH('次月以降仕訳（非表示）'!I$6,'バッチ反映用（非表示）'!$A$4:$G$4,0)),\"\")","v":{"$error":"#N/A"}},"",{"$f":"IF($P81=\"TRUE\",INDEX('バッチ反映用（非表示）'!$A$5:$O$100,MATCH($N81,'バッチ反映用（非表示）'!$S$5:$S$100,0),MATCH('次月以降仕訳（非表示）'!K$6,'バッチ反映用（非表示）'!$A$4:$G$4,0)),IF(AND(P81=\"FALSE\",Q81=\"end\"),\"NS-0100\",\"\"))","v":""},{"$f":"IF($P81=\"TRUE\",INDEX('バッチ反映用（非表示）'!$A$5:$O$100,MATCH($N81,'バッチ反映用（非表示）'!$S$5:$S$100,0),MATCH('次月以降仕訳（非表示）'!L$6,'バッチ反映用（非表示）'!$A$4:$G$4,0))*-1,IF($Q81=\"end\",SUM($L$7:L80)*-1,\"\"))","v":""},{"$f":"IF($P81=\"TRUE\",INDEX('バッチ反映用（非表示）'!$A$5:$O$100,MATCH($N81,'バッチ反映用（非表示）'!$S$5:$S$100,0),MATCH('次月以降仕訳（非表示）'!M$6,'バッチ反映用（非表示）'!$A$4:$G$4,0)),IF($Q81=\"end\",\"0\"&旅費振替依頼書!$I$3&旅費振替依頼書!$J$3&\"振替 \"&MONTH(SUBSTITUTE($B$7,\".\",\"/\"))&\"月旅費→\"&MONTH(EOMONTH(SUBSTITUTE($I$7,\".\",\"/\"),2))&\"月作業費 \"&N80&\"件\",\"\"))","v":""},75,"",{"$f":"IF(ISERROR(INDEX('バッチ反映用（非表示）'!$A$5:$O$100,MATCH($N81,'バッチ反映用（非表示）'!$S$5:$S$100,0),MATCH('次月以降仕訳（非表示）'!L$6,'バッチ反映用（非表示）'!$A$4:$G$4,0)))=FALSE,\"TRUE\",\"FALSE\")","v":"FALSE"},"",null,"",{"$f":"IF(I80=\"転記日付\",INDEX('バッチ反映用（非表示）'!$A$5:$O$100,MATCH($N81,'バッチ反映用（非表示）'!$S$5:$S$100,0),MATCH('次月以降仕訳（非表示）'!T$6,'バッチ反映用（非表示）'!$A$4:$G$4,0)),\"\")","v":{"$error":"#N/A"}},{"$f":"IF(J81<>\"\",IF(K81<>\"NS-0\"&旅費振替依頼書!$I$3,$C$4,$C$3),\"\")","v":""},"","",""]
["",{"$error":"#N/A"},"","","","",null,"",{"$f":"IF(I81=\"転記日付\",INDEX('バッチ反映用（非表示）'!$A$5:$O$100,MATCH($N82,'バッチ反映用（非表示）'!$S$5:$S$100,0),MATCH('次月以降仕訳（非表示）'!I$6,'バッチ反映用（非表示）'!$A$4:$G$4,0)),\"\")","v":{"$error":"#N/A"}},"",{"$f":"IF($P82=\"TRUE\",INDEX('バッチ反映用（非表示）'!$A$5:$O$100,MATCH($N82,'バッチ反映用（非表示）'!$S$5:$S$100,0),MATCH('次月以降仕訳（非表示）'!K$6,'バッチ反映用（非表示）'!$A$4:$G$4,0)),IF(AND(P82=\"FALSE\",Q82=\"end\"),\"NS-0100\",\"\"))","v":""},{"$f":"IF($P82=\"TRUE\",INDEX('バッチ反映用（非表示）'!$A$5:$O$100,MATCH($N82,'バッチ反映用（非表示）'!$S$5:$S$100,0),MATCH('次月以降仕訳（非表示）'!L$6,'バッチ反映用（非表示）'!$A$4:$G$4,0))*-1,IF($Q82=\"end\",SUM($L$7:L81)*-1,\"\"))","v":""},{"$f":"IF($P82=\"TRUE\",INDEX('バッチ反映用（非表示）'!$A$5:$O$100,MATCH($N82,'バッチ反映用（非表示）'!$S$5:$S$100,0),MATCH('次月以降仕訳（非表示）'!M$6,'バッチ反映用（非表示）'!$A$4:$G$4,0)),IF($Q82=\"end\",\"0\"&旅費振替依頼書!$I$3&旅費振替依頼書!$J$3&\"振替 \"&MONTH(SUBSTITUTE($B$7,\".\",\"/\"))&\"月旅費→\"&MONTH(EOMONTH(SUBSTITUTE($I$7,\".\",\"/\"),2))&\"月作業費 \"&N81&\"件\",\"\"))","v":""},76,"",{"$f":"IF(ISERROR(INDEX('バッチ反映用（非表示）'!$A$5:$O$100,MATCH($N82,'バッチ反映用（非表示）'!$S$5:$S$100,0),MATCH('次月以降仕訳（非表示）'!L$6,'バッチ反映用（非表示）'!$A$4:$G$4,0)))=FALSE,\"TRUE\",\"FALSE\")","v":"FALSE"},"",null,"",{"$f":"IF(I81=\"転記日付\",INDEX('バッチ反映用（非表示）'!$A$5:$O$100,MATCH($N82,'バッチ反映用（非表示）'!$S$5:$S$100,0),MATCH('次月以降仕訳（非表示）'!T$6,'バッチ反映用（非表示）'!$A$4:$G$4,0)),\"\")","v":{"$error":"#N/A"}},{"$f":"IF(J82<>\"\",IF(K82<>\"NS-0\"&旅費振替依頼書!$I$3,$C$4,$C$3),\"\")","v":""},"","",""]
["",{"$error":"#N/A"},"","","","",null,"",{"$f":"IF(I82=\"転記日付\",INDEX('バッチ反映用（非表示）'!$A$5:$O$100,MATCH($N83,'バッチ反映用（非表示）'!$S$5:$S$100,0),MATCH('次月以降仕訳（非表示）'!I$6,'バッチ反映用（非表示）'!$A$4:$G$4,0)),\"\")","v":{"$error":"#N/A"}},"",{"$f":"IF($P83=\"TRUE\",INDEX('バッチ反映用（非表示）'!$A$5:$O$100,MATCH($N83,'バッチ反映用（非表示）'!$S$5:$S$100,0),MATCH('次月以降仕訳（非表示）'!K$6,'バッチ反映用（非表示）'!$A$4:$G$4,0)),IF(AND(P83=\"FALSE\",Q83=\"end\"),\"NS-0100\",\"\"))","v":""},{"$f":"IF($P83=\"TRUE\",INDEX('バッチ反映用（非表示）'!$A$5:$O$100,MATCH($N83,'バッチ反映用（非表示）'!$S$5:$S$100,0),MATCH('次月以降仕訳（非表示）'!L$6,'バッチ反映用（非表示）'!$A$4:$G$4,0))*-1,IF($Q83=\"end\",SUM($L$7:L82)*-1,\"\"))","v":""},{"$f":"IF($P83=\"TRUE\",INDEX('バッチ反映用（非表示）'!$A$5:$O$100,MATCH($N83,'バッチ反映用（非表示）'!$S$5:$S$100,0),MATCH('次月以降仕訳（非表示）'!M$6,'バッチ反映用（非表示）'!$A$4:$G$4,0)),IF($Q83=\"end\",\"0\"&旅費振替依頼書!$I$3&旅費振替依頼書!$J$3&\"振替 \"&MONTH(SUBSTITUTE($B$7,\".\",\"/\"))&\"月旅費→\"&MONTH(EOMONTH(SUBSTITUTE($I$7,\".\",\"/\"),2))&\"月作業費 \"&N82&\"件\",\"\"))","v":""},77,"",{"$f":"IF(ISERROR(INDEX('バッチ反映用（非表示）'!$A$5:$O$100,MATCH($N83,'バッチ反映用（非表示）'!$S$5:$S$100,0),MATCH('次月以降仕訳（非表示）'!L$6,'バッチ反映用（非表示）'!$A$4:$G$4,0)))=FALSE,\"TRUE\",\"FALSE\")","v":"FALSE"},"",null,"",{"$f":"IF(I82=\"転記日付\",INDEX('バッチ反映用（非表示）'!$A$5:$O$100,MATCH($N83,'バッチ反映用（非表示）'!$S$5:$S$100,0),MATCH('次月以降仕訳（非表示）'!T$6,'バッチ反映用（非表示）'!$A$4:$G$4,0)),\"\")","v":{"$error":"#N/A"}},{"$f":"IF(J83<>\"\",IF(K83<>\"NS-0\"&旅費振替依頼書!$I$3,$C$4,$C$3),\"\")","v":""},"","",""]
["",{"$error":"#N/A"},"","","","",null,"",{"$f":"IF(I83=\"転記日付\",INDEX('バッチ反映用（非表示）'!$A$5:$O$100,MATCH($N84,'バッチ反映用（非表示）'!$S$5:$S$100,0),MATCH('次月以降仕訳（非表示）'!I$6,'バッチ反映用（非表示）'!$A$4:$G$4,0)),\"\")","v":{"$error":"#N/A"}},"",{"$f":"IF($P84=\"TRUE\",INDEX('バッチ反映用（非表示）'!$A$5:$O$100,MATCH($N84,'バッチ反映用（非表示）'!$S$5:$S$100,0),MATCH('次月以降仕訳（非表示）'!K$6,'バッチ反映用（非表示）'!$A$4:$G$4,0)),IF(AND(P84=\"FALSE\",Q84=\"end\"),\"NS-0100\",\"\"))","v":""},{"$f":"IF($P84=\"TRUE\",INDEX('バッチ反映用（非表示）'!$A$5:$O$100,MATCH($N84,'バッチ反映用（非表示）'!$S$5:$S$100,0),MATCH('次月以降仕訳（非表示）'!L$6,'バッチ反映用（非表示）'!$A$4:$G$4,0))*-1,IF($Q84=\"end\",SUM($L$7:L83)*-1,\"\"))","v":""},{"$f":"IF($P84=\"TRUE\",INDEX('バッチ反映用（非表示）'!$A$5:$O$100,MATCH($N84,'バッチ反映用（非表示）'!$S$5:$S$100,0),MATCH('次月以降仕訳（非表示）'!M$6,'バッチ反映用（非表示）'!$A$4:$G$4,0)),IF($Q84=\"end\",\"0\"&旅費振替依頼書!$I$3&旅費振替依頼書!$J$3&\"振替 \"&MONTH(SUBSTITUTE($B$7,\".\",\"/\"))&\"月旅費→\"&MONTH(EOMONTH(SUBSTITUTE($I$7,\".\",\"/\"),2))&\"月作業費 \"&N83&\"件\",\"\"))","v":""},78,"",{"$f":"IF(ISERROR(INDEX('バッチ反映用（非表示）'!$A$5:$O$100,MATCH($N84,'バッチ反映用（非表示）'!$S$5:$S$100,0),MATCH('次月以降仕訳（非表示）'!L$6,'バッチ反映用（非表示）'!$A$4:$G$4,0)))=FALSE,\"TRUE\",\"FALSE\")","v":"FALSE"},"",null,"",{"$f":"IF(I83=\"転記日付\",INDEX('バッチ反映用（非表示）'!$A$5:$O$100,MATCH($N84,'バッチ反映用（非表示）'!$S$5:$S$100,0),MATCH('次月以降仕訳（非表示）'!T$6,'バッチ反映用（非表示）'!$A$4:$G$4,0)),\"\")","v":{"$error":"#N/A"}},{"$f":"IF(J84<>\"\",IF(K84<>\"NS-0\"&旅費振替依頼書!$I$3,$C$4,$C$3),\"\")","v":""},"","",""]
["",{"$error":"#N/A"},"","","","",null,"",{"$f":"IF(I84=\"転記日付\",INDEX('バッチ反映用（非表示）'!$A$5:$O$100,MATCH($N85,'バッチ反映用（非表示）'!$S$5:$S$100,0),MATCH('次月以降仕訳（非表示）'!I$6,'バッチ反映用（非表示）'!$A$4:$G$4,0)),\"\")","v":{"$error":"#N/A"}},"",{"$f":"IF($P85=\"TRUE\",INDEX('バッチ反映用（非表示）'!$A$5:$O$100,MATCH($N85,'バッチ反映用（非表示）'!$S$5:$S$100,0),MATCH('次月以降仕訳（非表示）'!K$6,'バッチ反映用（非表示）'!$A$4:$G$4,0)),IF(AND(P85=\"FALSE\",Q85=\"end\"),\"NS-0100\",\"\"))","v":""},{"$f":"IF($P85=\"TRUE\",INDEX('バッチ反映用（非表示）'!$A$5:$O$100,MATCH($N85,'バッチ反映用（非表示）'!$S$5:$S$100,0),MATCH('次月以降仕訳（非表示）'!L$6,'バッチ反映用（非表示）'!$A$4:$G$4,0))*-1,IF($Q85=\"end\",SUM($L$7:L84)*-1,\"\"))","v":""},{"$f":"IF($P85=\"TRUE\",INDEX('バッチ反映用（非表示）'!$A$5:$O$100,MATCH($N85,'バッチ反映用（非表示）'!$S$5:$S$100,0),MATCH('次月以降仕訳（非表示）'!M$6,'バッチ反映用（非表示）'!$A$4:$G$4,0)),IF($Q85=\"end\",\"0\"&旅費振替依頼書!$I$3&旅費振替依頼書!$J$3&\"振替 \"&MONTH(SUBSTITUTE($B$7,\".\",\"/\"))&\"月旅費→\"&MONTH(EOMONTH(SUBSTITUTE($I$7,\".\",\"/\"),2))&\"月作業費 \"&N84&\"件\",\"\"))","v":""},79,"",{"$f":"IF(ISERROR(INDEX('バッチ反映用（非表示）'!$A$5:$O$100,MATCH($N85,'バッチ反映用（非表示）'!$S$5:$S$100,0),MATCH('次月以降仕訳（非表示）'!L$6,'バッチ反映用（非表示）'!$A$4:$G$4,0)))=FALSE,\"TRUE\",\"FALSE\")","v":"FALSE"},"",null,"",{"$f":"IF(I84=\"転記日付\",INDEX('バッチ反映用（非表示）'!$A$5:$O$100,MATCH($N85,'バッチ反映用（非表示）'!$S$5:$S$100,0),MATCH('次月以降仕訳（非表示）'!T$6,'バッチ反映用（非表示）'!$A$4:$G$4,0)),\"\")","v":{"$error":"#N/A"}},{"$f":"IF(J85<>\"\",IF(K85<>\"NS-0\"&旅費振替依頼書!$I$3,$C$4,$C$3),\"\")","v":""},"","",""]
["",{"$error":"#N/A"},"","","","",null,"",{"$f":"IF(I85=\"転記日付\",INDEX('バッチ反映用（非表示）'!$A$5:$O$100,MATCH($N86,'バッチ反映用（非表示）'!$S$5:$S$100,0),MATCH('次月以降仕訳（非表示）'!I$6,'バッチ反映用（非表示）'!$A$4:$G$4,0)),\"\")","v":{"$error":"#N/A"}},"",{"$f":"IF($P86=\"TRUE\",INDEX('バッチ反映用（非表示）'!$A$5:$O$100,MATCH($N86,'バッチ反映用（非表示）'!$S$5:$S$100,0),MATCH('次月以降仕訳（非表示）'!K$6,'バッチ反映用（非表示）'!$A$4:$G$4,0)),IF(AND(P86=\"FALSE\",Q86=\"end\"),\"NS-0100\",\"\"))","v":""},{"$f":"IF($P86=\"TRUE\",INDEX('バッチ反映用（非表示）'!$A$5:$O$100,MATCH($N86,'バッチ反映用（非表示）'!$S$5:$S$100,0),MATCH('次月以降仕訳（非表示）'!L$6,'バッチ反映用（非表示）'!$A$4:$G$4,0))*-1,IF($Q86=\"end\",SUM($L$7:L85)*-1,\"\"))","v":""},{"$f":"IF($P86=\"TRUE\",INDEX('バッチ反映用（非表示）'!$A$5:$O$100,MATCH($N86,'バッチ反映用（非表示）'!$S$5:$S$100,0),MATCH('次月以降仕訳（非表示）'!M$6,'バッチ反映用（非表示）'!$A$4:$G$4,0)),IF($Q86=\"end\",\"0\"&旅費振替依頼書!$I$3&旅費振替依頼書!$J$3&\"振替 \"&MONTH(SUBSTITUTE($B$7,\".\",\"/\"))&\"月旅費→\"&MONTH(EOMONTH(SUBSTITUTE($I$7,\".\",\"/\"),2))&\"月作業費 \"&N85&\"件\",\"\"))","v":""},80,"",{"$f":"IF(ISERROR(INDEX('バッチ反映用（非表示）'!$A$5:$O$100,MATCH($N86,'バッチ反映用（非表示）'!$S$5:$S$100,0),MATCH('次月以降仕訳（非表示）'!L$6,'バッチ反映用（非表示）'!$A$4:$G$4,0)))=FALSE,\"TRUE\",\"FALSE\")","v":"FALSE"},"",null,"",{"$f":"IF(I85=\"転記日付\",INDEX('バッチ反映用（非表示）'!$A$5:$O$100,MATCH($N86,'バッチ反映用（非表示）'!$S$5:$S$100,0),MATCH('次月以降仕訳（非表示）'!T$6,'バッチ反映用（非表示）'!$A$4:$G$4,0)),\"\")","v":{"$error":"#N/A"}},{"$f":"IF(J86<>\"\",IF(K86<>\"NS-0\"&旅費振替依頼書!$I$3,$C$4,$C$3),\"\")","v":""},"","",""]
["",{"$error":"#N/A"},"","","","",null,"",{"$f":"IF(I86=\"転記日付\",INDEX('バッチ反映用（非表示）'!$A$5:$O$100,MATCH($N87,'バッチ反映用（非表示）'!$S$5:$S$100,0),MATCH('次月以降仕訳（非表示）'!I$6,'バッチ反映用（非表示）'!$A$4:$G$4,0)),\"\")","v":{"$error":"#N/A"}},"",{"$f":"IF($P87=\"TRUE\",INDEX('バッチ反映用（非表示）'!$A$5:$O$100,MATCH($N87,'バッチ反映用（非表示）'!$S$5:$S$100,0),MATCH('次月以降仕訳（非表示）'!K$6,'バッチ反映用（非表示）'!$A$4:$G$4,0)),IF(AND(P87=\"FALSE\",Q87=\"end\"),\"NS-0100\",\"\"))","v":""},{"$f":"IF($P87=\"TRUE\",INDEX('バッチ反映用（非表示）'!$A$5:$O$100,MATCH($N87,'バッチ反映用（非表示）'!$S$5:$S$100,0),MATCH('次月以降仕訳（非表示）'!L$6,'バッチ反映用（非表示）'!$A$4:$G$4,0))*-1,IF($Q87=\"end\",SUM($L$7:L86)*-1,\"\"))","v":""},{"$f":"IF($P87=\"TRUE\",INDEX('バッチ反映用（非表示）'!$A$5:$O$100,MATCH($N87,'バッチ反映用（非表示）'!$S$5:$S$100,0),MATCH('次月以降仕訳（非表示）'!M$6,'バッチ反映用（非表示）'!$A$4:$G$4,0)),IF($Q87=\"end\",\"0\"&旅費振替依頼書!$I$3&旅費振替依頼書!$J$3&\"振替 \"&MONTH(SUBSTITUTE($B$7,\".\",\"/\"))&\"月旅費→\"&MONTH(EOMONTH(SUBSTITUTE($I$7,\".\",\"/\"),2))&\"月作業費 \"&N86&\"件\",\"\"))","v":""},81,"",{"$f":"IF(ISERROR(INDEX('バッチ反映用（非表示）'!$A$5:$O$100,MATCH($N87,'バッチ反映用（非表示）'!$S$5:$S$100,0),MATCH('次月以降仕訳（非表示）'!L$6,'バッチ反映用（非表示）'!$A$4:$G$4,0)))=FALSE,\"TRUE\",\"FALSE\")","v":"FALSE"},"",null,"",{"$f":"IF(I86=\"転記日付\",INDEX('バッチ反映用（非表示）'!$A$5:$O$100,MATCH($N87,'バッチ反映用（非表示）'!$S$5:$S$100,0),MATCH('次月以降仕訳（非表示）'!T$6,'バッチ反映用（非表示）'!$A$4:$G$4,0)),\"\")","v":{"$error":"#N/A"}},{"$f":"IF(J87<>\"\",IF(K87<>\"NS-0\"&旅費振替依頼書!$I$3,$C$4,$C$3),\"\")","v":""},"","",""]
["",{"$error":"#N/A"},"","","","",null,"",{"$f":"IF(I87=\"転記日付\",INDEX('バッチ反映用（非表示）'!$A$5:$O$100,MATCH($N88,'バッチ反映用（非表示）'!$S$5:$S$100,0),MATCH('次月以降仕訳（非表示）'!I$6,'バッチ反映用（非表示）'!$A$4:$G$4,0)),\"\")","v":{"$error":"#N/A"}},"",{"$f":"IF($P88=\"TRUE\",INDEX('バッチ反映用（非表示）'!$A$5:$O$100,MATCH($N88,'バッチ反映用（非表示）'!$S$5:$S$100,0),MATCH('次月以降仕訳（非表示）'!K$6,'バッチ反映用（非表示）'!$A$4:$G$4,0)),IF(AND(P88=\"FALSE\",Q88=\"end\"),\"NS-0100\",\"\"))","v":""},{"$f":"IF($P88=\"TRUE\",INDEX('バッチ反映用（非表示）'!$A$5:$O$100,MATCH($N88,'バッチ反映用（非表示）'!$S$5:$S$100,0),MATCH('次月以降仕訳（非表示）'!L$6,'バッチ反映用（非表示）'!$A$4:$G$4,0))*-1,IF($Q88=\"end\",SUM($L$7:L87)*-1,\"\"))","v":""},{"$f":"IF($P88=\"TRUE\",INDEX('バッチ反映用（非表示）'!$A$5:$O$100,MATCH($N88,'バッチ反映用（非表示）'!$S$5:$S$100,0),MATCH('次月以降仕訳（非表示）'!M$6,'バッチ反映用（非表示）'!$A$4:$G$4,0)),IF($Q88=\"end\",\"0\"&旅費振替依頼書!$I$3&旅費振替依頼書!$J$3&\"振替 \"&MONTH(SUBSTITUTE($B$7,\".\",\"/\"))&\"月旅費→\"&MONTH(EOMONTH(SUBSTITUTE($I$7,\".\",\"/\"),2))&\"月作業費 \"&N87&\"件\",\"\"))","v":""},82,"",{"$f":"IF(ISERROR(INDEX('バッチ反映用（非表示）'!$A$5:$O$100,MATCH($N88,'バッチ反映用（非表示）'!$S$5:$S$100,0),MATCH('次月以降仕訳（非表示）'!L$6,'バッチ反映用（非表示）'!$A$4:$G$4,0)))=FALSE,\"TRUE\",\"FALSE\")","v":"FALSE"},"",null,"",{"$f":"IF(I87=\"転記日付\",INDEX('バッチ反映用（非表示）'!$A$5:$O$100,MATCH($N88,'バッチ反映用（非表示）'!$S$5:$S$100,0),MATCH('次月以降仕訳（非表示）'!T$6,'バッチ反映用（非表示）'!$A$4:$G$4,0)),\"\")","v":{"$error":"#N/A"}},{"$f":"IF(J88<>\"\",IF(K88<>\"NS-0\"&旅費振替依頼書!$I$3,$C$4,$C$3),\"\")","v":""},"","",""]
[{"$f":"IF(L89<>\"\",H89,INDIRECT(\"S\"&ROW(H89)-MAX($O$7:$O$100)))","v":""},{"$f":"IF(L89<>\"\",I89,INDIRECT(\"T\"&ROW(H89)-MAX($O$7:$O$100)))","v":{"$error":"#N/A"}},{"$f":"IF(L89<>\"\",J89,INDIRECT(\"U\"&ROW(H89)-MAX($O$7:$O$100)))","v":""},{"$f":"IF(L89<>\"\",K89,INDIRECT(\"V\"&ROW(H89)-MAX($O$7:$O$100)))","v":""},{"$f":"IF(L89<>\"\",L89,INDIRECT(\"W\"&ROW(H89)-MAX($O$7:$O$100)))","v":""},"",null,{"$f":"IF(H88=\"会社コード\",\"NS\",IF(Q88=\"end\",\"\",\"\"))","v":""},{"$f":"IF(I88=\"転記日付\",INDEX('バッチ反映用（非表示）'!$A$5:$O$100,MATCH($N89,'バッチ反映用（非表示）'!$S$5:$S$100,0),MATCH('次月以降仕訳（非表示）'!I$6,'バッチ反映用（非表示）'!$A$4:$G$4,0)),\"\")","v":{"$error":"#N/A"}},{"$f":"IF(K89<>\"\",$C$4,\"\")","v":""},{"$f":"IF($P89=\"TRUE\",INDEX('バッチ反映用（非表示）'!$A$5:$O$100,MATCH($N89,'バッチ反映用（非表示）'!$S$5:$S$100,0),MATCH('次月以降仕訳（非表示）'!K$6,'バッチ反映用（非表示）'!$A$4:$G$4,0)),IF(AND(P89=\"FALSE\",Q89=\"end\"),\"NS-0100\",\"\"))","v":""},{"$f":"IF($P89=\"TRUE\",INDEX('バッチ反映用（非表示）'!$A$5:$O$100,MATCH($N89,'バッチ反映用（非表示）'!$S$5:$S$100,0),MATCH('次月以降仕訳（非表示）'!L$6,'バッチ反映用（非表示）'!$A$4:$G$4,0))*-1,IF($Q89=\"end\",SUM($L$7:L88)*-1,\"\"))","v":""},{"$f":"IF($P89=\"TRUE\",INDEX('バッチ反映用（非表示）'!$A$5:$O$100,MATCH($N89,'バッチ反映用（非表示）'!$S$5:$S$100,0),MATCH('次月以降仕訳（非表示）'!M$6,'バッチ反映用（非表示）'!$A$4:$G$4,0)),IF($Q89=\"end\",\"0\"&旅費振替依頼書!$I$3&旅費振替依頼書!$J$3&\"振替 \"&MONTH(SUBSTITUTE($B$7,\".\",\"/\"))&\"月旅費→\"&MONTH(EOMONTH(SUBSTITUTE($I$7,\".\",\"/\"),2))&\"月作業費 \"&N88&\"件\",\"\"))","v":""},83,{"$f":"IF(L89<>\"\",N89,\"\")","v":""},{"$f":"IF(ISERROR(INDEX('バッチ反映用（非表示）'!$A$5:$O$100,MATCH($N89,'バッチ反映用（非表示）'!$S$5:$S$100,0),MATCH('次月以降仕訳（非表示）'!L$6,'バッチ反映用（非表示）'!$A$4:$G$4,0)))=FALSE,\"TRUE\",\"FALSE\")","v":"FALSE"},{"$f":"IF(AND(P88=\"TRUE\",P89=\"FALSE\"),\"end\",\"\")","v":""},null,{"$f":"IF(H88=\"会社コード\",\"NS\",IF(Q88=\"end\",\"eof\",\"\"))","v":""},{"$f":"IF(I88=\"転記日付\",INDEX('バッチ反映用（非表示）'!$A$5:$O$100,MATCH($N89,'バッチ反映用（非表示）'!$S$5:$S$100,0),MATCH('次月以降仕訳（非表示）'!T$6,'バッチ反映用（非表示）'!$A$4:$G$4,0)),\"\")","v":{"$error":"#N/A"}},{"$f":"IF(J89<>\"\",IF(K89<>\"NS-0\"&旅費振替依頼書!$I$3,$C$4,$C$3),\"\")","v":""},{"$f":"IF(K89<>\"\",K89,\"\")","v":""},{"$f":"IF(L89<>\"\",L89*-1,\"\")","v":""},""]
["",{"$error":"#N/A"},"","","","",null,"",{"$f":"IF(I89=\"転記日付\",INDEX('バッチ反映用（非表示）'!$A$5:$O$100,MATCH($N90,'バッチ反映用（非表示）'!$S$5:$S$100,0),MATCH('次月以降仕訳（非表示）'!I$6,'バッチ反映用（非表示）'!$A$4:$G$4,0)),\"\")","v":{"$error":"#N/A"}},"",{"$f":"IF($P90=\"TRUE\",INDEX('バッチ反映用（非表示）'!$A$5:$O$100,MATCH($N90,'バッチ反映用（非表示）'!$S$5:$S$100,0),MATCH('次月以降仕訳（非表示）'!K$6,'バッチ反映用（非表示）'!$A$4:$G$4,0)),IF(AND(P90=\"FALSE\",Q90=\"end\"),\"NS-0100\",\"\"))","v":""},{"$f":"IF($P90=\"TRUE\",INDEX('バッチ反映用（非表示）'!$A$5:$O$100,MATCH($N90,'バッチ反映用（非表示）'!$S$5:$S$100,0),MATCH('次月以降仕訳（非表示）'!L$6,'バッチ反映用（非表示）'!$A$4:$G$4,0))*-1,IF($Q90=\"end\",SUM($L$7:L89)*-1,\"\"))","v":""},{"$f":"IF($P90=\"TRUE\",INDEX('バッチ反映用（非表示）'!$A$5:$O$100,MATCH($N90,'バッチ反映用（非表示）'!$S$5:$S$100,0),MATCH('次月以降仕訳（非表示）'!M$6,'バッチ反映用（非表示）'!$A$4:$G$4,0)),IF($Q90=\"end\",\"0\"&旅費振替依頼書!$I$3&旅費振替依頼書!$J$3&\"振替 \"&MONTH(SUBSTITUTE($B$7,\".\",\"/\"))&\"月旅費→\"&MONTH(EOMONTH(SUBSTITUTE($I$7,\".\",\"/\"),2))&\"月作業費 \"&N89&\"件\",\"\"))","v":""},84,"",{"$f":"IF(ISERROR(INDEX('バッチ反映用（非表示）'!$A$5:$O$100,MATCH($N90,'バッチ反映用（非表示）'!$S$5:$S$100,0),MATCH('次月以降仕訳（非表示）'!L$6,'バッチ反映用（非表示）'!$A$4:$G$4,0)))=FALSE,\"TRUE\",\"FALSE\")","v":"FALSE"},"",null,"",{"$f":"IF(I89=\"転記日付\",INDEX('バッチ反映用（非表示）'!$A$5:$O$100,MATCH($N90,'バッチ反映用（非表示）'!$S$5:$S$100,0),MATCH('次月以降仕訳（非表示）'!T$6,'バッチ反映用（非表示）'!$A$4:$G$4,0)),\"\")","v":{"$error":"#N/A"}},{"$f":"IF(J90<>\"\",IF(K90<>\"NS-0\"&旅費振替依頼書!$I$3,$C$4,$C$3),\"\")","v":""},"","",""]
["",{"$error":"#N/A"},"","","","",null,"",{"$f":"IF(I90=\"転記日付\",INDEX('バッチ反映用（非表示）'!$A$5:$O$100,MATCH($N91,'バッチ反映用（非表示）'!$S$5:$S$100,0),MATCH('次月以降仕訳（非表示）'!I$6,'バッチ反映用（非表示）'!$A$4:$G$4,0)),\"\")","v":{"$error":"#N/A"}},"",{"$f":"IF($P91=\"TRUE\",INDEX('バッチ反映用（非表示）'!$A$5:$O$100,MATCH($N91,'バッチ反映用（非表示）'!$S$5:$S$100,0),MATCH('次月以降仕訳（非表示）'!K$6,'バッチ反映用（非表示）'!$A$4:$G$4,0)),IF(AND(P91=\"FALSE\",Q91=\"end\"),\"NS-0100\",\"\"))","v":""},{"$f":"IF($P91=\"TRUE\",INDEX('バッチ反映用（非表示）'!$A$5:$O$100,MATCH($N91,'バッチ反映用（非表示）'!$S$5:$S$100,0),MATCH('次月以降仕訳（非表示）'!L$6,'バッチ反映用（非表示）'!$A$4:$G$4,0))*-1,IF($Q91=\"end\",SUM($L$7:L90)*-1,\"\"))","v":""},{"$f":"IF($P91=\"TRUE\",INDEX('バッチ反映用（非表示）'!$A$5:$O$100,MATCH($N91,'バッチ反映用（非表示）'!$S$5:$S$100,0),MATCH('次月以降仕訳（非表示）'!M$6,'バッチ反映用（非表示）'!$A$4:$G$4,0)),IF($Q91=\"end\",\"0\"&旅費振替依頼書!$I$3&旅費振替依頼書!$J$3&\"振替 \"&MONTH(SUBSTITUTE($B$7,\".\",\"/\"))&\"月旅費→\"&MONTH(EOMONTH(SUBSTITUTE($I$7,\".\",\"/\"),2))&\"月作業費 \"&N90&\"件\",\"\"))","v":""},85,"",{"$f":"IF(ISERROR(INDEX('バッチ反映用（非表示）'!$A$5:$O$100,MATCH($N91,'バッチ反映用（非表示）'!$S$5:$S$100,0),MATCH('次月以降仕訳（非表示）'!L$6,'バッチ反映用（非表示）'!$A$4:$G$4,0)))=FALSE,\"TRUE\",\"FALSE\")","v":"FALSE"},"",null,"",{"$f":"IF(I90=\"転記日付\",INDEX('バッチ反映用（非表示）'!$A$5:$O$100,MATCH($N91,'バッチ反映用（非表示）'!$S$5:$S$100,0),MATCH('次月以降仕訳（非表示）'!T$6,'バッチ反映用（非表示）'!$A$4:$G$4,0)),\"\")","v":{"$error":"#N/A"}},{"$f":"IF(J91<>\"\",IF(K91<>\"NS-0\"&旅費振替依頼書!$I$3,$C$4,$C$3),\"\")","v":""},"","",""]
["",{"$error":"#N/A"},"","","","",null,"",{"$f":"IF(I91=\"転記日付\",INDEX('バッチ反映用（非表示）'!$A$5:$O$100,MATCH($N92,'バッチ反映用（非表示）'!$S$5:$S$100,0),MATCH('次月以降仕訳（非表示）'!I$6,'バッチ反映用（非表示）'!$A$4:$G$4,0)),\"\")","v":{"$error":"#N/A"}},"",{"$f":"IF($P92=\"TRUE\",INDEX('バッチ反映用（非表示）'!$A$5:$O$100,MATCH($N92,'バッチ反映用（非表示）'!$S$5:$S$100,0),MATCH('次月以降仕訳（非表示）'!K$6,'バッチ反映用（非表示）'!$A$4:$G$4,0)),IF(AND(P92=\"FALSE\",Q92=\"end\"),\"NS-0100\",\"\"))","v":""},{"$f":"IF($P92=\"TRUE\",INDEX('バッチ反映用（非表示）'!$A$5:$O$100,MATCH($N92,'バッチ反映用（非表示）'!$S$5:$S$100,0),MATCH('次月以降仕訳（非表示）'!L$6,'バッチ反映用（非表示）'!$A$4:$G$4,0))*-1,IF($Q92=\"end\",SUM($L$7:L91)*-1,\"\"))","v":""},{"$f":"IF($P92=\"TRUE\",INDEX('バッチ反映用（非表示）'!$A$5:$O$100,MATCH($N92,'バッチ反映用（非表示）'!$S$5:$S$100,0),MATCH('次月以降仕訳（非表示）'!M$6,'バッチ反映用（非表示）'!$A$4:$G$4,0)),IF($Q92=\"end\",\"0\"&旅費振替依頼書!$I$3&旅費振替依頼書!$J$3&\"振替 \"&MONTH(SUBSTITUTE($B$7,\".\",\"/\"))&\"月旅費→\"&MONTH(EOMONTH(SUBSTITUTE($I$7,\".\",\"/\"),2))&\"月作業費 \"&N91&\"件\",\"\"))","v":""},86,"",{"$f":"IF(ISERROR(INDEX('バッチ反映用（非表示）'!$A$5:$O$100,MATCH($N92,'バッチ反映用（非表示）'!$S$5:$S$100,0),MATCH('次月以降仕訳（非表示）'!L$6,'バッチ反映用（非表示）'!$A$4:$G$4,0)))=FALSE,\"TRUE\",\"FALSE\")","v":"FALSE"},"",null,"",{"$f":"IF(I91=\"転記日付\",INDEX('バッチ反映用（非表示）'!$A$5:$O$100,MATCH($N92,'バッチ反映用（非表示）'!$S$5:$S$100,0),MATCH('次月以降仕訳（非表示）'!T$6,'バッチ反映用（非表示）'!$A$4:$G$4,0)),\"\")","v":{"$error":"#N/A"}},{"$f":"IF(J92<>\"\",IF(K92<>\"NS-0\"&旅費振替依頼書!$I$3,$C$4,$C$3),\"\")","v":""},"","",""]
["",{"$error":"#N/A"},"","","","",null,"",{"$f":"IF(I92=\"転記日付\",INDEX('バッチ反映用（非表示）'!$A$5:$O$100,MATCH($N93,'バッチ反映用（非表示）'!$S$5:$S$100,0),MATCH('次月以降仕訳（非表示）'!I$6,'バッチ反映用（非表示）'!$A$4:$G$4,0)),\"\")","v":{"$error":"#N/A"}},"",{"$f":"IF($P93=\"TRUE\",INDEX('バッチ反映用（非表示）'!$A$5:$O$100,MATCH($N93,'バッチ反映用（非表示）'!$S$5:$S$100,0),MATCH('次月以降仕訳（非表示）'!K$6,'バッチ反映用（非表示）'!$A$4:$G$4,0)),IF(AND(P93=\"FALSE\",Q93=\"end\"),\"NS-0100\",\"\"))","v":""},{"$f":"IF($P93=\"TRUE\",INDEX('バッチ反映用（非表示）'!$A$5:$O$100,MATCH($N93,'バッチ反映用（非表示）'!$S$5:$S$100,0),MATCH('次月以降仕訳（非表示）'!L$6,'バッチ反映用（非表示）'!$A$4:$G$4,0))*-1,IF($Q93=\"end\",SUM($L$7:L92)*-1,\"\"))","v":""},{"$f":"IF($P93=\"TRUE\",INDEX('バッチ反映用（非表示）'!$A$5:$O$100,MATCH($N93,'バッチ反映用（非表示）'!$S$5:$S$100,0),MATCH('次月以降仕訳（非表示）'!M$6,'バッチ反映用（非表示）'!$A$4:$G$4,0)),IF($Q93=\"end\",\"0\"&旅費振替依頼書!$I$3&旅費振替依頼書!$J$3&\"振替 \"&MONTH(SUBSTITUTE($B$7,\".\",\"/\"))&\"月旅費→\"&MONTH(EOMONTH(SUBSTITUTE($I$7,\".\",\"/\"),2))&\"月作業費 \"&N92&\"件\",\"\"))","v":""},87,"",{"$f":"IF(ISERROR(INDEX('バッチ反映用（非表示）'!$A$5:$O$100,MATCH($N93,'バッチ反映用（非表示）'!$S$5:$S$100,0),MATCH('次月以降仕訳（非表示）'!L$6,'バッチ反映用（非表示）'!$A$4:$G$4,0)))=FALSE,\"TRUE\",\"FALSE\")","v":"FALSE"},"",null,"",{"$f":"IF(I92=\"転記日付\",INDEX('バッチ反映用（非表示）'!$A$5:$O$100,MATCH($N93,'バッチ反映用（非表示）'!$S$5:$S$100,0),MATCH('次月以降仕訳（非表示）'!T$6,'バッチ反映用（非表示）'!$A$4:$G$4,0)),\"\")","v":{"$error":"#N/A"}},{"$f":"IF(J93<>\"\",IF(K93<>\"NS-0\"&旅費振替依頼書!$I$3,$C$4,$C$3),\"\")","v":""},"","",""]
["",{"$error":"#N/A"},"","","","",null,"",{"$f":"IF(I93=\"転記日付\",INDEX('バッチ反映用（非表示）'!$A$5:$O$100,MATCH($N94,'バッチ反映用（非表示）'!$S$5:$S$100,0),MATCH('次月以降仕訳（非表示）'!I$6,'バッチ反映用（非表示）'!$A$4:$G$4,0)),\"\")","v":{"$error":"#N/A"}},"",{"$f":"IF($P94=\"TRUE\",INDEX('バッチ反映用（非表示）'!$A$5:$O$100,MATCH($N94,'バッチ反映用（非表示）'!$S$5:$S$100,0),MATCH('次月以降仕訳（非表示）'!K$6,'バッチ反映用（非表示）'!$A$4:$G$4,0)),IF(AND(P94=\"FALSE\",Q94=\"end\"),\"NS-0100\",\"\"))","v":""},{"$f":"IF($P94=\"TRUE\",INDEX('バッチ反映用（非表示）'!$A$5:$O$100,MATCH($N94,'バッチ反映用（非表示）'!$S$5:$S$100,0),MATCH('次月以降仕訳（非表示）'!L$6,'バッチ反映用（非表示）'!$A$4:$G$4,0))*-1,IF($Q94=\"end\",SUM($L$7:L93)*-1,\"\"))","v":""},{"$f":"IF($P94=\"TRUE\",INDEX('バッチ反映用（非表示）'!$A$5:$O$100,MATCH($N94,'バッチ反映用（非表示）'!$S$5:$S$100,0),MATCH('次月以降仕訳（非表示）'!M$6,'バッチ反映用（非表示）'!$A$4:$G$4,0)),IF($Q94=\"end\",\"0\"&旅費振替依頼書!$I$3&旅費振替依頼書!$J$3&\"振替 \"&MONTH(SUBSTITUTE($B$7,\".\",\"/\"))&\"月旅費→\"&MONTH(EOMONTH(SUBSTITUTE($I$7,\".\",\"/\"),2))&\"月作業費 \"&N93&\"件\",\"\"))","v":""},88,"",{"$f":"IF(ISERROR(INDEX('バッチ反映用（非表示）'!$A$5:$O$100,MATCH($N94,'バッチ反映用（非表示）'!$S$5:$S$100,0),MATCH('次月以降仕訳（非表示）'!L$6,'バッチ反映用（非表示）'!$A$4:$G$4,0)))=FALSE,\"TRUE\",\"FALSE\")","v":"FALSE"},"",null,"",{"$f":"IF(I93=\"転記日付\",INDEX('バッチ反映用（非表示）'!$A$5:$O$100,MATCH($N94,'バッチ反映用（非表示）'!$S$5:$S$100,0),MATCH('次月以降仕訳（非表示）'!T$6,'バッチ反映用（非表示）'!$A$4:$G$4,0)),\"\")","v":{"$error":"#N/A"}},{"$f":"IF(J94<>\"\",IF(K94<>\"NS-0\"&旅費振替依頼書!$I$3,$C$4,$C$3),\"\")","v":""},"","",""]
["",{"$error":"#N/A"},"","","","",null,"",{"$f":"IF(I94=\"転記日付\",INDEX('バッチ反映用（非表示）'!$A$5:$O$100,MATCH($N95,'バッチ反映用（非表示）'!$S$5:$S$100,0),MATCH('次月以降仕訳（非表示）'!I$6,'バッチ反映用（非表示）'!$A$4:$G$4,0)),\"\")","v":{"$error":"#N/A"}},"",{"$f":"IF($P95=\"TRUE\",INDEX('バッチ反映用（非表示）'!$A$5:$O$100,MATCH($N95,'バッチ反映用（非表示）'!$S$5:$S$100,0),MATCH('次月以降仕訳（非表示）'!K$6,'バッチ反映用（非表示）'!$A$4:$G$4,0)),IF(AND(P95=\"FALSE\",Q95=\"end\"),\"NS-0100\",\"\"))","v":""},{"$f":"IF($P95=\"TRUE\",INDEX('バッチ反映用（非表示）'!$A$5:$O$100,MATCH($N95,'バッチ反映用（非表示）'!$S$5:$S$100,0),MATCH('次月以降仕訳（非表示）'!L$6,'バッチ反映用（非表示）'!$A$4:$G$4,0))*-1,IF($Q95=\"end\",SUM($L$7:L94)*-1,\"\"))","v":""},{"$f":"IF($P95=\"TRUE\",INDEX('バッチ反映用（非表示）'!$A$5:$O$100,MATCH($N95,'バッチ反映用（非表示）'!$S$5:$S$100,0),MATCH('次月以降仕訳（非表示）'!M$6,'バッチ反映用（非表示）'!$A$4:$G$4,0)),IF($Q95=\"end\",\"0\"&旅費振替依頼書!$I$3&旅費振替依頼書!$J$3&\"振替 \"&MONTH(SUBSTITUTE($B$7,\".\",\"/\"))&\"月旅費→\"&MONTH(EOMONTH(SUBSTITUTE($I$7,\".\",\"/\"),2))&\"月作業費 \"&N94&\"件\",\"\"))","v":""},89,"",{"$f":"IF(ISERROR(INDEX('バッチ反映用（非表示）'!$A$5:$O$100,MATCH($N95,'バッチ反映用（非表示）'!$S$5:$S$100,0),MATCH('次月以降仕訳（非表示）'!L$6,'バッチ反映用（非表示）'!$A$4:$G$4,0)))=FALSE,\"TRUE\",\"FALSE\")","v":"FALSE"},"",null,"",{"$f":"IF(I94=\"転記日付\",INDEX('バッチ反映用（非表示）'!$A$5:$O$100,MATCH($N95,'バッチ反映用（非表示）'!$S$5:$S$100,0),MATCH('次月以降仕訳（非表示）'!T$6,'バッチ反映用（非表示）'!$A$4:$G$4,0)),\"\")","v":{"$error":"#N/A"}},{"$f":"IF(J95<>\"\",IF(K95<>\"NS-0\"&旅費振替依頼書!$I$3,$C$4,$C$3),\"\")","v":""},"","",""]
["",{"$error":"#N/A"},"","","","",null,"",{"$f":"IF(I95=\"転記日付\",INDEX('バッチ反映用（非表示）'!$A$5:$O$100,MATCH($N96,'バッチ反映用（非表示）'!$S$5:$S$100,0),MATCH('次月以降仕訳（非表示）'!I$6,'バッチ反映用（非表示）'!$A$4:$G$4,0)),\"\")","v":{"$error":"#N/A"}},"",{"$f":"IF($P96=\"TRUE\",INDEX('バッチ反映用（非表示）'!$A$5:$O$100,MATCH($N96,'バッチ反映用（非表示）'!$S$5:$S$100,0),MATCH('次月以降仕訳（非表示）'!K$6,'バッチ反映用（非表示）'!$A$4:$G$4,0)),IF(AND(P96=\"FALSE\",Q96=\"end\"),\"NS-0100\",\"\"))","v":""},{"$f":"IF($P96=\"TRUE\",INDEX('バッチ反映用（非表示）'!$A$5:$O$100,MATCH($N96,'バッチ反映用（非表示）'!$S$5:$S$100,0),MATCH('次月以降仕訳（非表示）'!L$6,'バッチ反映用（非表示）'!$A$4:$G$4,0))*-1,IF($Q96=\"end\",SUM($L$7:L95)*-1,\"\"))","v":""},{"$f":"IF($P96=\"TRUE\",INDEX('バッチ反映用（非表示）'!$A$5:$O$100,MATCH($N96,'バッチ反映用（非表示）'!$S$5:$S$100,0),MATCH('次月以降仕訳（非表示）'!M$6,'バッチ反映用（非表示）'!$A$4:$G$4,0)),IF($Q96=\"end\",\"0\"&旅費振替依頼書!$I$3&旅費振替依頼書!$J$3&\"振替 \"&MONTH(SUBSTITUTE($B$7,\".\",\"/\"))&\"月旅費→\"&MONTH(EOMONTH(SUBSTITUTE($I$7,\".\",\"/\"),2))&\"月作業費 \"&N95&\"件\",\"\"))","v":""},90,"",{"$f":"IF(ISERROR(INDEX('バッチ反映用（非表示）'!$A$5:$O$100,MATCH($N96,'バッチ反映用（非表示）'!$S$5:$S$100,0),MATCH('次月以降仕訳（非表示）'!L$6,'バッチ反映用（非表示）'!$A$4:$G$4,0)))=FALSE,\"TRUE\",\"FALSE\")","v":"FALSE"},"",null,"",{"$f":"IF(I95=\"転記日付\",INDEX('バッチ反映用（非表示）'!$A$5:$O$100,MATCH($N96,'バッチ反映用（非表示）'!$S$5:$S$100,0),MATCH('次月以降仕訳（非表示）'!T$6,'バッチ反映用（非表示）'!$A$4:$G$4,0)),\"\")","v":{"$error":"#N/A"}},{"$f":"IF(J96<>\"\",IF(K96<>\"NS-0\"&旅費振替依頼書!$I$3,$C$4,$C$3),\"\")","v":""},"","",""]
["",{"$error":"#N/A"},"","","","",null,"",{"$f":"IF(I96=\"転記日付\",INDEX('バッチ反映用（非表示）'!$A$5:$O$100,MATCH($N97,'バッチ反映用（非表示）'!$S$5:$S$100,0),MATCH('次月以降仕訳（非表示）'!I$6,'バッチ反映用（非表示）'!$A$4:$G$4,0)),\"\")","v":{"$error":"#N/A"}},"",{"$f":"IF($P97=\"TRUE\",INDEX('バッチ反映用（非表示）'!$A$5:$O$100,MATCH($N97,'バッチ反映用（非表示）'!$S$5:$S$100,0),MATCH('次月以降仕訳（非表示）'!K$6,'バッチ反映用（非表示）'!$A$4:$G$4,0)),IF(AND(P97=\"FALSE\",Q97=\"end\"),\"NS-0100\",\"\"))","v":""},{"$f":"IF($P97=\"TRUE\",INDEX('バッチ反映用（非表示）'!$A$5:$O$100,MATCH($N97,'バッチ反映用（非表示）'!$S$5:$S$100,0),MATCH('次月以降仕訳（非表示）'!L$6,'バッチ反映用（非表示）'!$A$4:$G$4,0))*-1,IF($Q97=\"end\",SUM($L$7:L96)*-1,\"\"))","v":""},{"$f":"IF($P97=\"TRUE\",INDEX('バッチ反映用（非表示）'!$A$5:$O$100,MATCH($N97,'バッチ反映用（非表示）'!$S$5:$S$100,0),MATCH('次月以降仕訳（非表示）'!M$6,'バッチ反映用（非表示）'!$A$4:$G$4,0)),IF($Q97=\"end\",\"0\"&旅費振替依頼書!$I$3&旅費振替依頼書!$J$3&\"振替 \"&MONTH(SUBSTITUTE($B$7,\".\",\"/\"))&\"月旅費→\"&MONTH(EOMONTH(SUBSTITUTE($I$7,\".\",\"/\"),2))&\"月作業費 \"&N96&\"件\",\"\"))","v":""},91,"",{"$f":"IF(ISERROR(INDEX('バッチ反映用（非表示）'!$A$5:$O$100,MATCH($N97,'バッチ反映用（非表示）'!$S$5:$S$100,0),MATCH('次月以降仕訳（非表示）'!L$6,'バッチ反映用（非表示）'!$A$4:$G$4,0)))=FALSE,\"TRUE\",\"FALSE\")","v":"FALSE"},"",null,"",{"$f":"IF(I96=\"転記日付\",INDEX('バッチ反映用（非表示）'!$A$5:$O$100,MATCH($N97,'バッチ反映用（非表示）'!$S$5:$S$100,0),MATCH('次月以降仕訳（非表示）'!T$6,'バッチ反映用（非表示）'!$A$4:$G$4,0)),\"\")","v":{"$error":"#N/A"}},{"$f":"IF(J97<>\"\",IF(K97<>\"NS-0\"&旅費振替依頼書!$I$3,$C$4,$C$3),\"\")","v":""},"","",""]
["",{"$error":"#N/A"},"","","","",null,"",{"$f":"IF(I97=\"転記日付\",INDEX('バッチ反映用（非表示）'!$A$5:$O$100,MATCH($N98,'バッチ反映用（非表示）'!$S$5:$S$100,0),MATCH('次月以降仕訳（非表示）'!I$6,'バッチ反映用（非表示）'!$A$4:$G$4,0)),\"\")","v":{"$error":"#N/A"}},"",{"$f":"IF($P98=\"TRUE\",INDEX('バッチ反映用（非表示）'!$A$5:$O$100,MATCH($N98,'バッチ反映用（非表示）'!$S$5:$S$100,0),MATCH('次月以降仕訳（非表示）'!K$6,'バッチ反映用（非表示）'!$A$4:$G$4,0)),IF(AND(P98=\"FALSE\",Q98=\"end\"),\"NS-0100\",\"\"))","v":""},{"$f":"IF($P98=\"TRUE\",INDEX('バッチ反映用（非表示）'!$A$5:$O$100,MATCH($N98,'バッチ反映用（非表示）'!$S$5:$S$100,0),MATCH('次月以降仕訳（非表示）'!L$6,'バッチ反映用（非表示）'!$A$4:$G$4,0))*-1,IF($Q98=\"end\",SUM($L$7:L97)*-1,\"\"))","v":""},{"$f":"IF($P98=\"TRUE\",INDEX('バッチ反映用（非表示）'!$A$5:$O$100,MATCH($N98,'バッチ反映用（非表示）'!$S$5:$S$100,0),MATCH('次月以降仕訳（非表示）'!M$6,'バッチ反映用（非表示）'!$A$4:$G$4,0)),IF($Q98=\"end\",\"0\"&旅費振替依頼書!$I$3&旅費振替依頼書!$J$3&\"振替 \"&MONTH(SUBSTITUTE($B$7,\".\",\"/\"))&\"月旅費→\"&MONTH(EOMONTH(SUBSTITUTE($I$7,\".\",\"/\"),2))&\"月作業費 \"&N97&\"件\",\"\"))","v":""},92,"",{"$f":"IF(ISERROR(INDEX('バッチ反映用（非表示）'!$A$5:$O$100,MATCH($N98,'バッチ反映用（非表示）'!$S$5:$S$100,0),MATCH('次月以降仕訳（非表示）'!L$6,'バッチ反映用（非表示）'!$A$4:$G$4,0)))=FALSE,\"TRUE\",\"FALSE\")","v":"FALSE"},"",null,"",{"$f":"IF(I97=\"転記日付\",INDEX('バッチ反映用（非表示）'!$A$5:$O$100,MATCH($N98,'バッチ反映用（非表示）'!$S$5:$S$100,0),MATCH('次月以降仕訳（非表示）'!T$6,'バッチ反映用（非表示）'!$A$4:$G$4,0)),\"\")","v":{"$error":"#N/A"}},{"$f":"IF(J98<>\"\",IF(K98<>\"NS-0\"&旅費振替依頼書!$I$3,$C$4,$C$3),\"\")","v":""},"","",""]
["",{"$error":"#N/A"},"","","","",null,"",{"$f":"IF(I98=\"転記日付\",INDEX('バッチ反映用（非表示）'!$A$5:$O$100,MATCH($N99,'バッチ反映用（非表示）'!$S$5:$S$100,0),MATCH('次月以降仕訳（非表示）'!I$6,'バッチ反映用（非表示）'!$A$4:$G$4,0)),\"\")","v":{"$error":"#N/A"}},"",{"$f":"IF($P99=\"TRUE\",INDEX('バッチ反映用（非表示）'!$A$5:$O$100,MATCH($N99,'バッチ反映用（非表示）'!$S$5:$S$100,0),MATCH('次月以降仕訳（非表示）'!K$6,'バッチ反映用（非表示）'!$A$4:$G$4,0)),IF(AND(P99=\"FALSE\",Q99=\"end\"),\"NS-0100\",\"\"))","v":""},{"$f":"IF($P99=\"TRUE\",INDEX('バッチ反映用（非表示）'!$A$5:$O$100,MATCH($N99,'バッチ反映用（非表示）'!$S$5:$S$100,0),MATCH('次月以降仕訳（非表示）'!L$6,'バッチ反映用（非表示）'!$A$4:$G$4,0))*-1,IF($Q99=\"end\",SUM($L$7:L98)*-1,\"\"))","v":""},{"$f":"IF($P99=\"TRUE\",INDEX('バッチ反映用（非表示）'!$A$5:$O$100,MATCH($N99,'バッチ反映用（非表示）'!$S$5:$S$100,0),MATCH('次月以降仕訳（非表示）'!M$6,'バッチ反映用（非表示）'!$A$4:$G$4,0)),IF($Q99=\"end\",\"0\"&旅費振替依頼書!$I$3&旅費振替依頼書!$J$3&\"振替 \"&MONTH(SUBSTITUTE($B$7,\".\",\"/\"))&\"月旅費→\"&MONTH(EOMONTH(SUBSTITUTE($I$7,\".\",\"/\"),2))&\"月作業費 \"&N98&\"件\",\"\"))","v":""},93,"",{"$f":"IF(ISERROR(INDEX('バッチ反映用（非表示）'!$A$5:$O$100,MATCH($N99,'バッチ反映用（非表示）'!$S$5:$S$100,0),MATCH('次月以降仕訳（非表示）'!L$6,'バッチ反映用（非表示）'!$A$4:$G$4,0)))=FALSE,\"TRUE\",\"FALSE\")","v":"FALSE"},"",null,"",{"$f":"IF(I98=\"転記日付\",INDEX('バッチ反映用（非表示）'!$A$5:$O$100,MATCH($N99,'バッチ反映用（非表示）'!$S$5:$S$100,0),MATCH('次月以降仕訳（非表示）'!T$6,'バッチ反映用（非表示）'!$A$4:$G$4,0)),\"\")","v":{"$error":"#N/A"}},{"$f":"IF(J99<>\"\",IF(K99<>\"NS-0\"&旅費振替依頼書!$I$3,$C$4,$C$3),\"\")","v":""},"","",""]
["",{"$error":"#N/A"},"","","","",null,"",{"$f":"IF(I99=\"転記日付\",INDEX('バッチ反映用（非表示）'!$A$5:$O$100,MATCH($N100,'バッチ反映用（非表示）'!$S$5:$S$100,0),MATCH('次月以降仕訳（非表示）'!I$6,'バッチ反映用（非表示）'!$A$4:$G$4,0)),\"\")","v":{"$error":"#N/A"}},"",{"$f":"IF($P100=\"TRUE\",INDEX('バッチ反映用（非表示）'!$A$5:$O$100,MATCH($N100,'バッチ反映用（非表示）'!$S$5:$S$100,0),MATCH('次月以降仕訳（非表示）'!K$6,'バッチ反映用（非表示）'!$A$4:$G$4,0)),IF(AND(P100=\"FALSE\",Q100=\"end\"),\"NS-0100\",\"\"))","v":""},{"$f":"IF($P100=\"TRUE\",INDEX('バッチ反映用（非表示）'!$A$5:$O$100,MATCH($N100,'バッチ反映用（非表示）'!$S$5:$S$100,0),MATCH('次月以降仕訳（非表示）'!L$6,'バッチ反映用（非表示）'!$A$4:$G$4,0))*-1,IF($Q100=\"end\",SUM($L$7:L99)*-1,\"\"))","v":""},{"$f":"IF($P100=\"TRUE\",INDEX('バッチ反映用（非表示）'!$A$5:$O$100,MATCH($N100,'バッチ反映用（非表示）'!$S$5:$S$100,0),MATCH('次月以降仕訳（非表示）'!M$6,'バッチ反映用（非表示）'!$A$4:$G$4,0)),IF($Q100=\"end\",\"0\"&旅費振替依頼書!$I$3&旅費振替依頼書!$J$3&\"振替 \"&MONTH(SUBSTITUTE($B$7,\".\",\"/\"))&\"月旅費→\"&MONTH(EOMONTH(SUBSTITUTE($I$7,\".\",\"/\"),2))&\"月作業費 \"&N99&\"件\",\"\"))","v":""},94,"",{"$f":"IF(ISERROR(INDEX('バッチ反映用（非表示）'!$A$5:$O$100,MATCH($N100,'バッチ反映用（非表示）'!$S$5:$S$100,0),MATCH('次月以降仕訳（非表示）'!L$6,'バッチ反映用（非表示）'!$A$4:$G$4,0)))=FALSE,\"TRUE\",\"FALSE\")","v":"FALSE"},"",null,"",{"$f":"IF(I99=\"転記日付\",INDEX('バッチ反映用（非表示）'!$A$5:$O$100,MATCH($N100,'バッチ反映用（非表示）'!$S$5:$S$100,0),MATCH('次月以降仕訳（非表示）'!T$6,'バッチ反映用（非表示）'!$A$4:$G$4,0)),\"\")","v":{"$error":"#N/A"}},{"$f":"IF(J100<>\"\",IF(K100<>\"NS-0\"&旅費振替依頼書!$I$3,$C$4,$C$3),\"\")","v":""},"","",""]

{"sheet":"修正ログ（非表示）","index":6,"n_rows":5,"n_cols":5,"rows_kept":5,"cut":false,"hidden":true,"merged":[]}
["数式等の仕組みの修正をした場合にここに記入しておく"]
[]
["修正日","修正箇所（シート、セル等）","修正内容","訂正前数式","訂正後数式"]
["2019-08-27","バッチ反映用（非表示）シート\nB列（転記日付）","転記日付算出の数式を変更。\nJ2（当月月次）の日付をベースに算出。","=IF($G5<>\"\",TEXT(EOMONTH($G5,0),\"yyyy.mm.dd\"),\"\")","=IF(D5<>\"\",TEXT(EOMONTH(LEFT($J$2,4)&\"/\"&RIGHT($J$2,2)&\"/01\",0),\"YYYY.MM.DD\"),\"\")"]
["2019-08-27","バッチ反映用（非表示）シート\nO列（出-帰 差）","繰越期間算出用の数式を変更。\n出発（J列）と帰着（N列）の差から\n当月（J2）と帰着（N列）の差へ変更","=IF(AND(J5<>\"\",N5<>\"\"),IF($J$2=J5,N5-$J$2,IF($J$2<J5,N5-$J$2,N5-J5)),\"\")","'=IF(AND(J5<>\"\",N5<>\"\"),N5-$J$2,\"\")"]

{"sheet":"旅費精算について","index":7,"n_rows":49,"n_cols":6,"rows_kept":49,"cut":false,"hidden":false,"merged":[[2,0,2,6],[32,1,33,1]]}
[null,null,null,null,null,"2017-10-01"]
[null,null,null,null,null,"経理部　管理会計課"]
["プラント部門　旅費精算について"]
[]
["下記旅費基準の通り、作業費・経費へ計上する。"]
["但し、国内外問わず、一旦全額経費として計上し作業費計上する分は別途経理部にて振替処理をする。"]
["※ 直接被請求出金依頼で計上するとR3で出張履歴の確認ができなくなるため。"]
[]
["小口現金での旅費交通費精算は禁止とする。"]
["e-Keihiで精算をするか、一般出金依頼表を作成。"]
["支払日は、個人立替の支払サイトではなく基本は出金プルーフ受領から２～３日後の支払いとする。"]
["(資金課　石川主管了承済)"]
[]
["＜作業費計上フロー＞"]
[]
["・一般出金依頼表で精算の場合(仮払なし)は、摘要２で経費・作業費を判断できるよう以下の入力方法とする。"]
["経費： 出張者名字 出張先 旅費基準番号(1～9)"]
["例）　鈴木 プラハ、UAE (2)"]
["作業費：　出張者名字 出張先 旅費基準番号(10～15) ﾌﾟﾛｼﾞｪｸﾄ番号３桁-５桁"]
["例）　鈴木 プラハ、UAE (10) 710-12345"]
["※　摘要欄は経費・作業費問わず、 【出張者名字 出張先 期間】とする。"]
[]
["・仮払あり、またはe-Keihiの場合、精算書余白へ経費・作業費いずれか記載の上、"]
["　作業費の場合は、ﾌﾟﾛｼﾞｪｸﾄ番号、旅費基準番号を記載する。"]
["　⇒会計担当者は、R3テキスト欄を変更する。"]
[]
["・プラント担当者は、R3締日午前中に所定フォームにて振替対象の出張分のデータと原本を提出する。"]
["添付資料は、出張精算書コピー。"]
["・会計担当者は、振替処理完了後、R3収支表を送付する。"]
[]
[]
["＜旅費基準＞"]
[null,"出張の目的・内容","国内出張",null,"海外出張"]
[null,null,"旅費経費","売上原価","旅費経費","売上原価"]
[1,"表敬訪問","○","×","○","×"]
[2,"業務打合せ","○","×","○","×"]
[3,"アテンド・案内","○","×","○","×"]
[4,"見積作成・現場下見・現地調査・視察（含む採寸・検品）","○","×","〇","×"]
[5,"展示会出展社説明会","○","×","○","×"]
[6,"入札・開札会","○","×","○","×"]
[7,"セミナー・イベント参加","○","×","○","×"]
[8,"事故・クレーム処理","○","×","○","×"]
[9,"その他、営業を目的とした出張","○","×","○","×"]
[10,"受注済み案件の業務打合せ","×","〇","×","〇"]
[11,"有償の現地下見・現地調査（含む採寸・検品）","×","〇","×","〇"]
[12,"搬入・搬出立会い","×","〇","×","〇"]
[13,"作業監督","×","〇","×","○"]
[14,"現地許認可等コーディネート","×","〇","×","○"]
[15,"ハンドキャリー","×","〇","×","○"]

{"sheet":"勘定科目対応表","index":8,"n_rows":226,"n_cols":4,"rows_kept":226,"cut":false,"hidden":false,"merged":[]}
["FI勘定科目\nコード","勘定マスタ一覧表","月次調整\n勘定科目","科目名称"]
[811100,"売上",7700100,"月次-売上"]
[811101,"売上(売上訂正）",7700100,"月次-売上"]
[811111,"売上－海貨(輸出)",7700100,"月次-売上"]
[811112,"売上－海貨(輸入)",7700100,"月次-売上"]
[811121,"売上－ＮＶＯＣＣ(輸出)",7700100,"月次-売上"]
[811122,"売上－ＮＶＯＣＣ(輸入)",7700100,"月次-売上"]
[811131,"売上－航空混載(輸出)",7700100,"月次-売上"]
[811132,"売上－航空混載(輸入)",7700100,"月次-売上"]
[811141,"売上－航空ダイレクト(輸出)",7700100,"月次-売上"]
[811142,"売上－航空ダイレクト(輸入)",7700100,"月次-売上"]
[811150,"売上－陸運(社有車)",7700100,"月次-売上"]
[811151,"売上－陸運(傭車)",7700100,"月次-売上"]
[811152,"売上－陸運(通運)",7700100,"月次-売上"]
[811160,"売上－倉庫",7700100,"月次-売上"]
[811170,"売上－海運(内航)",7700100,"月次-売上"]
[811171,"売上－海運(代理店)",7700100,"月次-売上"]
[811180,"売上－付帯(構内)",7700100,"月次-売上"]
[811181,"売上－付帯(荷役・その他)",7700100,"月次-売上"]
[811190,"売上－不動産",7700100,"月次-売上"]
[351000,"売上原価",7700200,"月次-売上原価"]
[351011,"売上原価－海貨(輸出)",7700200,"月次-売上原価"]
[351012,"売上原価－海貨(輸入)",7700200,"月次-売上原価"]
[351013,"売上原価－海貨(原価差額）",7700200,"月次-売上原価"]
[351021,"売上原価－ＮＶＯＣＣ(輸出)",7700200,"月次-売上原価"]
[351022,"売上原価－ＮＶＯＣＣ(輸入)",7700200,"月次-売上原価"]
[351023,"売上原価－ＮＶＯＣＣ(原価差額）",7700200,"月次-売上原価"]
[351031,"売上原価－航空混載(輸出)",7700200,"月次-売上原価"]
[351032,"売上原価－航空混載(輸入)",7700200,"月次-売上原価"]
[351033,"売上原価－航空混載(原価差額）",7700200,"月次-売上原価"]
[351041,"売上原価－航空ダイレクト(輸出)",7700200,"月次-売上原価"]
[351042,"売上原価－航空ダイレクト(輸入)",7700200,"月次-売上原価"]
[351043,"売上原価－航空ダイレクト(原価差額)",7700200,"月次-売上原価"]
[351050,"売上原価－陸運(社有車)",7700200,"月次-売上原価"]
[351051,"売上原価－陸運(傭車)",7700200,"月次-売上原価"]
[351052,"売上原価－陸運(通運)",7700200,"月次-売上原価"]
[351053,"売上原価－陸運(原価差額）",7700200,"月次-売上原価"]
[351060,"売上原価－倉庫",7700200,"月次-売上原価"]
[351061,"売上原価－倉庫(原価差額)",7700200,"月次-売上原価"]
[351070,"売上原価－海運(内航)",7700200,"月次-売上原価"]
[351071,"売上原価－海運(代理店)",7700200,"月次-売上原価"]
[351072,"売上原価－海運(原価差額)",7700200,"月次-売上原価"]
[351080,"売上原価－付帯(構内)",7700200,"月次-売上原価"]
[351081,"売上原価－付帯(荷役・その他)",7700200,"月次-売上原価"]
[351082,"売上原価－付帯(原価差額)",7700200,"月次-売上原価"]
[351090,"売上原価－不動産",7700200,"月次-売上原価"]
[351091,"売上原価－不動産（原価差額）",7700200,"月次-売上原価"]
[352470,"売上原価－直接費（一括償却資産）",7700200,"月次-売上原価"]
[351211,"売上原価－陸運労務費(給与・賞与)",7700201,"月次-売上原価（労務費）"]
[351212,"売上原価－陸運労務費(その他)",7700201,"月次-売上原価（労務費）"]
[351213,"売上原価－海運労務費(給与・賞与)",7700201,"月次-売上原価（労務費）"]
[351214,"売上原価－海運労務費(その他)",7700201,"月次-売上原価（労務費）"]
[351215,"売上原価－倉庫労務費(給与・賞与)",7700201,"月次-売上原価（労務費）"]
[351216,"売上原価－倉庫労務費(その他)",7700201,"月次-売上原価（労務費）"]
[351231,"売上原価－陸運労務費（通勤費）",7700201,"月次-売上原価（労務費）"]
[351233,"売上原価－海運労務費（通勤費）",7700201,"月次-売上原価（労務費）"]
[351235,"売上原価－倉庫労務費（通勤費）",7700201,"月次-売上原価（労務費）"]
[351232,"売上原価－陸運労務費（法定福利費）",7700202,"月次-売上原価（法定福利費）"]
[351234,"売上原価－海運労務費（法定福利費）",7700202,"月次-売上原価（法定福利費）"]
[351236,"売上原価－倉庫労務費（法定福利費）",7700202,"月次-売上原価（法定福利費）"]
[352311,"売上原価－港保（諸税）",7700203,"月次-売上原価（諸税）"]
[352312,"売上原価－航保（諸税）",7700203,"月次-売上原価（諸税）"]
[352313,"売上原価－陸保（諸税）",7700203,"月次-売上原価（諸税）"]
[352314,"売上原価－倉保（諸税）",7700203,"月次-売上原価（諸税）"]
[352315,"売上原価－付保（諸税）",7700203,"月次-売上原価（諸税）"]
[351410,"売上原価－港保（修繕費）",7700204,"月次-売上原価（修繕費）"]
[351411,"売上原価－航保（修繕費）",7700204,"月次-売上原価（修繕費）"]
[351412,"売上原価－陸保（修繕費）",7700204,"月次-売上原価（修繕費）"]
[351413,"売上原価－倉保（修繕費）",7700204,"月次-売上原価（修繕費）"]
[351414,"売上原価－付保（修繕費）",7700204,"月次-売上原価（修繕費）"]
[352990,"売上原価－減価償却費",7700205,"月次-売上原価（直接減価償却費）"]
[824100,"一般管理費－役員報酬",7700300,"月次-人件費（役員報酬）"]
[824500,"一般管理費－役員賞与",7700300,"月次-人件費（役員報酬）"]
[351210,"売上原価－給与",7700301,"月次-人件費（職員給与）"]
[824200,"一般管理費－職員給与",7700301,"月次-人件費（職員給与）"]
[351220,"売上原価－雑給与",7700302,"月次-人件費（雑給与）"]
[824300,"一般管理費－雑給与",7700302,"月次-人件費（雑給与）"]
[351222,"売上原価－賞与引当金繰入額",7700303,"月次-人件費（賞与）"]
[351230,"売上原価－賞与",7700303,"月次-人件費（賞与）"]
[824600,"一般管理費－賞与引当金繰入額",7700303,"月次-人件費（賞与）"]
[824700,"一般管理費－賞与",7700303,"月次-人件費（賞与）"]
[351240,"売上原価－退職給付費用",7700304,"月次-人件費（退職金）"]
[351241,"売上原価－従業員退職金",7700304,"月次-人件費（退職金）"]
[824800,"一般管理費－退職給付費用",7700304,"月次-人件費（退職金）"]
[824810,"一般管理費－従業員退職金",7700304,"月次-人件費（退職金）"]
[825100,"一般管理費－役員退職慰労引当金繰入額",7700304,"月次-人件費（退職金）"]
[825110,"一般管理費－役員退職金",7700304,"月次-人件費（退職金）"]
[351250,"売上原価－法定福利費",7700305,"月次-人件費（法定福利費）"]
[824900,"一般管理費－法定福利費",7700305,"月次-人件費（法定福利費）"]
[351260,"売上原価－福利厚生費",7700306,"月次-人件費（福利厚生費）"]
[825000,"一般管理費－福利厚生費",7700306,"月次-人件費（福利厚生費）"]
[351221,"売上原価－派遣給与",7700307,"月次-人件費（派遣給与）"]
[824310,"一般管理費－派遣給与",7700307,"月次-人件費（派遣給与）"]
[351219,"売上原価－通勤費",7700308,"月次-人件費（通勤費）"]
[824320,"一般管理費－通勤費",7700308,"月次-人件費（通勤費）"]
[352600,"売上原価－交際費",7700400,"月次-経費（交際費）"]
[826800,"一般管理費－交際費",7700400,"月次-経費（交際費）"]
[352000,"売上原価－会議費",7700401,"月次-経費（会議費）"]
[826300,"一般管理費－会議費",7700401,"月次-経費（会議費）"]
[352920,"売上原価－雑費その他",7700402,"月次-経費（雑費・その他）"]
[827920,"一般管理費－雑費その他",7700402,"月次-経費（雑費・その他）"]
[351900,"売上原価－旅費交通費",7700403,"月次-経費（旅費）"]
[351910,"売上原価－国内旅費",7700403,"月次-経費（旅費）"]
[351920,"売上原価－海外旅費",7700403,"月次-経費（旅費）"]
[351940,"売上原価－タクシー",7700403,"月次-経費（旅費）"]
[826200,"一般管理費－旅費交通費",7700403,"月次-経費（旅費）"]
[826210,"一般管理費－国内旅費",7700403,"月次-経費（旅費）"]
[826220,"一般管理費－海外旅費",7700403,"月次-経費（旅費）"]
[826240,"一般管理費－タクシー",7700403,"月次-経費（旅費）"]
[352100,"売上原価－通信費",7700404,"月次-経費（通信費）"]
[352110,"売上原価－電話料",7700404,"月次-経費（通信費）"]
[352120,"売上原価－FAX料",7700404,"月次-経費（通信費）"]
[352130,"売上原価－郵便料",7700404,"月次-経費（通信費）"]
[352140,"売上原価－携帯電話料",7700404,"月次-経費（通信費）"]
[826400,"一般管理費－通信費",7700404,"月次-経費（通信費）"]
[826410,"一般管理費－電話料",7700404,"月次-経費（通信費）"]
[826420,"一般管理費－FAX料",7700404,"月次-経費（通信費）"]
[826430,"一般管理費－郵便料",7700404,"月次-経費（通信費）"]
[826440,"一般管理費－携帯電話料",7700404,"月次-経費（通信費）"]
[351300,"売上原価－光熱水道費",7700405,"月次-経費（光熱費）"]
[351310,"売上原価－電力費",7700405,"月次-経費（光熱費）"]
[351320,"売上原価－水道料",7700405,"月次-経費（光熱費）"]
[351330,"売上原価－ガス費",7700405,"月次-経費（光熱費）"]
[825200,"一般管理費－光熱水道費",7700405,"月次-経費（光熱費）"]
[825210,"一般管理費－電力料",7700405,"月次-経費（光熱費）"]
[825220,"一般管理費－水道料",7700405,"月次-経費（光熱費）"]
[825230,"一般管理費－ガス代",7700405,"月次-経費（光熱費）"]
[352400,"売上原価－用度品費",7700406,"月次-経費（用度品費）"]
[352410,"売上原価－備品",7700406,"月次-経費（用度品費）"]
[352420,"売上原価－事務用品代",7700406,"月次-経費（用度品費）"]
[352430,"売上原価－印刷代",7700406,"月次-経費（用度品費）"]
[352440,"売上原価－複写代",7700406,"月次-経費（用度品費）"]
[352450,"売上原価－用紙代",7700406,"月次-経費（用度品費）"]
[352460,"売上原価－間接費（一括償却資産）",7700406,"月次-経費（用度品費）"]
[826700,"一般管理費－用度品費",7700406,"月次-経費（用度品費）"]
[826710,"一般管理費－備品",7700406,"月次-経費（用度品費）"]
[826720,"一般管理費－事務用品",7700406,"月次-経費（用度品費）"]
[826730,"一般管理費－印刷代",7700406,"月次-経費（用度品費）"]
[826740,"一般管理費－複写代",7700406,"月次-経費（用度品費）"]
[826750,"一般管理費－用紙代",7700406,"月次-経費（用度品費）"]
[826760,"一般管理費－用品（一括償却資産）",7700406,"月次-経費（用度品費）"]
[352500,"売上原価－図書費",7700407,"月次-経費（図書費）"]
[826780,"一般管理費－図書費",7700407,"月次-経費（図書費）"]
[352800,"売上原価－会費",7700408,"月次-経費（会費）"]
[352810,"売上原価－会費加入費",7700408,"月次-経費（会費）"]
[352820,"売上原価－会費聴講費",7700408,"月次-経費（会費）"]
[826900,"一般管理費－会費",7700408,"月次-経費（会費）"]
[826910,"一般管理費－会費加入費",7700408,"月次-経費（会費）"]
[826920,"一般管理費－会費聴講費",7700408,"月次-経費（会費）"]
[352200,"売上原価－寄付金",7700409,"月次-経費（寄付金）"]
[352210,"売上原価－指定寄付金",7700409,"月次-経費（寄付金）"]
[352220,"売上原価－特定公益増進法人寄付金",7700409,"月次-経費（寄付金）"]
[826500,"一般管理費－寄付金",7700409,"月次-経費（寄付金）"]
[826510,"一般管理費－指定寄付金",7700409,"月次-経費（寄付金）"]
[826520,"一般管理費－特定公益増進法人寄付金",7700409,"月次-経費（寄付金）"]
[351500,"売上原価－広告宣伝費",7700410,"月次-経費（広告宣伝費）"]
[825700,"一般管理費－広告宣伝費",7700410,"月次-経費（広告宣伝費）"]
[351600,"売上原価－賃借料",7700411,"月次-経費（賃借料）"]
[351610,"売上原価－賃借事務所",7700411,"月次-経費（賃借料）"]
[351620,"売上原価－賃借事務器",7700411,"月次-経費（賃借料）"]
[351630,"売上原価－賃借端末",7700411,"月次-経費（賃借料）"]
[351640,"売上原価－賃借システム",7700411,"月次-経費（賃借料）"]
[351650,"売上原価－賃借駐車場",7700411,"月次-経費（賃借料）"]
[825500,"一般管理費－賃借料",7700411,"月次-経費（賃借料）"]
[825510,"一般管理費－賃借事務所",7700411,"月次-経費（賃借料）"]
[825520,"一般管理費－賃借事務器",7700411,"月次-経費（賃借料）"]
[825530,"一般管理費－賃借端末",7700411,"月次-経費（賃借料）"]
[825540,"一般管理費－賃借システム",7700411,"月次-経費（賃借料）"]
[825550,"一般管理費－賃借駐車場",7700411,"月次-経費（賃借料）"]
[351400,"売上原価－修繕費",7700412,"月次-経費（修繕費）"]
[351415,"売上原価－修繕費(ソフトウェア保守費)",7700412,"月次-経費（修繕費）"]
[825600,"一般管理費－修繕費",7700412,"月次-経費（修繕費）"]
[825610,"一般管理費－修繕費(ソフトウェア保守費)",7700412,"月次-経費（修繕費）"]
[351700,"売上原価－保険",7700413,"月次-経費（保険料）"]
[351710,"売上原価－火災保険",7700413,"月次-経費（保険料）"]
[351720,"売上原価－自動車保険",7700413,"月次-経費（保険料）"]
[826000,"一般管理費－保険料",7700413,"月次-経費（保険料）"]
[826010,"一般管理費－火災保険",7700413,"月次-経費（保険料）"]
[826020,"一般管理費－自動車保険",7700413,"月次-経費（保険料）"]
[351270,"売上原価－外部委託費",7700414,"月次-経費（雑費）"]
[352700,"売上原価－契約報酬",7700414,"月次-経費（雑費）"]
[352900,"売上原価－雑費",7700414,"月次-経費（雑費）"]
[825120,"一般管理費－外部委託費",7700414,"月次-経費（雑費）"]
[827300,"一般管理費－契約報酬",7700414,"月次-経費（雑費）"]
[352910,"売上原価－雑費金融",7700415,"月次-経費（雑費金融）"]
[827910,"一般管理費－雑費金融",7700415,"月次-経費（雑費金融）"]
[352310,"売上原価－租税公課",7700416,"月次-経費（租税公課）"]
[352320,"売上原価－事業所税",7700416,"月次-経費（租税公課）"]
[826600,"一般管理費－租税公課",7700416,"月次-経費（租税公課）"]
[826610,"一般管理費－事業所税",7700416,"月次-経費（租税公課）"]
[826620,"一般管理費－事業税",7700416,"月次-経費（租税公課）"]
[827900,"一般管理費－雑費",7700414,"月次-経費（雑費）"]
[827000,"一般管理費－減価償却費",7700417,"月次-経費（間接減価償却費）"]
[861000,"受取利息",7700500,"月次-営業外収益"]
[861200,"有価証券利息",7700500,"月次-営業外収益"]
[861400,"スワップ受取利息",7700500,"月次-営業外収益"]
[862000,"受取配当金",7700500,"月次-営業外収益"]
[865510,"賃貸料",7700500,"月次-営業外収益"]
[865600,"受取手数料",7700500,"月次-営業外収益"]
[865710,"営業外収益－その他",7700500,"月次-営業外収益"]
[865810,"実現為替益",7700500,"月次-営業外収益"]
[865820,"評価為替益",7700500,"月次-営業外収益"]
[878310,"固定資産売却益",7700500,"月次-営業外収益"]
[878320,"投資有価証券売却益",7700500,"月次-営業外収益"]
[827100,"一般管理費－貸倒引当金繰入額",7700600,"月次-営業外費用"]
[827200,"一般管理費－貸倒償却",7700600,"月次-営業外費用"]
[881000,"支払利息",7700600,"月次-営業外費用"]
[881100,"借入金利息",7700600,"月次-営業外費用"]
[881200,"社債利息",7700600,"月次-営業外費用"]
[881400,"スワップ支払利息",7700600,"月次-営業外費用"]
[882000,"事故費",7700600,"月次-営業外費用"]
[882100,"保証債務費用",7700600,"月次-営業外費用"]
[884710,"営業外費用－その他",7700600,"月次-営業外費用"]
[884810,"実現為替損",7700600,"月次-営業外費用"]
[884820,"評価為替損",7700600,"月次-営業外費用"]
[885110,"固定資産売却損",7700600,"月次-営業外費用"]
[885120,"固定資産除却損",7700600,"月次-営業外費用"]
[885130,"特別損失-減損損失",7700600,"月次-営業外費用"]
[885140,"固定資産撤去費用等",7700600,"月次-営業外費用"]
[885150,"投資有価証券売却損",7700600,"月次-営業外費用"]
[885160,"投資有価証券評価損",7700600,"月次-営業外費用"]
[896310,"固定資産除却 仮勘定",7700600,"月次-営業外費用"]
[878399,"特別利益－その他","設定なし"]
[885170,"特別損失-貸倒引当金繰入額","設定なし"]
[885199,"特別損失－その他","設定なし"]
[null,null,4600018,"管理会計ダミーコード"]

{"sheet":"Module1","index":9,"n_rows":0,"n_cols":0,"rows_kept":0,"cut":false,"hidden":true,"merged":[]}

{"sheet":"部課コード表","index":10,"n_rows":445,"n_cols":9,"rows_kept":445,"cut":false,"hidden":false,"merged":[[1,1,1,7],[3,0,3,1],[9,0,11,0],[9,1,11,1],[9,2,11,2],[9,3,11,3],[9,5,9,7],[10,5,11,6],[10,7,11,7]]}
[]
[null,"2019年度　部課コード表"]
[]
["2019.12.10"]
[]
[null,"※NEOS一般出金依頼票 【摘要検索】選択時に下記経費科目区分を参照してください。"]
[null,"※\"R3情報\"は経理部使用。"]
[]
[]
["部門コード","部課コ－ド","部　課　名　称","経費科目区分",null,"R3情報"]
[null,null,null,null,null,"事業領域",null,"原価センター区分"]
[]
[null,10,"本社"]
[10,"0100","本社　本社","管理",null,"NS00","全社","一般管理費部門"]
[10,"0101","本社　役員","管理",null,"NS00","全社","一般管理費部門"]
[10,"0102","本社　執行役員","管理",null,"NS00","全社","一般管理費部門"]
[10,"0105","本社　弁護士・会計士","管理",null,"NS00","全社","一般管理費部門"]
[10,"0106","本社　人件費管理","管理",null,"NS00","全社","一般管理費部門"]
[10,"0109","本社　全社・経費","管理",null,"NS00","全社","一般管理費部門"]
[10,"0181","本社　市川社宅","管理",null,"NS00","全社","一般管理費部門"]
[10,"0182","本社　浅間台家族寮","管理",null,"NS00","全社","一般管理費部門"]
[10,"0183","本社　浅間台独身寮","管理",null,"NS00","全社","一般管理費部門"]
[10,"0188","本社　白浜荘","管理",null,"NS00","全社","一般管理費部門"]
[10,"0189","本社　女子独身寮","管理",null,"NS00","全社","一般管理費部門"]
[10,"0191","本社　出向・国内","管理",null,"NS00","全社","一般管理費部門"]
[10,"0193","本社　顧問・嘱託","管理",null,"NS00","全社","一般管理費部門"]
[10,"0194","本社　長期療養者","管理",null,"NS00","全社","一般管理費部門"]
[10,"0204","本社　出向・米州","管理",null,"NS00","全社","一般管理費部門"]
[10,"0206","本社　出向・欧州","管理",null,"NS00","全社","一般管理費部門"]
[10,"0207","本社　出向・中国","管理",null,"NS00","全社","一般管理費部門"]
[10,"0209","本社　出向・アジア","管理",null,"NS00","全社","一般管理費部門"]
[10,"0895","営業本部","管理",null,"NS00","全社","一般管理費部門"]
[10,"0896","管理本部","管理",null,"NS00","全社","一般管理費部門"]
[null,null,"本社管理 総務・ｺﾝﾌﾟﾗｲｱﾝｽ部"]
[10,"0129","総務コンプライアンス部　（共通）","管理",null,"NS00","全社","一般管理費部門"]
[null,null,"本社管理 事業戦略部 (ｸﾞﾛｰﾊﾞﾙ･ｱｶｳﾝﾄ)"]
[10,"0836","事業戦略部　開発チーム","管理",null,"NS01","国際海上貨物","販売管理部門"]
[null,null,"本社管理 人件費"]
[10,"0146","人事部　文化体育担当","管理",null,"NS00","全社","一般管理費部門"]
[10,"0147","人事部　海外研修員","管理",null,"NS00","全社","一般管理費部門"]
[10,"0149","人事部　共通(人事)","管理",null,"NS00","全社","一般管理費部門"]
[null,null,"本社管理 安全環境管理部"]
[10,"0165","安全環境管理部　安全環境管理","管理",null,"NS00","本社","一般管理費部門","※2019.04新設"]
[null,null,"本社管理 経営企画部"]
[10,"0721","経営企画部　本社費用管理","管理",null,"NS00","本社","一般管理費部門","※2019.04新設"]
[null,null,"本社管理 Genesis19"]
[10,"0829","Genesis19","管理",null,"NS00","本社","一般管理費部門","※2019.04新設"]
[null,null,"本社管理 システム"]
[10,"0701","総合システム部　新海上システム管理コード","管理",null,"NS01","国際海上貨物","一般管理費部門"]
[10,"0702","総合システム部　新航空システム管理コード","管理",null,"NS02","国際航空事業","一般管理費部門"]
[10,"0703","総合システム部　新倉庫システム管理コード","管理",null,"NS04","倉庫（含む物流センター）","一般管理費部門"]
[10,"0704","総合システム部　CATOS管理コード","管理",null,"NS06","関連事業","一般管理費部門"]
[10,"0705","総合システム部　新会計システム","管理",null,"NS00","全社","一般管理費部門"]
[10,"0706","総合システム部　代理店システム","管理",null,"NS00","全社","一般管理費部門"]
[10,"0707","総合システム部　海外システム管理コード","管理",null,"NS01","国際海上貨物","一般管理費部門"]
[null,18,"秘書室"]
[18,"0150","秘書室　　　　　　　","管理",null,"NS00","全社","一般管理費部門"]
[18,"0151","秘書室　乗用車関係　　","管理",null,"NS00","全社","一般管理費部門"]
[null,71,"監査室"]
[71,"0710","監査室","管理",null,"NS00","全社","一般管理費部門","※2019.04名称変更"]
[null,76,"業務管理室"]
[76,"0760","業務管理室","管理",null,"NS00","全社","一般管理費部門"]
[null,72,"経営企画部"]
[72,"0720","経営企画部　本部","管理",null,"NS00","全社","一般管理費部門"]
[null,88,"ＡＥＯ統括室"]
[88,"0880","ＡＥＯ統括室","管理",null,"NS00","全社","一般管理費部門","※2019.07名称誤字訂正"]
[null,12,"総務コンプライアンス部"]
[12,"0120","総務コンプライアンス部　本部","管理",null,"NS00","全社","一般管理費部門"]
[12,"0121","総務コンプライアンス部　総務課","管理",null,"NS00","全社","一般管理費部門"]
[12,"0124","総務コンプライアンス部　総務課　社内報","管理",null,"NS00","全社","一般管理費部門"]
[12,"0123","総務コンプライアンス部　オフィス管理課","管理",null,"NS00","全社","一般管理費部門","※2019.04新設"]
[12,"0125","総務コンプライアンス部　不動産","管理",null,"NS07","不動産事業","一般管理費部門","※2019.05新設"]
[12,"0127","総務コンプライアンス部　法務課","管理",null,"NS00","全社","一般管理費部門"]
[12,"0128","総務コンプライアンス部　持株会","管理",null,"NS00","全社","一般管理費部門"]
[null,14,"人事部"]
[14,"0140","人事部　本部","管理",null,"NS00","全社","一般管理費部門"]
[14,"0143","人事部　海外人事課","管理",null,"NS00","全社","一般管理費部門"]
[14,"0142","人事部　給与厚生課","管理",null,"NS00","全社","一般管理費部門"]
[14,"0141","人事部　人事課","管理",null,"NS00","全社","一般管理費部門"]
[14,"0144","人事部　労政課","管理",null,"NS00","全社","一般管理費部門"]
[14,"0145","人事部　人材育成センター","管理",null,"NS00","全社","一般管理費部門"]
[null,16,"安全環境管理部"]
[16,"0160","安全環境管理部　本部","管理",null,"NS00","全社","一般管理費部門"]
[16,"0161","安全環境管理部　環境管理課","管理",null,"NS00","全社","一般管理費部門"]
[16,"0162","安全環境管理部　安全管理課","管理",null,"NS00","全社","一般管理費部門"]
[null,11,"総合システム部"]
[11,"0110","総合システム部　本部","管理",null,"NS00","全社","一般管理費部門"]
[11,"0114","総合システム部　海外システム課","管理",null,"NS00","全社","一般管理費部門"]
[11,"0115","総合システム部　国内システム課","管理",null,"NS00","全社","一般管理費部門"]
[11,"0112","総合システム部　システム管理課","管理",null,"NS00","全社","一般管理費部門"]
[11,"0113","総合システム部　システム営業課","管理",null,"NS00","全社","一般管理費部門"]
[11,"0117","総合システム部　ＡＩ＋ＲＰＡ推進チーム","管理",null,"NS00","全社","一般管理費部門"]
[11,"0116","総合システム部　関西システム課","管理",null,"NS00","全社","一般管理費部門"]
[11,"0118","総合システム部　社内レンタル","管理",null,"NS00","全社","一般管理費部門"]
[11,"0119","総合システム部　コンピュータ共通経費","管理",null,"NS00","全社","一般管理費部門"]
[null,82,"不動産室"]
[82,"0820","不動産室","管理",null,"NS00","全社","販売管理部門"]
[82,"0821","不動産室　ＣＲＥ企画課","管理",null,"NS00","全社","販売管理部門"]
[82,"0822","不動産室　施設課","管理",null,"NS00","全社","販売管理部門"]
[82,"0197","不動産室　不動産事業管理コード","管理",null,"NS07","不動産業","販売管理部門"]
[null,86,"関係会社管理室"]
[86,"0770","関係会社管理室","管理",null,"NS00","全社","販売管理部門"]
[null,13,"経理部"]
[13,"0130","経理部　本部","管理",null,"NS00","全社","一般管理費部門"]
[13,"0402","経理部　管理会計課","管理",null,"NS00","全社","一般管理費部門"]
[13,"0403","経理部　経理課","管理",null,"NS00","全社","一般管理費部門","※2019.04名称変更"]
[13,"0134","経理部　債権管理課","管理",null,"NS00","全社","一般管理費部門"]
[13,"0139","経理部　関係会社経理課","管理",null,"NS00","全社","一般管理費部門"]
[13,"0131","経理部　財務課","管理",null,"NS00","全社","一般管理費部門","※2019.04名称変更"]
[13,"0409","経理部　IFRS準備室","管理",null,"NS00","全社","一般管理費部門"]
[null,77,"業務高度化推進室"]
[77,"0827","業務高度化推進室","管理",null,"NS00","全社","販売管理部門"]
[null,83,"事業戦略部"]
[83,"0830","事業戦略部　本部","管理",null,"NS01","国際海上貨物","販売管理部門"]
[83,"0825","事業戦略部　業務課","管理",null,"NS00","全社","販売管理部門"]
[83,"0170","事業戦略部　グループ事業推進課","管理",null,"NS00","全社","販売管理部門"]
[83,"0833","事業戦略部　物流品質改善課","管理",null,"NS01","国際海上貨物","販売管理部門"]
[83,"0751","事業戦略部　中国室","管理",null,"NS01","国際海上貨物","販売管理部門"]
[83,"0828","事業戦略部　国際鉄道推進室","管理",null,"NS00","全社","販売管理部門"]
[null,84,"海外地域本部"]
[84,"0752","海外地域本部　中国本部　北京事務所","管理",null,"NS01","国際海上貨物","販売管理部門"]
[84,"0753","海外地域本部　中国本部　上海事務所","管理",null,"NS01","国際海上貨物","販売管理部門"]
[84,"0834","海外地域本部　アジア本部　ヤンゴン駐在員事務所","管理",null,"NS01","国際海上貨物","販売管理部門"]
[84,"0840","海外地域本部　米州本部　米州統轄","管理",null,"NS00","全社","販売管理部門"]
[84,"0841","海外地域本部　欧州本部　欧州統轄","管理",null,"NS00","全社","販売管理部門"]
[84,"0838","海外地域本部　アジア本部　アジア統轄","管理",null,"NS00","全社","販売管理部門"]
[84,"0839","海外地域本部　中国本部　中国統轄","管理",null,"NS00","全社","販売管理部門"]
[84,"0745","海外地域本部　欧州本部　アルマトイ駐在員事務所","管理",null,"NS01","国際海上貨物","販売管理部門"]
[84,"0749","海外地域本部　欧州本部　モスクワ駐在員事務所","管理",null,"NS01","国際海上貨物","販売管理部門"]
[84,"0842","海外地域本部　アジア本部　プノンペン駐在員事務所","管理",null,"NS00","全社","販売管理部門"]
[null,41,"総合営業第三部"]
[41,"0410","総合営業第三部　本部","管理",null,"NS03","国内輸送","販売管理部門"]
[41,"0413","総合営業第三部　営業第一課","管理",null,"NS06","関連事業","販売管理部門"]
[41,"0412","総合営業第三部　営業第二課","管理",null,"NS03","国内輸送","販売管理部門"]
[41,"0422","総合営業第三部　営業第二課　茨城営業所","原価",null,"NS03","国内輸送","生産原価部門"]
[41,"0419","総合営業第三部　営業第三課","管理",null,"NS01","国際海上貨物","販売管理部門"]
[41,"0420","総合営業第三部　営業第三課　川崎化成品油槽所","原価",null,"NS03","国内輸送","生産原価部門"]
[41,"0236","総合営業第三部　営業第三課　浮島営業所","原価",null,"NS03","国内輸送","生産原価部門"]
[41,"0414","総合営業第三部　倉庫営業課　新興倉庫営業所","原価",null,"NS04","倉庫（含む物流センター）","生産原価部門"]
[41,"0424","総合営業第三部　倉庫営業課　芝浦営業所","原価",null,"NS06","関連事業","生産原価部門"]
[41,"0427","総合営業第三部　鶴見営業課","原価",null,"NS03","国内輸送","生産原価部門"]
[41,"0421","総合営業第三部　川崎営業課","管理",null,"NS03","国内輸送","販売管理部門"]
[41,"0425","総合営業第三部　川崎営業課　不動産","原価",null,"NS07","不動産事業","生産原価部門"]
[41,"0415","総合営業第三部　根岸事業所","原価",null,"NS03","国内輸送","生産原価部門"]
[null,26,"陸運部"]
[26,"0260","陸運部　本部","原価",null,"NS03","国内輸送","生産原価部門"]
[26,"0253","陸運部　運輸課","原価",null,"NS03","国内輸送","生産原価部門"]
[26,"0418","陸運部　営業課","管理",null,"NS03","国内輸送","販売管理部門"]
[26,"0254","陸運部　営業課　出田町営業所","原価",null,"NS03","国内輸送","生産原価部門"]
[26,"0227","陸運部　営業課　横浜羽沢営業所","原価",null,"NS03","国内輸送","生産原価部門"]
[null,47,"千葉支店"]
[47,"0470","千葉支店　本部","原価",null,"NS01","国際海上貨物","生産原価部門"]
[47,"0472","千葉支店　営業第一課","原価",null,"NS04","倉庫（含む物流センター）","生産原価部門"]
[47,"0475","千葉支店　営業第一課千葉倉庫営業所","原価",null,"NS04","倉庫（含む物流センター）","生産原価部門"]
[47,"0473","千葉支店　営業第一課旧支店跡地","原価",null,"NS03","国内輸送","生産原価部門"]
[47,"0478","千葉支店　営業第一課配車センター","原価",null,"NS07","不動産事業","生産原価部門"]
[47,"0477","千葉支店　営業第二課","原価",null,"NS01","国際海上貨物","生産原価部門"]
[47,"0479","千葉支店　営業第二課　不動産","原価",null,"NS07","不動産事業","生産原価部門"]
[null,32,"港運部"]
[32,"0320","港運部　本部","原価",null,"NS01","国際海上貨物","生産原価部門"]
[32,"0322","港運部　港運課　在来船係","原価",null,"NS01","国際海上貨物","生産原価部門"]
[32,"0325","港運部　港運課　南本牧タｰミナル営業所","原価",null,"NS01","国際海上貨物","生産原価部門"]
[32,"0327","港運部　港運課　シッピング係","原価",null,"NS01","国際海上貨物","生産原価部門"]
[32,"0328","港運部　港運課　大黒マルチターミナル営業所","原価",null,"NS01","国際海上貨物","生産原価部門"]
[32,"0329","港運部　代理店課","原価",null,"NS01","国際海上貨物","生産原価部門"]
[32,"0323","港運部　代理店課　代理店チーム","原価",null,"NS06","関連事業","生産原価部門"]
[32,"0300","海運・港運事業室","管理",null,"NS01","国際海上貨物","販売管理部門"]
[32,"0460","港運部　船舶代理店室　本部","管理",null,"NS06","関連事業","販売管理部門"]
[32,"0464","港運部　船舶代理店室　業務課","管理",null,"NS06","関連事業","販売管理部門"]
[32,"0468","港運部　船舶代理店室　東京代理店課","管理",null,"NS06","関連事業","販売管理部門"]
[32,"0469","港運部　船舶代理店室　大阪代理店課","管理",null,"NS06","関連事業","販売管理部門"]
[32,"0465","港運部　船舶代理店室　大阪代理店課開発チーム","管理",null,"NS06","関連事業","販売管理部門"]
[null,33,"京浜支店"]
[33,"0330","京浜支店　本部","原価",null,"NS04","倉庫（含む物流センター）","生産原価部門"]
[33,"0340","京浜支店　営業本部","原価",null,"NS04","倉庫（含む物流センター）","生産原価部門"]
[33,"0343","京浜支店　営業本部　穀物","原価",null,"NS04","倉庫（含む物流センター）","生産原価部門"]
[33,"0331","京浜支店　業務課","原価",null,"NS04","倉庫（含む物流センター）","生産原価部門"]
[33,"0383","京浜支店　業務課　沿岸作業所","原価",null,"NS01","国際海上貨物","生産原価部門"]
[33,"0333","京浜支店　業務課　万国橋営業所","原価",null,"NS07","不動産事業","生産原価部門"]
[33,"0341","京浜支店　第一課　本牧営業所　西倉庫","原価",null,"NS04","倉庫（含む物流センター）","生産原価部門"]
[33,"0342","京浜支店　第一課　本牧営業所　東倉庫","原価",null,"NS04","倉庫（含む物流センター）","生産原価部門"]
[33,"0359","京浜支店　第一課　Ｃ突営業所","原価",null,"NS01","国際海上貨物","生産原価部門"]
[33,"0384","京浜支店　第二課　Ａ突営業所","原価",null,"NS01","国際海上貨物","生産原価部門"]
[33,"0376","京浜支店　第二課　大黒Ｌ２","原価",null,"NS03","国内輸送","生産原価部門"]
[33,"0378","京浜支店　第二課　大黒Ｌ５","原価",null,"NS01","国際海上貨物","生産原価部門"]
[33,"0379","京浜支店　第二課　大黒車両ターミナルセンター","原価",null,"NS01","国際海上貨物","生産原価部門"]
[33,"0332","京浜支店　第三課　神奈川倉庫","原価",null,"NS04","倉庫（含む物流センター）","生産原価部門"]
[33,"0335","京浜支店　第三課　神奈川埠頭営業所","原価",null,"NS04","倉庫（含む物流センター）","生産原価部門"]
[33,"0339","京浜支店　第三課　神奈川サイロ","原価",null,"NS04","倉庫（含む物流センター）","生産原価部門"]
[33,"0377","京浜支店　第三課　大黒埠頭倉庫営業所","原価",null,"NS04","倉庫（含む物流センター）","生産原価部門"]
[33,"0374","京浜支店　第四課　川崎営業所","原価",null,"NS01","国際海上貨物","生産原価部門"]
[33,"0375","京浜支店　第四課　川崎営業所　不動産","原価",null,"NS07","不動産事業","生産原価部門"]
[33,"0354","京浜支店　第四課　東扇島営業所","原価",null,"NS01","国際海上貨物","生産原価部門"]
[33,"0392","京浜支店　第五課　大井倉庫営業所","原価",null,"NS04","倉庫（含む物流センター）","生産原価部門"]
[33,"0394","京浜支店　第五課　青海倉庫営業所","原価",null,"NS04","倉庫（含む物流センター）","生産原価部門"]
[33,"0393","京浜支店　第五課　平和島営業所","原価",null,"NS04","倉庫（含む物流センター）","生産原価部門"]
[33,"0395","京浜支店　第五課　青海流通営業所","原価",null,"NS04","倉庫（含む物流センター）","生産原価部門"]
[33,"0398","京浜支店　第六課　東京冷蔵倉庫営業所　　","原価",null,"NS04","倉庫（含む物流センター）","生産原価部門"]
[null,49,"通関部"]
[49,"0490","通関部　本部","原価",null,"NS01","国際海上貨物","生産原価部門"]
[49,"0484","通関部　管理課","原価",null,"NS01","国際海上貨物","生産原価部門"]
[49,"0866","通関部　輸入通関（通関部統一）","原価",null,"NS01","国際海上貨物","生産原価部門","※2019.12新設"]
[49,"0867","通関部　輸入受渡（通関部統一）","原価",null,"NS01","国際海上貨物","生産原価部門","※2019.12新設"]
[49,"0868","通関部　輸出通関（通関部統一）","原価",null,"NS01","国際海上貨物","生産原価部門","※2019.12新設"]
[49,"0869","通関部　輸出受渡（通関部統一）","原価",null,"NS01","国際海上貨物","生産原価部門","※2019.12新設"]
[49,"0488","通関部　IT推進課","原価",null,"NS01","国際海上貨物","生産原価部門"]
[49,"0480","通関部　関東本部（横浜）","原価",null,"NS01","国際海上貨物","生産原価部門"]
[49,"0491","通関部　関東本部（東京）","原価",null,"NS01","国際海上貨物","生産原価部門"]
[49,"0481","通関部　横浜輸入課通関","原価",null,"NS01","国際海上貨物","生産原価部門"]
[49,"0483","通関部　横浜輸入課受渡","原価",null,"NS01","国際海上貨物","生産原価部門"]
[49,"0497","通関部　横浜輸入課千葉通関","原価",null,"NS01","国際海上貨物","生産原価部門"]
[49,"0499","通関部　横浜輸入課千葉受渡","原価",null,"NS01","国際海上貨物","生産原価部門"]
[49,"0482","通関部　関東輸出課横浜通関","原価",null,"NS01","国際海上貨物","生産原価部門"]
[49,"0489","通関部　関東輸出課YAT通関","原価",null,"NS01","国際海上貨物","生産原価部門"]
[49,"0496","通関部　関東輸出課千葉通関","原価",null,"NS01","国際海上貨物","生産原価部門"]
[49,"0494","通関部　東京輸入課通関","原価",null,"NS01","国際海上貨物","生産原価部門"]
[49,"0495","通関部　東京輸入課受渡","原価",null,"NS01","国際海上貨物","生産原価部門"]
[49,"0493","通関部　東京輸入課輸出通関","原価",null,"NS01","国際海上貨物","生産原価部門"]
[49,"0850","通関部　関西本部（大阪）","原価",null,"NS01","国際海上貨物","生産原価部門"]
[49,"0860","通関部　関西本部（神戸）","原価",null,"NS01","国際海上貨物","生産原価部門"]
[49,"0855","通関部　関西輸出課大阪通関","原価",null,"NS01","国際海上貨物","生産原価部門"]
[49,"0856","通関部　関西輸出課大阪受渡","原価",null,"NS01","国際海上貨物","生産原価部門"]
[49,"0857","通関部　大阪輸入課通関","原価",null,"NS01","国際海上貨物","生産原価部門"]
[49,"0858","通関部　大阪輸入課受渡","原価",null,"NS01","国際海上貨物","生産原価部門"]
[49,"0864","通関部　神戸輸入課通関","原価",null,"NS01","国際海上貨物","生産原価部門"]
[49,"0865","通関部　神戸輸入課受渡","原価",null,"NS01","国際海上貨物","生産原価部門"]
[49,"0862","通関部　神戸輸入課輸出通関","原価",null,"NS01","国際海上貨物","生産原価部門"]
[49,"0900","通関部　業務センター本部","原価",null,"NS01","国際海上貨物","生産原価部門"]
[49,"0905","通関部　カスタマーサービス課","原価",null,"NS01","国際海上貨物","生産原価部門"]
[49,"0863","通関部　関西ドキュメント業務課","原価",null,"NS01","国際海上貨物","生産原価部門"]
[49,"0485","通関部　関東ドキュメント業務課DO/BLチーム","原価",null,"NS01","国際海上貨物","生産原価部門"]
[49,"0486","通関部 関東ﾄﾞｷｭﾒﾝﾄ業務課 ﾄﾞｷｭﾒﾝﾄ輸入ﾁｰﾑ","原価",null,"NS01","国際海上貨物","生産原価部門","※2019.05名称変更"]
[49,"0487","通関部 関東ﾄﾞｷｭﾒﾝﾄ業務課 ACLﾁｰﾑ","原価",null,"NS01","国際海上貨物","生産原価部門","※2019.05名称変更"]
[49,"0901","通関部 関東ﾄﾞｷｭﾒﾝﾄ業務課 ﾄﾞｷｭﾒﾝﾄ輸出ﾁｰﾑ","原価",null,"NS01","国際海上貨物","生産原価部門","※2019.05名称変更"]
[49,"0906","通関部　関東ドキュメント業務課NEOSチーム","原価",null,"NS01","国際海上貨物","生産原価部門"]
[null,27,"国際営業第一部"]
[27,"0270","国際営業第一部　本部","管理",null,"NS01","国際海上貨物","販売管理部門"]
[27,"0291","国際営業第一部　複合業務課","原価",null,"NS01","国際海上貨物","生産原価部門"]
[27,"0292","国際営業第一部　複合業務課　沖縄事務所","原価",null,"NS01","国際海上貨物","生産原価部門"]
[27,"0293","国際営業第一部　複合業務課　沖縄事務所　引越チーム","管理",null,"NS05","引越","販売管理部門"]
[27,"0296","国際営業第一部　複合輸送一課輸出","管理",null,"NS01","国際海上貨物","販売管理部門"]
[27,"0272","国際営業第一部　複合輸送二課 ＧＡＰ","管理",null,"NS01","国際海上貨物","販売管理部門"]
[27,"0273","国際営業第一部　複合輸送二課 （0273）","管理",null,"NS01","国際海上貨物","販売管理部門","※2019.10名称変更"]
[27,"0274","国際営業第一部　複合輸送二課 海貨","管理",null,"NS01","国際海上貨物","販売管理部門"]
[27,"0294","国際営業第一部　複合輸送二課 ＮＶＯ","管理",null,"NS01","国際海上貨物","販売管理部門"]
[27,"0271","国際営業第一部　複合輸送二課 ＯＬＣ","管理",null,"NS01","国際海上貨物","販売管理部門"]
[27,"0275","国際営業第一部　タンクコンテナ課","管理",null,"NS01","国際海上貨物","販売管理部門"]
[27,"0280","国際営業第一部　本牧事業所","原価",null,"NS01","国際海上貨物","生産原価部門"]
[27,"0282","国際営業第一部　本牧事業所作業課","原価",null,"NS01","国際海上貨物","生産原価部門"]
[27,"0289","国際営業第一部　本牧事業所作業課リペア","原価",null,"NS01","国際海上貨物","生産原価部門"]
[27,"0283","国際営業第一部　本牧事業所輸送課","原価",null,"NS03","国内輸送","生産原価部門"]
[27,"0281","国際営業第一部　南本牧物流センター","原価",null,"NS01","国際海上貨物","生産原価部門"]
[27,"0285","国際営業第一部　東京ロジスティクスセンター","原価",null,"NS01","国際海上貨物","生産原価部門"]
[27,"0450","国際営業第一部　プラント本部","管理",null,"NS01","国際海上貨物","販売管理部門"]
[27,"0451","国際営業第一部　プラント一課","管理",null,"NS01","国際海上貨物","販売管理部門"]
[27,"0457","国際営業第一部　プラント二課","管理",null,"NS01","国際海上貨物","販売管理部門"]
[27,"0458","国際営業第一部　プラント二課機工チーム","管理",null,"NS06","関連事業","販売管理部門"]
[27,"0740","国際営業第一部　ロシア・ＣＩＳ室　本部","管理",null,"NS01","国際海上貨物","販売管理部門"]
[27,"0297","国際営業第一部　ロシア・ＣＩＳ室　営業","管理",null,"NS01","国際海上貨物","販売管理部門"]
[null,43,"国際営業第二部"]
[43,"0430","国際営業第二部　本部","管理",null,"NS01","国際海上貨物","販売管理部門"]
[43,"0442","国際営業第二部　営業第一課　","管理",null,"NS01","国際海上貨物","販売管理部門"]
[43,"0434","国際営業第二部　営業第一課　青海営業所","管理",null,"NS04","倉庫（含む物流センター）","販売管理部門"]
[43,"0433","国際営業第二部　営業第一課　大牟田営業所","管理",null,"NS01","国際海上貨物","販売管理部門"]
[43,"0435","国際営業第二部　営業第一課　伊勢崎・太田営業所","管理",null,"NS01","国際海上貨物","販売管理部門"]
[43,"0432","国際営業第二部　営業第一課　ＪＧＳＤＦ","管理",null,"NS01","国際海上貨物","販売管理部門"]
[43,"0443","国際営業第二部　営業第二課","管理",null,"NS01","国際海上貨物","販売管理部門"]
[43,"0436","国際営業第二部　営業第二課　守谷倉庫営業所","管理",null,"NS04","倉庫（含む物流センター）","販売管理部門"]
[43,"0447","国際営業第二部　営業第三課","管理",null,"NS01","国際海上貨物","販売管理部門"]
[43,"0446","国際営業第二部　営業第三課　平和島営業所","管理",null,"NS01","国際海上貨物","販売管理部門"]
[43,"0431","国際営業第二部　営業第三課　離島関連","管理",null,"NS01","国際海上貨物","販売管理部門","※2019.04帰属変更"]
[43,"0441","国際営業第二部　営業第四課","管理",null,"NS01","国際海上貨物","販売管理部門"]
[43,"0448","国際営業第二部　営業第四課　デュポン関連","管理",null,"NS01","国際海上貨物","販売管理部門","※2019.04帰属変更"]
[43,"0795","国際営業第二部　芳賀グル―プ","原価",null,"NS04","倉庫（含む物流センター）","生産原価部門"]
[null,31,"国際営業第三部"]
[31,"0310","国際営業第三部　本部","管理",null,"NS01","国際海上貨物","販売管理部門"]
[31,"0311","国際営業第三部　営業第一課","管理",null,"NS01","国際海上貨物","販売管理部門"]
[31,"0314","国際営業第三部　営業第一課（ハコセン）","管理",null,"NS01","国際海上貨物","販売管理部門","※2019.04新設"]
[31,"0315","国際営業第三部　営業第二課","管理",null,"NS01","国際海上貨物","販売管理部門"]
[31,"0313","国際営業第三部　営業第三課","管理",null,"NS01","国際海上貨物","販売管理部門"]
[31,"0312","国際営業第三部　営業第四課","管理",null,"NS01","国際海上貨物","販売管理部門"]
[31,"0316","国際営業第三部　営業第四課（チーズ）","管理",null,"NS01","国際海上貨物","販売管理部門"]
[null,73,"引越部"]
[73,"0730","引越部　本部　　","管理",null,"NS05","引越","販売管理部門"]
[73,"0732","引越部　第一課　事務所移転","管理",null,"NS05","引越","販売管理部門"]
[73,"0734","引越部　第一課　海外・国内引越","管理",null,"NS05","引越","販売管理部門"]
[73,"0736","引越部　第一課　残置貨物","管理",null,"NS05","引越","販売管理部門"]
[73,"0739","引越部　第一課　プロジェクト案件","管理",null,"NS05","引越","販売管理部門","※2019.12名称・住所・電話・紐づけ変更"]
[73,"0733","引越部　第二課　東京","管理",null,"NS05","引越","販売管理部門"]
[73,"0737","引越部　第二課　北関東営業所","管理",null,"NS05","引越","販売管理部門"]
[73,"0735","引越部　第三課　名古屋営業所","管理",null,"NS05","引越","販売管理部門"]
[73,"0738","引越部　第三課　浜松営業所","管理",null,"NS05","引越","販売管理部門"]
[73,"0578","引越部　第四課","管理",null,"NS05","引越","販売管理部門"]
[null,60,"総合営業第一部"]
[60,"0600","総合営業第一部　本部","管理",null,"NS01","国際海上貨物","販売管理部門"]
[60,"0610","総合営業第一部　企画課","管理",null,"NS01","国際海上貨物","販売管理部門"]
[60,"0612","総合営業第一部　第一課　第二係","管理",null,"NS01","国際海上貨物","販売管理部門"]
[60,"0611","総合営業第一部　第一課　第三係","管理",null,"NS02","国際航空事業","販売管理部門"]
[60,"0627","総合営業第一部　第一課　第五係　","管理",null,"NS01","国際航空事業","販売管理部門"]
[60,"0633","総合営業第一部　第一課　宅配係","管理",null,"NS02","国際航空事業","販売管理部門"]
[60,"0623","総合営業第一部　第二課","管理",null,"NS01","国際海上貨物","販売管理部門"]
[60,"0619","総合営業第一部　第二課（HT）","管理",null,"NS01","国際海上貨物","販売管理部門"]
[60,"0621","総合営業第一部　第二課　宮崎営業所","原価",null,"NS02","国際航空事業","生産原価部門"]
[60,"0630","総合営業第一部　第二課 (ＮＡＣ)","管理",null,"NS02","国際航空事業","販売管理部門"]
[60,"0613","総合営業第一部　第三課　埼玉ふじみ野（営）部品","原価",null,"NS02","国際航空事業","生産原価部門"]
[60,"0614","総合営業第一部　第三課　埼玉ふじみ野（営）一般","原価",null,"NS02","国際航空事業","生産原価部門"]
[60,"0646","総合営業第一部　第三課　朝霞(営)","原価",null,"NS02","国際航空事業","生産原価部門"]
[60,"0616","総合営業第一部　第三課　朝霞(営)和研","原価",null,"NS02","国際航空事業","生産原価部門"]
[60,"0615","総合営業第一部　第四課　さくら（営）","原価",null,"NS01","国際海上貨物","生産原価部門"]
[60,"0618","総合営業第一部　第四課　芳賀（営）研究所","原価",null,"NS02","国際航空事業","生産原価部門"]
[60,"0670","総合営業第一部　第四課　芳賀（営）一般","原価",null,"NS02","国際航空事業","生産原価部門"]
[60,"0622","総合営業第一部　第四課　角田営業所","原価",null,"NS01","国際海上貨物","生産原価部門"]
[60,"0629","総合営業第一部　第四課　HGTプロジェクト","原価",null,"NS04","倉庫（含む物流センター）","生産原価部門","※2019.04新設"]
[60,"0625","総合営業第一部　第五課　太田営業所","原価",null,"NS02","国際航空事業","生産原価部門"]
[60,"0624","総合営業第一部　第六課　浜松(営)","原価",null,"NS01","国際海上貨物","生産原価部門"]
[60,"0626","総合営業第一部　第六課　鈴鹿営業所","原価",null,"NS01","国際海上貨物","生産原価部門"]
[60,"0628","総合営業第一部　第六課　厚木(営)","原価",null,"NS01","国際海上貨物","生産原価部門"]
[60,"0617","総合営業第一部　第七課　第一係","原価",null,"NS01","国際海上貨物","生産原価部門"]
[60,"0637","総合営業第一部　第七課　習志野営業所","原価",null,"NS01","国際海上貨物","生産原価部門"]
[60,"0638","総合営業第一部　第七課　大黒営業所","原価",null,"NS01","国際海上貨物","生産原価部門"]
[60,"0639","総合営業第一部　第七課　大黒営業所L-2","原価",null,"NS03","国内輸送","生産原価部門","※2019.04名称変更"]
[null,80,"航空事業部"]
[80,"0205","航空事業部","管理",null,"NS02","国際航空事業","販売管理部門"]
[80,"0800","航空事業部　営業企画開発課","管理",null,"NS02","国際航空事業","販売管理部門"]
[80,"0803","航空事業部　成田業務課","管理",null,"NS02","国際航空事業","販売管理部門"]
[80,"0691","航空事業部　航空貨物業務センター（管理）","管理",null,"NS02","国際航空事業","販売管理部門"]
[80,"0607","航空事業部　海外業務課","管理",null,"NS02","国際航空事業","販売管理部門"]
[80,"0671","航空事業部　ＮＡＣ管理コード","管理",null,"NS02","国際航空事業","販売管理部門"]
[80,"0698","航空事業部　成田ロジスティックスセンター","原価",null,"NS02","国際航空事業","生産原価部門"]
[80,"0699","航空事業部　航空貨物業務センター（輸出）東京","原価",null,"NS02","国際航空事業","生産原価部門"]
[80,"0661","航空事業部　セントレア営業所","管理",null,"NS02","国際航空事業","販売管理部門"]
[80,"0663","航空事業部　愛知日新","管理",null,"NS02","国際航空事業","販売管理部門"]
[80,"0645","航空事業部　代理店(三陸)","管理",null,"NS02","国際航空事業","販売管理部門"]
[80,"0605","航空事業部　混載(航空管理)","管理",null,"NS02","国際航空事業","販売管理部門"]
[80,"0608","航空事業部　混載","管理",null,"NS02","国際航空事業","販売管理部門"]
[null,69,"東京航空第一部"]
[69,"0690","東京航空第一部　本部","管理",null,"NS02","国際航空事業","販売管理部門"]
[69,"0642","東京航空第一部　第一課　輸出","管理",null,"NS02","国際航空事業","販売管理部門"]
[69,"0649","東京航空第一部　第一課　輸入","管理",null,"NS02","国際航空事業","販売管理部門"]
[69,"0644","東京航空第一部　第二課","管理",null,"NS02","国際航空事業","販売管理部門"]
[69,"0641","東京航空第一部　第二課　東東京輸入","管理",null,"NS02","国際航空事業","販売管理部門"]
[69,"0643","東京航空第一部　第三課","管理",null,"NS02","国際航空事業","販売管理部門"]
[69,"0648","東京航空第一部　第三課　西東京輸入","管理",null,"NS02","国際航空事業","販売管理部門"]
[69,"0654","東京航空第一部　第四課","管理",null,"NS01","国際海上貨物","販売管理部門"]
[69,"0681","東京航空第一部　第四課　保土谷ロジ","管理",null,"NS01","国際海上貨物","販売管理部門"]
[69,"0802","東京航空第一部　新千歳空港営業所","管理",null,"NS02","国際航空事業","販売管理部門"]
[null,68,"東京航空第二部"]
[68,"0680","東京航空第二部　本部","管理",null,"NS02","国際航空事業","販売管理部門"]
[68,"0652","東京航空第二部　第一課　航空輸出入(一般)","管理",null,"NS02","国際航空事業","販売管理部門"]
[68,"0647","東京航空第二部　第二課　第一係","管理",null,"NS02","国際航空事業","販売管理部門"]
[68,"0659","東京航空第二部　第二課　第二係","管理",null,"NS02","国際航空事業","販売管理部門"]
[68,"0609","東京航空第二部　第三課","管理",null,"NS01","国際海上貨物","販売管理部門"]
[68,"0650","東京航空第二部　第四課","管理",null,"NS02","国際航空事業","販売管理部門"]
[68,"0653","東京航空第二部　第四課　成田営業所","管理",null,"NS02","国際航空事業","販売管理部門"]
[68,"0635","東京航空第二部　第四課　成田営業所　宅配(輸入)","管理",null,"NS02","国際航空事業","販売管理部門"]
[68,"0651","東京航空第二部　第四課　成田営業所　国内代理店","管理",null,"NS02","国際航空事業","販売管理部門"]
[68,"0656","東京航空第二部　第四課　成田営業所　輸入混載","管理",null,"NS02","国際航空事業","販売管理部門"]
[68,"0657","東京航空第二部　第四課　成田営業所　海外代理店","管理",null,"NS02","国際航空事業","販売管理部門"]
[68,"0692","東京航空第二部　第四課　成田航空業務センター","原価",null,"NS02","国際航空事業","生産原価部門"]
[68,"0660","東京航空第二部　羽田事務所","原価",null,"NS02","国際航空事業","生産原価部門"]
[68,"0693","東京航空第二部　航空業務センター輸出（横浜）","原価",null,"NS02","国際航空事業","生産原価部門"]
[null,59,"大阪航空部"]
[59,"0590","大阪航空部　本部","管理",null,"NS02","国際航空事業","販売管理部門"]
[59,"0870","大阪航空部　航空貨物業務センター","原価",null,"NS02","国際航空事業","生産原価部門"]
[59,"0593","大阪航空部　営業第一課","管理",null,"NS02","国際航空事業","販売管理部門"]
[59,"0848","大阪航空部　営業第一課　広島営業所","管理",null,"NS02","国際航空事業","販売管理部門"]
[59,"0599","大阪航空部　営業第二課","管理",null,"NS02","国際航空事業","販売管理部門"]
[59,"0594","大阪航空部　営業第二課　神戸営業所","管理",null,"NS02","国際航空事業","販売管理部門"]
[59,"0597","大阪航空部　営業第三課　金沢営業所","原価",null,"NS02","国際航空事業","生産原価部門"]
[59,"0592","大阪航空部　営業第四課","原価",null,"NS02","国際航空事業","生産原価部門"]
[59,"0595","大阪航空部　営業第四課　関西空港営業所","原価",null,"NS02","国際航空事業","生産原価部門"]
[59,"0672","大阪航空部　営業第四課（九州日新航空）","管理",null,"NS02","国際航空事業","販売管理部門"]
[59,"0591","大阪航空部　営業第五課　京都営業所","原価",null,"NS02","国際航空事業","生産原価部門"]
[59,"0845","大阪航空部　営業第六課","管理",null,"NS02","国際航空事業","販売管理部門"]
[59,"0875","大阪航空部　航空貨物業務課　","原価",null,"NS02","国際航空事業","生産原価部門"]
[59,"0876","大阪航空部　航空貨物業務課　関空通関営業所","原価",null,"NS02","国際航空事業","生産原価部門"]
[59,"0598","大阪航空部　航空貨物業務課　南港航空貨物センター","原価",null,"NS02","国際航空事業","生産原価部門"]
[59,"0596","大阪航空部　南港航空貨物センター混載","管理",null,"NS02","国際航空事業","販売管理部門"]
[59,"0849","大阪航空部　南港航空貨物センターメイク","管理",null,"NS02","国際航空事業","販売管理部門"]
[59,"0665","大阪航空部　九州日新航空","管理",null,"NS02","国際航空事業","販売管理部門"]
[null,57,"大阪営業第一部"]
[57,"0570","大阪営業第一部　本部","管理",null,"NS01","国際海上貨物","販売管理部門"]
[57,"0561","大阪営業第一部　営業第一課(0561)","管理",null,"NS01","国際海上貨物","販売管理部門"]
[57,"0562","大阪営業第一部　営業第一課(0562)","管理",null,"NS01","国際海上貨物","販売管理部門"]
[57,"0563","大阪営業第一部　営業第一課　摩耶営業所","原価",null,"NS03","国内輸送","生産原価部門"]
[57,"0572","大阪営業第一部　営業第二課","管理",null,"NS01","国際海上貨物","販売管理部門"]
[57,"0577","大阪営業第一部　営業第三課","管理",null,"NS01","国際海上貨物","販売管理部門"]
[57,"0871","大阪営業第一部　営業開発課","管理",null,"NS01","国際海上貨物","販売管理部門"]
[null,56,"大阪営業第二部"]
[56,"0560","大阪営業第二部　本部","管理",null,"NS01","国際海上貨物","販売管理部門"]
[56,"0565","大阪営業第二部　営業第一課","管理",null,"NS01","国際海上貨物","販売管理部門"]
[56,"0566","大阪営業第二部　営業第二課","管理",null,"NS01","国際海上貨物","販売管理部門"]
[56,"0532","大阪営業第二部　営業第二課　新木場営業所","管理",null,"NS01","国際海上貨物","販売管理部門"]
[56,"0571","大阪営業第二部　営業第三課","管理",null,"NS01","国際海上貨物","販売管理部門"]
[56,"0567","大阪営業第二部　国際課","管理",null,"NS01","国際海上貨物","販売管理部門"]
[56,"0569","大阪営業第二部　国際課　輸入業務","管理",null,"NS01","国際海上貨物","販売管理部門"]
[56,"0531","大阪営業第二部　国際課　海貨","管理",null,"NS01","国際海上貨物","販売管理部門"]
[56,"0534","大阪営業第二部　国際課　輸出業務","管理",null,"NS01","国際海上貨物","販売管理部門"]
[null,58,"大阪支店"]
[58,"0580","大阪支店　本部","管理",null,"NS01","国際海上貨物","販売管理部門"]
[58,"0589","大阪支店　南港倉庫課","原価",null,"NS04","倉庫（含む物流センター）","生産原価部門"]
[58,"0548","大阪支店　南港倉庫課　湖東営業所","原価",null,"NS04","倉庫（含む物流センター）","生産原価部門"]
[58,"0549","大阪支店　南港倉庫課　第二倉庫","原価",null,"NS04","倉庫（含む物流センター）","生産原価部門"]
[58,"0588","大阪支店　南港西倉庫課","原価",null,"NS06","関連事業","生産原価部門"]
[58,"0583","大阪支店　南港西倉庫課　Ｌ-２ターミナル","原価",null,"NS01","国際海上貨物","生産原価部門"]
[58,"0582","大阪支店　南港西倉庫課　堺物流センター","原価",null,"NS04","倉庫（含む物流センター）","生産原価部門"]
[58,"0586","大阪支店　代理店","原価",null,"NS06","関連事業","生産原価部門"]
[58,"0587","大阪支店　港運課","原価",null,"NS01","国際海上貨物","生産原価部門"]
[58,"0541","大阪支店　港運課　助松ターミナル営業所","原価",null,"NS01","国際海上貨物","生産原価部門"]
[58,"0585","大阪支店　泉北倉庫課","原価",null,"NS01","国際海上貨物","生産原価部門"]
[58,"0545","大阪支店　泉北倉庫課　助松埠頭営業所","原価",null,"NS01","国際海上貨物","生産原価部門"]
[58,"0584","大阪支店　泉北倉庫課　南大阪・助松・泉佐野センター","原価",null,"NS04","倉庫（含む物流センター）","生産原価部門"]
[58,"0547","大阪支店　堺ＬＣ推進室","管理",null,"NS00","全社","販売管理部門"]
[58,"0544","大阪支店　堺ロジスティクスセンター","原価",null,"NS04","倉庫（含む物流センター）","生産原価部門"]
[58,"0535","大阪支店　堺ＬＣ推進室　堺ロジスティクスセンター　堺浜営業所","原価",null,"NS04","倉庫（含む物流センター）","生産原価部門"]
[null,52,"神戸支店"]
[52,"0520","神戸支店　本部","管理",null,"NS01","国際海上貨物","販売管理部門"]
[52,"0522","神戸支店　海運課","原価",null,"NS06","関連事業","生産原価部門"]
[52,"0523","神戸支店　ターミナル課","原価",null,"NS01","国際海上貨物","生産原価部門"]
[52,"0524","神戸支店　ターミナル課ステベ","原価",null,"NS01","国際海上貨物","生産原価部門"]
[52,"0514","神戸支店　倉庫第一課","原価",null,"NS04","倉庫（含む物流センター）","生産原価部門"]
[52,"0516","神戸支店　倉庫第一課　冷蔵倉庫営業所","原価",null,"NS04","倉庫（含む物流センター）","生産原価部門"]
[52,"0517","神戸支店　倉庫第一課　摩耶東物流センター","原価",null,"NS06","関連事業","生産原価部門"]
[52,"0519","神戸支店　倉庫第一課　摩耶センター","原価",null,"NS07","不動産事業","生産原価部門"]
[52,"0515","神戸支店　倉庫第一課　摩耶西倉庫","原価",null,"NS06","関連事業","生産原価部門"]
[52,"0511","神戸支店　倉庫第二課","原価",null,"NS01","国際海上貨物","生産原価部門"]
[52,"0526","神戸支店　倉庫第二課　Ｋ-ＤＩＣ営業所","原価",null,"NS01","国際海上貨物","生産原価部門"]
[null,55,"総合営業第二部"]
[55,"0551","総合営業第二部　本部","管理",null,"NS02","国際航空事業","販売管理部門"]
[55,"0554","総合営業第二部　匠町業務課","原価",null,"NS01","国際海上貨物","生産原価部門"]
[55,"0555","総合営業第二部　流通管理課","原価",null,"NS02","国際航空事業","生産原価部門"]
[55,"0552","総合営業第二部　流通管理課　南大阪営業所","原価",null,"NS06","関連事業","生産原価部門"]
[55,"0785","総合営業第二部　流通管理課　堺営業所","原価",null,"NS06","関連事業","生産原価部門"]
[55,"0559","総合営業第二部　流通管理課　栃木営業所","原価",null,"NS02","国際航空事業","生産原価部門"]
[55,"0789","総合営業第二部　流通管理課　堺浜営業所","原価",null,"NS01","国際海上貨物","生産原価部門"]
[55,"0791","総合営業第二部　流通管理課　名古屋笠寺営業所","原価",null,"NS06","関連事業","生産原価部門","※2019.07新設"]
[55,"0556","総合営業第二部　営業開発課","管理",null,"NS01","国際海上貨物","販売管理部門"]
[null,50,"関西管理室"]
[50,"0506","関西管理室　本部","管理",null,"NS00","全社","一般管理費部門","※2019.04名称変更"]
[50,"0501","関西管理室　総務課","管理",null,"NS00","全社","一般管理費部門","※2019.04名称変更"]
[50,"0164","関西管理室　関西安全環境管理センター","管理",null,"NS00","全社","一般管理費部門","※2019.04名称変更"]
[50,"0508","関西管理室　共通経費","管理",null,"NS00","全社","一般管理費部門","※2019.04名称変更"]
[50,"0503","関西管理室　管理会計課","管理",null,"NS00","全社","一般管理費部門","※2019.04名称変更"]
[50,"0208","関西管理室　関西支社","管理",null,"NS01","国際海上貨物","一般管理費部門","※2019.04名称変更"]
[50,"0872","関西管理室　関西事業推進センター","管理",null,"NS01","国際海上貨物","販売管理部門","※2019.04名称変更"]